{"text_format":"1","workbook":"xlsx","n_sheets":10,"sheets":["PLAN DE ACCION CONSOLIDACION","INFO_ANÁLISIS DE CONTEXTO","INFO_ESTRATEGIAS","PLAN DE ACCION","GESTION","GESTION_SEG_4_TRIM","GESTION_SEG_3_TRIM","GESTION_SEG_2_TRIM","GESTION_SEG_1_TRIM","JURISDICCIONAL"],"not_rendered":{"charts":0,"images":5,"macros":1,"external_links":2,"defined_names":28,"comments":0,"pivot_tables":0},"unopened":[],"bounds":{"document_bytes":16777216,"sheet_cells":100000,"rows_first":2000,"rows_last":500,"rows_between":2000,"halvings":0,"cell_chars":16384,"cell_head_chars":4096},"cells_cut":0,"cells_raw":0,"read":"row_number_cap","date_system":"1900"}

{"sheet":"PLAN DE ACCION CONSOLIDACION","index":0,"n_rows":29,"n_cols":24,"rows_kept":29,"cut":false,"hidden":true,"merged":[[1,2,1,21],[2,0,3,0],[2,1,3,1],[2,2,3,2],[2,3,3,3],[2,4,3,4],[2,5,2,7],[2,8,2,10],[2,11,2,15],[2,16,2,18],[2,19,3,19],[2,20,2,21],[2,22,2,23],[4,0,8,0],[4,1,8,1],[4,3,8,3],[9,0,14,0],[9,1,14,1],[9,3,14,3],[27,0,28,0],[27,1,28,1],[27,3,28,3],[15,0,21,0],[15,1,21,1],[15,3,21,3],[22,0,26,0],[22,1,26,1],[22,3,26,3]]}
[]
[null,null,"CONSEJO SUPERIOR DE LA JUDICATURA \nUNIDADES MISIONALES DEL CONSEJO SUPERIOR DE LA JUDICATURA - \nDIRECCIÓN EJECUTIVA DE ADMINISTRACIÓN JUDICIAL -UNIDADES MISIONALES DE LA DEAJ\nDIRECCIONES SECCIONALES DE ADMINISTRACIÓN JUDICIAL "]
["No. ","OBJETIVOS ESTRATEGICOS PLAN SECTORIAL DE DESARROLLO 2023-2026","OBJETIVOS ESPECIFICOS PLAN SECTORIAL DE DESARROLLO 2023-2026","OBJETIVOS DEL SIGCMA","DESCRIPCIÓN DE LA ACTIVIDAD (INVERSIÓN O DE GESTIÓN) ","MAPA DE PROCESO DEL SIGCMA (RELACIONE  EL PROCESO ESTRATÉGICO, MISIONAL, APOYO y EVALUACIÓN - MEJORA)",null,null,"MEDICIÓN DE LA GESTIÓN ",null,null,"PROYECTOS DE INVERSIÓN DE ACUERDO CON LOS OBJETIVOS DEL PLAN SECTORIAL DE DESARROLLO",null,null,null,null,"MEDICIÓN (INVERSIÓN INDICADORES POAI- GESTIÓN INDICADORES",null,null,"RESPONSABLE POR PROYECTO O ACTIVIDAD","FECHA DEL PROYECTO/ACTIVIDAD",null,"ANÁLISIS DE RESULTADOS"]
[null,null,null,null,null,"NOMBRE DEL PROCESO","CENTRAL","SECCIONAL","ENTREGABLE","INDICADOR","DESCRIBIR EL INDICADOR","PROGRAMA DE INVERSIÓN","NOMBRE DEL PROYECTO DE INVERSIÓN ","CODIGO BPIN (PROYECTO)","CODIGO PRESUPUESTAL","ACTIVIDAD DE INVERSIÓN (POAI)","ENTREGABLE","INDICADOR","DESCRIBIR EL INDICADOR",null,"INICIO \nDÍA/MES/AÑO","FIN\nDÍA/MES/AÑO","CUMPLIMIENTO DEL OBJETIVO (ACUMULADO DE LOS 4 TRIMESTRES)"," ANÁLISIS RESULTADO\nFINAL - ACUMULADO"]
[1,"Acceso a Infraestructura Física"," 1. Ampliar el acceso a justicia para atender las necesidades jurídicas de los \nciudadanos con un enfoque diferencial, de una manera pronta, reduciendo las \ninequidades y las brechas territoriales de acceso.","\n2. Asegurar  el cumplimiento de los objetivos institucionales, la normatividad aplicable,  la mejora del SIGCMA y la satisfacción de los usuarios, revisando de  forma continua y sistemática la planificación de la gestión y fortaleciendo la administración de riesgos y sus controles. (1,2,3 y 5)\n\n4. Hacer un uso racional de los recursos naturales aplicando los principios y fases de la Economía Circular, para prevenir, mitigar y controlar los impactos ambientales. (4)\n\n"]
[null,null,"2. Mejorar los tiempos de respuesta de la Rama Judicial y reducir el inventario de \nprocesos, identificando los retos internos y promoviendo tanto acciones articuladas\nespecíficas para abordarlos como estrategias coordinadas para enfrentar las \nbarreras que dependen de otras entidades."]
[null,null,"3. Coadyuvar en la garantía de la idoneidad en el ejercicio de la profesión jurídica de acuerdo con lo establecido en la Ley 1905 de 2018"]
[null,null,"4. Avanzar en la disposición de una infraestructura óptima para el acceso a la justicia en la Rama Judicial de modo que se fortalezca la presencia territorial, teniendo en cuenta las posibilidades que ofrece la transformación digital y las necesidades que se derivan de ella, y considerando tanto las necesidades de los usuarios como las de los servidores judiciales."]
[null,null,"5. Impulsar el uso de mecanismos alternativos para la solución de conflictos y la \nampliación de la justicia restaurativa y terapéutica y el robustecimiento de las alternativas al encarcelamiento"]
[2,"Servicios digitales y de tecnología, innovación y análisis de la información","1. Ampliar el acceso a la justicia a través de la consolidación del uso de los servicios \ndigitales que conforman el sistema único integrado de gestión judicial en todos los \ndespachos judiciales y dependencias de apoyo y, específicamente, incluyendo el \ndespliegue e implementación del Expediente Judicial Electrónico en todas las \njurisdicciones y especialidades.","6. Proteger, preservar y administrar los activos de información  implementando acciones  para gestionar de forma adecuada los incidentes  , proteger los datos personales y adoptar mecanismos  de ciberseguridad y aseguramiento de la  continuidad del negocio (1, 2, 3, 4, 5 y 6)"]
[null,null,"2. Integrar y hacer compatibles todos los aplicativos de transición con SIUGJ, para que la migración de los expedientes judiciales a dicha plataforma sea real y no suponga afectaciones en la prestación del servicio de justicia."]
[null,null,"\n3. Fortalecer las capacidades institucionales, adecuar el modelo operativo y de \nservicio, bajo un enfoque de Arquitectura Empresarial y de fortalecimiento del \nacceso a la justicia."]
[null,null,"\n4.Consolidar la cultura y apropiación de la transformación digital en los servidores y \nusuarios de los servicios de la Rama Judicial y reducir brechas de acceso y conocimiento, incluyendo la oferta efectiva de información sobre el uso de las nuevas herramientas virtuales implementadas en las diferentes jurisdicciones, con especial énfasis en las zonas del país donde es evidente la brecha digital."]
[null,null,"\n5.Consolidar la infraestructura y los recursos necesarios para la implementación exitosa de la transformación digital, incluyendo la disposición de internet de calidad en el 100% de las sedes en la Rama Judicial y modernizar los servicios tecnológicos de soporte. "]
[null,null,"\n6.Integrar y optimizar los servicios administrativos de la Rama Judicial bajo un enfoque de transformación digital e innovación incluyendo los componentes financiero, administrativo, talento humano, entre otros"]
[3,"Confianza pública, transparencia y rendición de cuentas","1. Incrementar la cantidad, la calidad y pertinencia de los datos sobre el funcionamiento del servicio de justicia bajo un modelo de gobierno de datos y un liderazgo unificado. \n","1. Gestionar el desarrollo de las competencias, la toma de conciencia , la cultura  organizacional  y el compromiso de los  servidores judiciales, contratistas, practicantes y  judicantes de contribuir a generar valor público en la administración de justicia, en el marco de  cumplimiento de los requisitos  aplicables y el comportamiento ético. (3 y 7)\n\n3. Fomentar la transparencia y la participación generando lineamientos y promoviendo la rendición de cuentas ,la consulta, reporte y planteamiento de inquietudes en relación con las decisiones y aspectos del SIGCMA. (3, 4, 5 y 6)\n\n4. Hacer un uso racional de los recursos naturales aplicando los principios y fases de la Economía Circular, para prevenir, mitigar y controlar los impactos ambientales. (1 y 7)\n"]
[null,null,"2. Consolidar la administración de la información entendida como todas las acciones \norientadas a garantizar el acceso, consulta, uso y conservación de la información \nde justicia de manera ágil, flexible e inteligente, bajo un enfoque de innovación."]
[null,null,"3. Fortalecer el Sistema integrado de Gestión de la Rama, orientado a la implementación y certificación de las normas antisoborno."]
[null,null,"4. Aumentar la confianza, la cercanía y acceso a los servicios de la Rama Judicial a \ntravés, entre otros, de una comunicación clara y asertiva con la ciudadanía."]
[null,null,"5. Prevenir fenómenos asociados con actos de corrupción en la Rama Judicial y \nreducir las experiencias de corrupción de usuarios y servidores judiciales."]
[null,null,"6. Promover la rendición de cuentas y la colaboración real con la ciudadanía como \nfundamento para diseñar acciones de mejoramiento del acceso a la justicia."]
[null,null,"7. Continuar la consolidación del SIGCMA, a través de los procesos de formación en \nmodelos de gestión, logrando la implementación y ampliación de este en los esquemas certificados de manera gradual, teniendo en cuenta las capacidades de los diferentes despachos judiciales y dependencias de la Rama Judicial y articulando el enfoque de Arquitectura Empresarial para el desarrollo del PETD a través de la gestión del conocimiento para la gestión del cambio propendiendo por una cultura de la calidad, la transparencia, la rendición de cuentas, la anticorrupción y el antisoborno"]
[4,"Talento Humano","1. Ampliar la cobertura de la carrera judicial optimizando los procesos de los concursos de méritos y propender por mitigar su litigiosidad.","1. Gestionar el desarrollo de las competencias, la toma de conciencia , la cultura  organizacional  y el compromiso de los  servidores judiciales, contratistas, practicantes y  judicantes de contribuir a generar valor público en la administración de justicia, en el marco de  cumplimiento de los requisitos  aplicables y el comportamiento ético. (1, 2, 3 y 4)\n\n5. Generar espacios de trabajo seguros y saludables que contribuyan a minimizar los  incidentes, accidentes y enfermedades laborales derivados de las condiciones y actos  inseguros y fomentar  el autocuidado, los  estilos de vida y el trabajo saludable en los servidores judiciales, contratistas, judicantes y practicantes. (5)\n"]
[null,null,"2. Impactar la función y servicios que presta la Rama Judicial, a través de una\nformación integral desde una visión de gestión del conocimiento, relacionada con \nlos problemas de la justicia y los problemas de gestión de quienes administran los \nrecursos de la justicia, y potenciando el uso de medios virtuales."]
[null,null,"3. Promover la incorporación de la perspectiva de género y el enfoque diferencial en \nlos fallos judiciales y en la atención a los ciudadanos, la administración de la Rama \nJudicial, la administración de la carrera judicial y la elaboración de listas para altas \nCortes. "]
[null,null,"4. Desarrollar en los servidores judiciales y demás grupos de valor relevantes las \ncompetencias necesarias para la efectividad de la transformación digital de modo \nque puedan, entre otros, utilizar con solvencia las herramientas digitales dispuestas \npara sus respectivas funciones. Además, fortalecer y actualizar los conocimientos \ndel personal a cargo de la gestión de proyectos de tecnología."]
[null,null,"5. Promover el bienestar de todos los servidores judiciales a través de la implementación de un sistema que contemple los diferentes niveles de estrategias y acciones necesarios para mejorar el clima laboral, la salud física y mental y la calidad del tiempo de descanso."]
[5,"Gobernanza, planeación estratégica y capacidad de toma de decisiones","1. Implementar un nuevo modelo integrado para la planeación estratégica, el \nseguimiento y la medición del desempeño institucional.","\n2. Asegurar  el cumplimiento de los objetivos institucionales, la normatividad aplicable,  la mejora del SIGCMA y la satisfacción de los usuarios, revisando de  forma continua y sistemática la planificación de la gestión y fortaleciendo la administración de riesgos y sus controles. (1 y 2)"]
[null,null,"2. Definir e implementar el modelo optimizado de formulación, seguimiento y \nevaluación de la política pública judicial."]

{"sheet":"INFO_ANÁLISIS DE CONTEXTO","index":1,"n_rows":84,"n_cols":10,"rows_kept":84,"cut":false,"hidden":false,"merged":[[22,0,25,0],[51,0,60,0],[31,0,37,0],[38,0,41,0],[42,0,47,0],[48,0,50,0],[61,0,63,0],[76,0,80,0],[0,1,0,3],[29,0,29,4],[1,1,1,2],[3,1,3,4],[5,0,6,0],[5,1,5,2],[5,3,5,4],[6,1,6,2],[6,3,6,4],[27,0,28,0],[8,0,8,4],[10,0,11,0],[12,0,14,0],[15,0,21,0],[83,1,83,2],[82,1,82,2],[64,0,65,0],[66,0,67,0],[68,0,75,0]]}
[null,"ANÁLISIS DE CONTEXTO"]
["CONSEJO SECCIONAL/DIRECCIÓN SECCIONAL DE ADMINISTRACIÓN JUDICIAL Y/O DISTRITO JUDICIAL SEGÚN SEA EL CASO","Dirección Ejecutiva de Administración Judicial",null,"PROCESO ","Asistencia Legal"]
[]
["DEPENDENCIA ADMINISTRATIVA O JUDICIAL CERTIFICADA ","Unidad Asistencia Legal"]
[]
["OBJETIVO DEL PROCESO","MAPA DE PROCESOS CONSEJO SUPERIOR DE LA JUDICATURA",null,"PROCESOS DEPENDENCIA JUDICIALES CERTIFICADAS"]
[null,"Gestionar la representación de la Nación – Rama Judicial en los procesos judiciales y extrajudiciales; dirigir la gestión de cobro coactivo de las obligaciones pecuniarias a favor de la Rama Judicial; liquidar las sentencias contra la Nación - Rama Judicial; asesorar jurídicamente en los trámites administrativos que se requieran, coadyuvando en el fomento de la cultura organizacional a través de los procesos de concientización y el cumplimiento de los objetivos y normas del Sistema de Gestión de la Calidad, Medio Ambiental y Salud y Seguridad en el Trabajo de la Rama Judicial.",null,"N/A"]
[]
["CONTEXTO EXTERNO "]
["FACTORES TEMÁTICOS","No.","AMENAZAS (Factores específicos) ","No. ","OPORTUNIDADES (Factores específicos) "]
["Político (cambios de gobierno, legislación, políticas públicas, regulación)",1,"Cambios de gerentes públicos",1,"Ley 2213 de 2022  por medio de la cual se establece la vigencia permanente del Decreto Legislativo 806 de 2020 y se adoptan medidas para implementar las tecnologías de la información y las comunicaciones en las actuaciones judiciales, agilizar los procesos judiciales y flexibilizar la atención a los usuarios del servicio de justicia y se dictan otras disposiciones"]
[null,2,"Cambio de Normatividad y Regulaciones Expedidas por el Gobierno Nacional o el Congreso de la Republica que afecten la administración de Justicia.",null,null,null,null,"ley 2213 de 2022"]
["Económicos y Financieros (disponibilidad de capital, liquidez, mercados financieros, desempleo, competencia)",3,"Presupuesto insuficiente asignado para  la vigencia 2024 de la Rama Judicial",2,"Incremento del PIB que potencialice el crecimiento económico del país y viabilice la asignación suficiente de recursos para la Rama Judicial "]
[null,4,"No contar con el PAC oportunamente para la ejecución de proyectos de inversión"]
[null,5,"Numero deficiente de proveedores inscritos en la plataforma de Colombia Compra Eficiente, para suplir las necesidades de adquisición de bienes y servicios "]
["Sociales  y culturales (cultura, religión, demografía, responsabilidad social, orden público)",6,"Interrupción del servicio público de Administrar Justicia a causa del conflicto armado de la región.",3,"Incremento de la credibilidad y confianza en la administración de justicia al implementar y certificar sus Sistemas de Gestión. \n\n"]
[null,7,"Interrupción del servicio público de Administrar Justicia a causa del pandemias y sus variantes.",4,"Visibilizacion de la Administración de Justicia  entre los actores no formales de la justicia (Grupos y minorías Indígenas, género)"]
[null,8,"Interrupción del servicio público de Administrar Justicia por razones de orden público"]
[null,9,"Limitaciones en  la movilidad asociados a factores del orden público "]
[null,10,"Aumento de la demanda de Justicia a causa de la problemática social"]
[null,11,"Amenazas a servidores judiciales en razón al ejercicio de sus funciones."]
[null,12,"Afectaciones a la infraestructura física de las sedes Judiciales "]
["Tecnológicos (desarrollo digital, avances en tecnología, acceso a sistemas de información externos, gobierno en línea)",13,"Perdida o hackeo de información derivada de ataques cibernéticos",5,"Marco regulatorio del  MINTICS, para la gobernanza, gobernabilidad y transformación digital"]
[null,14,"Indisponibilidad y/o colapso de la infraestructura tecnológica ",6,"Desarrollo de alianzas estratégicas para el fortalecimiento del servicio público de administración de justicia, a través de las TICs"]
[null,15,"Afectación de la prestación del servicio de conectividad ",7,"Generar espacios donde se realicen acuerdo interinstitucionales para poder consultar información que beneficie la administración de justicia"]
[null,16,"Ausencia de portal único de información del Estado (Ramas del poder, órganos autónomos y demás entes especiales), que garantice la consulta de información en línea de toda la información oficial. Gobierno en Línea)"]
["Legales y reglamentarios (estándares nacionales, internacionales, regulación)",17,"Normas expedidas que afecten el desarrollo de las etapas propias de los procesos",8,"Actualización del marco normativo"]
["Ambientales (emisiones y residuos, energía, catástrofes naturales, desarrollo sostenible)",18,"Fenómenos naturales (Inundación, quema de bosques, sismo, vendavales, epidemias y plagas)"]
[null,19,"Aumento de los impactos ambientales negativos por pandemias"]
["CONTEXTO INTERNO "]
["FACTORES TEMÁTICOS","No.","DEBILIDADES  (Factores específicos)  ","No. ","FORTALEZAS(Factores específicos)"]
["Estratégicos (direccionamiento estratégico, planeación institucional, liderazgo, trabajo en equipo)",1,"No realización oportuna del plan de acción, matriz de riesgos y demás documentos del SIGCMA, con su seguimiento correspondiente en los periodos establecidos,  conforme a los lineamientos emitidos desde el despacho de la Magistrada Líder del SIGCMA y la Coordinación Nacional del SIGCMA",1,"Contar con el Plan Sectorial de Desarrollo de la Rama Judicial"]
[null,2,"Falta de socialización de estrategias con las dependencias para fomentar el trabajo colaborativo para la implementación del Plan Estratégico de Transformación Digital (PETD) de la Rama Judicial ",2,"Socialización de buenas prácticas de la gestión judicial en el contexto internacional a través de la CICAJ o eventos de Cumbre"]
[null,null,null,3,"Mantenimiento y ampliación de SIGCMA en los esquemas que se encuentra certificados la Rama Judicial"]
[null,null,null,4,"Definición de roles y responsabilidades de los  líderes de proceso para el funcionamiento del SIGCMA"]
[null,null,null,5,"Contar con la Norma Técnica de Calidad Actualizada NTC 6256 y GTC 286 2021"]
[null,null,null,6,"El compromiso de la Alta Dirección y de los líderes de proceso para ampliar, mantener y mejorar el SIGCMA"]
[null,null,null,7,"Encuentro nacional e internacional del SIGCMA"]
["Recursos financieros (presupuesto de funcionamiento, recursos de inversión",3,"Recursos insuficientes para atender el Plan de necesidades formulado",8,"Presupuesto asignado para el desarrollo de proyecto de inversión del SIGCMA"]
[null,null,null,9,"Conocimiento de la reglamentación que establece el procedimiento para el manejo de los recursos presupuestales, financieros y de contratación estatal"]
[null,null,null,10,"Estandarización de procesos y procedimientos para el desarrollo del proceso contractual"]
[null,null,null,11,"Manual de contratación actualizado"]
["Personal (competencia del personal, disponibilidad, suficiencia, seguridad y salud  en el trabajo)",4,"No contar con el recurso humano suficiente y necesario para responder a la demanda de Justicia",12,"Personal integrado por servidores judiciales de alto nivel profesional y capacitado para llevar a cabo las funciones asignadas"]
[null,5,"Servidores Judiciales con comorbilidades y/o enfermedades laborales"]
[null,6,"Extensión en los horarios laborales de trabajo en casa y presencial, que afecta el bienestar físico, mental y emocional en los servidores judiciales y su entorno familiar",13,"Desarrollo y fortalecimiento de competencias de los servidores judiciales en modelos de gestión"]
[null,7,"Carencia  de manual  de funciones y procedimientos  para los servidores Judiciales ",14,"Mejor prestación del servicio de administración de justicia debido a la implementación de buenas practicas en bioseguridad definidos por la Rama Judicial"]
[null,8,"Debilidad en los procesos de inducción y reinducción de los servidores judiciales",15,"Fortalecimiento de los concursos de méritos para ingreso de la Rama Judicial"]
[null,9,"Debilidad en el desarrollo de competencias propias para el desarrollo de las actividades asignadas",16,"El desarrollo de competencia a través de procesos de sensibilización, capacitación y formación en modelo de gestión para el desarrollo de competencias de los servidores judiciales."]
["Proceso (capacidad, diseño, ejecución, proveedores, entradas, salidas, gestión del conocimiento)",10,"Resistencia por parte de algunos servidores judiciales a implementar la gestión de conocimiento para la gestión del cambio en lo relativo al SIGCMA, a modelos de gestión, implementación de PETD, ambiental, seguridad y salud en el trabajo, seguridad informática, normas antisoborno, normas de bioseguridad etc.  ",17,"Actualización de la plataforma estratégica para responder a los cambios normativos y legales"]
[null,11,"Falta de tiempo para acceder a la formación  de alto interés, tales como: Sensibilizaciones, cursos, talleres,  capacitaciones, diplomados, entre otros",18,"Aplicabilidad de la Gestión del conocimiento generada por las experiencias de los servidores judiciales documentada en instructivos y guías\n"]
[null,12,"Debilidad en la retroalimentación de la evaluación  realizada a los proveedores y contratistas del producto o servicio entregado",19,"Fortalecimiento en los procesos de contratación por el uso adecuado del SECOP II"]
["Tecnológicos ",13,"Debilidad de la plataforma tecnológica a nivel nacional de  software y hardware en las sedes administrativas y judiciales",20,"Accesibilidad a nuevas herramientas virtuales, que facilitan el acceso a la información, la optimización del tiempo y contribuyen a la disminución de los consumos de papel"]
[null,14,"Falta de apropiación y aplicación del conocimiento de los avances tecnológicos",21,"Capacitación para el uso de herramientas tecnológicas  "]
[null,15,"Carencia de formación en tecnologías de la información y la comunicación aplicadas al desarrollo de la gestión Judicial estableciendo las diferencias entre:\nTransformación digital, digitalización, expediente digital y estrategias para la digitalización"]
[null,16,"Fallas de conectividad para la realización de las actividades propias del proceso."]
[null,17,"Falta de cobertura tecnológica en las sedes judiciales "]
[null,18,"Carencia de modelos gobernanza de Tecnologías de la Información (TI) en la entidad"]
[null,19,"Carencia del software de gestión para el manejo integral de la información."]
[null,20,"Falta de  comunicación asertiva entre los diferentes actores para la articulación de proyectos tecnológicos"]
[null,21,"Debilidad en la generación de estrategias articuladas para la digitalización entre los proveedores y las dependencias Judiciales y Administrativas"]
[null,22,"Deficiencia en el  mantenimiento de la pagina web de la Rama Judicial"]
["Documentación (actualización, coherencia, aplicabilidad) ",23,"Los documentos actuales no están alineados al PETD 2021-2025",22,"La estandarización de la plataforma estratégica del SIGCMA y documentos impartidos  desde la Coordinación Nacional del SIGCMA para la mejor prestación del servicio"]
[null,24,"Falta de comunicación y socialización de tablas de retención documental",23,"Micrositio de fácil acceso a los documentos propios del Sistema Integrado de Gestión y Control de la Calidad y el Medio Ambiente."]
[null,25,"Debilidad en  la estandarización de tablas de retención documental"]
["Infraestructura física (suficiencia, comodidad)",26,"Sedes Judiciales arrendadas, en comodato y propias que no cuentan con las condiciones mínimas de seguridad para los servidores judiciales, contratistas y usuarios de la justicia según la normatividad vigente",24,"Cumplimiento del plan de infraestructura de la Rama Judicial"]
[]
["Elementos de trabajo (papel, equipos, herramientas)",27,"Falta de modernización y mantenimiento del mobiliario con que cuenta la Rama Judicial",25,"Uso adecuado de los elementos de trabajo"]
[null,null,null,26,"Actualización permanente de la plataforma tecnológica de la Rama Judicial para el cumplimiento del PETD"]
["Comunicación Interna (canales utilizados y su efectividad, flujo de la información necesaria para el desarrollo de las actividades)",28,"Uso deficiente de las herramientas de comunicación establecidas en el plan de comunicaciones",27,"Elaboración y seguimiento del Plan de Comunicaciones"]
[null,29,"Desaprovechamiento de canales de comunicaciones, para generar mayor información a las partes interesadas",28,"Implementación de estrategias y mecanismos para el fortalecimiento de la atención al usuario"]
[null,null,null,29,"Fortalecimiento de la pagina web institucional y mecanismos de comunicación"]
[null,null,null,30,"Uso adecuado del micrositio asignado al Consejo Seccional de la Judicatura"]
[null,null,null,31,"Uso adecuado de los correos electrónicos"]
[null,null,null,32,"Uso adecuado del aplicativo SIGOBIUS"]
[null,null,null,33,"Fortalecimiento para el tratamiento de PQRS"]
[null,null,null,34,"Uso adecuado de la imagen corporativa y los logos en los cuales se encuentra certificada la Rama Judicial"]
["Ambientales",30,"Desconocimiento del Plan de Gestión Ambiental que aplica para la Rama Judicial Acuerdo PSAA14-10160",35,"Disminución en el uso de papel, toners y demás elementos de oficina al implementar el uso de medios tecnológicos"]
[null,31,"Ausencia de indicadores ambientales establecidos en los programas de gestión del Acuerdo PSAA14-10160",36,"Participación virtual es los espacios  de sensibilización ambiental, como el Día SIGCMA"]
[null,32,"Baja implementación en sistemas ahorradores de agua  y energía en sedes judiciales y administrativas",37,"Mantener la certificación operaciones bioseguras: Sellos de bioseguridad huella de confianza"]
[null,33,"Falta en la separación adecuada de residuos en la fuente ",38,"Formación de Auditores en la Norma NTC ISO 14001:2015 y en la Norma Técnica de la Rama Judicial NTC 6256 :2018",null,null,null,null," "]
[null,34,"Desconocimiento por parte de los brigadistas, servidores judiciales y contratistas de las acciones necesarias para actuar ante una emergencia ambiental",39,"Implementación de buenas practicas tendientes a la protección del medio ambiente"]
[]
["CÓDIGO\nF-EVSG-10","ELABORÓ\nLIDER DEL PROCESO ",null,"REVISÓ\nCOORDINACIÓN NACIONAL DEL SIGCMA ","APROBÓ\nCOMITÉ NACIONAL DEL SIGCMA"]
["VERSIÓN\n02","FECHA\n06/11/2023",null,"FECHA\n12/12/2023","FECHA\n13/12/2023"]

{"sheet":"INFO_ESTRATEGIAS","index":2,"n_rows":13,"n_cols":6,"rows_kept":13,"cut":false,"hidden":false,"merged":[[1,0,1,5],[2,0,3,0],[2,1,2,4],[0,1,0,4]]}
[null,"ESTRATEGIAS"]
["ESTRATEGIAS  DOFA"]
["ESTRATEGIA/ACCIÓN/ PROYECTO","GESTIONA ",null,null,null,"DOCUMENTADA EN "]
[null,"A","O","D","F"]
["Desarrollar el plan de formación de la Escuela Judicial para el fortalecimiento de competencias de los servidores judiciales ",null,null,8.9,13.16,"Plan de acción "]
["Asistir y participar activamente en los procesos de sensibilización, capacitación y formación en los procesos SIGCMA ",null,null,11,"6,16, 36","Plan de acción "]
["Realizar seguimiento al plan de acción y realizar el reporte oportuno",null,null,1,"6, 12, 23","Plan de acción "]
["Implementar mecanismos para la retroalimentación de las  partes interesadas",16,3.4,"1, 12, 34","27,28,29,34","Plan de acción "]
["Mantener, actualizar y documentar  el Sistema Integrado de Gestión SIGCMA, en el contexto especifico","13,14,15",7,"1,10,13,16,17,19","4,6,7,8,5,10,17,1820,22,23,37","Plan de acción "]
["Solicitar apoyo al CENDOJ para realización de capacitaciones en tablas de retención documental (TRD)",null,null,"24,25,29",28,"Plan de acción "]
["Hacer uso de la información y de las herramientas tecnológicas dispuestas para la prestación del servicios",null,null,"13,14,15,16,28",20.21,"Plan de acción "]
["Motivar a los servidores judiciales en la Implementación del plan de gestión ambiental en cada sede administrativa o judicial",null,null,"30,31,32,33,34","35,36,38,39","Plan de acción "]
["Realizar identificación y cumplimiento de los requisitos legales y reglamentarios",2.17,8,1,"3,9,17","Matriz de riesgos"]

{"sheet":"PLAN DE ACCION","index":3,"n_rows":1047890,"n_cols":11,"rows_kept":4500,"cut":true,"hidden":false,"merged":[[2,1,3,1],[4,1,5,1],[2,0,3,0],[4,0,5,0],[2,2,3,2],[4,2,5,2]],"bounds":{"rows_first":2000,"rows_last":500,"rows_between":2000,"halvings":0},"read":"row_number_cap"}
[]
[]
[]
[]
[]
[]
[]
[]
[]
[]
[]
[]
[]
[]
[]
[]
[]
[]
[]
[]
[]
[]
[]
[]
[]
[]
[]
[]
[]
[]
[]
[]
[]
[]
[]
[]
[]
[]
[]
[]
[]
[]
[]
[]
[]
[]
[]
[]
[]
[]
[]
[]
[]
[]
[]
[]
[]
[]
[]
[]
[]
[]
[]
[]
[]
[]
[]
[]
[]
[]
[]
[]
[]
[]
[]
[]
[]
[]
[]
[]
[]
[]
[]
[]
[]
[]
[]
[]
[]
[]
[]
[]
[]
[]
[]
[]
[]
[]
[]
[]
[]
[]
[]
[]
[]
[]
[]
[]
[]
[]
[]
[]
[]
[]
[]
[]
[]
[]
[]
[]
[]
[]
[]
[]
[]
[]
[]
[]
[]
[]
[]
[]
[]
[]
[]
[]
[]
[]
[]
[]
[]
[]
[]
[]
[]
[]
[]
[]
[]
[]
[]
[]
[]
[]
[]
[]
[]
[]
[]
[]
[]
[]
[]
[]
[]
[]
[]
[]
[]
[]
[]
[]
[]
[]
[]
[]
[]
[]
[]
[]
[]
[]
[]
[]
[]
[]
[]
[]
[]
[]
[]
[]
[]
[]
[]
[]
[]
[]
[]
[]
[]
[]
[]
[]
[]
[]
[]
[]
[]
[]
[]
[]
[]
[]
[]
[]
[]
[]
[]
[]
[]
[]
[]
[]
[]
[]
[]
[]
[]
[]
[]
[]
[]
[]
[]
[]
[]
[]
[]
[]
[]
[]
[]
[]
[]
[]
[]
[]
[]
[]
[]
[]
[]
[]
[]
[]
[]
[]
[]
[]
[]
[]
[]
[]
[]
[]
[]
[]
[]
[]
[]
[]
[]
[]
[]
[]
[]
[]
[]
[]
[]
[]
[]
[]
[]
[]
[]
[]
[]
[]
[]
[]
[]
[]
[]
[]
[]
[]
[]
[]
[]
[]
[]
[]
[]
[]
[]
[]
[]
[]
[]
[]
[]
[]
[]
[]
[]
[]
[]
[]
[]
[]
[]
[]
[]
[]
[]
[]
[]
[]
[]
[]
[]
[]
[]
[]
[]
[]
[]
[]
[]
[]
[]
[]
[]
[]
[]
[]
[]
[]
[]
[]
[]
[]
[]
[]
[]
[]
[]
[]
[]
[]
[]
[]
[]
[]
[]
[]
[]
[]
[]
[]
[]
[]
[]
[]
[]
[]
[]
[]
[]
[]
[]
[]
[]
[]
[]
[]
[]
[]
[]
[]
[]
[]
[]
[]
[]
[]
[]
[]
[]
[]
[]
[]
[]
[]
[]
[]
[]
[]
[]
[]
[]
[]
[]
[]
[]
[]
[]
[]
[]
[]
[]
[]
[]
[]
[]
[]
[]
[]
[]
[]
[]
[]
[]
[]
[]
[]
[]
[]
[]
[]
[]
[]
[]
[]
[]
[]
[]
[]
[]
[]
[]
[]
[]
[]
[]
[]
[]
[]
[]
[]
[]
[]
[]
[]
[]
[]
[]
[]
[]
[]
[]
[]
[]
[]
[]
[]
[]
[]
[]
[]
[]
[]
[]
[]
[]
[]
[]
[]
[]
[]
[]
[]
[]
[]
[]
[]
[]
[]
[]
[]
[]
[]
[]
[]
[]
[]
[]
[]
[]
[]
[]
[]
[]
[]
[]
[]
[]
[]
[]
[]
[]
[]
[]
[]
[]
[]
[]
[]
[]
[]
[]
[]
[]
[]
[]
[]
[]
[]
[]
[]
[]
[]
[]
[]
[]
[]
[]
[]
[]
[]
[]
[]
[]
[]
[]
[]
[]
[]
[]
[]
[]
[]
[]
[]
[]
[]
[]
[]
[]
[]
[]
[]
[]
[]
[]
[]
[]
[]
[]
[]
[]
[]
[]
[]
[]
[]
[]
[]
[]
[]
[]
[]
[]
[]
[]
[]
[]
[]
[]
[]
[]
[]
[]
[]
[]
[]
[]
[]
[]
[]
[]
[]
[]
[]
[]
[]
[]
[]
[]
[]
[]
[]
[]
[]
[]
[]
[]
[]
[]
[]
[]
[]
[]
[]
[]
[]
[]
[]
[]
[]
[]
[]
[]
[]
[]
[]
[]
[]
[]
[]
[]
[]
[]
[]
[]
[]
[]
[]
[]
[]
[]
[]
[]
[]
[]
[]
[]
[]
[]
[]
[]
[]
[]
[]
[]
[]
[]
[]
[]
[]
[]
[]
[]
[]
[]
[]
[]
[]
[]
[]
[]
[]
[]
[]
[]
[]
[]
[]
[]
[]
[]
[]
[]
[]
[]
[]
[]
[]
[]
[]
[]
[]
[]
[]
[]
[]
[]
[]
[]
[]
[]
[]
[]
[]
[]
[]
[]
[]
[]
[]
[]
[]
[]
[]
[]
[]
[]
[]
[]
[]
[]
[]
[]
[]
[]
[]
[]
[]
[]
[]
[]
[]
[]
[]
[]
[]
[]
[]
[]
[]
[]
[]
[]
[]
[]
[]
[]
[]
[]
[]
[]
[]
[]
[]
[]
[]
[]
[]
[]
[]
[]
[]
[]
[]
[]
[]
[]
[]
[]
[]
[]
[]
[]
[]
[]
[]
[]
[]
[]
[]
[]
[]
[]
[]
[]
[]
[]
[]
[]
[]
[]
[]
[]
[]
[]
[]
[]
[]
[]
[]
[]
[]
[]
[]
[]
[]
[]
[]
[]
[]
[]
[]
[]
[]
[]
[]
[]
[]
[]
[]
[]
[]
[]
[]
[]
[]
[]
[]
[]
[]
[]
[]
[]
[]
[]
[]
[]
[]
[]
[]
[]
[]
[]
[]
[]
[]
[]
[]
[]
[]
[]
[]
[]
[]
[]
[]
[]
[]
[]
[]
[]
[]
[]
[]
[]
[]
[]
[]
[]
[]
[]
[]
[]
[]
[]
[]
[]
[]
[]
[]
[]
[]
[]
[]
[]
[]
[]
[]
[]
[]
[]
[]
[]
[]
[]
[]
[]
[]
[]
[]
[]
[]
[]
[]
[]
[]
[]
[]
[]
[]
[]
[]
[]
[]
[]
[]
[]
[]
[]
[]
[]
[]
[]
[]
[]
[]
[]
[]
[]
[]
[]
[]
[]
[]
[]
[]
[]
[]
[]
[]
[]
[]
[]
[]
[]
[]
[]
[]
[]
[]
[]
[]
[]
[]
[]
[]
[]
[]
[]
[]
[]
[]
[]
[]
[]
[]
[]
[]
[]
[]
[]
[]
[]
[]
[]
[]
[]
[]
[]
[]
[]
[]
[]
[]
[]
[]
[]
[]
[]
[]
[]
[]
[]
[]
[]
[]
[]
[]
[]
[]
[]
[]
[]
[]
[]
[]
[]
[]
[]
[]
[]
[]
[]
[]
[]
[]
[]
[]
[]
[]
[]
[]
[]
[]
[]
[]
[]
[]
[]
[]
[]
[]
[]
[]
[]
[]
[]
[]
[]
[]
[]
[]
[]
[]
[]
[]
[]
[]
[]
[]
[]
[]
[]
[]
[]
[]
[]
[]
[]
[]
[]
[]
[]
[]
[]
[]
[]
[]
[]
[]
[]
[]
[]
[]
[]
[]
[]
[]
[]
[]
[]
[]
[]
[]
[]
[]
[]
[]
[]
[]
[]
[]
[]
[]
[]
[]
[]
[]
[]
[]
[]
[]
[]
[]
[]
[]
[]
[]
[]
[]
[]
[]
[]
[]
[]
[]
[]
[]
[]
[]
[]
[]
[]
[]
[]
[]
[]
[]
[]
[]
[]
[]
[]
[]
[]
[]
[]
[]
[]
[]
[]
[]
[]
[]
[]
[]
[]
[]
[]
[]
[]
[]
[]
[]
[]
[]
[]
[]
[]
[]
[]
[]
[]
[]
[]
[]
[]
[]
[]
[]
[]
[]
[]
[]
[]
[]
[]
[]
[]
[]
[]
[]
[]
[]
[]
[]
[]
[]
[]
[]
[]
[]
[]
[]
[]
[]
[]
[]
[]
[]
[]
[]
[]
[]
[]
[]
[]
[]
[]
[]
[]
[]
[]
[]
[]
[]
[]
[]
[]
[]
[]
[]
[]
[]
[]
[]
[]
[]
[]
[]
[]
[]
[]
[]
[]
[]
[]
[]
[]
[]
[]
[]
[]
[]
[]
[]
[]
[]
[]
[]
[]
[]
[]
[]
[]
[]
[]
[]
[]
[]
[]
[]
[]
[]
[]
[]
[]
[]
[]
[]
[]
[]
[]
[]
[]
[]
[]
[]
[]
[]
[]
[]
[]
[]
[]
[]
[]
[]
[]
[]
[]
[]
[]
[]
[]
[]
[]
[]
[]
[]
[]
[]
[]
[]
[]
[]
[]
[]
[]
[]
[]
[]
[]
[]
[]
[]
[]
[]
[]
[]
[]
[]
[]
[]
[]
[]
[]
[]
[]
[]
[]
[]
[]
[]
[]
[]
[]
[]
[]
[]
[]
[]
[]
[]
[]
[]
[]
[]
[]
[]
[]
[]
[]
[]
[]
[]
[]
[]
[]
[]
[]
[]
[]
[]
[]
[]
[]
[]
[]
[]
[]
[]
[]
[]
[]
[]
[]
[]
[]
[]
[]
[]
[]
[]
[]
[]
[]
[]
[]
[]
[]
[]
[]
[]
[]
[]
[]
[]
[]
[]
[]
[]
[]
[]
[]
[]
[]
[]
[]
[]
[]
[]
[]
[]
[]
[]
[]
[]
[]
[]
[]
[]
[]
[]
[]
[]
[]
[]
[]
[]
[]
[]
[]
[]
[]
[]
[]
[]
[]
[]
[]
[]
[]
[]
[]
[]
[]
[]
[]
[]
[]
[]
[]
[]
[]
[]
[]
[]
[]
[]
[]
[]
[]
[]
[]
[]
[]
[]
[]
[]
[]
[]
[]
[]
[]
[]
[]
[]
[]
[]
[]
[]
[]
[]
[]
[]
[]
[]
[]
[]
[]
[]
[]
[]
[]
[]
[]
[]
[]
[]
[]
[]
[]
[]
[]
[]
[]
[]
[]
[]
[]
[]
[]
[]
[]
[]
[]
[]
[]
[]
[]
[]
[]
[]
[]
[]
[]
[]
[]
[]
[]
[]
[]
[]
[]
[]
[]
[]
[]
[]
[]
[]
[]
[]
[]
[]
[]
[]
[]
[]
[]
[]
[]
[]
[]
[]
[]
[]
[]
[]
[]
[]
[]
[]
[]
[]
[]
[]
[]
[]
[]
[]
[]
[]
[]
[]
[]
[]
[]
[]
[]
[]
[]
[]
[]
[]
[]
[]
[]
[]
[]
[]
[]
[]
[]
[]
[]
[]
[]
[]
[]
[]
[]
[]
[]
[]
[]
[]
[]
[]
[]
[]
[]
[]
[]
[]
[]
[]
[]
[]
[]
[]
[]
[]
[]
[]
[]
[]
[]
[]
[]
[]
[]
[]
[]
[]
[]
[]
[]
[]
[]
[]
[]
[]
[]
[]
[]
[]
[]
[]
[]
[]
[]
[]
[]
[]
[]
[]
[]
[]
[]
[]
[]
[]
[]
[]
[]
[]
[]
[]
[]
[]
[]
[]
[]
[]
[]
[]
[]
[]
[]
[]
[]
[]
[]
[]
[]
[]
[]
[]
[]
[]
[]
[]
[]
[]
[]
[]
[]
[]
[]
[]
[]
[]
[]
[]
[]
[]
[]
[]
[]
[]
[]
[]
[]
[]
[]
[]
[]
[]
[]
[]
[]
[]
[]
[]
[]
[]
[]
[]
[]
[]
[]
[]
[]
[]
[]
[]
[]
[]
[]
[]
[]
[]
[]
[]
[]
[]
[]
[]
[]
[]
[]
[]
[]
[]
[]
[]
[]
[]
[]
[]
[]
[]
[]
[]
[]
[]
[]
[]
[]
[]
[]
[]
[]
[]
[]
[]
[]
[]
[]
[]
[]
[]
[]
[]
[]
[]
[]
[]
[]
[]
[]
[]
[]
[]
[]
[]
[]
[]
[]
[]
[]
[]
[]
[]
[]
[]
[]
[]
[]
[]
[]
[]
[]
[]
[]
[]
[]
[]
[]
[]
[]
[]
[]
[]
[]
[]
[]
[]
[]
[]
[]
[]
[]
[]
[]
[]
[]
[]
[]
[]
[]
[]
[]
[]
[]
[]
[]
[]
[]
[]
[]
[]
[]
[]
[]
[]
[]
[]
[]
[]
[]
[]
[]
[]
[]
[]
[]
[]
[]
[]
[]
[]
[]
[]
[]
[]
[]
[]
[]
[]
[]
[]
[]
[]
[]
[]
[]
[]
[]
[]
[]
[]
[]
[]
[]
[]
[]
[]
[]
[]
[]
[]
[]
[]
[]
[]
[]
[]
[]
[]
[]
[]
[]
[]
[]
[]
[]
[]
[]
[]
[]
[]
[]
[]
[]
[]
[]
[]
[]
[]
[]
[]
[]
[]
[]
[]
[]
[]
[]
[]
[]
[]
[]
[]
[]
[]
[]
[]
[]
[]
[]
[]
[]
[]
[]
[]
[]
[]
[]
[]
[]
[]
[]
[]
[]
[]
[]
[]
[]
[]
[]
[]
[]
[]
[]
[]
[]
[]
[]
[]
[]
[]
[]
[]
[]
[]
[]
[]
[]
[]
[]
[]
[]
[]
[]
[]
[]
[]
[]
[]
[]
[]
[]
[]
[]
[]
[]
[]
[]
[]
[]
[]
[]
[]
[]
[]
[]
[]
[]
[]
[]
[]
[]
[]
[]
[]
[]
[]
[]
[]
[]
[]
[]
[]
[]
[]
[]
[]
[]
[]
[]
[]
[]
[]
[]
[]
[]
[]
[]
[]
[]
[]
[]
[]
[]
[]
[]
[]
[]
[]
[]
[]
[]
[]
[]
[]
[]
[]
[]
[]
[]
[]
[]
[]
[]
[]
[]
[]
[]
[]
[]
[]
[]
[]
[]
[]
[]
[]
[]
[]
[]
[]
[]
[]
[]
[]
[]
[]
[]
[]
[]
[]
[]
[]
[]
[]
[]
[]
[]
[]
[]
[]
[]
[]
[]
[]
[]
[]
[]
[]
[]
[]
[]
[]
[]
[]
[]
[]
[]
[]
[]
[]
[]
[]
[]
[]
[]
[]
[]
[]
[]
[]
[]
[]
[]
[]
[]
[]
[]
[]
[]
[]
[]
[]
[]
[]
[]
[]
[]
[]
[]
[]
[]
[]
[]
[]
[]
[]
[]
[]
[]
[]
[]
[]
[]
[]
[]
[]
[]
[]
[]
[]
[]
[]
[]
[]
[]
[]
[]
[]
[]
[]
[]
[]
[]
[]
[]
[]
[]
[]
[]
[]
[]
[]
[]
[]
[]
[]
[]
[]
[]
[]
[]
[]
[]
[]
[]
[]
[]
[]
[]
[]
[]
[]
[]
[]
[]
[]
[]
[]
[]
[]
[]
[]
[]
[]
[]
[]
[]
[]
[]
[]
[]
[]
[]
[]
[]
[]
[]
[]
[]
[]
[]
[]
[]
[]
[]
[]
[]
[]
[]
[]
[]
[]
[]
[]
[]
[]
[]
[]
[]
[]
[]
[]
[]
[]
[]
[]
[]
[]
[]
[]
[]
[]
[]
[]
[]
[]
[]
[]
[]
[]
[]
[]
[]
[]
[]
[]
[]
[]
[]
[]
[]
[]
[]
[]
[]
[]
[]
[]
[]
[]
[]
[]
[]
[]
[]
[]
[]
[]
[]
[]
[]
[]
[]
[]
[]
[]
[]
[]
[]
[]
[]
[]
[]
[]
[]
[]
[]
[]
[]
[]
[]
[]
[]
[]
[]
[]
[]
[]
[]
[]
[]
[]
[]
[]
[]
[]
[]
[]
[]
[]
[]
[]
[]
[]
[]
[]
[]
[]
[]
[]
[]
[]
[]
[]
[]
[]
[]
[]
[]
[]
[]
[]
[]
[]
[]
[]
[]
[]
[]
[]
[]
[]
[]
[]
[]
[]
[]
[]
[]
[]
[]
[]
[]
[]
[]
[]
[]
[]
[]
[]
[]
[]
[]
[]
[]
[]
[]
[]
[]
[]
[]
[]
[]
[]
[]
[]
[]
[]
[]
[]
[]
[]
[]
[]
[]
[]
[]
[]
[]
[]
[]
[]
[]
[]
[]
[]
[]
[]
[]
[]
[]
[]
[]
[]
[]
[]
[]
[]
[]
[]
[]
[]
[]
[]
[]
[]
[]
[]
[]
[]
[]
[]
[]
[]
[]
[]
[]
[]
[]
[]
[]
[]
[]
[]
[]
[]
[]
[]
[]
[]
[]
[]
[]
[]
[]
[]
[]
[]
[]
[]
[]
[]
[]
[]
[]
[]
[]
[]
[]
[]
[]
[]
[]
[]
[]
[]
[]
[]
[]
[]
[]
[]
[]
[]
[]
[]
[]
[]
[]
[]
[]
[]
[]
[]
[]
[]
[]
[]
[]
[]
[]
[]
[]
[]
[]
[]
[]
[]
[]
[]
[]
[]
[]
[]
[]
[]
[]
[]
[]
[]
[]
[]
[]
[]
[]
[]
[]
[]
[]
[]
[]
[]
[]
[]
[]
[]
[]
[]
[]
[]
[]
[]
[]
[]
[]
[]
[]
[]
[]
[]
[]
[]
[]
[]
[]
[]
[]
[]
[]
[]
[]
[]
[]
[]
[]
[]
[]
[]
[]
[]
[]
[]
[]
[]
[]
[]
[]
[]
[]
[]
[]
[]
[]
[]
[]
[]
[]
[]
[]
[]
[]
[]
[]
[]
[]
[]
[]
[]
[]
[]
[]
[]
[]
[]
[]
[]
[]
[]
[]
[]
[]
[]
[]
[]
[]
[]
[]
[]
[]
[]
[]
[]
[]
[]
[]
[]
[]
[]
[]
[]
[]
[]
[]
[]
[]
[]
[]
[]
[]
[]
[]
[]
[]
[]
[]
[]
[]
[]
[]
[]
[]
[]
[]
[]
[]
[]
[]
[]
[]
[]
[]
[]
[]
[]
[]
[]
[]
[]
[]
[]
[]
[]
[]
[]
[]
[]
[]
[]
[]
[]
[]
[]
[]
[]
[]
[]
[]
[]
[]
[]
[]
[]
[]
[]
[]
[]
[]
[]
[]
[]
[]
[]
[]
[]
[]
[]
[]
[]
[]
[]
[]
[]
[]
[]
[]
[]
[]
[]
[]
[]
[]
[]
[]
[]
[]
[]
[]
[]
[]
[]
[]
[]
[]
[]
[]
[]
[]
[]
[]
[]
[]
[]
[]
[]
[]
[]
[]
[]
[]
[]
[]
[]
[]
[]
[]
[]
[]
[]
[]
[]
[]
[]
[]
[]
[]
[]
[]
[]
[]
[]
[]
[]
[]
[]
[]
[]
[]
[]
[]
[]
[]
[]
[]
[]
[]
[]
[]
[]
[]
[]
[]
[]
[]
[]
[]
[]
[]
[]
[]
[]
[]
[]
[]
[]
[]
[]
[]
[]
[]
[]
[]
[]
[]
[]
[]
[]
[]
[]
[]
[]
[]
[]
[]
[]
[]
[]
[]
[]
[]
[]
[]
[]
[]
[]
[]
[]
[]
[]
[]
[]
[]
[]
[]
[]
[]
[]
[]
[]
[]
[]
[]
[]
[]
[]
[]
[]
[]
[]
[]
[]
[]
[]
[]
[]
[]
[]
[]
[]
[]
[]
[]
[]
[]
[]
[]
[]
[]
[]
[]
[]
[]
[]
[]
[]
[]
[]
[]
[]
[]
[]
[]
[]
[]
[]
[]
[]
[]
[]
[]
[]
[]
[]
[]
[]
[]
[]
[]
[]
[]
[]
[]
[]
[]
[]
[]
[]
[]
[]
[]
[]
[]
[]
[]
[]
[]
[]
[]
[]
[]
[]
[]
[]
[]
[]
[]
[]
[]
[]
[]
[]
[]
[]
[]
[]
[]
[]
[]
[]
[]
[]
[]
[]
[]
[]
[]
[]
[]
[]
[]
[]
[]
[]
[]
[]
[]
[]
[]
[]
[]
[]
[]
[]
[]
[]
[]
[]
[]
[]
[]
[]
[]
[]
[]
[]
[]
[]
[]
[]
[]
[]
[]
[]
[]
[]
[]
[]
[]
[]
[]
[]
[]
[]
[]
[]
[]
[]
[]
[]
[]
[]
[]
[]
[]
[]
[]
[]
[]
[]
[]
[]
[]
[]
[]
[]
[]
[]
[]
[]
[]
[]
[]
[]
[]
[]
[]
[]
[]
[]
[]
[]
[]
[]
[]
[]
[]
[]
[]
[]
[]
[]
[]
[]
[]
[]
[]
[]
[]
[]
[]
[]
[]
[]
[]
[]
[]
[]
[]
[]
[]
[]
[]
[]
[]
[]
[]
[]
[]
[]
[]
[]
[]
[]
[]
[]
[]
[]
[]
[]
[]
[]
[]
[]
[]
[]
[]
[]
[]
[]
[]
[]
[]
[]
[]
[]
[]
[]
[]
[]
[]
[]
[]
[]
[]
[]
[]
[]
[]
[]
[]
[]
[]
[]
[]
[]
[]
[]
[]
[]
[]
[]
[]
[]
[]
[]
[]
[]
[]
[]
[]
[]
[]
[]
[]
[]
[]
[]
[]
[]
[]
[]
[]
[]
[]
[]
[]
[]
[]
[]
[]
[]
[]
[]
[]
[]
[]
[]
[]
[]
[]
[]
[]
[]
[]
[]
[]
[]
[]
[]
[]
[]
[]
[]
[]
[]
[]
[]
[]
[]
[]
[]
[]
[]
[]
[]
[]
[]
[]
[]
[]
[]
[]
[]
[]
[]
[]
[]
[]
[]
[]
[]
[]
[]
[]
[]
[]
[]
[]
[]
[]
[]
[]
[]
[]
[]
[]
[]
[]
[]
[]
[]
[]
[]
[]
[]
[]
[]
[]
[]
[]
[]
[]
[]
[]
[]
[]
[]
[]
[]
[]
[]
[]
[]
[]
[]
[]
[]
[]
[]
[]
[]
[]
[]
[]
[]
[]
[]
[]
[]
[]
[]
[]
[]
[]
[]
[]
[]
[]
[]
[]
[]
[]
[]
[]
[]
[]
[]
[]
[]
[]
[]
[]
[]
[]
[]
[]
[]
[]
[]
[]
[]
[]
[]
[]
[]
[]
[]
[]
[]
[]
[]
[]
[]
[]
[]
[]
[]
[]
[]
[]
[]
[]
[]
[]
[]
[]
[]
[]
[]
[]
[]
[]
[]
[]
[]
[]
[]
[]
[]
[]
[]
[]
[]
[]
[]
[]
[]
[]
[]
[]
[]
[]
[]
[]
[]
[]
[]
[]
[]
[]
[]
[]
[]
[]
[]
[]
[]
[]
[]
[]
[]
[]
[]
[]
[]
[]
[]
[]
[]
[]
[]
[]
[]
[]
[]
[]
[]
[]
[]
[]
[]
[]
[]
[]
[]
[]
[]
[]
[]
[]
[]
[]
[]
[]
[]
[]
[]
[]
[]
[]
[]
[]
[]
[]
[]
[]
[]
[]
[]
[]
[]
[]
[]
[]
[]
[]
[]
[]
[]
[]
[]
[]
[]
[]
[]
[]
[]
[]
[]
[]
[]
[]
[]
[]
[]
[]
[]
[]
[]
[]
[]
[]
[]
[]
[]
[]
[]
[]
[]
[]
[]
[]
[]
[]
[]
[]
[]
[]
[]
[]
[]
[]
[]
[]
[]
[]
[]
[]
[]
[]
[]
[]
[]
[]
[]
[]
[]
[]
[]
[]
[]
[]
[]
[]
[]
[]
[]
[]
[]
[]
[]
[]
[]
[]
[]
[]
[]
[]
[]
[]
[]
[]
[]
[]
[]
[]
[]
[]
[]
[]
[]
[]
[]
[]
[]
[]
[]
[]
[]
[]
[]
[]
[]
[]
[]
[]
[]
[]
[]
[]
[]
[]
[]
[]
[]
[]
[]
[]
[]
[]
[]
[]
[]
[]
[]
[]
[]
[]
[]
[]
[]
[]
[]
[]
[]
[]
[]
[]
[]
[]
[]
[]
[]
[]
[]
[]
[]
[]
[]
[]
[]
[]
[]
[]
[]
[]
[]
[]
[]
[]
[]
[]
[]
[]
[]
[]
[]
[]
[]
[]
[]
[]
[]
[]
[]
[]
[]
[]
[]
[]
[]
[]
[]
[]
[]
[]
[]
[]
[]
[]
[]
[]
[]
[]
[]
[]
[]
[]
[]
[]
[]
[]
[]
[]
[]
[]
[]
[]
[]
[]
[]
[]
[]
[]
[]
[]
[]
[]
[]
[]
[]
[]
[]
[]
[]
[]
[]
[]
[]
[]
[]
[]
[]
[]
[]
[]
[]
[]
[]
[]
[]
[]
[]
[]
[]
[]
[]
[]
[]
[]
[]
[]
[]
[]
[]
[]
[]
[]
[]
[]
[]
[]
[]
[]
[]
[]
[]
[]
[]
[]
[]
[]
[]
[]
[]
[]
[]
[]
[]
[]
[]
[]
[]
[]
[]
[]
[]
[]
[]
[]
[]
[]
[]
[]
[]
[]
[]
[]
[]
[]
[]
[]
[]
[]
[]
[]
[]
[]
[]
[]
[]
[]
[]
[]
[]
[]
[]
[]
[]
[]
[]
[]
[]
[]
[]
[]
[]
[]
[]
[]
[]
[]
[]
[]
[]
[]
[]
[]
[]
[]
[]
[]
[]
[]
[]
[]
[]
[]
[]
[]
[]
[]
[]
[]
[]
[]
[]
[]
[]
[]
[]
[]
[]
[]
[]
[]
[]
[]
[]
[]
[]
[]
[]
[]
[]
[]
[]
[]
[]
[]
[]
[]
[]
[]
[]
[]
[]
[]
[]
[]
[]
[]
[]
[]
[]
[]
[]
[]
[]
[]
[]
[]
[]
[]
[]
[]
[]
[]
[]
[]
[]
[]
[]
[]
[]
[]
[]
[]
[]
[]
[]
[]
[]
[]
[]
[]
[]
[]
[]
[]
[]
[]
[]
[]
[]
[]
[]
[]
[]
[]
[]
[]
[]
[]
[]
[]
[]
[]
[]
[]
[]
[]
[]
[]
[]
[]
[]
[]
[]
[]
[]
[]
[]
[]
[]
[]
[]
[]
[]
[]
[]
[]
[]
[]
[]
[]
[]
[]
[]
[]
[]
[]
[]
[]
[]
[]
[]
[]
[]
[]
[]
[]
[]
[]
[]
[]
[]
[]
[]
[]
[]
[]
[]
[]
[]
[]
[]
[]
[]
[]
[]
[]
[]
[]
[]
[]
[]
[]
[]
[]
[]
[]
[]
[]
[]
[]
[]
[]
[]
[]
[]
[]
[]
[]
[]
[]
[]
[]
[]
[]
[]
[]
[]
[]
[]
[]
[]
[]
[]
[]
[]
[]
[]
[]
[]
[]
[]
[]
[]
[]
[]
[]
[]
[]
[]
[]
[]
[]
[]
[]
[]
[]
[]
[]
[]
[]
[]
[]
[]
[]
[]
[]
[]
[]
[]
[]
[]
[]
[]
[]
[]
[]
[]
[]
[]
[]
[]
[]
[]
[]
[]
[]
[]
[]
[]
[]
[]
[]
[]
[]
[]
[]
[]
[]
[]
[]
[]
[]
[]
[]
[]
[]
[]
[]
[]
[]
[]
[]
[]
[]
[]
[]
[]
[]
[]
[]
[]
[]
[]
[]
[]
[]
[]
[]
[]
[]
[]
[]
[]
[]
[]
[]
[]
[]
[]
[]
[]
[]
[]
[]
[]
[]
[]
[]
[]
[]
[]
[]
[]
[]
[]
[]
[]
[]
[]
[]
[]
[]
[]
[]
[]
[]
[]
[]
[]
[]
[]
[]
[]
[]
[]
[]
[]
[]
[]
[]
[]
[]
[]
[]
[]
[]
[]
[]
[]
[]
[]
[]
[]
[]
[]
[]
[]
[]
[]
[]
[]
[]
[]
[]
[]
[]
[]
[]
[]
[]
[]
[]
[]
[]
[]
[]
[]
[]
[]
[]
[]
[]
[]
[]
[]
[]
[]
[]
[]
[]
[]
[]
[]
[]
[]
[]
[]
[]
[]
[]
[]
[]
[]
[]
[]
[]
[]
[]
[]
[]
[]
[]
[]
[]
[]
[]
[]
[]
[]
[]
[]
[]
[]
[]
[]
[]
[]
[]
[]
[]
[]
[]
[]
[]
[]
[]
[]
[]
[]
[]
[]
[]
[]
[]
[]
[]
[]
[]
[]
[]
[]
[]
[]
[]
[]
[]
[]
[]
[]
[]
[]
[]
[]
[]
[]
[]
[]
[]
[]
[]
[]
[]
[]
[]
[]
[]
[]
[]
[]
[]
[]
[]
[]
[]
[]
[]
[]
[]
[]
[]
[]
[]
[]
[]
[]
[]
[]
[]
[]
[]
[]
[]
[]
[]
[]
[]
[]
[]
[]
[]
[]
[]
[]
[]
[]
[]
[]
[]
[]
[]
[]
[]
[]
[]
[]
[]
[]
[]
[]
[]
[]
[]
[]
[]
[]
[]
[]
[]
[]
[]
[]
[]
[]
[]
[]
[]
[]
[]
[]
[]
[]
[]
[]
[]
[]
[]
[]
[]
[]
[]
[]
[]
[]
[]
[]
[]
[]
[]
[]
[]
[]
[]
[]
[]
[]
[]
[]
[]
[]
[]
[]
[]
[]
[]
[]
[]
[]
[]
[]
[]
[]
[]
[]
[]
[]
[]
[]
[]
[]
[]
[]
[]
[]
[]
[]
[]
[]
[]
[]
[]
[]
[]
[]
[]
[]
[]
[]
[]
[]
["Admin - Planeación Estratégica","Estratégicos","Central","Gestión","ANÁLISIS RESULTADO\nTRIMESTRE",null,"Estratégicos","Misionales","Apoyo","Evaluación y Mejora","Transversal_todos_procesos"]
["Admin - Comunicación Institucional","Misionales","Seccional","Producto",null,"Entregable","Admin - Planeación Estratégica","Admin - Reordenamiento Judicial","Admin - Gestión Documental","Admin - Gestión de Control Interno y Auditoría","Transversal_todos_procesos"]
["Admin - Gestión para la Integración de Listas de Altas Cortes","Apoyo",null,null,null,"Meta cuantificable","Admin - Comunicación Institucional","Admin - Modernización de la Gestión Judicial","Admin - Gestión Tecnológica","Admin - Mejoramiento del Sistema Integrado de Gestión y Control de la Calidad y del Medio Ambiente"]
["Admin - Reordenamiento Judicial","Evaluación_y_Mejora",null,null,null,null,"Admin - Gestión para la Integración de Listas de Altas Cortes","Admin - Mejoramiento de la Infraestructura Física","Admin - Gestión de la Información Estadística","Juris - Gestión de Mejoramiento del SIGCMA"]
["Admin - Modernización de la Gestión Judicial","Transversal_todos_procesos",null,null,null,null,"Juris - Gestión de Planeación Estratégica","Admin - Administración de la Carrera Judicial","Admin - Gestión Humana"]
["Admin - Mejoramiento de la Infraestructura Física",null,null,null,null,null,"Juris - Gestión de Comunicación Institucional","Admin - Gestión de la Formación Judicial","Admin - Gestión de Seguridad y Salud en el Trabajo"]
["Admin - Administración de la Carrera Judicial",null,null,null,null,null,null,"Admin - Gestión de la Información Judicial","Admin - Asistencia Legal"]
["Admin - Gestión de la Formación Judicial",null,null,null,null,null,null,"Admin - Registro y Control de Abogados y Auxiliares de la Justicia","Admin - Administración de la Seguridad"]
["Admin - Gestión de la Información Judicial",null,null,null,null,null,null,"Juris - Gestión de Acciones Constitucionales","Admin - Gestión Administrativa"]
["Admin - Registro y Control de Abogados y Auxiliares de la Justicia",null,null,null,null,null,null,"Juris - Gestión Proceso Ordinario","Admin - Compras Públicas"]
["Admin - Gestión Documental",null,null,null,null,null,null,null,"Admin - Gestión Financiera y Presupuestal"]
["Admin - Gestión Tecnológica",null,null,null,null,null,null,null,"Juris - Atención al Usuario"]
["Admin - Gestión de la Información Estadística",null,null,null,null,null,null,null,"Juris - Gestión de Servicios Judiciales"]
["Admin - Gestión Humana",null,null,null,null,null,null,null,"Juris - Gestión de Servicios Administrativos"]
["Admin - Gestión de Seguridad y Salud en el Trabajo"]
["Admin - Asistencia Legal"]
["Admin - Administración de la Seguridad"]
["Admin - Gestión Administrativa"]
["Admin - Compras Públicas"]
["Admin - Gestión Financiera y Presupuestal"]
["Admin - Gestión de Control Interno y Auditoría"]
["Admin - Mejoramiento del Sistema Integrado de Gestión y Control de la Calidad y del Medio Ambiente"]
["Juris - Gestión de Planeación Estratégica"]
["Juris - Gestión de Comunicación Institucional"]
["Juris - Gestión de Acciones Constitucionales"]
["Juris - Gestión Proceso Ordinario"]
["Juris - Atención al Usuario"]
["Juris - Gestión de Servicios Judiciales"]
["Juris - Gestión de Servicios Administrativos"]
["Juris - Gestión de Mejoramiento del SIGCMA"]

{"sheet":"GESTION","index":4,"n_rows":255,"n_cols":20,"rows_kept":255,"cut":false,"hidden":false,"merged":[[245,2,254,2],[235,3,254,3],[235,1,254,1],[235,0,254,0],[185,3,224,3],[225,2,234,2],[225,3,234,3],[185,1,234,1],[235,2,244,2],[115,1,184,1],[115,0,184,0],[185,2,194,2],[195,2,204,2],[205,2,214,2],[185,0,234,0],[145,2,154,2],[155,2,164,2],[165,2,174,2],[215,2,224,2],[145,3,174,3],[175,2,184,2],[175,3,184,3],[115,2,124,2],[115,3,124,3],[125,2,134,2],[135,2,144,2],[135,3,144,3],[125,3,134,3],[95,2,104,2],[105,2,114,2],[55,3,114,3],[55,1,114,1],[55,0,114,0],[5,0,54,0],[55,2,64,2],[65,2,74,2],[75,2,84,2],[85,2,94,2],[35,2,44,2],[35,3,44,3],[45,2,54,2],[45,3,54,3],[5,1,54,1],[5,3,14,3],[15,2,24,2],[15,3,24,3],[25,2,34,2],[25,3,34,3],[5,2,14,2],[1,0,1,18],[1,19,1,28],[2,0,2,3],[3,0,4,1],[3,2,4,2],[3,3,4,3],[3,4,3,6],[3,7,3,17],[2,4,2,17],[2,18,4,18]]}
[]
["CONSEJO SUPERIOR DE LA JUDICATURA \nUNIDADES MISIONALES DEL CONSEJO SUPERIOR DE LA JUDICATURA - \nDIRECCIÓN EJECUTIVA DE ADMINISTRACIÓN JUDICIAL - UNIDADES MISIONALES DE LA DEAJ\nDIRECCIONES SECCIONALES DE ADMINISTRACIÓN JUDICIAL - DEPENDENCIAS JUDICIALES CERTIFICADAS",null,null,null,null,null,null,null,null,null,null,null,null,null,null,null,null,null,null,"GENERADOR DE SEGUIMIENTOS TRIMESTRALES"]
["PLAN SECTORIAL DE DESARROLLO 2023-2026 - OBJETIVOS SIGCMA",null,null,null,"PLAN DE ACCIÓN Y SEGUIMIENTO A LA GESTIÓN INSTITUCIONAL (DE ACUERDO CON LA FUNCIÓN MISIONAL ASIGNADA )",null,null,null,null,null,null,null,null,null,null,null,null,null," ANÁLISIS RESULTADO"]
["OBJETIVO ESTRATÉGICO",null,"OBJETIVO ESPECÍFICO PSD","OBJETIVO ESPECÍFICO SIGCMA","MAPA PROCESO SIGCMA",null,null,"MEDICIÓN DE LA GESTIÓN ANUAL"]
[null,null,null,null,"NOMBRE MACRO PROCESO SIGCMA","PROCESO SIGCMA","NIVEL ","ACTIVIDADES ","INDIQUE SI ES ENTREGABLE O META CUANTIFICABLE","META ANUAL","UNIDAD DE MEDIDA","RESPONSABLE DEL PROCESO ","MEDIO O MECANISMO A TRAVES DEL CUAL SE HACE EL SEGUIMIENTO\n(Producto y/o servicio principal)","INICIO \nDÍA/MES/AÑO","FIN\nDÍA/MES/AÑO","AVANCE DE LA META ","NIVEL CUMPLIMIENTO","DIFICULTADES PARA LOGRAR LA META PROPUESTA"]
["1. Acceso e Infraestructura Física","Acceso e Infraestructura Física: Ampliar, en todo el territorio nacional, el acceso a una justicia efectiva, pronta, equitativa e incluyente, reduciendo el atraso y la congestión, de acuerdo con las necesidades de la demanda de justicia por jurisdicción y especialidad, y mejorando la articulación con la justicia restaurativa y terapéutica, y otros mecanismos de solución de conflictos y consolidando una infraestructura física óptima para el acceso a la justicia.","1. Ampliar el acceso a justicia para atender las necesidades jurídicas de los ciudadanos con un enfoque diferencial, de una manera pronta, reduciendo las inequidades y las brechas territoriales de acceso.","2. Asegurar  el cumplimiento de los objetivos institucionales, la normatividad aplicable,  la mejora del SIGCMA y la satisfacción de los usuarios, revisando de  forma continua y sistemática la planificación de la gestión y fortaleciendo la administración de riesgos y sus controles",null,null,null,null,null,null,null,null,null,null,null,{"$f":"IFERROR(MAX(GESTION_SEG_1_TRIM!H6,GESTION_SEG_2_TRIM!H6,GESTION_SEG_3_TRIM!H6,GESTION_SEG_4_TRIM!H6),\" \")","v":0},{"$f":"IFERROR(P6/J6,\"\")","v":""},{"$f":"IFERROR(_xlfn.CONCAT(\"Trimestre 1\",CHAR(10),GESTION_SEG_1_TRIM!J6,CHAR(10),\"Trimestre 2\",CHAR(10),GESTION_SEG_2_TRIM!J6,CHAR(10),\"Trimestre 3\",CHAR(10),GESTION_SEG_3_TRIM!J6,CHAR(10),\"Trimestre 4\",CHAR(10),GESTION_SEG_4_TRIM!J6),\" \")","v":"Trimestre 1\n\nTrimestre 2\n\nTrimestre 3\n\nTrimestre 4\n"},{"$f":"IFERROR(_xlfn.CONCAT(\"Trimestre 1\",CHAR(10),GESTION_SEG_1_TRIM!K6,CHAR(10),\"Trimestre 2\",CHAR(10),GESTION_SEG_2_TRIM!K6,CHAR(10),\"Trimestre 3\",CHAR(10),GESTION_SEG_3_TRIM!K6,CHAR(10),\"Trimestre 4\",CHAR(10),GESTION_SEG_4_TRIM!K6),\" \")","v":"Trimestre 1\n\nTrimestre 2\n\nTrimestre 3\n\nTrimestre 4\n"}]
[null,null,null,null,null,null,null,null,null,null,null,null,null,null,null,{"$f":"IFERROR(MAX(GESTION_SEG_1_TRIM!H7,GESTION_SEG_2_TRIM!H7,GESTION_SEG_3_TRIM!H7,GESTION_SEG_4_TRIM!H7),\" \")","v":0},"",{"$f":"IFERROR(_xlfn.CONCAT(\"Trimestre 1\",CHAR(10),GESTION_SEG_1_TRIM!J7,CHAR(10),\"Trimestre 2\",CHAR(10),GESTION_SEG_2_TRIM!J7,CHAR(10),\"Trimestre 3\",CHAR(10),GESTION_SEG_3_TRIM!J7,CHAR(10),\"Trimestre 4\",CHAR(10),GESTION_SEG_4_TRIM!J7),\" \")","v":"Trimestre 1\n\nTrimestre 2\n\nTrimestre 3\n\nTrimestre 4\n"},{"$f":"IFERROR(_xlfn.CONCAT(\"Trimestre 1\",CHAR(10),GESTION_SEG_1_TRIM!K7,CHAR(10),\"Trimestre 2\",CHAR(10),GESTION_SEG_2_TRIM!K7,CHAR(10),\"Trimestre 3\",CHAR(10),GESTION_SEG_3_TRIM!K7,CHAR(10),\"Trimestre 4\",CHAR(10),GESTION_SEG_4_TRIM!K7),\" \")","v":"Trimestre 1\n\nTrimestre 2\n\nTrimestre 3\n\nTrimestre 4\n"}]
[null,null,null,null,null,null,null,null,null,null,null,null,null,null,null,{"$f":"IFERROR(MAX(GESTION_SEG_1_TRIM!H8,GESTION_SEG_2_TRIM!H8,GESTION_SEG_3_TRIM!H8,GESTION_SEG_4_TRIM!H8),\" \")","v":0},null,{"$f":"IFERROR(_xlfn.CONCAT(\"Trimestre 1\",CHAR(10),GESTION_SEG_1_TRIM!J8,CHAR(10),\"Trimestre 2\",CHAR(10),GESTION_SEG_2_TRIM!J8,CHAR(10),\"Trimestre 3\",CHAR(10),GESTION_SEG_3_TRIM!J8,CHAR(10),\"Trimestre 4\",CHAR(10),GESTION_SEG_4_TRIM!J8),\" \")","v":"Trimestre 1\n\nTrimestre 2\n\nTrimestre 3\n\nTrimestre 4\n"},{"$f":"IFERROR(_xlfn.CONCAT(\"Trimestre 1\",CHAR(10),GESTION_SEG_1_TRIM!K8,CHAR(10),\"Trimestre 2\",CHAR(10),GESTION_SEG_2_TRIM!K8,CHAR(10),\"Trimestre 3\",CHAR(10),GESTION_SEG_3_TRIM!K8,CHAR(10),\"Trimestre 4\",CHAR(10),GESTION_SEG_4_TRIM!K8),\" \")","v":"Trimestre 1\n\nTrimestre 2\n\nTrimestre 3\n\nTrimestre 4\n"}]
[null,null,null,null,null,null,null,null,null,null,null,null,null,null,null,{"$f":"IFERROR(MAX(GESTION_SEG_1_TRIM!H9,GESTION_SEG_2_TRIM!H9,GESTION_SEG_3_TRIM!H9,GESTION_SEG_4_TRIM!H9),\" \")","v":0},null,{"$f":"IFERROR(_xlfn.CONCAT(\"Trimestre 1\",CHAR(10),GESTION_SEG_1_TRIM!J9,CHAR(10),\"Trimestre 2\",CHAR(10),GESTION_SEG_2_TRIM!J9,CHAR(10),\"Trimestre 3\",CHAR(10),GESTION_SEG_3_TRIM!J9,CHAR(10),\"Trimestre 4\",CHAR(10),GESTION_SEG_4_TRIM!J9),\" \")","v":"Trimestre 1\n\nTrimestre 2\n\nTrimestre 3\n\nTrimestre 4\n"},{"$f":"IFERROR(_xlfn.CONCAT(\"Trimestre 1\",CHAR(10),GESTION_SEG_1_TRIM!K9,CHAR(10),\"Trimestre 2\",CHAR(10),GESTION_SEG_2_TRIM!K9,CHAR(10),\"Trimestre 3\",CHAR(10),GESTION_SEG_3_TRIM!K9,CHAR(10),\"Trimestre 4\",CHAR(10),GESTION_SEG_4_TRIM!K9),\" \")","v":"Trimestre 1\n\nTrimestre 2\n\nTrimestre 3\n\nTrimestre 4\n"}]
[null,null,null,null,null,null,null,null,null,null,null,null,null,null,null,{"$f":"IFERROR(MAX(GESTION_SEG_1_TRIM!H10,GESTION_SEG_2_TRIM!H10,GESTION_SEG_3_TRIM!H10,GESTION_SEG_4_TRIM!H10),\" \")","v":0},null,{"$f":"IFERROR(_xlfn.CONCAT(\"Trimestre 1\",CHAR(10),GESTION_SEG_1_TRIM!J10,CHAR(10),\"Trimestre 2\",CHAR(10),GESTION_SEG_2_TRIM!J10,CHAR(10),\"Trimestre 3\",CHAR(10),GESTION_SEG_3_TRIM!J10,CHAR(10),\"Trimestre 4\",CHAR(10),GESTION_SEG_4_TRIM!J10),\" \")","v":"Trimestre 1\n\nTrimestre 2\n\nTrimestre 3\n\nTrimestre 4\n"},{"$f":"IFERROR(_xlfn.CONCAT(\"Trimestre 1\",CHAR(10),GESTION_SEG_1_TRIM!K10,CHAR(10),\"Trimestre 2\",CHAR(10),GESTION_SEG_2_TRIM!K10,CHAR(10),\"Trimestre 3\",CHAR(10),GESTION_SEG_3_TRIM!K10,CHAR(10),\"Trimestre 4\",CHAR(10),GESTION_SEG_4_TRIM!K10),\" \")","v":"Trimestre 1\n\nTrimestre 2\n\nTrimestre 3\n\nTrimestre 4\n"}]
[null,null,null,null,null,null,null,null,null,null,null,null,null,null,null,{"$f":"IFERROR(MAX(GESTION_SEG_1_TRIM!H11,GESTION_SEG_2_TRIM!H11,GESTION_SEG_3_TRIM!H11,GESTION_SEG_4_TRIM!H11),\" \")","v":0},null,{"$f":"IFERROR(_xlfn.CONCAT(\"Trimestre 1\",CHAR(10),GESTION_SEG_1_TRIM!J11,CHAR(10),\"Trimestre 2\",CHAR(10),GESTION_SEG_2_TRIM!J11,CHAR(10),\"Trimestre 3\",CHAR(10),GESTION_SEG_3_TRIM!J11,CHAR(10),\"Trimestre 4\",CHAR(10),GESTION_SEG_4_TRIM!J11),\" \")","v":"Trimestre 1\n\nTrimestre 2\n\nTrimestre 3\n\nTrimestre 4\n"},{"$f":"IFERROR(_xlfn.CONCAT(\"Trimestre 1\",CHAR(10),GESTION_SEG_1_TRIM!K11,CHAR(10),\"Trimestre 2\",CHAR(10),GESTION_SEG_2_TRIM!K11,CHAR(10),\"Trimestre 3\",CHAR(10),GESTION_SEG_3_TRIM!K11,CHAR(10),\"Trimestre 4\",CHAR(10),GESTION_SEG_4_TRIM!K11),\" \")","v":"Trimestre 1\n\nTrimestre 2\n\nTrimestre 3\n\nTrimestre 4\n"}]
[null,null,null,null,null,null,null,null,null,null,null,null,null,null,null,{"$f":"IFERROR(MAX(GESTION_SEG_1_TRIM!H12,GESTION_SEG_2_TRIM!H12,GESTION_SEG_3_TRIM!H12,GESTION_SEG_4_TRIM!H12),\" \")","v":0},null,{"$f":"IFERROR(_xlfn.CONCAT(\"Trimestre 1\",CHAR(10),GESTION_SEG_1_TRIM!J12,CHAR(10),\"Trimestre 2\",CHAR(10),GESTION_SEG_2_TRIM!J12,CHAR(10),\"Trimestre 3\",CHAR(10),GESTION_SEG_3_TRIM!J12,CHAR(10),\"Trimestre 4\",CHAR(10),GESTION_SEG_4_TRIM!J12),\" \")","v":"Trimestre 1\n\nTrimestre 2\n\nTrimestre 3\n\nTrimestre 4\n"},{"$f":"IFERROR(_xlfn.CONCAT(\"Trimestre 1\",CHAR(10),GESTION_SEG_1_TRIM!K12,CHAR(10),\"Trimestre 2\",CHAR(10),GESTION_SEG_2_TRIM!K12,CHAR(10),\"Trimestre 3\",CHAR(10),GESTION_SEG_3_TRIM!K12,CHAR(10),\"Trimestre 4\",CHAR(10),GESTION_SEG_4_TRIM!K12),\" \")","v":"Trimestre 1\n\nTrimestre 2\n\nTrimestre 3\n\nTrimestre 4\n"}]
[null,null,null,null,null,null,null,null,null,null,null,null,null,null,null,{"$f":"IFERROR(MAX(GESTION_SEG_1_TRIM!H13,GESTION_SEG_2_TRIM!H13,GESTION_SEG_3_TRIM!H13,GESTION_SEG_4_TRIM!H13),\" \")","v":0},"",{"$f":"IFERROR(_xlfn.CONCAT(\"Trimestre 1\",CHAR(10),GESTION_SEG_1_TRIM!J13,CHAR(10),\"Trimestre 2\",CHAR(10),GESTION_SEG_2_TRIM!J13,CHAR(10),\"Trimestre 3\",CHAR(10),GESTION_SEG_3_TRIM!J13,CHAR(10),\"Trimestre 4\",CHAR(10),GESTION_SEG_4_TRIM!J13),\" \")","v":"Trimestre 1\n\nTrimestre 2\n\nTrimestre 3\n\nTrimestre 4\n"},{"$f":"IFERROR(_xlfn.CONCAT(\"Trimestre 1\",CHAR(10),GESTION_SEG_1_TRIM!K13,CHAR(10),\"Trimestre 2\",CHAR(10),GESTION_SEG_2_TRIM!K13,CHAR(10),\"Trimestre 3\",CHAR(10),GESTION_SEG_3_TRIM!K13,CHAR(10),\"Trimestre 4\",CHAR(10),GESTION_SEG_4_TRIM!K13),\" \")","v":"Trimestre 1\n\nTrimestre 2\n\nTrimestre 3\n\nTrimestre 4\n"}]
[null,null,null,null,null,null,null,null,null,null,null,null,null,null,null,{"$f":"IFERROR(MAX(GESTION_SEG_1_TRIM!H14,GESTION_SEG_2_TRIM!H14,GESTION_SEG_3_TRIM!H14,GESTION_SEG_4_TRIM!H14),\" \")","v":0},"",{"$f":"IFERROR(_xlfn.CONCAT(\"Trimestre 1\",CHAR(10),GESTION_SEG_1_TRIM!J14,CHAR(10),\"Trimestre 2\",CHAR(10),GESTION_SEG_2_TRIM!J14,CHAR(10),\"Trimestre 3\",CHAR(10),GESTION_SEG_3_TRIM!J14,CHAR(10),\"Trimestre 4\",CHAR(10),GESTION_SEG_4_TRIM!J14),\" \")","v":"Trimestre 1\n\nTrimestre 2\n\nTrimestre 3\n\nTrimestre 4\n"},{"$f":"IFERROR(_xlfn.CONCAT(\"Trimestre 1\",CHAR(10),GESTION_SEG_1_TRIM!K14,CHAR(10),\"Trimestre 2\",CHAR(10),GESTION_SEG_2_TRIM!K14,CHAR(10),\"Trimestre 3\",CHAR(10),GESTION_SEG_3_TRIM!K14,CHAR(10),\"Trimestre 4\",CHAR(10),GESTION_SEG_4_TRIM!K14),\" \")","v":"Trimestre 1\n\nTrimestre 2\n\nTrimestre 3\n\nTrimestre 4\n"}]
[null,null,null,null,null,null,null,null,null,null,null,null,null,null,null,{"$f":"IFERROR(MAX(GESTION_SEG_1_TRIM!H15,GESTION_SEG_2_TRIM!H15,GESTION_SEG_3_TRIM!H15,GESTION_SEG_4_TRIM!H15),\" \")","v":0},"",{"$f":"IFERROR(_xlfn.CONCAT(\"Trimestre 1\",CHAR(10),GESTION_SEG_1_TRIM!J15,CHAR(10),\"Trimestre 2\",CHAR(10),GESTION_SEG_2_TRIM!J15,CHAR(10),\"Trimestre 3\",CHAR(10),GESTION_SEG_3_TRIM!J15,CHAR(10),\"Trimestre 4\",CHAR(10),GESTION_SEG_4_TRIM!J15),\" \")","v":"Trimestre 1\n\nTrimestre 2\n\nTrimestre 3\n\nTrimestre 4\n"},{"$f":"IFERROR(_xlfn.CONCAT(\"Trimestre 1\",CHAR(10),GESTION_SEG_1_TRIM!K15,CHAR(10),\"Trimestre 2\",CHAR(10),GESTION_SEG_2_TRIM!K15,CHAR(10),\"Trimestre 3\",CHAR(10),GESTION_SEG_3_TRIM!K15,CHAR(10),\"Trimestre 4\",CHAR(10),GESTION_SEG_4_TRIM!K15),\" \")","v":"Trimestre 1\n\nTrimestre 2\n\nTrimestre 3\n\nTrimestre 4\n"}]
[null,null,"2. Mejorar los tiempos de respuesta de la Rama Judicial y reducir el inventario de procesos, identificando los retos internos y promoviendo tanto acciones articuladas específicas para abordarlos como estrategias coordinadas para enfrentar las barreras que dependen de otras entidades.","2. Asegurar  el cumplimiento de los objetivos institucionales, la normatividad aplicable,  la mejora del SIGCMA y la satisfacción de los usuarios, revisando de  forma continua y sistemática la planificación de la gestión y fortaleciendo la administración de riesgos y sus controles",null,null,null,null,null,null,null,null,null,null,null,{"$f":"IFERROR(MAX(GESTION_SEG_1_TRIM!H16,GESTION_SEG_2_TRIM!H16,GESTION_SEG_3_TRIM!H16,GESTION_SEG_4_TRIM!H16),\" \")","v":0},"",{"$f":"IFERROR(_xlfn.CONCAT(\"Trimestre 1\",CHAR(10),GESTION_SEG_1_TRIM!J16,CHAR(10),\"Trimestre 2\",CHAR(10),GESTION_SEG_2_TRIM!J16,CHAR(10),\"Trimestre 3\",CHAR(10),GESTION_SEG_3_TRIM!J16,CHAR(10),\"Trimestre 4\",CHAR(10),GESTION_SEG_4_TRIM!J16),\" \")","v":"Trimestre 1\n\nTrimestre 2\n\nTrimestre 3\n\nTrimestre 4\n"},{"$f":"IFERROR(_xlfn.CONCAT(\"Trimestre 1\",CHAR(10),GESTION_SEG_1_TRIM!K16,CHAR(10),\"Trimestre 2\",CHAR(10),GESTION_SEG_2_TRIM!K16,CHAR(10),\"Trimestre 3\",CHAR(10),GESTION_SEG_3_TRIM!K16,CHAR(10),\"Trimestre 4\",CHAR(10),GESTION_SEG_4_TRIM!K16),\" \")","v":"Trimestre 1\n\nTrimestre 2\n\nTrimestre 3\n\nTrimestre 4\n"}]
[null,null,null,null,null,null,null,null,null,null,null,null,null,null,null,{"$f":"IFERROR(MAX(GESTION_SEG_1_TRIM!H17,GESTION_SEG_2_TRIM!H17,GESTION_SEG_3_TRIM!H17,GESTION_SEG_4_TRIM!H17),\" \")","v":0},"",{"$f":"IFERROR(_xlfn.CONCAT(\"Trimestre 1\",CHAR(10),GESTION_SEG_1_TRIM!J17,CHAR(10),\"Trimestre 2\",CHAR(10),GESTION_SEG_2_TRIM!J17,CHAR(10),\"Trimestre 3\",CHAR(10),GESTION_SEG_3_TRIM!J17,CHAR(10),\"Trimestre 4\",CHAR(10),GESTION_SEG_4_TRIM!J17),\" \")","v":"Trimestre 1\n\nTrimestre 2\n\nTrimestre 3\n\nTrimestre 4\n"},{"$f":"IFERROR(_xlfn.CONCAT(\"Trimestre 1\",CHAR(10),GESTION_SEG_1_TRIM!K17,CHAR(10),\"Trimestre 2\",CHAR(10),GESTION_SEG_2_TRIM!K17,CHAR(10),\"Trimestre 3\",CHAR(10),GESTION_SEG_3_TRIM!K17,CHAR(10),\"Trimestre 4\",CHAR(10),GESTION_SEG_4_TRIM!K17),\" \")","v":"Trimestre 1\n\nTrimestre 2\n\nTrimestre 3\n\nTrimestre 4\n"}]
[null,null,null,null,null,null,null,null,null,null,null,null,null,null,null,{"$f":"IFERROR(MAX(GESTION_SEG_1_TRIM!H18,GESTION_SEG_2_TRIM!H18,GESTION_SEG_3_TRIM!H18,GESTION_SEG_4_TRIM!H18),\" \")","v":0},null,{"$f":"IFERROR(_xlfn.CONCAT(\"Trimestre 1\",CHAR(10),GESTION_SEG_1_TRIM!J18,CHAR(10),\"Trimestre 2\",CHAR(10),GESTION_SEG_2_TRIM!J18,CHAR(10),\"Trimestre 3\",CHAR(10),GESTION_SEG_3_TRIM!J18,CHAR(10),\"Trimestre 4\",CHAR(10),GESTION_SEG_4_TRIM!J18),\" \")","v":"Trimestre 1\n\nTrimestre 2\n\nTrimestre 3\n\nTrimestre 4\n"},{"$f":"IFERROR(_xlfn.CONCAT(\"Trimestre 1\",CHAR(10),GESTION_SEG_1_TRIM!K18,CHAR(10),\"Trimestre 2\",CHAR(10),GESTION_SEG_2_TRIM!K18,CHAR(10),\"Trimestre 3\",CHAR(10),GESTION_SEG_3_TRIM!K18,CHAR(10),\"Trimestre 4\",CHAR(10),GESTION_SEG_4_TRIM!K18),\" \")","v":"Trimestre 1\n\nTrimestre 2\n\nTrimestre 3\n\nTrimestre 4\n"}]
[null,null,null,null,null,null,null,null,null,null,null,null,null,null,null,{"$f":"IFERROR(MAX(GESTION_SEG_1_TRIM!H19,GESTION_SEG_2_TRIM!H19,GESTION_SEG_3_TRIM!H19,GESTION_SEG_4_TRIM!H19),\" \")","v":0},null,{"$f":"IFERROR(_xlfn.CONCAT(\"Trimestre 1\",CHAR(10),GESTION_SEG_1_TRIM!J19,CHAR(10),\"Trimestre 2\",CHAR(10),GESTION_SEG_2_TRIM!J19,CHAR(10),\"Trimestre 3\",CHAR(10),GESTION_SEG_3_TRIM!J19,CHAR(10),\"Trimestre 4\",CHAR(10),GESTION_SEG_4_TRIM!J19),\" \")","v":"Trimestre 1\n\nTrimestre 2\n\nTrimestre 3\n\nTrimestre 4\n"},{"$f":"IFERROR(_xlfn.CONCAT(\"Trimestre 1\",CHAR(10),GESTION_SEG_1_TRIM!K19,CHAR(10),\"Trimestre 2\",CHAR(10),GESTION_SEG_2_TRIM!K19,CHAR(10),\"Trimestre 3\",CHAR(10),GESTION_SEG_3_TRIM!K19,CHAR(10),\"Trimestre 4\",CHAR(10),GESTION_SEG_4_TRIM!K19),\" \")","v":"Trimestre 1\n\nTrimestre 2\n\nTrimestre 3\n\nTrimestre 4\n"}]
[null,null,null,null,null,null,null,null,null,null,null,null,null,null,null,{"$f":"IFERROR(MAX(GESTION_SEG_1_TRIM!H20,GESTION_SEG_2_TRIM!H20,GESTION_SEG_3_TRIM!H20,GESTION_SEG_4_TRIM!H20),\" \")","v":0},null,{"$f":"IFERROR(_xlfn.CONCAT(\"Trimestre 1\",CHAR(10),GESTION_SEG_1_TRIM!J20,CHAR(10),\"Trimestre 2\",CHAR(10),GESTION_SEG_2_TRIM!J20,CHAR(10),\"Trimestre 3\",CHAR(10),GESTION_SEG_3_TRIM!J20,CHAR(10),\"Trimestre 4\",CHAR(10),GESTION_SEG_4_TRIM!J20),\" \")","v":"Trimestre 1\n\nTrimestre 2\n\nTrimestre 3\n\nTrimestre 4\n"},{"$f":"IFERROR(_xlfn.CONCAT(\"Trimestre 1\",CHAR(10),GESTION_SEG_1_TRIM!K20,CHAR(10),\"Trimestre 2\",CHAR(10),GESTION_SEG_2_TRIM!K20,CHAR(10),\"Trimestre 3\",CHAR(10),GESTION_SEG_3_TRIM!K20,CHAR(10),\"Trimestre 4\",CHAR(10),GESTION_SEG_4_TRIM!K20),\" \")","v":"Trimestre 1\n\nTrimestre 2\n\nTrimestre 3\n\nTrimestre 4\n"}]
[null,null,null,null,null,null,null,null,null,null,null,null,null,null,null,{"$f":"IFERROR(MAX(GESTION_SEG_1_TRIM!H21,GESTION_SEG_2_TRIM!H21,GESTION_SEG_3_TRIM!H21,GESTION_SEG_4_TRIM!H21),\" \")","v":0},null,{"$f":"IFERROR(_xlfn.CONCAT(\"Trimestre 1\",CHAR(10),GESTION_SEG_1_TRIM!J21,CHAR(10),\"Trimestre 2\",CHAR(10),GESTION_SEG_2_TRIM!J21,CHAR(10),\"Trimestre 3\",CHAR(10),GESTION_SEG_3_TRIM!J21,CHAR(10),\"Trimestre 4\",CHAR(10),GESTION_SEG_4_TRIM!J21),\" \")","v":"Trimestre 1\n\nTrimestre 2\n\nTrimestre 3\n\nTrimestre 4\n"},{"$f":"IFERROR(_xlfn.CONCAT(\"Trimestre 1\",CHAR(10),GESTION_SEG_1_TRIM!K21,CHAR(10),\"Trimestre 2\",CHAR(10),GESTION_SEG_2_TRIM!K21,CHAR(10),\"Trimestre 3\",CHAR(10),GESTION_SEG_3_TRIM!K21,CHAR(10),\"Trimestre 4\",CHAR(10),GESTION_SEG_4_TRIM!K21),\" \")","v":"Trimestre 1\n\nTrimestre 2\n\nTrimestre 3\n\nTrimestre 4\n"}]
[null,null,null,null,null,null,null,null,null,null,null,null,null,null,null,{"$f":"IFERROR(MAX(GESTION_SEG_1_TRIM!H22,GESTION_SEG_2_TRIM!H22,GESTION_SEG_3_TRIM!H22,GESTION_SEG_4_TRIM!H22),\" \")","v":0},null,{"$f":"IFERROR(_xlfn.CONCAT(\"Trimestre 1\",CHAR(10),GESTION_SEG_1_TRIM!J22,CHAR(10),\"Trimestre 2\",CHAR(10),GESTION_SEG_2_TRIM!J22,CHAR(10),\"Trimestre 3\",CHAR(10),GESTION_SEG_3_TRIM!J22,CHAR(10),\"Trimestre 4\",CHAR(10),GESTION_SEG_4_TRIM!J22),\" \")","v":"Trimestre 1\n\nTrimestre 2\n\nTrimestre 3\n\nTrimestre 4\n"},{"$f":"IFERROR(_xlfn.CONCAT(\"Trimestre 1\",CHAR(10),GESTION_SEG_1_TRIM!K22,CHAR(10),\"Trimestre 2\",CHAR(10),GESTION_SEG_2_TRIM!K22,CHAR(10),\"Trimestre 3\",CHAR(10),GESTION_SEG_3_TRIM!K22,CHAR(10),\"Trimestre 4\",CHAR(10),GESTION_SEG_4_TRIM!K22),\" \")","v":"Trimestre 1\n\nTrimestre 2\n\nTrimestre 3\n\nTrimestre 4\n"}]
[null,null,null,null,null,null,null,null,null,null,null,null,null,null,null,{"$f":"IFERROR(MAX(GESTION_SEG_1_TRIM!H23,GESTION_SEG_2_TRIM!H23,GESTION_SEG_3_TRIM!H23,GESTION_SEG_4_TRIM!H23),\" \")","v":0},"",{"$f":"IFERROR(_xlfn.CONCAT(\"Trimestre 1\",CHAR(10),GESTION_SEG_1_TRIM!J23,CHAR(10),\"Trimestre 2\",CHAR(10),GESTION_SEG_2_TRIM!J23,CHAR(10),\"Trimestre 3\",CHAR(10),GESTION_SEG_3_TRIM!J23,CHAR(10),\"Trimestre 4\",CHAR(10),GESTION_SEG_4_TRIM!J23),\" \")","v":"Trimestre 1\n\nTrimestre 2\n\nTrimestre 3\n\nTrimestre 4\n"},{"$f":"IFERROR(_xlfn.CONCAT(\"Trimestre 1\",CHAR(10),GESTION_SEG_1_TRIM!K23,CHAR(10),\"Trimestre 2\",CHAR(10),GESTION_SEG_2_TRIM!K23,CHAR(10),\"Trimestre 3\",CHAR(10),GESTION_SEG_3_TRIM!K23,CHAR(10),\"Trimestre 4\",CHAR(10),GESTION_SEG_4_TRIM!K23),\" \")","v":"Trimestre 1\n\nTrimestre 2\n\nTrimestre 3\n\nTrimestre 4\n"}]
[null,null,null,null,null,null,null,null,null,null,null,null,null,null,null,{"$f":"IFERROR(MAX(GESTION_SEG_1_TRIM!H24,GESTION_SEG_2_TRIM!H24,GESTION_SEG_3_TRIM!H24,GESTION_SEG_4_TRIM!H24),\" \")","v":0},"",{"$f":"IFERROR(_xlfn.CONCAT(\"Trimestre 1\",CHAR(10),GESTION_SEG_1_TRIM!J24,CHAR(10),\"Trimestre 2\",CHAR(10),GESTION_SEG_2_TRIM!J24,CHAR(10),\"Trimestre 3\",CHAR(10),GESTION_SEG_3_TRIM!J24,CHAR(10),\"Trimestre 4\",CHAR(10),GESTION_SEG_4_TRIM!J24),\" \")","v":"Trimestre 1\n\nTrimestre 2\n\nTrimestre 3\n\nTrimestre 4\n"},{"$f":"IFERROR(_xlfn.CONCAT(\"Trimestre 1\",CHAR(10),GESTION_SEG_1_TRIM!K24,CHAR(10),\"Trimestre 2\",CHAR(10),GESTION_SEG_2_TRIM!K24,CHAR(10),\"Trimestre 3\",CHAR(10),GESTION_SEG_3_TRIM!K24,CHAR(10),\"Trimestre 4\",CHAR(10),GESTION_SEG_4_TRIM!K24),\" \")","v":"Trimestre 1\n\nTrimestre 2\n\nTrimestre 3\n\nTrimestre 4\n"}]
[null,null,null,null,null,null,null,null,null,null,null,null,null,null,null,{"$f":"IFERROR(MAX(GESTION_SEG_1_TRIM!H25,GESTION_SEG_2_TRIM!H25,GESTION_SEG_3_TRIM!H25,GESTION_SEG_4_TRIM!H25),\" \")","v":0},"",{"$f":"IFERROR(_xlfn.CONCAT(\"Trimestre 1\",CHAR(10),GESTION_SEG_1_TRIM!J25,CHAR(10),\"Trimestre 2\",CHAR(10),GESTION_SEG_2_TRIM!J25,CHAR(10),\"Trimestre 3\",CHAR(10),GESTION_SEG_3_TRIM!J25,CHAR(10),\"Trimestre 4\",CHAR(10),GESTION_SEG_4_TRIM!J25),\" \")","v":"Trimestre 1\n\nTrimestre 2\n\nTrimestre 3\n\nTrimestre 4\n"},{"$f":"IFERROR(_xlfn.CONCAT(\"Trimestre 1\",CHAR(10),GESTION_SEG_1_TRIM!K25,CHAR(10),\"Trimestre 2\",CHAR(10),GESTION_SEG_2_TRIM!K25,CHAR(10),\"Trimestre 3\",CHAR(10),GESTION_SEG_3_TRIM!K25,CHAR(10),\"Trimestre 4\",CHAR(10),GESTION_SEG_4_TRIM!K25),\" \")","v":"Trimestre 1\n\nTrimestre 2\n\nTrimestre 3\n\nTrimestre 4\n"}]
[null,null,"3. Coadyuvar en la garantía de la idoneidad en el ejercicio de la profesión jurídica de acuerdo con lo establecido en la Ley 1905 de 2018","2. Asegurar  el cumplimiento de los objetivos institucionales, la normatividad aplicable,  la mejora del SIGCMA y la satisfacción de los usuarios, revisando de  forma continua y sistemática la planificación de la gestión y fortaleciendo la administración de riesgos y sus controles",null,null,null,null,null,null,null,null,null,null,null,{"$f":"IFERROR(MAX(GESTION_SEG_1_TRIM!H26,GESTION_SEG_2_TRIM!H26,GESTION_SEG_3_TRIM!H26,GESTION_SEG_4_TRIM!H26),\" \")","v":0},"",{"$f":"IFERROR(_xlfn.CONCAT(\"Trimestre 1\",CHAR(10),GESTION_SEG_1_TRIM!J26,CHAR(10),\"Trimestre 2\",CHAR(10),GESTION_SEG_2_TRIM!J26,CHAR(10),\"Trimestre 3\",CHAR(10),GESTION_SEG_3_TRIM!J26,CHAR(10),\"Trimestre 4\",CHAR(10),GESTION_SEG_4_TRIM!J26),\" \")","v":"Trimestre 1\n\nTrimestre 2\n\nTrimestre 3\n\nTrimestre 4\n"},{"$f":"IFERROR(_xlfn.CONCAT(\"Trimestre 1\",CHAR(10),GESTION_SEG_1_TRIM!K26,CHAR(10),\"Trimestre 2\",CHAR(10),GESTION_SEG_2_TRIM!K26,CHAR(10),\"Trimestre 3\",CHAR(10),GESTION_SEG_3_TRIM!K26,CHAR(10),\"Trimestre 4\",CHAR(10),GESTION_SEG_4_TRIM!K26),\" \")","v":"Trimestre 1\n\nTrimestre 2\n\nTrimestre 3\n\nTrimestre 4\n"}]
[null,null,null,null,null,null,null,null,null,null,null,null,null,null,null,{"$f":"IFERROR(MAX(GESTION_SEG_1_TRIM!H27,GESTION_SEG_2_TRIM!H27,GESTION_SEG_3_TRIM!H27,GESTION_SEG_4_TRIM!H27),\" \")","v":0},"",{"$f":"IFERROR(_xlfn.CONCAT(\"Trimestre 1\",CHAR(10),GESTION_SEG_1_TRIM!J27,CHAR(10),\"Trimestre 2\",CHAR(10),GESTION_SEG_2_TRIM!J27,CHAR(10),\"Trimestre 3\",CHAR(10),GESTION_SEG_3_TRIM!J27,CHAR(10),\"Trimestre 4\",CHAR(10),GESTION_SEG_4_TRIM!J27),\" \")","v":"Trimestre 1\n\nTrimestre 2\n\nTrimestre 3\n\nTrimestre 4\n"},{"$f":"IFERROR(_xlfn.CONCAT(\"Trimestre 1\",CHAR(10),GESTION_SEG_1_TRIM!K27,CHAR(10),\"Trimestre 2\",CHAR(10),GESTION_SEG_2_TRIM!K27,CHAR(10),\"Trimestre 3\",CHAR(10),GESTION_SEG_3_TRIM!K27,CHAR(10),\"Trimestre 4\",CHAR(10),GESTION_SEG_4_TRIM!K27),\" \")","v":"Trimestre 1\n\nTrimestre 2\n\nTrimestre 3\n\nTrimestre 4\n"}]
[null,null,null,null,null,null,null,null,null,null,null,null,null,null,null,{"$f":"IFERROR(MAX(GESTION_SEG_1_TRIM!H28,GESTION_SEG_2_TRIM!H28,GESTION_SEG_3_TRIM!H28,GESTION_SEG_4_TRIM!H28),\" \")","v":0},null,{"$f":"IFERROR(_xlfn.CONCAT(\"Trimestre 1\",CHAR(10),GESTION_SEG_1_TRIM!J28,CHAR(10),\"Trimestre 2\",CHAR(10),GESTION_SEG_2_TRIM!J28,CHAR(10),\"Trimestre 3\",CHAR(10),GESTION_SEG_3_TRIM!J28,CHAR(10),\"Trimestre 4\",CHAR(10),GESTION_SEG_4_TRIM!J28),\" \")","v":"Trimestre 1\n\nTrimestre 2\n\nTrimestre 3\n\nTrimestre 4\n"},{"$f":"IFERROR(_xlfn.CONCAT(\"Trimestre 1\",CHAR(10),GESTION_SEG_1_TRIM!K28,CHAR(10),\"Trimestre 2\",CHAR(10),GESTION_SEG_2_TRIM!K28,CHAR(10),\"Trimestre 3\",CHAR(10),GESTION_SEG_3_TRIM!K28,CHAR(10),\"Trimestre 4\",CHAR(10),GESTION_SEG_4_TRIM!K28),\" \")","v":"Trimestre 1\n\nTrimestre 2\n\nTrimestre 3\n\nTrimestre 4\n"}]
[null,null,null,null,null,null,null,null,null,null,null,null,null,null,null,{"$f":"IFERROR(MAX(GESTION_SEG_1_TRIM!H29,GESTION_SEG_2_TRIM!H29,GESTION_SEG_3_TRIM!H29,GESTION_SEG_4_TRIM!H29),\" \")","v":0},null,{"$f":"IFERROR(_xlfn.CONCAT(\"Trimestre 1\",CHAR(10),GESTION_SEG_1_TRIM!J29,CHAR(10),\"Trimestre 2\",CHAR(10),GESTION_SEG_2_TRIM!J29,CHAR(10),\"Trimestre 3\",CHAR(10),GESTION_SEG_3_TRIM!J29,CHAR(10),\"Trimestre 4\",CHAR(10),GESTION_SEG_4_TRIM!J29),\" \")","v":"Trimestre 1\n\nTrimestre 2\n\nTrimestre 3\n\nTrimestre 4\n"},{"$f":"IFERROR(_xlfn.CONCAT(\"Trimestre 1\",CHAR(10),GESTION_SEG_1_TRIM!K29,CHAR(10),\"Trimestre 2\",CHAR(10),GESTION_SEG_2_TRIM!K29,CHAR(10),\"Trimestre 3\",CHAR(10),GESTION_SEG_3_TRIM!K29,CHAR(10),\"Trimestre 4\",CHAR(10),GESTION_SEG_4_TRIM!K29),\" \")","v":"Trimestre 1\n\nTrimestre 2\n\nTrimestre 3\n\nTrimestre 4\n"}]
[null,null,null,null,null,null,null,null,null,null,null,null,null,null,null,{"$f":"IFERROR(MAX(GESTION_SEG_1_TRIM!H30,GESTION_SEG_2_TRIM!H30,GESTION_SEG_3_TRIM!H30,GESTION_SEG_4_TRIM!H30),\" \")","v":0},null,{"$f":"IFERROR(_xlfn.CONCAT(\"Trimestre 1\",CHAR(10),GESTION_SEG_1_TRIM!J30,CHAR(10),\"Trimestre 2\",CHAR(10),GESTION_SEG_2_TRIM!J30,CHAR(10),\"Trimestre 3\",CHAR(10),GESTION_SEG_3_TRIM!J30,CHAR(10),\"Trimestre 4\",CHAR(10),GESTION_SEG_4_TRIM!J30),\" \")","v":"Trimestre 1\n\nTrimestre 2\n\nTrimestre 3\n\nTrimestre 4\n"},{"$f":"IFERROR(_xlfn.CONCAT(\"Trimestre 1\",CHAR(10),GESTION_SEG_1_TRIM!K30,CHAR(10),\"Trimestre 2\",CHAR(10),GESTION_SEG_2_TRIM!K30,CHAR(10),\"Trimestre 3\",CHAR(10),GESTION_SEG_3_TRIM!K30,CHAR(10),\"Trimestre 4\",CHAR(10),GESTION_SEG_4_TRIM!K30),\" \")","v":"Trimestre 1\n\nTrimestre 2\n\nTrimestre 3\n\nTrimestre 4\n"}]
[null,null,null,null,null,null,null,null,null,null,null,null,null,null,null,{"$f":"IFERROR(MAX(GESTION_SEG_1_TRIM!H31,GESTION_SEG_2_TRIM!H31,GESTION_SEG_3_TRIM!H31,GESTION_SEG_4_TRIM!H31),\" \")","v":0},null,{"$f":"IFERROR(_xlfn.CONCAT(\"Trimestre 1\",CHAR(10),GESTION_SEG_1_TRIM!J31,CHAR(10),\"Trimestre 2\",CHAR(10),GESTION_SEG_2_TRIM!J31,CHAR(10),\"Trimestre 3\",CHAR(10),GESTION_SEG_3_TRIM!J31,CHAR(10),\"Trimestre 4\",CHAR(10),GESTION_SEG_4_TRIM!J31),\" \")","v":"Trimestre 1\n\nTrimestre 2\n\nTrimestre 3\n\nTrimestre 4\n"},{"$f":"IFERROR(_xlfn.CONCAT(\"Trimestre 1\",CHAR(10),GESTION_SEG_1_TRIM!K31,CHAR(10),\"Trimestre 2\",CHAR(10),GESTION_SEG_2_TRIM!K31,CHAR(10),\"Trimestre 3\",CHAR(10),GESTION_SEG_3_TRIM!K31,CHAR(10),\"Trimestre 4\",CHAR(10),GESTION_SEG_4_TRIM!K31),\" \")","v":"Trimestre 1\n\nTrimestre 2\n\nTrimestre 3\n\nTrimestre 4\n"}]
[null,null,null,null,null,null,null,null,null,null,null,null,null,null,null,{"$f":"IFERROR(MAX(GESTION_SEG_1_TRIM!H32,GESTION_SEG_2_TRIM!H32,GESTION_SEG_3_TRIM!H32,GESTION_SEG_4_TRIM!H32),\" \")","v":0},null,{"$f":"IFERROR(_xlfn.CONCAT(\"Trimestre 1\",CHAR(10),GESTION_SEG_1_TRIM!J32,CHAR(10),\"Trimestre 2\",CHAR(10),GESTION_SEG_2_TRIM!J32,CHAR(10),\"Trimestre 3\",CHAR(10),GESTION_SEG_3_TRIM!J32,CHAR(10),\"Trimestre 4\",CHAR(10),GESTION_SEG_4_TRIM!J32),\" \")","v":"Trimestre 1\n\nTrimestre 2\n\nTrimestre 3\n\nTrimestre 4\n"},{"$f":"IFERROR(_xlfn.CONCAT(\"Trimestre 1\",CHAR(10),GESTION_SEG_1_TRIM!K32,CHAR(10),\"Trimestre 2\",CHAR(10),GESTION_SEG_2_TRIM!K32,CHAR(10),\"Trimestre 3\",CHAR(10),GESTION_SEG_3_TRIM!K32,CHAR(10),\"Trimestre 4\",CHAR(10),GESTION_SEG_4_TRIM!K32),\" \")","v":"Trimestre 1\n\nTrimestre 2\n\nTrimestre 3\n\nTrimestre 4\n"}]
[null,null,null,null,null,null,null,null,null,null,null,null,null,null,null,{"$f":"IFERROR(MAX(GESTION_SEG_1_TRIM!H33,GESTION_SEG_2_TRIM!H33,GESTION_SEG_3_TRIM!H33,GESTION_SEG_4_TRIM!H33),\" \")","v":0},"",{"$f":"IFERROR(_xlfn.CONCAT(\"Trimestre 1\",CHAR(10),GESTION_SEG_1_TRIM!J33,CHAR(10),\"Trimestre 2\",CHAR(10),GESTION_SEG_2_TRIM!J33,CHAR(10),\"Trimestre 3\",CHAR(10),GESTION_SEG_3_TRIM!J33,CHAR(10),\"Trimestre 4\",CHAR(10),GESTION_SEG_4_TRIM!J33),\" \")","v":"Trimestre 1\n\nTrimestre 2\n\nTrimestre 3\n\nTrimestre 4\n"},{"$f":"IFERROR(_xlfn.CONCAT(\"Trimestre 1\",CHAR(10),GESTION_SEG_1_TRIM!K33,CHAR(10),\"Trimestre 2\",CHAR(10),GESTION_SEG_2_TRIM!K33,CHAR(10),\"Trimestre 3\",CHAR(10),GESTION_SEG_3_TRIM!K33,CHAR(10),\"Trimestre 4\",CHAR(10),GESTION_SEG_4_TRIM!K33),\" \")","v":"Trimestre 1\n\nTrimestre 2\n\nTrimestre 3\n\nTrimestre 4\n"}]
[null,null,null,null,null,null,null,null,null,null,null,null,null,null,null,{"$f":"IFERROR(MAX(GESTION_SEG_1_TRIM!H34,GESTION_SEG_2_TRIM!H34,GESTION_SEG_3_TRIM!H34,GESTION_SEG_4_TRIM!H34),\" \")","v":0},"",{"$f":"IFERROR(_xlfn.CONCAT(\"Trimestre 1\",CHAR(10),GESTION_SEG_1_TRIM!J34,CHAR(10),\"Trimestre 2\",CHAR(10),GESTION_SEG_2_TRIM!J34,CHAR(10),\"Trimestre 3\",CHAR(10),GESTION_SEG_3_TRIM!J34,CHAR(10),\"Trimestre 4\",CHAR(10),GESTION_SEG_4_TRIM!J34),\" \")","v":"Trimestre 1\n\nTrimestre 2\n\nTrimestre 3\n\nTrimestre 4\n"},{"$f":"IFERROR(_xlfn.CONCAT(\"Trimestre 1\",CHAR(10),GESTION_SEG_1_TRIM!K34,CHAR(10),\"Trimestre 2\",CHAR(10),GESTION_SEG_2_TRIM!K34,CHAR(10),\"Trimestre 3\",CHAR(10),GESTION_SEG_3_TRIM!K34,CHAR(10),\"Trimestre 4\",CHAR(10),GESTION_SEG_4_TRIM!K34),\" \")","v":"Trimestre 1\n\nTrimestre 2\n\nTrimestre 3\n\nTrimestre 4\n"}]
[null,null,null,null,null,null,null,null,null,null,null,null,null,null,null,{"$f":"IFERROR(MAX(GESTION_SEG_1_TRIM!H35,GESTION_SEG_2_TRIM!H35,GESTION_SEG_3_TRIM!H35,GESTION_SEG_4_TRIM!H35),\" \")","v":0},"",{"$f":"IFERROR(_xlfn.CONCAT(\"Trimestre 1\",CHAR(10),GESTION_SEG_1_TRIM!J35,CHAR(10),\"Trimestre 2\",CHAR(10),GESTION_SEG_2_TRIM!J35,CHAR(10),\"Trimestre 3\",CHAR(10),GESTION_SEG_3_TRIM!J35,CHAR(10),\"Trimestre 4\",CHAR(10),GESTION_SEG_4_TRIM!J35),\" \")","v":"Trimestre 1\n\nTrimestre 2\n\nTrimestre 3\n\nTrimestre 4\n"},{"$f":"IFERROR(_xlfn.CONCAT(\"Trimestre 1\",CHAR(10),GESTION_SEG_1_TRIM!K35,CHAR(10),\"Trimestre 2\",CHAR(10),GESTION_SEG_2_TRIM!K35,CHAR(10),\"Trimestre 3\",CHAR(10),GESTION_SEG_3_TRIM!K35,CHAR(10),\"Trimestre 4\",CHAR(10),GESTION_SEG_4_TRIM!K35),\" \")","v":"Trimestre 1\n\nTrimestre 2\n\nTrimestre 3\n\nTrimestre 4\n"}]
[null,null,"4. Avanzar en la disposición de una infraestructura óptima para el acceso a la justicia en la Rama Judicial de modo que se fortalezca la presencia territorial, teniendo en cuenta las posibilidades que ofrece la transformación digital y las necesidades que se derivan de ella, y considerando tanto las necesidades de los usuarios como las de los servidores judiciales.","4. Hacer un uso racional de los recursos naturales aplicando los principios y fases de la Economía Circular, para prevenir, mitigar y controlar los impactos ambientales",null,null,null,null,null,null,null,null,null,null,null,{"$f":"IFERROR(MAX(GESTION_SEG_1_TRIM!H36,GESTION_SEG_2_TRIM!H36,GESTION_SEG_3_TRIM!H36,GESTION_SEG_4_TRIM!H36),\" \")","v":0},"",{"$f":"IFERROR(_xlfn.CONCAT(\"Trimestre 1\",CHAR(10),GESTION_SEG_1_TRIM!J36,CHAR(10),\"Trimestre 2\",CHAR(10),GESTION_SEG_2_TRIM!J36,CHAR(10),\"Trimestre 3\",CHAR(10),GESTION_SEG_3_TRIM!J36,CHAR(10),\"Trimestre 4\",CHAR(10),GESTION_SEG_4_TRIM!J36),\" \")","v":"Trimestre 1\n\nTrimestre 2\n\nTrimestre 3\n\nTrimestre 4\n"},{"$f":"IFERROR(_xlfn.CONCAT(\"Trimestre 1\",CHAR(10),GESTION_SEG_1_TRIM!K36,CHAR(10),\"Trimestre 2\",CHAR(10),GESTION_SEG_2_TRIM!K36,CHAR(10),\"Trimestre 3\",CHAR(10),GESTION_SEG_3_TRIM!K36,CHAR(10),\"Trimestre 4\",CHAR(10),GESTION_SEG_4_TRIM!K36),\" \")","v":"Trimestre 1\n\nTrimestre 2\n\nTrimestre 3\n\nTrimestre 4\n"}]
[null,null,null,null,null,null,null,null,null,null,null,null,null,null,null,{"$f":"IFERROR(MAX(GESTION_SEG_1_TRIM!H37,GESTION_SEG_2_TRIM!H37,GESTION_SEG_3_TRIM!H37,GESTION_SEG_4_TRIM!H37),\" \")","v":0},"",{"$f":"IFERROR(_xlfn.CONCAT(\"Trimestre 1\",CHAR(10),GESTION_SEG_1_TRIM!J37,CHAR(10),\"Trimestre 2\",CHAR(10),GESTION_SEG_2_TRIM!J37,CHAR(10),\"Trimestre 3\",CHAR(10),GESTION_SEG_3_TRIM!J37,CHAR(10),\"Trimestre 4\",CHAR(10),GESTION_SEG_4_TRIM!J37),\" \")","v":"Trimestre 1\n\nTrimestre 2\n\nTrimestre 3\n\nTrimestre 4\n"},{"$f":"IFERROR(_xlfn.CONCAT(\"Trimestre 1\",CHAR(10),GESTION_SEG_1_TRIM!K37,CHAR(10),\"Trimestre 2\",CHAR(10),GESTION_SEG_2_TRIM!K37,CHAR(10),\"Trimestre 3\",CHAR(10),GESTION_SEG_3_TRIM!K37,CHAR(10),\"Trimestre 4\",CHAR(10),GESTION_SEG_4_TRIM!K37),\" \")","v":"Trimestre 1\n\nTrimestre 2\n\nTrimestre 3\n\nTrimestre 4\n"}]
[null,null,null,null,null,null,null,null,null,null,null,null,null,null,null,{"$f":"IFERROR(MAX(GESTION_SEG_1_TRIM!H38,GESTION_SEG_2_TRIM!H38,GESTION_SEG_3_TRIM!H38,GESTION_SEG_4_TRIM!H38),\" \")","v":0},"",{"$f":"IFERROR(_xlfn.CONCAT(\"Trimestre 1\",CHAR(10),GESTION_SEG_1_TRIM!J38,CHAR(10),\"Trimestre 2\",CHAR(10),GESTION_SEG_2_TRIM!J38,CHAR(10),\"Trimestre 3\",CHAR(10),GESTION_SEG_3_TRIM!J38,CHAR(10),\"Trimestre 4\",CHAR(10),GESTION_SEG_4_TRIM!J38),\" \")","v":"Trimestre 1\n\nTrimestre 2\n\nTrimestre 3\n\nTrimestre 4\n"},{"$f":"IFERROR(_xlfn.CONCAT(\"Trimestre 1\",CHAR(10),GESTION_SEG_1_TRIM!K38,CHAR(10),\"Trimestre 2\",CHAR(10),GESTION_SEG_2_TRIM!K38,CHAR(10),\"Trimestre 3\",CHAR(10),GESTION_SEG_3_TRIM!K38,CHAR(10),\"Trimestre 4\",CHAR(10),GESTION_SEG_4_TRIM!K38),\" \")","v":"Trimestre 1\n\nTrimestre 2\n\nTrimestre 3\n\nTrimestre 4\n"}]
[null,null,null,null,null,null,null,null,null,null,null,null,null,null,null,{"$f":"IFERROR(MAX(GESTION_SEG_1_TRIM!H39,GESTION_SEG_2_TRIM!H39,GESTION_SEG_3_TRIM!H39,GESTION_SEG_4_TRIM!H39),\" \")","v":0},null,{"$f":"IFERROR(_xlfn.CONCAT(\"Trimestre 1\",CHAR(10),GESTION_SEG_1_TRIM!J39,CHAR(10),\"Trimestre 2\",CHAR(10),GESTION_SEG_2_TRIM!J39,CHAR(10),\"Trimestre 3\",CHAR(10),GESTION_SEG_3_TRIM!J39,CHAR(10),\"Trimestre 4\",CHAR(10),GESTION_SEG_4_TRIM!J39),\" \")","v":"Trimestre 1\n\nTrimestre 2\n\nTrimestre 3\n\nTrimestre 4\n"},{"$f":"IFERROR(_xlfn.CONCAT(\"Trimestre 1\",CHAR(10),GESTION_SEG_1_TRIM!K39,CHAR(10),\"Trimestre 2\",CHAR(10),GESTION_SEG_2_TRIM!K39,CHAR(10),\"Trimestre 3\",CHAR(10),GESTION_SEG_3_TRIM!K39,CHAR(10),\"Trimestre 4\",CHAR(10),GESTION_SEG_4_TRIM!K39),\" \")","v":"Trimestre 1\n\nTrimestre 2\n\nTrimestre 3\n\nTrimestre 4\n"}]
[null,null,null,null,null,null,null,null,null,null,null,null,null,null,null,{"$f":"IFERROR(MAX(GESTION_SEG_1_TRIM!H40,GESTION_SEG_2_TRIM!H40,GESTION_SEG_3_TRIM!H40,GESTION_SEG_4_TRIM!H40),\" \")","v":0},null,{"$f":"IFERROR(_xlfn.CONCAT(\"Trimestre 1\",CHAR(10),GESTION_SEG_1_TRIM!J40,CHAR(10),\"Trimestre 2\",CHAR(10),GESTION_SEG_2_TRIM!J40,CHAR(10),\"Trimestre 3\",CHAR(10),GESTION_SEG_3_TRIM!J40,CHAR(10),\"Trimestre 4\",CHAR(10),GESTION_SEG_4_TRIM!J40),\" \")","v":"Trimestre 1\n\nTrimestre 2\n\nTrimestre 3\n\nTrimestre 4\n"},{"$f":"IFERROR(_xlfn.CONCAT(\"Trimestre 1\",CHAR(10),GESTION_SEG_1_TRIM!K40,CHAR(10),\"Trimestre 2\",CHAR(10),GESTION_SEG_2_TRIM!K40,CHAR(10),\"Trimestre 3\",CHAR(10),GESTION_SEG_3_TRIM!K40,CHAR(10),\"Trimestre 4\",CHAR(10),GESTION_SEG_4_TRIM!K40),\" \")","v":"Trimestre 1\n\nTrimestre 2\n\nTrimestre 3\n\nTrimestre 4\n"}]
[null,null,null,null,null,null,null,null,null,null,null,null,null,null,null,{"$f":"IFERROR(MAX(GESTION_SEG_1_TRIM!H41,GESTION_SEG_2_TRIM!H41,GESTION_SEG_3_TRIM!H41,GESTION_SEG_4_TRIM!H41),\" \")","v":0},null,{"$f":"IFERROR(_xlfn.CONCAT(\"Trimestre 1\",CHAR(10),GESTION_SEG_1_TRIM!J41,CHAR(10),\"Trimestre 2\",CHAR(10),GESTION_SEG_2_TRIM!J41,CHAR(10),\"Trimestre 3\",CHAR(10),GESTION_SEG_3_TRIM!J41,CHAR(10),\"Trimestre 4\",CHAR(10),GESTION_SEG_4_TRIM!J41),\" \")","v":"Trimestre 1\n\nTrimestre 2\n\nTrimestre 3\n\nTrimestre 4\n"},{"$f":"IFERROR(_xlfn.CONCAT(\"Trimestre 1\",CHAR(10),GESTION_SEG_1_TRIM!K41,CHAR(10),\"Trimestre 2\",CHAR(10),GESTION_SEG_2_TRIM!K41,CHAR(10),\"Trimestre 3\",CHAR(10),GESTION_SEG_3_TRIM!K41,CHAR(10),\"Trimestre 4\",CHAR(10),GESTION_SEG_4_TRIM!K41),\" \")","v":"Trimestre 1\n\nTrimestre 2\n\nTrimestre 3\n\nTrimestre 4\n"}]
[null,null,null,null,null,null,null,null,null,null,null,null,null,null,null,{"$f":"IFERROR(MAX(GESTION_SEG_1_TRIM!H42,GESTION_SEG_2_TRIM!H42,GESTION_SEG_3_TRIM!H42,GESTION_SEG_4_TRIM!H42),\" \")","v":0},null,{"$f":"IFERROR(_xlfn.CONCAT(\"Trimestre 1\",CHAR(10),GESTION_SEG_1_TRIM!J42,CHAR(10),\"Trimestre 2\",CHAR(10),GESTION_SEG_2_TRIM!J42,CHAR(10),\"Trimestre 3\",CHAR(10),GESTION_SEG_3_TRIM!J42,CHAR(10),\"Trimestre 4\",CHAR(10),GESTION_SEG_4_TRIM!J42),\" \")","v":"Trimestre 1\n\nTrimestre 2\n\nTrimestre 3\n\nTrimestre 4\n"},{"$f":"IFERROR(_xlfn.CONCAT(\"Trimestre 1\",CHAR(10),GESTION_SEG_1_TRIM!K42,CHAR(10),\"Trimestre 2\",CHAR(10),GESTION_SEG_2_TRIM!K42,CHAR(10),\"Trimestre 3\",CHAR(10),GESTION_SEG_3_TRIM!K42,CHAR(10),\"Trimestre 4\",CHAR(10),GESTION_SEG_4_TRIM!K42),\" \")","v":"Trimestre 1\n\nTrimestre 2\n\nTrimestre 3\n\nTrimestre 4\n"}]
[null,null,null,null,null,null,null,null,null,null,null,null,null,null,null,{"$f":"IFERROR(MAX(GESTION_SEG_1_TRIM!H43,GESTION_SEG_2_TRIM!H43,GESTION_SEG_3_TRIM!H43,GESTION_SEG_4_TRIM!H43),\" \")","v":0},null,{"$f":"IFERROR(_xlfn.CONCAT(\"Trimestre 1\",CHAR(10),GESTION_SEG_1_TRIM!J43,CHAR(10),\"Trimestre 2\",CHAR(10),GESTION_SEG_2_TRIM!J43,CHAR(10),\"Trimestre 3\",CHAR(10),GESTION_SEG_3_TRIM!J43,CHAR(10),\"Trimestre 4\",CHAR(10),GESTION_SEG_4_TRIM!J43),\" \")","v":"Trimestre 1\n\nTrimestre 2\n\nTrimestre 3\n\nTrimestre 4\n"},{"$f":"IFERROR(_xlfn.CONCAT(\"Trimestre 1\",CHAR(10),GESTION_SEG_1_TRIM!K43,CHAR(10),\"Trimestre 2\",CHAR(10),GESTION_SEG_2_TRIM!K43,CHAR(10),\"Trimestre 3\",CHAR(10),GESTION_SEG_3_TRIM!K43,CHAR(10),\"Trimestre 4\",CHAR(10),GESTION_SEG_4_TRIM!K43),\" \")","v":"Trimestre 1\n\nTrimestre 2\n\nTrimestre 3\n\nTrimestre 4\n"}]
[null,null,null,null,null,null,null,null,null,null,null,null,null,null,null,{"$f":"IFERROR(MAX(GESTION_SEG_1_TRIM!H44,GESTION_SEG_2_TRIM!H44,GESTION_SEG_3_TRIM!H44,GESTION_SEG_4_TRIM!H44),\" \")","v":0},"",{"$f":"IFERROR(_xlfn.CONCAT(\"Trimestre 1\",CHAR(10),GESTION_SEG_1_TRIM!J44,CHAR(10),\"Trimestre 2\",CHAR(10),GESTION_SEG_2_TRIM!J44,CHAR(10),\"Trimestre 3\",CHAR(10),GESTION_SEG_3_TRIM!J44,CHAR(10),\"Trimestre 4\",CHAR(10),GESTION_SEG_4_TRIM!J44),\" \")","v":"Trimestre 1\n\nTrimestre 2\n\nTrimestre 3\n\nTrimestre 4\n"},{"$f":"IFERROR(_xlfn.CONCAT(\"Trimestre 1\",CHAR(10),GESTION_SEG_1_TRIM!K44,CHAR(10),\"Trimestre 2\",CHAR(10),GESTION_SEG_2_TRIM!K44,CHAR(10),\"Trimestre 3\",CHAR(10),GESTION_SEG_3_TRIM!K44,CHAR(10),\"Trimestre 4\",CHAR(10),GESTION_SEG_4_TRIM!K44),\" \")","v":"Trimestre 1\n\nTrimestre 2\n\nTrimestre 3\n\nTrimestre 4\n"}]
[null,null,null,null,null,null,null,null,null,null,null,null,null,null,null,{"$f":"IFERROR(MAX(GESTION_SEG_1_TRIM!H45,GESTION_SEG_2_TRIM!H45,GESTION_SEG_3_TRIM!H45,GESTION_SEG_4_TRIM!H45),\" \")","v":0},"",{"$f":"IFERROR(_xlfn.CONCAT(\"Trimestre 1\",CHAR(10),GESTION_SEG_1_TRIM!J45,CHAR(10),\"Trimestre 2\",CHAR(10),GESTION_SEG_2_TRIM!J45,CHAR(10),\"Trimestre 3\",CHAR(10),GESTION_SEG_3_TRIM!J45,CHAR(10),\"Trimestre 4\",CHAR(10),GESTION_SEG_4_TRIM!J45),\" \")","v":"Trimestre 1\n\nTrimestre 2\n\nTrimestre 3\n\nTrimestre 4\n"},{"$f":"IFERROR(_xlfn.CONCAT(\"Trimestre 1\",CHAR(10),GESTION_SEG_1_TRIM!K45,CHAR(10),\"Trimestre 2\",CHAR(10),GESTION_SEG_2_TRIM!K45,CHAR(10),\"Trimestre 3\",CHAR(10),GESTION_SEG_3_TRIM!K45,CHAR(10),\"Trimestre 4\",CHAR(10),GESTION_SEG_4_TRIM!K45),\" \")","v":"Trimestre 1\n\nTrimestre 2\n\nTrimestre 3\n\nTrimestre 4\n"}]
[null,null,"5. Impulsar el uso de mecanismos alternativos para la solución de conflictos y la ampliación de la justicia restaurativa y terapéutica y el robustecimiento de las alternativas al encarcelamiento","2. Asegurar  el cumplimiento de los objetivos institucionales, la normatividad aplicable,  la mejora del SIGCMA y la satisfacción de los usuarios, revisando de  forma continua y sistemática la planificación de la gestión y fortaleciendo la administración de riesgos y sus controles",null,null,null,null,null,null,null,null,null,null,null,{"$f":"IFERROR(MAX(GESTION_SEG_1_TRIM!H46,GESTION_SEG_2_TRIM!H46,GESTION_SEG_3_TRIM!H46,GESTION_SEG_4_TRIM!H46),\" \")","v":0},"",{"$f":"IFERROR(_xlfn.CONCAT(\"Trimestre 1\",CHAR(10),GESTION_SEG_1_TRIM!J46,CHAR(10),\"Trimestre 2\",CHAR(10),GESTION_SEG_2_TRIM!J46,CHAR(10),\"Trimestre 3\",CHAR(10),GESTION_SEG_3_TRIM!J46,CHAR(10),\"Trimestre 4\",CHAR(10),GESTION_SEG_4_TRIM!J46),\" \")","v":"Trimestre 1\n\nTrimestre 2\n\nTrimestre 3\n\nTrimestre 4\n"},{"$f":"IFERROR(_xlfn.CONCAT(\"Trimestre 1\",CHAR(10),GESTION_SEG_1_TRIM!K46,CHAR(10),\"Trimestre 2\",CHAR(10),GESTION_SEG_2_TRIM!K46,CHAR(10),\"Trimestre 3\",CHAR(10),GESTION_SEG_3_TRIM!K46,CHAR(10),\"Trimestre 4\",CHAR(10),GESTION_SEG_4_TRIM!K46),\" \")","v":"Trimestre 1\n\nTrimestre 2\n\nTrimestre 3\n\nTrimestre 4\n"}]
[null,null,null,null,null,null,null,null,null,null,null,null,null,null,null,{"$f":"IFERROR(MAX(GESTION_SEG_1_TRIM!H47,GESTION_SEG_2_TRIM!H47,GESTION_SEG_3_TRIM!H47,GESTION_SEG_4_TRIM!H47),\" \")","v":0},"",{"$f":"IFERROR(_xlfn.CONCAT(\"Trimestre 1\",CHAR(10),GESTION_SEG_1_TRIM!J47,CHAR(10),\"Trimestre 2\",CHAR(10),GESTION_SEG_2_TRIM!J47,CHAR(10),\"Trimestre 3\",CHAR(10),GESTION_SEG_3_TRIM!J47,CHAR(10),\"Trimestre 4\",CHAR(10),GESTION_SEG_4_TRIM!J47),\" \")","v":"Trimestre 1\n\nTrimestre 2\n\nTrimestre 3\n\nTrimestre 4\n"},{"$f":"IFERROR(_xlfn.CONCAT(\"Trimestre 1\",CHAR(10),GESTION_SEG_1_TRIM!K47,CHAR(10),\"Trimestre 2\",CHAR(10),GESTION_SEG_2_TRIM!K47,CHAR(10),\"Trimestre 3\",CHAR(10),GESTION_SEG_3_TRIM!K47,CHAR(10),\"Trimestre 4\",CHAR(10),GESTION_SEG_4_TRIM!K47),\" \")","v":"Trimestre 1\n\nTrimestre 2\n\nTrimestre 3\n\nTrimestre 4\n"}]
[null,null,null,null,null,null,null,null,null,null,null,null,null,null,null,{"$f":"IFERROR(MAX(GESTION_SEG_1_TRIM!H48,GESTION_SEG_2_TRIM!H48,GESTION_SEG_3_TRIM!H48,GESTION_SEG_4_TRIM!H48),\" \")","v":0},null,{"$f":"IFERROR(_xlfn.CONCAT(\"Trimestre 1\",CHAR(10),GESTION_SEG_1_TRIM!J48,CHAR(10),\"Trimestre 2\",CHAR(10),GESTION_SEG_2_TRIM!J48,CHAR(10),\"Trimestre 3\",CHAR(10),GESTION_SEG_3_TRIM!J48,CHAR(10),\"Trimestre 4\",CHAR(10),GESTION_SEG_4_TRIM!J48),\" \")","v":"Trimestre 1\n\nTrimestre 2\n\nTrimestre 3\n\nTrimestre 4\n"},{"$f":"IFERROR(_xlfn.CONCAT(\"Trimestre 1\",CHAR(10),GESTION_SEG_1_TRIM!K48,CHAR(10),\"Trimestre 2\",CHAR(10),GESTION_SEG_2_TRIM!K48,CHAR(10),\"Trimestre 3\",CHAR(10),GESTION_SEG_3_TRIM!K48,CHAR(10),\"Trimestre 4\",CHAR(10),GESTION_SEG_4_TRIM!K48),\" \")","v":"Trimestre 1\n\nTrimestre 2\n\nTrimestre 3\n\nTrimestre 4\n"}]
[null,null,null,null,null,null,null,null,null,null,null,null,null,null,null,{"$f":"IFERROR(MAX(GESTION_SEG_1_TRIM!H49,GESTION_SEG_2_TRIM!H49,GESTION_SEG_3_TRIM!H49,GESTION_SEG_4_TRIM!H49),\" \")","v":0},null,{"$f":"IFERROR(_xlfn.CONCAT(\"Trimestre 1\",CHAR(10),GESTION_SEG_1_TRIM!J49,CHAR(10),\"Trimestre 2\",CHAR(10),GESTION_SEG_2_TRIM!J49,CHAR(10),\"Trimestre 3\",CHAR(10),GESTION_SEG_3_TRIM!J49,CHAR(10),\"Trimestre 4\",CHAR(10),GESTION_SEG_4_TRIM!J49),\" \")","v":"Trimestre 1\n\nTrimestre 2\n\nTrimestre 3\n\nTrimestre 4\n"},{"$f":"IFERROR(_xlfn.CONCAT(\"Trimestre 1\",CHAR(10),GESTION_SEG_1_TRIM!K49,CHAR(10),\"Trimestre 2\",CHAR(10),GESTION_SEG_2_TRIM!K49,CHAR(10),\"Trimestre 3\",CHAR(10),GESTION_SEG_3_TRIM!K49,CHAR(10),\"Trimestre 4\",CHAR(10),GESTION_SEG_4_TRIM!K49),\" \")","v":"Trimestre 1\n\nTrimestre 2\n\nTrimestre 3\n\nTrimestre 4\n"}]
[null,null,null,null,null,null,null,null,null,null,null,null,null,null,null,{"$f":"IFERROR(MAX(GESTION_SEG_1_TRIM!H50,GESTION_SEG_2_TRIM!H50,GESTION_SEG_3_TRIM!H50,GESTION_SEG_4_TRIM!H50),\" \")","v":0},null,{"$f":"IFERROR(_xlfn.CONCAT(\"Trimestre 1\",CHAR(10),GESTION_SEG_1_TRIM!J50,CHAR(10),\"Trimestre 2\",CHAR(10),GESTION_SEG_2_TRIM!J50,CHAR(10),\"Trimestre 3\",CHAR(10),GESTION_SEG_3_TRIM!J50,CHAR(10),\"Trimestre 4\",CHAR(10),GESTION_SEG_4_TRIM!J50),\" \")","v":"Trimestre 1\n\nTrimestre 2\n\nTrimestre 3\n\nTrimestre 4\n"},{"$f":"IFERROR(_xlfn.CONCAT(\"Trimestre 1\",CHAR(10),GESTION_SEG_1_TRIM!K50,CHAR(10),\"Trimestre 2\",CHAR(10),GESTION_SEG_2_TRIM!K50,CHAR(10),\"Trimestre 3\",CHAR(10),GESTION_SEG_3_TRIM!K50,CHAR(10),\"Trimestre 4\",CHAR(10),GESTION_SEG_4_TRIM!K50),\" \")","v":"Trimestre 1\n\nTrimestre 2\n\nTrimestre 3\n\nTrimestre 4\n"}]
[null,null,null,null,null,null,null,null,null,null,null,null,null,null,null,{"$f":"IFERROR(MAX(GESTION_SEG_1_TRIM!H51,GESTION_SEG_2_TRIM!H51,GESTION_SEG_3_TRIM!H51,GESTION_SEG_4_TRIM!H51),\" \")","v":0},null,{"$f":"IFERROR(_xlfn.CONCAT(\"Trimestre 1\",CHAR(10),GESTION_SEG_1_TRIM!J51,CHAR(10),\"Trimestre 2\",CHAR(10),GESTION_SEG_2_TRIM!J51,CHAR(10),\"Trimestre 3\",CHAR(10),GESTION_SEG_3_TRIM!J51,CHAR(10),\"Trimestre 4\",CHAR(10),GESTION_SEG_4_TRIM!J51),\" \")","v":"Trimestre 1\n\nTrimestre 2\n\nTrimestre 3\n\nTrimestre 4\n"},{"$f":"IFERROR(_xlfn.CONCAT(\"Trimestre 1\",CHAR(10),GESTION_SEG_1_TRIM!K51,CHAR(10),\"Trimestre 2\",CHAR(10),GESTION_SEG_2_TRIM!K51,CHAR(10),\"Trimestre 3\",CHAR(10),GESTION_SEG_3_TRIM!K51,CHAR(10),\"Trimestre 4\",CHAR(10),GESTION_SEG_4_TRIM!K51),\" \")","v":"Trimestre 1\n\nTrimestre 2\n\nTrimestre 3\n\nTrimestre 4\n"}]
[null,null,null,null,null,null,null,null,null,null,null,null,null,null,null,{"$f":"IFERROR(MAX(GESTION_SEG_1_TRIM!H52,GESTION_SEG_2_TRIM!H52,GESTION_SEG_3_TRIM!H52,GESTION_SEG_4_TRIM!H52),\" \")","v":0},null,{"$f":"IFERROR(_xlfn.CONCAT(\"Trimestre 1\",CHAR(10),GESTION_SEG_1_TRIM!J52,CHAR(10),\"Trimestre 2\",CHAR(10),GESTION_SEG_2_TRIM!J52,CHAR(10),\"Trimestre 3\",CHAR(10),GESTION_SEG_3_TRIM!J52,CHAR(10),\"Trimestre 4\",CHAR(10),GESTION_SEG_4_TRIM!J52),\" \")","v":"Trimestre 1\n\nTrimestre 2\n\nTrimestre 3\n\nTrimestre 4\n"},{"$f":"IFERROR(_xlfn.CONCAT(\"Trimestre 1\",CHAR(10),GESTION_SEG_1_TRIM!K52,CHAR(10),\"Trimestre 2\",CHAR(10),GESTION_SEG_2_TRIM!K52,CHAR(10),\"Trimestre 3\",CHAR(10),GESTION_SEG_3_TRIM!K52,CHAR(10),\"Trimestre 4\",CHAR(10),GESTION_SEG_4_TRIM!K52),\" \")","v":"Trimestre 1\n\nTrimestre 2\n\nTrimestre 3\n\nTrimestre 4\n"}]
[null,null,null,null,null,null,null,null,null,null,null,null,null,null,null,{"$f":"IFERROR(MAX(GESTION_SEG_1_TRIM!H53,GESTION_SEG_2_TRIM!H53,GESTION_SEG_3_TRIM!H53,GESTION_SEG_4_TRIM!H53),\" \")","v":0},"",{"$f":"IFERROR(_xlfn.CONCAT(\"Trimestre 1\",CHAR(10),GESTION_SEG_1_TRIM!J53,CHAR(10),\"Trimestre 2\",CHAR(10),GESTION_SEG_2_TRIM!J53,CHAR(10),\"Trimestre 3\",CHAR(10),GESTION_SEG_3_TRIM!J53,CHAR(10),\"Trimestre 4\",CHAR(10),GESTION_SEG_4_TRIM!J53),\" \")","v":"Trimestre 1\n\nTrimestre 2\n\nTrimestre 3\n\nTrimestre 4\n"},{"$f":"IFERROR(_xlfn.CONCAT(\"Trimestre 1\",CHAR(10),GESTION_SEG_1_TRIM!K53,CHAR(10),\"Trimestre 2\",CHAR(10),GESTION_SEG_2_TRIM!K53,CHAR(10),\"Trimestre 3\",CHAR(10),GESTION_SEG_3_TRIM!K53,CHAR(10),\"Trimestre 4\",CHAR(10),GESTION_SEG_4_TRIM!K53),\" \")","v":"Trimestre 1\n\nTrimestre 2\n\nTrimestre 3\n\nTrimestre 4\n"}]
[null,null,null,null,null,null,null,null,null,null,null,null,null,null,null,{"$f":"IFERROR(MAX(GESTION_SEG_1_TRIM!H54,GESTION_SEG_2_TRIM!H54,GESTION_SEG_3_TRIM!H54,GESTION_SEG_4_TRIM!H54),\" \")","v":0},"",{"$f":"IFERROR(_xlfn.CONCAT(\"Trimestre 1\",CHAR(10),GESTION_SEG_1_TRIM!J54,CHAR(10),\"Trimestre 2\",CHAR(10),GESTION_SEG_2_TRIM!J54,CHAR(10),\"Trimestre 3\",CHAR(10),GESTION_SEG_3_TRIM!J54,CHAR(10),\"Trimestre 4\",CHAR(10),GESTION_SEG_4_TRIM!J54),\" \")","v":"Trimestre 1\n\nTrimestre 2\n\nTrimestre 3\n\nTrimestre 4\n"},{"$f":"IFERROR(_xlfn.CONCAT(\"Trimestre 1\",CHAR(10),GESTION_SEG_1_TRIM!K54,CHAR(10),\"Trimestre 2\",CHAR(10),GESTION_SEG_2_TRIM!K54,CHAR(10),\"Trimestre 3\",CHAR(10),GESTION_SEG_3_TRIM!K54,CHAR(10),\"Trimestre 4\",CHAR(10),GESTION_SEG_4_TRIM!K54),\" \")","v":"Trimestre 1\n\nTrimestre 2\n\nTrimestre 3\n\nTrimestre 4\n"}]
[null,null,null,null,null,null,null,null,null,null,null,null,null,null,null,{"$f":"IFERROR(MAX(GESTION_SEG_1_TRIM!H55,GESTION_SEG_2_TRIM!H55,GESTION_SEG_3_TRIM!H55,GESTION_SEG_4_TRIM!H55),\" \")","v":0},"",{"$f":"IFERROR(_xlfn.CONCAT(\"Trimestre 1\",CHAR(10),GESTION_SEG_1_TRIM!J55,CHAR(10),\"Trimestre 2\",CHAR(10),GESTION_SEG_2_TRIM!J55,CHAR(10),\"Trimestre 3\",CHAR(10),GESTION_SEG_3_TRIM!J55,CHAR(10),\"Trimestre 4\",CHAR(10),GESTION_SEG_4_TRIM!J55),\" \")","v":"Trimestre 1\n\nTrimestre 2\n\nTrimestre 3\n\nTrimestre 4\n"},{"$f":"IFERROR(_xlfn.CONCAT(\"Trimestre 1\",CHAR(10),GESTION_SEG_1_TRIM!K55,CHAR(10),\"Trimestre 2\",CHAR(10),GESTION_SEG_2_TRIM!K55,CHAR(10),\"Trimestre 3\",CHAR(10),GESTION_SEG_3_TRIM!K55,CHAR(10),\"Trimestre 4\",CHAR(10),GESTION_SEG_4_TRIM!K55),\" \")","v":"Trimestre 1\n\nTrimestre 2\n\nTrimestre 3\n\nTrimestre 4\n"}]
["2. Servicios digitales y de tecnología, innovación y análisis de la información.","Servicios digitales y de tecnología, innovación y análisis de la información: Consolidar una justicia integrada y soportada en servicios digitales y de tecnología, innovación y análisis de la información, con una cultura digital apropiada, segura y sensible a las realidades del territorio nacional. ","1. Ampliar el acceso a la justicia a través de la consolidación del uso de los servicios digitales que conforman el sistema único integrado de gestión judicial en todos los despachos judiciales y dependencias de apoyo y, específicamente, incluyendo el despliegue e implementación del Expediente Judicial Electrónico en todas las jurisdicciones y especialidades.","6. Proteger, preservar y administrar los activos de información  implementando acciones  para gestionar de forma adecuada los incidentes, proteger los datos personales y adoptar mecanismos  de ciberseguridad y aseguramiento de la  continuidad del negocio.",null,null,null,null,null,null,null,null,null,null,null,{"$f":"IFERROR(MAX(GESTION_SEG_1_TRIM!H56,GESTION_SEG_2_TRIM!H56,GESTION_SEG_3_TRIM!H56,GESTION_SEG_4_TRIM!H56),\" \")","v":0},"",{"$f":"IFERROR(_xlfn.CONCAT(\"Trimestre 1\",CHAR(10),GESTION_SEG_1_TRIM!J56,CHAR(10),\"Trimestre 2\",CHAR(10),GESTION_SEG_2_TRIM!J56,CHAR(10),\"Trimestre 3\",CHAR(10),GESTION_SEG_3_TRIM!J56,CHAR(10),\"Trimestre 4\",CHAR(10),GESTION_SEG_4_TRIM!J56),\" \")","v":"Trimestre 1\n\nTrimestre 2\n\nTrimestre 3\n\nTrimestre 4\n"},{"$f":"IFERROR(_xlfn.CONCAT(\"Trimestre 1\",CHAR(10),GESTION_SEG_1_TRIM!K56,CHAR(10),\"Trimestre 2\",CHAR(10),GESTION_SEG_2_TRIM!K56,CHAR(10),\"Trimestre 3\",CHAR(10),GESTION_SEG_3_TRIM!K56,CHAR(10),\"Trimestre 4\",CHAR(10),GESTION_SEG_4_TRIM!K56),\" \")","v":"Trimestre 1\n\nTrimestre 2\n\nTrimestre 3\n\nTrimestre 4\n"}]
[null,null,null,null,null,null,null,null,null,null,null,null,null,null,null,{"$f":"IFERROR(MAX(GESTION_SEG_1_TRIM!H57,GESTION_SEG_2_TRIM!H57,GESTION_SEG_3_TRIM!H57,GESTION_SEG_4_TRIM!H57),\" \")","v":0},"",{"$f":"IFERROR(_xlfn.CONCAT(\"Trimestre 1\",CHAR(10),GESTION_SEG_1_TRIM!J57,CHAR(10),\"Trimestre 2\",CHAR(10),GESTION_SEG_2_TRIM!J57,CHAR(10),\"Trimestre 3\",CHAR(10),GESTION_SEG_3_TRIM!J57,CHAR(10),\"Trimestre 4\",CHAR(10),GESTION_SEG_4_TRIM!J57),\" \")","v":"Trimestre 1\n\nTrimestre 2\n\nTrimestre 3\n\nTrimestre 4\n"},{"$f":"IFERROR(_xlfn.CONCAT(\"Trimestre 1\",CHAR(10),GESTION_SEG_1_TRIM!K57,CHAR(10),\"Trimestre 2\",CHAR(10),GESTION_SEG_2_TRIM!K57,CHAR(10),\"Trimestre 3\",CHAR(10),GESTION_SEG_3_TRIM!K57,CHAR(10),\"Trimestre 4\",CHAR(10),GESTION_SEG_4_TRIM!K57),\" \")","v":"Trimestre 1\n\nTrimestre 2\n\nTrimestre 3\n\nTrimestre 4\n"}]
[null,null,null,null,null,null,null,null,null,null,null,null,null,null,null,{"$f":"IFERROR(MAX(GESTION_SEG_1_TRIM!H58,GESTION_SEG_2_TRIM!H58,GESTION_SEG_3_TRIM!H58,GESTION_SEG_4_TRIM!H58),\" \")","v":0},"",{"$f":"IFERROR(_xlfn.CONCAT(\"Trimestre 1\",CHAR(10),GESTION_SEG_1_TRIM!J58,CHAR(10),\"Trimestre 2\",CHAR(10),GESTION_SEG_2_TRIM!J58,CHAR(10),\"Trimestre 3\",CHAR(10),GESTION_SEG_3_TRIM!J58,CHAR(10),\"Trimestre 4\",CHAR(10),GESTION_SEG_4_TRIM!J58),\" \")","v":"Trimestre 1\n\nTrimestre 2\n\nTrimestre 3\n\nTrimestre 4\n"},{"$f":"IFERROR(_xlfn.CONCAT(\"Trimestre 1\",CHAR(10),GESTION_SEG_1_TRIM!K58,CHAR(10),\"Trimestre 2\",CHAR(10),GESTION_SEG_2_TRIM!K58,CHAR(10),\"Trimestre 3\",CHAR(10),GESTION_SEG_3_TRIM!K58,CHAR(10),\"Trimestre 4\",CHAR(10),GESTION_SEG_4_TRIM!K58),\" \")","v":"Trimestre 1\n\nTrimestre 2\n\nTrimestre 3\n\nTrimestre 4\n"}]
[null,null,null,null,null,null,null,null,null,null,null,null,null,null,null,{"$f":"IFERROR(MAX(GESTION_SEG_1_TRIM!H59,GESTION_SEG_2_TRIM!H59,GESTION_SEG_3_TRIM!H59,GESTION_SEG_4_TRIM!H59),\" \")","v":0},null,{"$f":"IFERROR(_xlfn.CONCAT(\"Trimestre 1\",CHAR(10),GESTION_SEG_1_TRIM!J59,CHAR(10),\"Trimestre 2\",CHAR(10),GESTION_SEG_2_TRIM!J59,CHAR(10),\"Trimestre 3\",CHAR(10),GESTION_SEG_3_TRIM!J59,CHAR(10),\"Trimestre 4\",CHAR(10),GESTION_SEG_4_TRIM!J59),\" \")","v":"Trimestre 1\n\nTrimestre 2\n\nTrimestre 3\n\nTrimestre 4\n"},{"$f":"IFERROR(_xlfn.CONCAT(\"Trimestre 1\",CHAR(10),GESTION_SEG_1_TRIM!K59,CHAR(10),\"Trimestre 2\",CHAR(10),GESTION_SEG_2_TRIM!K59,CHAR(10),\"Trimestre 3\",CHAR(10),GESTION_SEG_3_TRIM!K59,CHAR(10),\"Trimestre 4\",CHAR(10),GESTION_SEG_4_TRIM!K59),\" \")","v":"Trimestre 1\n\nTrimestre 2\n\nTrimestre 3\n\nTrimestre 4\n"}]
[null,null,null,null,null,null,null,null,null,null,null,null,null,null,null,{"$f":"IFERROR(MAX(GESTION_SEG_1_TRIM!H60,GESTION_SEG_2_TRIM!H60,GESTION_SEG_3_TRIM!H60,GESTION_SEG_4_TRIM!H60),\" \")","v":0},null,{"$f":"IFERROR(_xlfn.CONCAT(\"Trimestre 1\",CHAR(10),GESTION_SEG_1_TRIM!J60,CHAR(10),\"Trimestre 2\",CHAR(10),GESTION_SEG_2_TRIM!J60,CHAR(10),\"Trimestre 3\",CHAR(10),GESTION_SEG_3_TRIM!J60,CHAR(10),\"Trimestre 4\",CHAR(10),GESTION_SEG_4_TRIM!J60),\" \")","v":"Trimestre 1\n\nTrimestre 2\n\nTrimestre 3\n\nTrimestre 4\n"},{"$f":"IFERROR(_xlfn.CONCAT(\"Trimestre 1\",CHAR(10),GESTION_SEG_1_TRIM!K60,CHAR(10),\"Trimestre 2\",CHAR(10),GESTION_SEG_2_TRIM!K60,CHAR(10),\"Trimestre 3\",CHAR(10),GESTION_SEG_3_TRIM!K60,CHAR(10),\"Trimestre 4\",CHAR(10),GESTION_SEG_4_TRIM!K60),\" \")","v":"Trimestre 1\n\nTrimestre 2\n\nTrimestre 3\n\nTrimestre 4\n"}]
[null,null,null,null,null,null,null,null,null,null,null,null,null,null,null,{"$f":"IFERROR(MAX(GESTION_SEG_1_TRIM!H61,GESTION_SEG_2_TRIM!H61,GESTION_SEG_3_TRIM!H61,GESTION_SEG_4_TRIM!H61),\" \")","v":0},null,{"$f":"IFERROR(_xlfn.CONCAT(\"Trimestre 1\",CHAR(10),GESTION_SEG_1_TRIM!J61,CHAR(10),\"Trimestre 2\",CHAR(10),GESTION_SEG_2_TRIM!J61,CHAR(10),\"Trimestre 3\",CHAR(10),GESTION_SEG_3_TRIM!J61,CHAR(10),\"Trimestre 4\",CHAR(10),GESTION_SEG_4_TRIM!J61),\" \")","v":"Trimestre 1\n\nTrimestre 2\n\nTrimestre 3\n\nTrimestre 4\n"},{"$f":"IFERROR(_xlfn.CONCAT(\"Trimestre 1\",CHAR(10),GESTION_SEG_1_TRIM!K61,CHAR(10),\"Trimestre 2\",CHAR(10),GESTION_SEG_2_TRIM!K61,CHAR(10),\"Trimestre 3\",CHAR(10),GESTION_SEG_3_TRIM!K61,CHAR(10),\"Trimestre 4\",CHAR(10),GESTION_SEG_4_TRIM!K61),\" \")","v":"Trimestre 1\n\nTrimestre 2\n\nTrimestre 3\n\nTrimestre 4\n"}]
[null,null,null,null,null,null,null,null,null,null,null,null,null,null,null,{"$f":"IFERROR(MAX(GESTION_SEG_1_TRIM!H62,GESTION_SEG_2_TRIM!H62,GESTION_SEG_3_TRIM!H62,GESTION_SEG_4_TRIM!H62),\" \")","v":0},null,{"$f":"IFERROR(_xlfn.CONCAT(\"Trimestre 1\",CHAR(10),GESTION_SEG_1_TRIM!J62,CHAR(10),\"Trimestre 2\",CHAR(10),GESTION_SEG_2_TRIM!J62,CHAR(10),\"Trimestre 3\",CHAR(10),GESTION_SEG_3_TRIM!J62,CHAR(10),\"Trimestre 4\",CHAR(10),GESTION_SEG_4_TRIM!J62),\" \")","v":"Trimestre 1\n\nTrimestre 2\n\nTrimestre 3\n\nTrimestre 4\n"},{"$f":"IFERROR(_xlfn.CONCAT(\"Trimestre 1\",CHAR(10),GESTION_SEG_1_TRIM!K62,CHAR(10),\"Trimestre 2\",CHAR(10),GESTION_SEG_2_TRIM!K62,CHAR(10),\"Trimestre 3\",CHAR(10),GESTION_SEG_3_TRIM!K62,CHAR(10),\"Trimestre 4\",CHAR(10),GESTION_SEG_4_TRIM!K62),\" \")","v":"Trimestre 1\n\nTrimestre 2\n\nTrimestre 3\n\nTrimestre 4\n"}]
[null,null,null,null,null,null,null,null,null,null,null,null,null,null,null,{"$f":"IFERROR(MAX(GESTION_SEG_1_TRIM!H63,GESTION_SEG_2_TRIM!H63,GESTION_SEG_3_TRIM!H63,GESTION_SEG_4_TRIM!H63),\" \")","v":0},null,{"$f":"IFERROR(_xlfn.CONCAT(\"Trimestre 1\",CHAR(10),GESTION_SEG_1_TRIM!J63,CHAR(10),\"Trimestre 2\",CHAR(10),GESTION_SEG_2_TRIM!J63,CHAR(10),\"Trimestre 3\",CHAR(10),GESTION_SEG_3_TRIM!J63,CHAR(10),\"Trimestre 4\",CHAR(10),GESTION_SEG_4_TRIM!J63),\" \")","v":"Trimestre 1\n\nTrimestre 2\n\nTrimestre 3\n\nTrimestre 4\n"},{"$f":"IFERROR(_xlfn.CONCAT(\"Trimestre 1\",CHAR(10),GESTION_SEG_1_TRIM!K63,CHAR(10),\"Trimestre 2\",CHAR(10),GESTION_SEG_2_TRIM!K63,CHAR(10),\"Trimestre 3\",CHAR(10),GESTION_SEG_3_TRIM!K63,CHAR(10),\"Trimestre 4\",CHAR(10),GESTION_SEG_4_TRIM!K63),\" \")","v":"Trimestre 1\n\nTrimestre 2\n\nTrimestre 3\n\nTrimestre 4\n"}]
[null,null,null,null,null,null,null,null,null,null,null,null,null,null,null,{"$f":"IFERROR(MAX(GESTION_SEG_1_TRIM!H64,GESTION_SEG_2_TRIM!H64,GESTION_SEG_3_TRIM!H64,GESTION_SEG_4_TRIM!H64),\" \")","v":0},"",{"$f":"IFERROR(_xlfn.CONCAT(\"Trimestre 1\",CHAR(10),GESTION_SEG_1_TRIM!J64,CHAR(10),\"Trimestre 2\",CHAR(10),GESTION_SEG_2_TRIM!J64,CHAR(10),\"Trimestre 3\",CHAR(10),GESTION_SEG_3_TRIM!J64,CHAR(10),\"Trimestre 4\",CHAR(10),GESTION_SEG_4_TRIM!J64),\" \")","v":"Trimestre 1\n\nTrimestre 2\n\nTrimestre 3\n\nTrimestre 4\n"},{"$f":"IFERROR(_xlfn.CONCAT(\"Trimestre 1\",CHAR(10),GESTION_SEG_1_TRIM!K64,CHAR(10),\"Trimestre 2\",CHAR(10),GESTION_SEG_2_TRIM!K64,CHAR(10),\"Trimestre 3\",CHAR(10),GESTION_SEG_3_TRIM!K64,CHAR(10),\"Trimestre 4\",CHAR(10),GESTION_SEG_4_TRIM!K64),\" \")","v":"Trimestre 1\n\nTrimestre 2\n\nTrimestre 3\n\nTrimestre 4\n"}]
[null,null,null,null,null,null,null,null,null,null,null,null,null,null,null,{"$f":"IFERROR(MAX(GESTION_SEG_1_TRIM!H65,GESTION_SEG_2_TRIM!H65,GESTION_SEG_3_TRIM!H65,GESTION_SEG_4_TRIM!H65),\" \")","v":0},"",{"$f":"IFERROR(_xlfn.CONCAT(\"Trimestre 1\",CHAR(10),GESTION_SEG_1_TRIM!J65,CHAR(10),\"Trimestre 2\",CHAR(10),GESTION_SEG_2_TRIM!J65,CHAR(10),\"Trimestre 3\",CHAR(10),GESTION_SEG_3_TRIM!J65,CHAR(10),\"Trimestre 4\",CHAR(10),GESTION_SEG_4_TRIM!J65),\" \")","v":"Trimestre 1\n\nTrimestre 2\n\nTrimestre 3\n\nTrimestre 4\n"},{"$f":"IFERROR(_xlfn.CONCAT(\"Trimestre 1\",CHAR(10),GESTION_SEG_1_TRIM!K65,CHAR(10),\"Trimestre 2\",CHAR(10),GESTION_SEG_2_TRIM!K65,CHAR(10),\"Trimestre 3\",CHAR(10),GESTION_SEG_3_TRIM!K65,CHAR(10),\"Trimestre 4\",CHAR(10),GESTION_SEG_4_TRIM!K65),\" \")","v":"Trimestre 1\n\nTrimestre 2\n\nTrimestre 3\n\nTrimestre 4\n"}]
[null,null,"2. Integrar y hacer compatibles todos los aplicativos de transición con SIUGJ, para que la migración de los expedientes judiciales a dicha plataforma sea real y no suponga afectaciones en la prestación del servicio de justicia.",null,null,null,null,null,null,null,null,null,null,null,null,{"$f":"IFERROR(MAX(GESTION_SEG_1_TRIM!H66,GESTION_SEG_2_TRIM!H66,GESTION_SEG_3_TRIM!H66,GESTION_SEG_4_TRIM!H66),\" \")","v":0},"",{"$f":"IFERROR(_xlfn.CONCAT(\"Trimestre 1\",CHAR(10),GESTION_SEG_1_TRIM!J66,CHAR(10),\"Trimestre 2\",CHAR(10),GESTION_SEG_2_TRIM!J66,CHAR(10),\"Trimestre 3\",CHAR(10),GESTION_SEG_3_TRIM!J66,CHAR(10),\"Trimestre 4\",CHAR(10),GESTION_SEG_4_TRIM!J66),\" \")","v":"Trimestre 1\n\nTrimestre 2\n\nTrimestre 3\n\nTrimestre 4\n"},{"$f":"IFERROR(_xlfn.CONCAT(\"Trimestre 1\",CHAR(10),GESTION_SEG_1_TRIM!K66,CHAR(10),\"Trimestre 2\",CHAR(10),GESTION_SEG_2_TRIM!K66,CHAR(10),\"Trimestre 3\",CHAR(10),GESTION_SEG_3_TRIM!K66,CHAR(10),\"Trimestre 4\",CHAR(10),GESTION_SEG_4_TRIM!K66),\" \")","v":"Trimestre 1\n\nTrimestre 2\n\nTrimestre 3\n\nTrimestre 4\n"}]
[null,null,null,null,null,null,null,null,null,null,null,null,null,null,null,{"$f":"IFERROR(MAX(GESTION_SEG_1_TRIM!H67,GESTION_SEG_2_TRIM!H67,GESTION_SEG_3_TRIM!H67,GESTION_SEG_4_TRIM!H67),\" \")","v":0},"",{"$f":"IFERROR(_xlfn.CONCAT(\"Trimestre 1\",CHAR(10),GESTION_SEG_1_TRIM!J67,CHAR(10),\"Trimestre 2\",CHAR(10),GESTION_SEG_2_TRIM!J67,CHAR(10),\"Trimestre 3\",CHAR(10),GESTION_SEG_3_TRIM!J67,CHAR(10),\"Trimestre 4\",CHAR(10),GESTION_SEG_4_TRIM!J67),\" \")","v":"Trimestre 1\n\nTrimestre 2\n\nTrimestre 3\n\nTrimestre 4\n"},{"$f":"IFERROR(_xlfn.CONCAT(\"Trimestre 1\",CHAR(10),GESTION_SEG_1_TRIM!K67,CHAR(10),\"Trimestre 2\",CHAR(10),GESTION_SEG_2_TRIM!K67,CHAR(10),\"Trimestre 3\",CHAR(10),GESTION_SEG_3_TRIM!K67,CHAR(10),\"Trimestre 4\",CHAR(10),GESTION_SEG_4_TRIM!K67),\" \")","v":"Trimestre 1\n\nTrimestre 2\n\nTrimestre 3\n\nTrimestre 4\n"}]
[null,null,null,null,null,null,null,null,null,null,null,null,null,null,null,{"$f":"IFERROR(MAX(GESTION_SEG_1_TRIM!H68,GESTION_SEG_2_TRIM!H68,GESTION_SEG_3_TRIM!H68,GESTION_SEG_4_TRIM!H68),\" \")","v":0},null,{"$f":"IFERROR(_xlfn.CONCAT(\"Trimestre 1\",CHAR(10),GESTION_SEG_1_TRIM!J68,CHAR(10),\"Trimestre 2\",CHAR(10),GESTION_SEG_2_TRIM!J68,CHAR(10),\"Trimestre 3\",CHAR(10),GESTION_SEG_3_TRIM!J68,CHAR(10),\"Trimestre 4\",CHAR(10),GESTION_SEG_4_TRIM!J68),\" \")","v":"Trimestre 1\n\nTrimestre 2\n\nTrimestre 3\n\nTrimestre 4\n"},{"$f":"IFERROR(_xlfn.CONCAT(\"Trimestre 1\",CHAR(10),GESTION_SEG_1_TRIM!K68,CHAR(10),\"Trimestre 2\",CHAR(10),GESTION_SEG_2_TRIM!K68,CHAR(10),\"Trimestre 3\",CHAR(10),GESTION_SEG_3_TRIM!K68,CHAR(10),\"Trimestre 4\",CHAR(10),GESTION_SEG_4_TRIM!K68),\" \")","v":"Trimestre 1\n\nTrimestre 2\n\nTrimestre 3\n\nTrimestre 4\n"}]
[null,null,null,null,null,null,null,null,null,null,null,null,null,null,null,{"$f":"IFERROR(MAX(GESTION_SEG_1_TRIM!H69,GESTION_SEG_2_TRIM!H69,GESTION_SEG_3_TRIM!H69,GESTION_SEG_4_TRIM!H69),\" \")","v":0},null,{"$f":"IFERROR(_xlfn.CONCAT(\"Trimestre 1\",CHAR(10),GESTION_SEG_1_TRIM!J69,CHAR(10),\"Trimestre 2\",CHAR(10),GESTION_SEG_2_TRIM!J69,CHAR(10),\"Trimestre 3\",CHAR(10),GESTION_SEG_3_TRIM!J69,CHAR(10),\"Trimestre 4\",CHAR(10),GESTION_SEG_4_TRIM!J69),\" \")","v":"Trimestre 1\n\nTrimestre 2\n\nTrimestre 3\n\nTrimestre 4\n"},{"$f":"IFERROR(_xlfn.CONCAT(\"Trimestre 1\",CHAR(10),GESTION_SEG_1_TRIM!K69,CHAR(10),\"Trimestre 2\",CHAR(10),GESTION_SEG_2_TRIM!K69,CHAR(10),\"Trimestre 3\",CHAR(10),GESTION_SEG_3_TRIM!K69,CHAR(10),\"Trimestre 4\",CHAR(10),GESTION_SEG_4_TRIM!K69),\" \")","v":"Trimestre 1\n\nTrimestre 2\n\nTrimestre 3\n\nTrimestre 4\n"}]
[null,null,null,null,null,null,null,null,null,null,null,null,null,null,null,{"$f":"IFERROR(MAX(GESTION_SEG_1_TRIM!H70,GESTION_SEG_2_TRIM!H70,GESTION_SEG_3_TRIM!H70,GESTION_SEG_4_TRIM!H70),\" \")","v":0},null,{"$f":"IFERROR(_xlfn.CONCAT(\"Trimestre 1\",CHAR(10),GESTION_SEG_1_TRIM!J70,CHAR(10),\"Trimestre 2\",CHAR(10),GESTION_SEG_2_TRIM!J70,CHAR(10),\"Trimestre 3\",CHAR(10),GESTION_SEG_3_TRIM!J70,CHAR(10),\"Trimestre 4\",CHAR(10),GESTION_SEG_4_TRIM!J70),\" \")","v":"Trimestre 1\n\nTrimestre 2\n\nTrimestre 3\n\nTrimestre 4\n"},{"$f":"IFERROR(_xlfn.CONCAT(\"Trimestre 1\",CHAR(10),GESTION_SEG_1_TRIM!K70,CHAR(10),\"Trimestre 2\",CHAR(10),GESTION_SEG_2_TRIM!K70,CHAR(10),\"Trimestre 3\",CHAR(10),GESTION_SEG_3_TRIM!K70,CHAR(10),\"Trimestre 4\",CHAR(10),GESTION_SEG_4_TRIM!K70),\" \")","v":"Trimestre 1\n\nTrimestre 2\n\nTrimestre 3\n\nTrimestre 4\n"}]
[null,null,null,null,null,null,null,null,null,null,null,null,null,null,null,{"$f":"IFERROR(MAX(GESTION_SEG_1_TRIM!H71,GESTION_SEG_2_TRIM!H71,GESTION_SEG_3_TRIM!H71,GESTION_SEG_4_TRIM!H71),\" \")","v":0},null,{"$f":"IFERROR(_xlfn.CONCAT(\"Trimestre 1\",CHAR(10),GESTION_SEG_1_TRIM!J71,CHAR(10),\"Trimestre 2\",CHAR(10),GESTION_SEG_2_TRIM!J71,CHAR(10),\"Trimestre 3\",CHAR(10),GESTION_SEG_3_TRIM!J71,CHAR(10),\"Trimestre 4\",CHAR(10),GESTION_SEG_4_TRIM!J71),\" \")","v":"Trimestre 1\n\nTrimestre 2\n\nTrimestre 3\n\nTrimestre 4\n"},{"$f":"IFERROR(_xlfn.CONCAT(\"Trimestre 1\",CHAR(10),GESTION_SEG_1_TRIM!K71,CHAR(10),\"Trimestre 2\",CHAR(10),GESTION_SEG_2_TRIM!K71,CHAR(10),\"Trimestre 3\",CHAR(10),GESTION_SEG_3_TRIM!K71,CHAR(10),\"Trimestre 4\",CHAR(10),GESTION_SEG_4_TRIM!K71),\" \")","v":"Trimestre 1\n\nTrimestre 2\n\nTrimestre 3\n\nTrimestre 4\n"}]
[null,null,null,null,null,null,null,null,null,null,null,null,null,null,null,{"$f":"IFERROR(MAX(GESTION_SEG_1_TRIM!H72,GESTION_SEG_2_TRIM!H72,GESTION_SEG_3_TRIM!H72,GESTION_SEG_4_TRIM!H72),\" \")","v":0},null,{"$f":"IFERROR(_xlfn.CONCAT(\"Trimestre 1\",CHAR(10),GESTION_SEG_1_TRIM!J72,CHAR(10),\"Trimestre 2\",CHAR(10),GESTION_SEG_2_TRIM!J72,CHAR(10),\"Trimestre 3\",CHAR(10),GESTION_SEG_3_TRIM!J72,CHAR(10),\"Trimestre 4\",CHAR(10),GESTION_SEG_4_TRIM!J72),\" \")","v":"Trimestre 1\n\nTrimestre 2\n\nTrimestre 3\n\nTrimestre 4\n"},{"$f":"IFERROR(_xlfn.CONCAT(\"Trimestre 1\",CHAR(10),GESTION_SEG_1_TRIM!K72,CHAR(10),\"Trimestre 2\",CHAR(10),GESTION_SEG_2_TRIM!K72,CHAR(10),\"Trimestre 3\",CHAR(10),GESTION_SEG_3_TRIM!K72,CHAR(10),\"Trimestre 4\",CHAR(10),GESTION_SEG_4_TRIM!K72),\" \")","v":"Trimestre 1\n\nTrimestre 2\n\nTrimestre 3\n\nTrimestre 4\n"}]
[null,null,null,null,null,null,null,null,null,null,null,null,null,null,null,{"$f":"IFERROR(MAX(GESTION_SEG_1_TRIM!H73,GESTION_SEG_2_TRIM!H73,GESTION_SEG_3_TRIM!H73,GESTION_SEG_4_TRIM!H73),\" \")","v":0},{"$f":"IFERROR(P73/J73,\"\")","v":""},{"$f":"IFERROR(_xlfn.CONCAT(\"Trimestre 1\",CHAR(10),GESTION_SEG_1_TRIM!J73,CHAR(10),\"Trimestre 2\",CHAR(10),GESTION_SEG_2_TRIM!J73,CHAR(10),\"Trimestre 3\",CHAR(10),GESTION_SEG_3_TRIM!J73,CHAR(10),\"Trimestre 4\",CHAR(10),GESTION_SEG_4_TRIM!J73),\" \")","v":"Trimestre 1\n\nTrimestre 2\n\nTrimestre 3\n\nTrimestre 4\n"},{"$f":"IFERROR(_xlfn.CONCAT(\"Trimestre 1\",CHAR(10),GESTION_SEG_1_TRIM!K73,CHAR(10),\"Trimestre 2\",CHAR(10),GESTION_SEG_2_TRIM!K73,CHAR(10),\"Trimestre 3\",CHAR(10),GESTION_SEG_3_TRIM!K73,CHAR(10),\"Trimestre 4\",CHAR(10),GESTION_SEG_4_TRIM!K73),\" \")","v":"Trimestre 1\n\nTrimestre 2\n\nTrimestre 3\n\nTrimestre 4\n"}]
[null,null,null,null,null,null,null,null,null,null,null,null,null,null,null,{"$f":"IFERROR(MAX(GESTION_SEG_1_TRIM!H74,GESTION_SEG_2_TRIM!H74,GESTION_SEG_3_TRIM!H74,GESTION_SEG_4_TRIM!H74),\" \")","v":0},"",{"$f":"IFERROR(_xlfn.CONCAT(\"Trimestre 1\",CHAR(10),GESTION_SEG_1_TRIM!J74,CHAR(10),\"Trimestre 2\",CHAR(10),GESTION_SEG_2_TRIM!J74,CHAR(10),\"Trimestre 3\",CHAR(10),GESTION_SEG_3_TRIM!J74,CHAR(10),\"Trimestre 4\",CHAR(10),GESTION_SEG_4_TRIM!J74),\" \")","v":"Trimestre 1\n\nTrimestre 2\n\nTrimestre 3\n\nTrimestre 4\n"},{"$f":"IFERROR(_xlfn.CONCAT(\"Trimestre 1\",CHAR(10),GESTION_SEG_1_TRIM!K74,CHAR(10),\"Trimestre 2\",CHAR(10),GESTION_SEG_2_TRIM!K74,CHAR(10),\"Trimestre 3\",CHAR(10),GESTION_SEG_3_TRIM!K74,CHAR(10),\"Trimestre 4\",CHAR(10),GESTION_SEG_4_TRIM!K74),\" \")","v":"Trimestre 1\n\nTrimestre 2\n\nTrimestre 3\n\nTrimestre 4\n"}]
[null,null,null,null,null,null,null,null,null,null,null,null,null,null,null,{"$f":"IFERROR(MAX(GESTION_SEG_1_TRIM!H75,GESTION_SEG_2_TRIM!H75,GESTION_SEG_3_TRIM!H75,GESTION_SEG_4_TRIM!H75),\" \")","v":0},"",{"$f":"IFERROR(_xlfn.CONCAT(\"Trimestre 1\",CHAR(10),GESTION_SEG_1_TRIM!J75,CHAR(10),\"Trimestre 2\",CHAR(10),GESTION_SEG_2_TRIM!J75,CHAR(10),\"Trimestre 3\",CHAR(10),GESTION_SEG_3_TRIM!J75,CHAR(10),\"Trimestre 4\",CHAR(10),GESTION_SEG_4_TRIM!J75),\" \")","v":"Trimestre 1\n\nTrimestre 2\n\nTrimestre 3\n\nTrimestre 4\n"},{"$f":"IFERROR(_xlfn.CONCAT(\"Trimestre 1\",CHAR(10),GESTION_SEG_1_TRIM!K75,CHAR(10),\"Trimestre 2\",CHAR(10),GESTION_SEG_2_TRIM!K75,CHAR(10),\"Trimestre 3\",CHAR(10),GESTION_SEG_3_TRIM!K75,CHAR(10),\"Trimestre 4\",CHAR(10),GESTION_SEG_4_TRIM!K75),\" \")","v":"Trimestre 1\n\nTrimestre 2\n\nTrimestre 3\n\nTrimestre 4\n"}]
[null,null,"3. Fortalecer las capacidades institucionales, adecuar el modelo operativo y de servicio, bajo un enfoque de Arquitectura Empresarial y de fortalecimiento del acceso a la justicia.",null,null,null,null,null,null,null,null,null,null,null,null,{"$f":"IFERROR(MAX(GESTION_SEG_1_TRIM!H76,GESTION_SEG_2_TRIM!H76,GESTION_SEG_3_TRIM!H76,GESTION_SEG_4_TRIM!H76),\" \")","v":0},"",{"$f":"IFERROR(_xlfn.CONCAT(\"Trimestre 1\",CHAR(10),GESTION_SEG_1_TRIM!J76,CHAR(10),\"Trimestre 2\",CHAR(10),GESTION_SEG_2_TRIM!J76,CHAR(10),\"Trimestre 3\",CHAR(10),GESTION_SEG_3_TRIM!J76,CHAR(10),\"Trimestre 4\",CHAR(10),GESTION_SEG_4_TRIM!J76),\" \")","v":"Trimestre 1\n\nTrimestre 2\n\nTrimestre 3\n\nTrimestre 4\n"},{"$f":"IFERROR(_xlfn.CONCAT(\"Trimestre 1\",CHAR(10),GESTION_SEG_1_TRIM!K76,CHAR(10),\"Trimestre 2\",CHAR(10),GESTION_SEG_2_TRIM!K76,CHAR(10),\"Trimestre 3\",CHAR(10),GESTION_SEG_3_TRIM!K76,CHAR(10),\"Trimestre 4\",CHAR(10),GESTION_SEG_4_TRIM!K76),\" \")","v":"Trimestre 1\n\nTrimestre 2\n\nTrimestre 3\n\nTrimestre 4\n"}]
[null,null,null,null,null,null,null,null,null,null,null,null,null,null,null,{"$f":"IFERROR(MAX(GESTION_SEG_1_TRIM!H77,GESTION_SEG_2_TRIM!H77,GESTION_SEG_3_TRIM!H77,GESTION_SEG_4_TRIM!H77),\" \")","v":0},"",{"$f":"IFERROR(_xlfn.CONCAT(\"Trimestre 1\",CHAR(10),GESTION_SEG_1_TRIM!J77,CHAR(10),\"Trimestre 2\",CHAR(10),GESTION_SEG_2_TRIM!J77,CHAR(10),\"Trimestre 3\",CHAR(10),GESTION_SEG_3_TRIM!J77,CHAR(10),\"Trimestre 4\",CHAR(10),GESTION_SEG_4_TRIM!J77),\" \")","v":"Trimestre 1\n\nTrimestre 2\n\nTrimestre 3\n\nTrimestre 4\n"},{"$f":"IFERROR(_xlfn.CONCAT(\"Trimestre 1\",CHAR(10),GESTION_SEG_1_TRIM!K77,CHAR(10),\"Trimestre 2\",CHAR(10),GESTION_SEG_2_TRIM!K77,CHAR(10),\"Trimestre 3\",CHAR(10),GESTION_SEG_3_TRIM!K77,CHAR(10),\"Trimestre 4\",CHAR(10),GESTION_SEG_4_TRIM!K77),\" \")","v":"Trimestre 1\n\nTrimestre 2\n\nTrimestre 3\n\nTrimestre 4\n"}]
[null,null,null,null,null,null,null,null,null,null,null,null,null,null,null,{"$f":"IFERROR(MAX(GESTION_SEG_1_TRIM!H78,GESTION_SEG_2_TRIM!H78,GESTION_SEG_3_TRIM!H78,GESTION_SEG_4_TRIM!H78),\" \")","v":0},null,{"$f":"IFERROR(_xlfn.CONCAT(\"Trimestre 1\",CHAR(10),GESTION_SEG_1_TRIM!J78,CHAR(10),\"Trimestre 2\",CHAR(10),GESTION_SEG_2_TRIM!J78,CHAR(10),\"Trimestre 3\",CHAR(10),GESTION_SEG_3_TRIM!J78,CHAR(10),\"Trimestre 4\",CHAR(10),GESTION_SEG_4_TRIM!J78),\" \")","v":"Trimestre 1\n\nTrimestre 2\n\nTrimestre 3\n\nTrimestre 4\n"},{"$f":"IFERROR(_xlfn.CONCAT(\"Trimestre 1\",CHAR(10),GESTION_SEG_1_TRIM!K78,CHAR(10),\"Trimestre 2\",CHAR(10),GESTION_SEG_2_TRIM!K78,CHAR(10),\"Trimestre 3\",CHAR(10),GESTION_SEG_3_TRIM!K78,CHAR(10),\"Trimestre 4\",CHAR(10),GESTION_SEG_4_TRIM!K78),\" \")","v":"Trimestre 1\n\nTrimestre 2\n\nTrimestre 3\n\nTrimestre 4\n"}]
[null,null,null,null,null,null,null,null,null,null,null,null,null,null,null,{"$f":"IFERROR(MAX(GESTION_SEG_1_TRIM!H79,GESTION_SEG_2_TRIM!H79,GESTION_SEG_3_TRIM!H79,GESTION_SEG_4_TRIM!H79),\" \")","v":0},null,{"$f":"IFERROR(_xlfn.CONCAT(\"Trimestre 1\",CHAR(10),GESTION_SEG_1_TRIM!J79,CHAR(10),\"Trimestre 2\",CHAR(10),GESTION_SEG_2_TRIM!J79,CHAR(10),\"Trimestre 3\",CHAR(10),GESTION_SEG_3_TRIM!J79,CHAR(10),\"Trimestre 4\",CHAR(10),GESTION_SEG_4_TRIM!J79),\" \")","v":"Trimestre 1\n\nTrimestre 2\n\nTrimestre 3\n\nTrimestre 4\n"},{"$f":"IFERROR(_xlfn.CONCAT(\"Trimestre 1\",CHAR(10),GESTION_SEG_1_TRIM!K79,CHAR(10),\"Trimestre 2\",CHAR(10),GESTION_SEG_2_TRIM!K79,CHAR(10),\"Trimestre 3\",CHAR(10),GESTION_SEG_3_TRIM!K79,CHAR(10),\"Trimestre 4\",CHAR(10),GESTION_SEG_4_TRIM!K79),\" \")","v":"Trimestre 1\n\nTrimestre 2\n\nTrimestre 3\n\nTrimestre 4\n"}]
[null,null,null,null,null,null,null,null,null,null,null,null,null,null,null,{"$f":"IFERROR(MAX(GESTION_SEG_1_TRIM!H80,GESTION_SEG_2_TRIM!H80,GESTION_SEG_3_TRIM!H80,GESTION_SEG_4_TRIM!H80),\" \")","v":0},null,{"$f":"IFERROR(_xlfn.CONCAT(\"Trimestre 1\",CHAR(10),GESTION_SEG_1_TRIM!J80,CHAR(10),\"Trimestre 2\",CHAR(10),GESTION_SEG_2_TRIM!J80,CHAR(10),\"Trimestre 3\",CHAR(10),GESTION_SEG_3_TRIM!J80,CHAR(10),\"Trimestre 4\",CHAR(10),GESTION_SEG_4_TRIM!J80),\" \")","v":"Trimestre 1\n\nTrimestre 2\n\nTrimestre 3\n\nTrimestre 4\n"},{"$f":"IFERROR(_xlfn.CONCAT(\"Trimestre 1\",CHAR(10),GESTION_SEG_1_TRIM!K80,CHAR(10),\"Trimestre 2\",CHAR(10),GESTION_SEG_2_TRIM!K80,CHAR(10),\"Trimestre 3\",CHAR(10),GESTION_SEG_3_TRIM!K80,CHAR(10),\"Trimestre 4\",CHAR(10),GESTION_SEG_4_TRIM!K80),\" \")","v":"Trimestre 1\n\nTrimestre 2\n\nTrimestre 3\n\nTrimestre 4\n"}]
[null,null,null,null,null,null,null,null,null,null,null,null,null,null,null,{"$f":"IFERROR(MAX(GESTION_SEG_1_TRIM!H81,GESTION_SEG_2_TRIM!H81,GESTION_SEG_3_TRIM!H81,GESTION_SEG_4_TRIM!H81),\" \")","v":0},null,{"$f":"IFERROR(_xlfn.CONCAT(\"Trimestre 1\",CHAR(10),GESTION_SEG_1_TRIM!J81,CHAR(10),\"Trimestre 2\",CHAR(10),GESTION_SEG_2_TRIM!J81,CHAR(10),\"Trimestre 3\",CHAR(10),GESTION_SEG_3_TRIM!J81,CHAR(10),\"Trimestre 4\",CHAR(10),GESTION_SEG_4_TRIM!J81),\" \")","v":"Trimestre 1\n\nTrimestre 2\n\nTrimestre 3\n\nTrimestre 4\n"},{"$f":"IFERROR(_xlfn.CONCAT(\"Trimestre 1\",CHAR(10),GESTION_SEG_1_TRIM!K81,CHAR(10),\"Trimestre 2\",CHAR(10),GESTION_SEG_2_TRIM!K81,CHAR(10),\"Trimestre 3\",CHAR(10),GESTION_SEG_3_TRIM!K81,CHAR(10),\"Trimestre 4\",CHAR(10),GESTION_SEG_4_TRIM!K81),\" \")","v":"Trimestre 1\n\nTrimestre 2\n\nTrimestre 3\n\nTrimestre 4\n"}]
[null,null,null,null,null,null,null,null,null,null,null,null,null,null,null,{"$f":"IFERROR(MAX(GESTION_SEG_1_TRIM!H82,GESTION_SEG_2_TRIM!H82,GESTION_SEG_3_TRIM!H82,GESTION_SEG_4_TRIM!H82),\" \")","v":0},null,{"$f":"IFERROR(_xlfn.CONCAT(\"Trimestre 1\",CHAR(10),GESTION_SEG_1_TRIM!J82,CHAR(10),\"Trimestre 2\",CHAR(10),GESTION_SEG_2_TRIM!J82,CHAR(10),\"Trimestre 3\",CHAR(10),GESTION_SEG_3_TRIM!J82,CHAR(10),\"Trimestre 4\",CHAR(10),GESTION_SEG_4_TRIM!J82),\" \")","v":"Trimestre 1\n\nTrimestre 2\n\nTrimestre 3\n\nTrimestre 4\n"},{"$f":"IFERROR(_xlfn.CONCAT(\"Trimestre 1\",CHAR(10),GESTION_SEG_1_TRIM!K82,CHAR(10),\"Trimestre 2\",CHAR(10),GESTION_SEG_2_TRIM!K82,CHAR(10),\"Trimestre 3\",CHAR(10),GESTION_SEG_3_TRIM!K82,CHAR(10),\"Trimestre 4\",CHAR(10),GESTION_SEG_4_TRIM!K82),\" \")","v":"Trimestre 1\n\nTrimestre 2\n\nTrimestre 3\n\nTrimestre 4\n"}]
[null,null,null,null,null,null,null,null,null,null,null,null,null,null,null,{"$f":"IFERROR(MAX(GESTION_SEG_1_TRIM!H83,GESTION_SEG_2_TRIM!H83,GESTION_SEG_3_TRIM!H83,GESTION_SEG_4_TRIM!H83),\" \")","v":0},"",{"$f":"IFERROR(_xlfn.CONCAT(\"Trimestre 1\",CHAR(10),GESTION_SEG_1_TRIM!J83,CHAR(10),\"Trimestre 2\",CHAR(10),GESTION_SEG_2_TRIM!J83,CHAR(10),\"Trimestre 3\",CHAR(10),GESTION_SEG_3_TRIM!J83,CHAR(10),\"Trimestre 4\",CHAR(10),GESTION_SEG_4_TRIM!J83),\" \")","v":"Trimestre 1\n\nTrimestre 2\n\nTrimestre 3\n\nTrimestre 4\n"},{"$f":"IFERROR(_xlfn.CONCAT(\"Trimestre 1\",CHAR(10),GESTION_SEG_1_TRIM!K83,CHAR(10),\"Trimestre 2\",CHAR(10),GESTION_SEG_2_TRIM!K83,CHAR(10),\"Trimestre 3\",CHAR(10),GESTION_SEG_3_TRIM!K83,CHAR(10),\"Trimestre 4\",CHAR(10),GESTION_SEG_4_TRIM!K83),\" \")","v":"Trimestre 1\n\nTrimestre 2\n\nTrimestre 3\n\nTrimestre 4\n"}]
[null,null,null,null,null,null,null,null,null,null,null,null,null,null,null,{"$f":"IFERROR(MAX(GESTION_SEG_1_TRIM!H84,GESTION_SEG_2_TRIM!H84,GESTION_SEG_3_TRIM!H84,GESTION_SEG_4_TRIM!H84),\" \")","v":0},"",{"$f":"IFERROR(_xlfn.CONCAT(\"Trimestre 1\",CHAR(10),GESTION_SEG_1_TRIM!J84,CHAR(10),\"Trimestre 2\",CHAR(10),GESTION_SEG_2_TRIM!J84,CHAR(10),\"Trimestre 3\",CHAR(10),GESTION_SEG_3_TRIM!J84,CHAR(10),\"Trimestre 4\",CHAR(10),GESTION_SEG_4_TRIM!J84),\" \")","v":"Trimestre 1\n\nTrimestre 2\n\nTrimestre 3\n\nTrimestre 4\n"},{"$f":"IFERROR(_xlfn.CONCAT(\"Trimestre 1\",CHAR(10),GESTION_SEG_1_TRIM!K84,CHAR(10),\"Trimestre 2\",CHAR(10),GESTION_SEG_2_TRIM!K84,CHAR(10),\"Trimestre 3\",CHAR(10),GESTION_SEG_3_TRIM!K84,CHAR(10),\"Trimestre 4\",CHAR(10),GESTION_SEG_4_TRIM!K84),\" \")","v":"Trimestre 1\n\nTrimestre 2\n\nTrimestre 3\n\nTrimestre 4\n"}]
[null,null,null,null,null,null,null,null,null,null,null,null,null,null,null,{"$f":"IFERROR(MAX(GESTION_SEG_1_TRIM!H85,GESTION_SEG_2_TRIM!H85,GESTION_SEG_3_TRIM!H85,GESTION_SEG_4_TRIM!H85),\" \")","v":0},"",{"$f":"IFERROR(_xlfn.CONCAT(\"Trimestre 1\",CHAR(10),GESTION_SEG_1_TRIM!J85,CHAR(10),\"Trimestre 2\",CHAR(10),GESTION_SEG_2_TRIM!J85,CHAR(10),\"Trimestre 3\",CHAR(10),GESTION_SEG_3_TRIM!J85,CHAR(10),\"Trimestre 4\",CHAR(10),GESTION_SEG_4_TRIM!J85),\" \")","v":"Trimestre 1\n\nTrimestre 2\n\nTrimestre 3\n\nTrimestre 4\n"},{"$f":"IFERROR(_xlfn.CONCAT(\"Trimestre 1\",CHAR(10),GESTION_SEG_1_TRIM!K85,CHAR(10),\"Trimestre 2\",CHAR(10),GESTION_SEG_2_TRIM!K85,CHAR(10),\"Trimestre 3\",CHAR(10),GESTION_SEG_3_TRIM!K85,CHAR(10),\"Trimestre 4\",CHAR(10),GESTION_SEG_4_TRIM!K85),\" \")","v":"Trimestre 1\n\nTrimestre 2\n\nTrimestre 3\n\nTrimestre 4\n"}]
[null,null,"4.Consolidar la cultura y apropiación de la transformación digital en los servidores y usuarios de los servicios de la Rama Judicial y reducir brechas de acceso y conocimiento, incluyendo la oferta efectiva de información sobre el uso de las nuevas herramientas virtuales implementadas en las diferentes jurisdicciones, con especial énfasis en las zonas del país donde es evidente la brecha digital.",null,null,null,null,null,null,null,null,null,null,null,null,{"$f":"IFERROR(MAX(GESTION_SEG_1_TRIM!H86,GESTION_SEG_2_TRIM!H86,GESTION_SEG_3_TRIM!H86,GESTION_SEG_4_TRIM!H86),\" \")","v":0},"",{"$f":"IFERROR(_xlfn.CONCAT(\"Trimestre 1\",CHAR(10),GESTION_SEG_1_TRIM!J86,CHAR(10),\"Trimestre 2\",CHAR(10),GESTION_SEG_2_TRIM!J86,CHAR(10),\"Trimestre 3\",CHAR(10),GESTION_SEG_3_TRIM!J86,CHAR(10),\"Trimestre 4\",CHAR(10),GESTION_SEG_4_TRIM!J86),\" \")","v":"Trimestre 1\n\nTrimestre 2\n\nTrimestre 3\n\nTrimestre 4\n"},{"$f":"IFERROR(_xlfn.CONCAT(\"Trimestre 1\",CHAR(10),GESTION_SEG_1_TRIM!K86,CHAR(10),\"Trimestre 2\",CHAR(10),GESTION_SEG_2_TRIM!K86,CHAR(10),\"Trimestre 3\",CHAR(10),GESTION_SEG_3_TRIM!K86,CHAR(10),\"Trimestre 4\",CHAR(10),GESTION_SEG_4_TRIM!K86),\" \")","v":"Trimestre 1\n\nTrimestre 2\n\nTrimestre 3\n\nTrimestre 4\n"}]
[null,null,null,null,null,null,null,null,null,null,null,null,null,null,null,{"$f":"IFERROR(MAX(GESTION_SEG_1_TRIM!H87,GESTION_SEG_2_TRIM!H87,GESTION_SEG_3_TRIM!H87,GESTION_SEG_4_TRIM!H87),\" \")","v":0},"",{"$f":"IFERROR(_xlfn.CONCAT(\"Trimestre 1\",CHAR(10),GESTION_SEG_1_TRIM!J87,CHAR(10),\"Trimestre 2\",CHAR(10),GESTION_SEG_2_TRIM!J87,CHAR(10),\"Trimestre 3\",CHAR(10),GESTION_SEG_3_TRIM!J87,CHAR(10),\"Trimestre 4\",CHAR(10),GESTION_SEG_4_TRIM!J87),\" \")","v":"Trimestre 1\n\nTrimestre 2\n\nTrimestre 3\n\nTrimestre 4\n"},{"$f":"IFERROR(_xlfn.CONCAT(\"Trimestre 1\",CHAR(10),GESTION_SEG_1_TRIM!K87,CHAR(10),\"Trimestre 2\",CHAR(10),GESTION_SEG_2_TRIM!K87,CHAR(10),\"Trimestre 3\",CHAR(10),GESTION_SEG_3_TRIM!K87,CHAR(10),\"Trimestre 4\",CHAR(10),GESTION_SEG_4_TRIM!K87),\" \")","v":"Trimestre 1\n\nTrimestre 2\n\nTrimestre 3\n\nTrimestre 4\n"}]
[null,null,null,null,null,null,null,null,null,null,null,null,null,null,null,{"$f":"IFERROR(MAX(GESTION_SEG_1_TRIM!H88,GESTION_SEG_2_TRIM!H88,GESTION_SEG_3_TRIM!H88,GESTION_SEG_4_TRIM!H88),\" \")","v":0},null,{"$f":"IFERROR(_xlfn.CONCAT(\"Trimestre 1\",CHAR(10),GESTION_SEG_1_TRIM!J88,CHAR(10),\"Trimestre 2\",CHAR(10),GESTION_SEG_2_TRIM!J88,CHAR(10),\"Trimestre 3\",CHAR(10),GESTION_SEG_3_TRIM!J88,CHAR(10),\"Trimestre 4\",CHAR(10),GESTION_SEG_4_TRIM!J88),\" \")","v":"Trimestre 1\n\nTrimestre 2\n\nTrimestre 3\n\nTrimestre 4\n"},{"$f":"IFERROR(_xlfn.CONCAT(\"Trimestre 1\",CHAR(10),GESTION_SEG_1_TRIM!K88,CHAR(10),\"Trimestre 2\",CHAR(10),GESTION_SEG_2_TRIM!K88,CHAR(10),\"Trimestre 3\",CHAR(10),GESTION_SEG_3_TRIM!K88,CHAR(10),\"Trimestre 4\",CHAR(10),GESTION_SEG_4_TRIM!K88),\" \")","v":"Trimestre 1\n\nTrimestre 2\n\nTrimestre 3\n\nTrimestre 4\n"}]
[null,null,null,null,null,null,null,null,null,null,null,null,null,null,null,{"$f":"IFERROR(MAX(GESTION_SEG_1_TRIM!H89,GESTION_SEG_2_TRIM!H89,GESTION_SEG_3_TRIM!H89,GESTION_SEG_4_TRIM!H89),\" \")","v":0},null,{"$f":"IFERROR(_xlfn.CONCAT(\"Trimestre 1\",CHAR(10),GESTION_SEG_1_TRIM!J89,CHAR(10),\"Trimestre 2\",CHAR(10),GESTION_SEG_2_TRIM!J89,CHAR(10),\"Trimestre 3\",CHAR(10),GESTION_SEG_3_TRIM!J89,CHAR(10),\"Trimestre 4\",CHAR(10),GESTION_SEG_4_TRIM!J89),\" \")","v":"Trimestre 1\n\nTrimestre 2\n\nTrimestre 3\n\nTrimestre 4\n"},{"$f":"IFERROR(_xlfn.CONCAT(\"Trimestre 1\",CHAR(10),GESTION_SEG_1_TRIM!K89,CHAR(10),\"Trimestre 2\",CHAR(10),GESTION_SEG_2_TRIM!K89,CHAR(10),\"Trimestre 3\",CHAR(10),GESTION_SEG_3_TRIM!K89,CHAR(10),\"Trimestre 4\",CHAR(10),GESTION_SEG_4_TRIM!K89),\" \")","v":"Trimestre 1\n\nTrimestre 2\n\nTrimestre 3\n\nTrimestre 4\n"}]
[null,null,null,null,null,null,null,null,null,null,null,null,null,null,null,{"$f":"IFERROR(MAX(GESTION_SEG_1_TRIM!H90,GESTION_SEG_2_TRIM!H90,GESTION_SEG_3_TRIM!H90,GESTION_SEG_4_TRIM!H90),\" \")","v":0},null,{"$f":"IFERROR(_xlfn.CONCAT(\"Trimestre 1\",CHAR(10),GESTION_SEG_1_TRIM!J90,CHAR(10),\"Trimestre 2\",CHAR(10),GESTION_SEG_2_TRIM!J90,CHAR(10),\"Trimestre 3\",CHAR(10),GESTION_SEG_3_TRIM!J90,CHAR(10),\"Trimestre 4\",CHAR(10),GESTION_SEG_4_TRIM!J90),\" \")","v":"Trimestre 1\n\nTrimestre 2\n\nTrimestre 3\n\nTrimestre 4\n"},{"$f":"IFERROR(_xlfn.CONCAT(\"Trimestre 1\",CHAR(10),GESTION_SEG_1_TRIM!K90,CHAR(10),\"Trimestre 2\",CHAR(10),GESTION_SEG_2_TRIM!K90,CHAR(10),\"Trimestre 3\",CHAR(10),GESTION_SEG_3_TRIM!K90,CHAR(10),\"Trimestre 4\",CHAR(10),GESTION_SEG_4_TRIM!K90),\" \")","v":"Trimestre 1\n\nTrimestre 2\n\nTrimestre 3\n\nTrimestre 4\n"}]
[null,null,null,null,null,null,null,null,null,null,null,null,null,null,null,{"$f":"IFERROR(MAX(GESTION_SEG_1_TRIM!H91,GESTION_SEG_2_TRIM!H91,GESTION_SEG_3_TRIM!H91,GESTION_SEG_4_TRIM!H91),\" \")","v":0},null,{"$f":"IFERROR(_xlfn.CONCAT(\"Trimestre 1\",CHAR(10),GESTION_SEG_1_TRIM!J91,CHAR(10),\"Trimestre 2\",CHAR(10),GESTION_SEG_2_TRIM!J91,CHAR(10),\"Trimestre 3\",CHAR(10),GESTION_SEG_3_TRIM!J91,CHAR(10),\"Trimestre 4\",CHAR(10),GESTION_SEG_4_TRIM!J91),\" \")","v":"Trimestre 1\n\nTrimestre 2\n\nTrimestre 3\n\nTrimestre 4\n"},{"$f":"IFERROR(_xlfn.CONCAT(\"Trimestre 1\",CHAR(10),GESTION_SEG_1_TRIM!K91,CHAR(10),\"Trimestre 2\",CHAR(10),GESTION_SEG_2_TRIM!K91,CHAR(10),\"Trimestre 3\",CHAR(10),GESTION_SEG_3_TRIM!K91,CHAR(10),\"Trimestre 4\",CHAR(10),GESTION_SEG_4_TRIM!K91),\" \")","v":"Trimestre 1\n\nTrimestre 2\n\nTrimestre 3\n\nTrimestre 4\n"}]
[null,null,null,null,null,null,null,null,null,null,null,null,null,null,null,{"$f":"IFERROR(MAX(GESTION_SEG_1_TRIM!H92,GESTION_SEG_2_TRIM!H92,GESTION_SEG_3_TRIM!H92,GESTION_SEG_4_TRIM!H92),\" \")","v":0},null,{"$f":"IFERROR(_xlfn.CONCAT(\"Trimestre 1\",CHAR(10),GESTION_SEG_1_TRIM!J92,CHAR(10),\"Trimestre 2\",CHAR(10),GESTION_SEG_2_TRIM!J92,CHAR(10),\"Trimestre 3\",CHAR(10),GESTION_SEG_3_TRIM!J92,CHAR(10),\"Trimestre 4\",CHAR(10),GESTION_SEG_4_TRIM!J92),\" \")","v":"Trimestre 1\n\nTrimestre 2\n\nTrimestre 3\n\nTrimestre 4\n"},{"$f":"IFERROR(_xlfn.CONCAT(\"Trimestre 1\",CHAR(10),GESTION_SEG_1_TRIM!K92,CHAR(10),\"Trimestre 2\",CHAR(10),GESTION_SEG_2_TRIM!K92,CHAR(10),\"Trimestre 3\",CHAR(10),GESTION_SEG_3_TRIM!K92,CHAR(10),\"Trimestre 4\",CHAR(10),GESTION_SEG_4_TRIM!K92),\" \")","v":"Trimestre 1\n\nTrimestre 2\n\nTrimestre 3\n\nTrimestre 4\n"}]
[null,null,null,null,null,null,null,null,null,null,null,null,null,null,null,{"$f":"IFERROR(MAX(GESTION_SEG_1_TRIM!H93,GESTION_SEG_2_TRIM!H93,GESTION_SEG_3_TRIM!H93,GESTION_SEG_4_TRIM!H93),\" \")","v":0},"",{"$f":"IFERROR(_xlfn.CONCAT(\"Trimestre 1\",CHAR(10),GESTION_SEG_1_TRIM!J93,CHAR(10),\"Trimestre 2\",CHAR(10),GESTION_SEG_2_TRIM!J93,CHAR(10),\"Trimestre 3\",CHAR(10),GESTION_SEG_3_TRIM!J93,CHAR(10),\"Trimestre 4\",CHAR(10),GESTION_SEG_4_TRIM!J93),\" \")","v":"Trimestre 1\n\nTrimestre 2\n\nTrimestre 3\n\nTrimestre 4\n"},{"$f":"IFERROR(_xlfn.CONCAT(\"Trimestre 1\",CHAR(10),GESTION_SEG_1_TRIM!K93,CHAR(10),\"Trimestre 2\",CHAR(10),GESTION_SEG_2_TRIM!K93,CHAR(10),\"Trimestre 3\",CHAR(10),GESTION_SEG_3_TRIM!K93,CHAR(10),\"Trimestre 4\",CHAR(10),GESTION_SEG_4_TRIM!K93),\" \")","v":"Trimestre 1\n\nTrimestre 2\n\nTrimestre 3\n\nTrimestre 4\n"}]
[null,null,null,null,null,null,null,null,null,null,null,null,null,null,null,{"$f":"IFERROR(MAX(GESTION_SEG_1_TRIM!H94,GESTION_SEG_2_TRIM!H94,GESTION_SEG_3_TRIM!H94,GESTION_SEG_4_TRIM!H94),\" \")","v":0},"",{"$f":"IFERROR(_xlfn.CONCAT(\"Trimestre 1\",CHAR(10),GESTION_SEG_1_TRIM!J94,CHAR(10),\"Trimestre 2\",CHAR(10),GESTION_SEG_2_TRIM!J94,CHAR(10),\"Trimestre 3\",CHAR(10),GESTION_SEG_3_TRIM!J94,CHAR(10),\"Trimestre 4\",CHAR(10),GESTION_SEG_4_TRIM!J94),\" \")","v":"Trimestre 1\n\nTrimestre 2\n\nTrimestre 3\n\nTrimestre 4\n"},{"$f":"IFERROR(_xlfn.CONCAT(\"Trimestre 1\",CHAR(10),GESTION_SEG_1_TRIM!K94,CHAR(10),\"Trimestre 2\",CHAR(10),GESTION_SEG_2_TRIM!K94,CHAR(10),\"Trimestre 3\",CHAR(10),GESTION_SEG_3_TRIM!K94,CHAR(10),\"Trimestre 4\",CHAR(10),GESTION_SEG_4_TRIM!K94),\" \")","v":"Trimestre 1\n\nTrimestre 2\n\nTrimestre 3\n\nTrimestre 4\n"}]
[null,null,null,null,null,null,null,null,null,null,null,null,null,null,null,{"$f":"IFERROR(MAX(GESTION_SEG_1_TRIM!H95,GESTION_SEG_2_TRIM!H95,GESTION_SEG_3_TRIM!H95,GESTION_SEG_4_TRIM!H95),\" \")","v":0},"",{"$f":"IFERROR(_xlfn.CONCAT(\"Trimestre 1\",CHAR(10),GESTION_SEG_1_TRIM!J95,CHAR(10),\"Trimestre 2\",CHAR(10),GESTION_SEG_2_TRIM!J95,CHAR(10),\"Trimestre 3\",CHAR(10),GESTION_SEG_3_TRIM!J95,CHAR(10),\"Trimestre 4\",CHAR(10),GESTION_SEG_4_TRIM!J95),\" \")","v":"Trimestre 1\n\nTrimestre 2\n\nTrimestre 3\n\nTrimestre 4\n"},{"$f":"IFERROR(_xlfn.CONCAT(\"Trimestre 1\",CHAR(10),GESTION_SEG_1_TRIM!K95,CHAR(10),\"Trimestre 2\",CHAR(10),GESTION_SEG_2_TRIM!K95,CHAR(10),\"Trimestre 3\",CHAR(10),GESTION_SEG_3_TRIM!K95,CHAR(10),\"Trimestre 4\",CHAR(10),GESTION_SEG_4_TRIM!K95),\" \")","v":"Trimestre 1\n\nTrimestre 2\n\nTrimestre 3\n\nTrimestre 4\n"}]
[null,null,"5.Consolidar la infraestructura y los recursos necesarios para la implementación exitosa de la transformación digital, incluyendo la disposición de internet de calidad en el 100% de las sedes en la Rama Judicial y modernizar los servicios tecnológicos de soporte. ",null,null,null,null,null,null,null,null,null,null,null,null,{"$f":"IFERROR(MAX(GESTION_SEG_1_TRIM!H96,GESTION_SEG_2_TRIM!H96,GESTION_SEG_3_TRIM!H96,GESTION_SEG_4_TRIM!H96),\" \")","v":0},"",{"$f":"IFERROR(_xlfn.CONCAT(\"Trimestre 1\",CHAR(10),GESTION_SEG_1_TRIM!J96,CHAR(10),\"Trimestre 2\",CHAR(10),GESTION_SEG_2_TRIM!J96,CHAR(10),\"Trimestre 3\",CHAR(10),GESTION_SEG_3_TRIM!J96,CHAR(10),\"Trimestre 4\",CHAR(10),GESTION_SEG_4_TRIM!J96),\" \")","v":"Trimestre 1\n\nTrimestre 2\n\nTrimestre 3\n\nTrimestre 4\n"},{"$f":"IFERROR(_xlfn.CONCAT(\"Trimestre 1\",CHAR(10),GESTION_SEG_1_TRIM!K96,CHAR(10),\"Trimestre 2\",CHAR(10),GESTION_SEG_2_TRIM!K96,CHAR(10),\"Trimestre 3\",CHAR(10),GESTION_SEG_3_TRIM!K96,CHAR(10),\"Trimestre 4\",CHAR(10),GESTION_SEG_4_TRIM!K96),\" \")","v":"Trimestre 1\n\nTrimestre 2\n\nTrimestre 3\n\nTrimestre 4\n"}]
[null,null,null,null,null,null,null,null,null,null,null,null,null,null,null,{"$f":"IFERROR(MAX(GESTION_SEG_1_TRIM!H97,GESTION_SEG_2_TRIM!H97,GESTION_SEG_3_TRIM!H97,GESTION_SEG_4_TRIM!H97),\" \")","v":0},"",{"$f":"IFERROR(_xlfn.CONCAT(\"Trimestre 1\",CHAR(10),GESTION_SEG_1_TRIM!J97,CHAR(10),\"Trimestre 2\",CHAR(10),GESTION_SEG_2_TRIM!J97,CHAR(10),\"Trimestre 3\",CHAR(10),GESTION_SEG_3_TRIM!J97,CHAR(10),\"Trimestre 4\",CHAR(10),GESTION_SEG_4_TRIM!J97),\" \")","v":"Trimestre 1\n\nTrimestre 2\n\nTrimestre 3\n\nTrimestre 4\n"},{"$f":"IFERROR(_xlfn.CONCAT(\"Trimestre 1\",CHAR(10),GESTION_SEG_1_TRIM!K97,CHAR(10),\"Trimestre 2\",CHAR(10),GESTION_SEG_2_TRIM!K97,CHAR(10),\"Trimestre 3\",CHAR(10),GESTION_SEG_3_TRIM!K97,CHAR(10),\"Trimestre 4\",CHAR(10),GESTION_SEG_4_TRIM!K97),\" \")","v":"Trimestre 1\n\nTrimestre 2\n\nTrimestre 3\n\nTrimestre 4\n"}]
[null,null,null,null,null,null,null,null,null,null,null,null,null,null,null,{"$f":"IFERROR(MAX(GESTION_SEG_1_TRIM!H98,GESTION_SEG_2_TRIM!H98,GESTION_SEG_3_TRIM!H98,GESTION_SEG_4_TRIM!H98),\" \")","v":0},null,{"$f":"IFERROR(_xlfn.CONCAT(\"Trimestre 1\",CHAR(10),GESTION_SEG_1_TRIM!J98,CHAR(10),\"Trimestre 2\",CHAR(10),GESTION_SEG_2_TRIM!J98,CHAR(10),\"Trimestre 3\",CHAR(10),GESTION_SEG_3_TRIM!J98,CHAR(10),\"Trimestre 4\",CHAR(10),GESTION_SEG_4_TRIM!J98),\" \")","v":"Trimestre 1\n\nTrimestre 2\n\nTrimestre 3\n\nTrimestre 4\n"},{"$f":"IFERROR(_xlfn.CONCAT(\"Trimestre 1\",CHAR(10),GESTION_SEG_1_TRIM!K98,CHAR(10),\"Trimestre 2\",CHAR(10),GESTION_SEG_2_TRIM!K98,CHAR(10),\"Trimestre 3\",CHAR(10),GESTION_SEG_3_TRIM!K98,CHAR(10),\"Trimestre 4\",CHAR(10),GESTION_SEG_4_TRIM!K98),\" \")","v":"Trimestre 1\n\nTrimestre 2\n\nTrimestre 3\n\nTrimestre 4\n"}]
[null,null,null,null,null,null,null,null,null,null,null,null,null,null,null,{"$f":"IFERROR(MAX(GESTION_SEG_1_TRIM!H99,GESTION_SEG_2_TRIM!H99,GESTION_SEG_3_TRIM!H99,GESTION_SEG_4_TRIM!H99),\" \")","v":0},null,{"$f":"IFERROR(_xlfn.CONCAT(\"Trimestre 1\",CHAR(10),GESTION_SEG_1_TRIM!J99,CHAR(10),\"Trimestre 2\",CHAR(10),GESTION_SEG_2_TRIM!J99,CHAR(10),\"Trimestre 3\",CHAR(10),GESTION_SEG_3_TRIM!J99,CHAR(10),\"Trimestre 4\",CHAR(10),GESTION_SEG_4_TRIM!J99),\" \")","v":"Trimestre 1\n\nTrimestre 2\n\nTrimestre 3\n\nTrimestre 4\n"},{"$f":"IFERROR(_xlfn.CONCAT(\"Trimestre 1\",CHAR(10),GESTION_SEG_1_TRIM!K99,CHAR(10),\"Trimestre 2\",CHAR(10),GESTION_SEG_2_TRIM!K99,CHAR(10),\"Trimestre 3\",CHAR(10),GESTION_SEG_3_TRIM!K99,CHAR(10),\"Trimestre 4\",CHAR(10),GESTION_SEG_4_TRIM!K99),\" \")","v":"Trimestre 1\n\nTrimestre 2\n\nTrimestre 3\n\nTrimestre 4\n"}]
[null,null,null,null,null,null,null,null,null,null,null,null,null,null,null,{"$f":"IFERROR(MAX(GESTION_SEG_1_TRIM!H100,GESTION_SEG_2_TRIM!H100,GESTION_SEG_3_TRIM!H100,GESTION_SEG_4_TRIM!H100),\" \")","v":0},null,{"$f":"IFERROR(_xlfn.CONCAT(\"Trimestre 1\",CHAR(10),GESTION_SEG_1_TRIM!J100,CHAR(10),\"Trimestre 2\",CHAR(10),GESTION_SEG_2_TRIM!J100,CHAR(10),\"Trimestre 3\",CHAR(10),GESTION_SEG_3_TRIM!J100,CHAR(10),\"Trimestre 4\",CHAR(10),GESTION_SEG_4_TRIM!J100),\" \")","v":"Trimestre 1\n\nTrimestre 2\n\nTrimestre 3\n\nTrimestre 4\n"},{"$f":"IFERROR(_xlfn.CONCAT(\"Trimestre 1\",CHAR(10),GESTION_SEG_1_TRIM!K100,CHAR(10),\"Trimestre 2\",CHAR(10),GESTION_SEG_2_TRIM!K100,CHAR(10),\"Trimestre 3\",CHAR(10),GESTION_SEG_3_TRIM!K100,CHAR(10),\"Trimestre 4\",CHAR(10),GESTION_SEG_4_TRIM!K100),\" \")","v":"Trimestre 1\n\nTrimestre 2\n\nTrimestre 3\n\nTrimestre 4\n"}]
[null,null,null,null,null,null,null,null,null,null,null,null,null,null,null,{"$f":"IFERROR(MAX(GESTION_SEG_1_TRIM!H101,GESTION_SEG_2_TRIM!H101,GESTION_SEG_3_TRIM!H101,GESTION_SEG_4_TRIM!H101),\" \")","v":0},null,{"$f":"IFERROR(_xlfn.CONCAT(\"Trimestre 1\",CHAR(10),GESTION_SEG_1_TRIM!J101,CHAR(10),\"Trimestre 2\",CHAR(10),GESTION_SEG_2_TRIM!J101,CHAR(10),\"Trimestre 3\",CHAR(10),GESTION_SEG_3_TRIM!J101,CHAR(10),\"Trimestre 4\",CHAR(10),GESTION_SEG_4_TRIM!J101),\" \")","v":"Trimestre 1\n\nTrimestre 2\n\nTrimestre 3\n\nTrimestre 4\n"},{"$f":"IFERROR(_xlfn.CONCAT(\"Trimestre 1\",CHAR(10),GESTION_SEG_1_TRIM!K101,CHAR(10),\"Trimestre 2\",CHAR(10),GESTION_SEG_2_TRIM!K101,CHAR(10),\"Trimestre 3\",CHAR(10),GESTION_SEG_3_TRIM!K101,CHAR(10),\"Trimestre 4\",CHAR(10),GESTION_SEG_4_TRIM!K101),\" \")","v":"Trimestre 1\n\nTrimestre 2\n\nTrimestre 3\n\nTrimestre 4\n"}]
[null,null,null,null,null,null,null,null,null,null,null,null,null,null,null,{"$f":"IFERROR(MAX(GESTION_SEG_1_TRIM!H102,GESTION_SEG_2_TRIM!H102,GESTION_SEG_3_TRIM!H102,GESTION_SEG_4_TRIM!H102),\" \")","v":0},null,{"$f":"IFERROR(_xlfn.CONCAT(\"Trimestre 1\",CHAR(10),GESTION_SEG_1_TRIM!J102,CHAR(10),\"Trimestre 2\",CHAR(10),GESTION_SEG_2_TRIM!J102,CHAR(10),\"Trimestre 3\",CHAR(10),GESTION_SEG_3_TRIM!J102,CHAR(10),\"Trimestre 4\",CHAR(10),GESTION_SEG_4_TRIM!J102),\" \")","v":"Trimestre 1\n\nTrimestre 2\n\nTrimestre 3\n\nTrimestre 4\n"},{"$f":"IFERROR(_xlfn.CONCAT(\"Trimestre 1\",CHAR(10),GESTION_SEG_1_TRIM!K102,CHAR(10),\"Trimestre 2\",CHAR(10),GESTION_SEG_2_TRIM!K102,CHAR(10),\"Trimestre 3\",CHAR(10),GESTION_SEG_3_TRIM!K102,CHAR(10),\"Trimestre 4\",CHAR(10),GESTION_SEG_4_TRIM!K102),\" \")","v":"Trimestre 1\n\nTrimestre 2\n\nTrimestre 3\n\nTrimestre 4\n"}]
[null,null,null,null,null,null,null,null,null,null,null,null,null,null,null,{"$f":"IFERROR(MAX(GESTION_SEG_1_TRIM!H103,GESTION_SEG_2_TRIM!H103,GESTION_SEG_3_TRIM!H103,GESTION_SEG_4_TRIM!H103),\" \")","v":0},"",{"$f":"IFERROR(_xlfn.CONCAT(\"Trimestre 1\",CHAR(10),GESTION_SEG_1_TRIM!J103,CHAR(10),\"Trimestre 2\",CHAR(10),GESTION_SEG_2_TRIM!J103,CHAR(10),\"Trimestre 3\",CHAR(10),GESTION_SEG_3_TRIM!J103,CHAR(10),\"Trimestre 4\",CHAR(10),GESTION_SEG_4_TRIM!J103),\" \")","v":"Trimestre 1\n\nTrimestre 2\n\nTrimestre 3\n\nTrimestre 4\n"},{"$f":"IFERROR(_xlfn.CONCAT(\"Trimestre 1\",CHAR(10),GESTION_SEG_1_TRIM!K103,CHAR(10),\"Trimestre 2\",CHAR(10),GESTION_SEG_2_TRIM!K103,CHAR(10),\"Trimestre 3\",CHAR(10),GESTION_SEG_3_TRIM!K103,CHAR(10),\"Trimestre 4\",CHAR(10),GESTION_SEG_4_TRIM!K103),\" \")","v":"Trimestre 1\n\nTrimestre 2\n\nTrimestre 3\n\nTrimestre 4\n"}]
[null,null,null,null,null,null,null,null,null,null,null,null,null,null,null,{"$f":"IFERROR(MAX(GESTION_SEG_1_TRIM!H104,GESTION_SEG_2_TRIM!H104,GESTION_SEG_3_TRIM!H104,GESTION_SEG_4_TRIM!H104),\" \")","v":0},"",{"$f":"IFERROR(_xlfn.CONCAT(\"Trimestre 1\",CHAR(10),GESTION_SEG_1_TRIM!J104,CHAR(10),\"Trimestre 2\",CHAR(10),GESTION_SEG_2_TRIM!J104,CHAR(10),\"Trimestre 3\",CHAR(10),GESTION_SEG_3_TRIM!J104,CHAR(10),\"Trimestre 4\",CHAR(10),GESTION_SEG_4_TRIM!J104),\" \")","v":"Trimestre 1\n\nTrimestre 2\n\nTrimestre 3\n\nTrimestre 4\n"},{"$f":"IFERROR(_xlfn.CONCAT(\"Trimestre 1\",CHAR(10),GESTION_SEG_1_TRIM!K104,CHAR(10),\"Trimestre 2\",CHAR(10),GESTION_SEG_2_TRIM!K104,CHAR(10),\"Trimestre 3\",CHAR(10),GESTION_SEG_3_TRIM!K104,CHAR(10),\"Trimestre 4\",CHAR(10),GESTION_SEG_4_TRIM!K104),\" \")","v":"Trimestre 1\n\nTrimestre 2\n\nTrimestre 3\n\nTrimestre 4\n"}]
[null,null,null,null,null,null,null,null,null,null,null,null,null,null,null,{"$f":"IFERROR(MAX(GESTION_SEG_1_TRIM!H105,GESTION_SEG_2_TRIM!H105,GESTION_SEG_3_TRIM!H105,GESTION_SEG_4_TRIM!H105),\" \")","v":0},"",{"$f":"IFERROR(_xlfn.CONCAT(\"Trimestre 1\",CHAR(10),GESTION_SEG_1_TRIM!J105,CHAR(10),\"Trimestre 2\",CHAR(10),GESTION_SEG_2_TRIM!J105,CHAR(10),\"Trimestre 3\",CHAR(10),GESTION_SEG_3_TRIM!J105,CHAR(10),\"Trimestre 4\",CHAR(10),GESTION_SEG_4_TRIM!J105),\" \")","v":"Trimestre 1\n\nTrimestre 2\n\nTrimestre 3\n\nTrimestre 4\n"},{"$f":"IFERROR(_xlfn.CONCAT(\"Trimestre 1\",CHAR(10),GESTION_SEG_1_TRIM!K105,CHAR(10),\"Trimestre 2\",CHAR(10),GESTION_SEG_2_TRIM!K105,CHAR(10),\"Trimestre 3\",CHAR(10),GESTION_SEG_3_TRIM!K105,CHAR(10),\"Trimestre 4\",CHAR(10),GESTION_SEG_4_TRIM!K105),\" \")","v":"Trimestre 1\n\nTrimestre 2\n\nTrimestre 3\n\nTrimestre 4\n"}]
[null,null,"6.Integrar y optimizar los servicios administrativos de la Rama Judicial bajo un enfoque de transformación digital e innovación incluyendo los componentes financiero, administrativo, talento humano, entre otros",null,null,null,null,null,null,null,null,null,null,null,null,{"$f":"IFERROR(MAX(GESTION_SEG_1_TRIM!H106,GESTION_SEG_2_TRIM!H106,GESTION_SEG_3_TRIM!H106,GESTION_SEG_4_TRIM!H106),\" \")","v":0},"",{"$f":"IFERROR(_xlfn.CONCAT(\"Trimestre 1\",CHAR(10),GESTION_SEG_1_TRIM!J106,CHAR(10),\"Trimestre 2\",CHAR(10),GESTION_SEG_2_TRIM!J106,CHAR(10),\"Trimestre 3\",CHAR(10),GESTION_SEG_3_TRIM!J106,CHAR(10),\"Trimestre 4\",CHAR(10),GESTION_SEG_4_TRIM!J106),\" \")","v":"Trimestre 1\n\nTrimestre 2\n\nTrimestre 3\n\nTrimestre 4\n"},{"$f":"IFERROR(_xlfn.CONCAT(\"Trimestre 1\",CHAR(10),GESTION_SEG_1_TRIM!K106,CHAR(10),\"Trimestre 2\",CHAR(10),GESTION_SEG_2_TRIM!K106,CHAR(10),\"Trimestre 3\",CHAR(10),GESTION_SEG_3_TRIM!K106,CHAR(10),\"Trimestre 4\",CHAR(10),GESTION_SEG_4_TRIM!K106),\" \")","v":"Trimestre 1\n\nTrimestre 2\n\nTrimestre 3\n\nTrimestre 4\n"}]
[null,null,null,null,null,null,null,null,null,null,null,null,null,null,null,{"$f":"IFERROR(MAX(GESTION_SEG_1_TRIM!H107,GESTION_SEG_2_TRIM!H107,GESTION_SEG_3_TRIM!H107,GESTION_SEG_4_TRIM!H107),\" \")","v":0},null,{"$f":"IFERROR(_xlfn.CONCAT(\"Trimestre 1\",CHAR(10),GESTION_SEG_1_TRIM!J107,CHAR(10),\"Trimestre 2\",CHAR(10),GESTION_SEG_2_TRIM!J107,CHAR(10),\"Trimestre 3\",CHAR(10),GESTION_SEG_3_TRIM!J107,CHAR(10),\"Trimestre 4\",CHAR(10),GESTION_SEG_4_TRIM!J107),\" \")","v":"Trimestre 1\n\nTrimestre 2\n\nTrimestre 3\n\nTrimestre 4\n"},{"$f":"IFERROR(_xlfn.CONCAT(\"Trimestre 1\",CHAR(10),GESTION_SEG_1_TRIM!K107,CHAR(10),\"Trimestre 2\",CHAR(10),GESTION_SEG_2_TRIM!K107,CHAR(10),\"Trimestre 3\",CHAR(10),GESTION_SEG_3_TRIM!K107,CHAR(10),\"Trimestre 4\",CHAR(10),GESTION_SEG_4_TRIM!K107),\" \")","v":"Trimestre 1\n\nTrimestre 2\n\nTrimestre 3\n\nTrimestre 4\n"}]
[null,null,null,null,null,null,null,null,null,null,null,null,null,null,null,{"$f":"IFERROR(MAX(GESTION_SEG_1_TRIM!H108,GESTION_SEG_2_TRIM!H108,GESTION_SEG_3_TRIM!H108,GESTION_SEG_4_TRIM!H108),\" \")","v":0},null,{"$f":"IFERROR(_xlfn.CONCAT(\"Trimestre 1\",CHAR(10),GESTION_SEG_1_TRIM!J108,CHAR(10),\"Trimestre 2\",CHAR(10),GESTION_SEG_2_TRIM!J108,CHAR(10),\"Trimestre 3\",CHAR(10),GESTION_SEG_3_TRIM!J108,CHAR(10),\"Trimestre 4\",CHAR(10),GESTION_SEG_4_TRIM!J108),\" \")","v":"Trimestre 1\n\nTrimestre 2\n\nTrimestre 3\n\nTrimestre 4\n"},{"$f":"IFERROR(_xlfn.CONCAT(\"Trimestre 1\",CHAR(10),GESTION_SEG_1_TRIM!K108,CHAR(10),\"Trimestre 2\",CHAR(10),GESTION_SEG_2_TRIM!K108,CHAR(10),\"Trimestre 3\",CHAR(10),GESTION_SEG_3_TRIM!K108,CHAR(10),\"Trimestre 4\",CHAR(10),GESTION_SEG_4_TRIM!K108),\" \")","v":"Trimestre 1\n\nTrimestre 2\n\nTrimestre 3\n\nTrimestre 4\n"}]
[null,null,null,null,null,null,null,null,null,null,null,null,null,null,null,{"$f":"IFERROR(MAX(GESTION_SEG_1_TRIM!H109,GESTION_SEG_2_TRIM!H109,GESTION_SEG_3_TRIM!H109,GESTION_SEG_4_TRIM!H109),\" \")","v":0},null,{"$f":"IFERROR(_xlfn.CONCAT(\"Trimestre 1\",CHAR(10),GESTION_SEG_1_TRIM!J109,CHAR(10),\"Trimestre 2\",CHAR(10),GESTION_SEG_2_TRIM!J109,CHAR(10),\"Trimestre 3\",CHAR(10),GESTION_SEG_3_TRIM!J109,CHAR(10),\"Trimestre 4\",CHAR(10),GESTION_SEG_4_TRIM!J109),\" \")","v":"Trimestre 1\n\nTrimestre 2\n\nTrimestre 3\n\nTrimestre 4\n"},{"$f":"IFERROR(_xlfn.CONCAT(\"Trimestre 1\",CHAR(10),GESTION_SEG_1_TRIM!K109,CHAR(10),\"Trimestre 2\",CHAR(10),GESTION_SEG_2_TRIM!K109,CHAR(10),\"Trimestre 3\",CHAR(10),GESTION_SEG_3_TRIM!K109,CHAR(10),\"Trimestre 4\",CHAR(10),GESTION_SEG_4_TRIM!K109),\" \")","v":"Trimestre 1\n\nTrimestre 2\n\nTrimestre 3\n\nTrimestre 4\n"}]
[null,null,null,null,null,null,null,null,null,null,null,null,null,null,null,{"$f":"IFERROR(MAX(GESTION_SEG_1_TRIM!H110,GESTION_SEG_2_TRIM!H110,GESTION_SEG_3_TRIM!H110,GESTION_SEG_4_TRIM!H110),\" \")","v":0},null,{"$f":"IFERROR(_xlfn.CONCAT(\"Trimestre 1\",CHAR(10),GESTION_SEG_1_TRIM!J110,CHAR(10),\"Trimestre 2\",CHAR(10),GESTION_SEG_2_TRIM!J110,CHAR(10),\"Trimestre 3\",CHAR(10),GESTION_SEG_3_TRIM!J110,CHAR(10),\"Trimestre 4\",CHAR(10),GESTION_SEG_4_TRIM!J110),\" \")","v":"Trimestre 1\n\nTrimestre 2\n\nTrimestre 3\n\nTrimestre 4\n"},{"$f":"IFERROR(_xlfn.CONCAT(\"Trimestre 1\",CHAR(10),GESTION_SEG_1_TRIM!K110,CHAR(10),\"Trimestre 2\",CHAR(10),GESTION_SEG_2_TRIM!K110,CHAR(10),\"Trimestre 3\",CHAR(10),GESTION_SEG_3_TRIM!K110,CHAR(10),\"Trimestre 4\",CHAR(10),GESTION_SEG_4_TRIM!K110),\" \")","v":"Trimestre 1\n\nTrimestre 2\n\nTrimestre 3\n\nTrimestre 4\n"}]
[null,null,null,null,null,null,null,null,null,null,null,null,null,null,null,{"$f":"IFERROR(MAX(GESTION_SEG_1_TRIM!H111,GESTION_SEG_2_TRIM!H111,GESTION_SEG_3_TRIM!H111,GESTION_SEG_4_TRIM!H111),\" \")","v":0},null,{"$f":"IFERROR(_xlfn.CONCAT(\"Trimestre 1\",CHAR(10),GESTION_SEG_1_TRIM!J111,CHAR(10),\"Trimestre 2\",CHAR(10),GESTION_SEG_2_TRIM!J111,CHAR(10),\"Trimestre 3\",CHAR(10),GESTION_SEG_3_TRIM!J111,CHAR(10),\"Trimestre 4\",CHAR(10),GESTION_SEG_4_TRIM!J111),\" \")","v":"Trimestre 1\n\nTrimestre 2\n\nTrimestre 3\n\nTrimestre 4\n"},{"$f":"IFERROR(_xlfn.CONCAT(\"Trimestre 1\",CHAR(10),GESTION_SEG_1_TRIM!K111,CHAR(10),\"Trimestre 2\",CHAR(10),GESTION_SEG_2_TRIM!K111,CHAR(10),\"Trimestre 3\",CHAR(10),GESTION_SEG_3_TRIM!K111,CHAR(10),\"Trimestre 4\",CHAR(10),GESTION_SEG_4_TRIM!K111),\" \")","v":"Trimestre 1\n\nTrimestre 2\n\nTrimestre 3\n\nTrimestre 4\n"}]
[null,null,null,null,null,null,null,null,null,null,null,null,null,null,null,{"$f":"IFERROR(MAX(GESTION_SEG_1_TRIM!H112,GESTION_SEG_2_TRIM!H112,GESTION_SEG_3_TRIM!H112,GESTION_SEG_4_TRIM!H112),\" \")","v":0},"",{"$f":"IFERROR(_xlfn.CONCAT(\"Trimestre 1\",CHAR(10),GESTION_SEG_1_TRIM!J112,CHAR(10),\"Trimestre 2\",CHAR(10),GESTION_SEG_2_TRIM!J112,CHAR(10),\"Trimestre 3\",CHAR(10),GESTION_SEG_3_TRIM!J112,CHAR(10),\"Trimestre 4\",CHAR(10),GESTION_SEG_4_TRIM!J112),\" \")","v":"Trimestre 1\n\nTrimestre 2\n\nTrimestre 3\n\nTrimestre 4\n"},{"$f":"IFERROR(_xlfn.CONCAT(\"Trimestre 1\",CHAR(10),GESTION_SEG_1_TRIM!K112,CHAR(10),\"Trimestre 2\",CHAR(10),GESTION_SEG_2_TRIM!K112,CHAR(10),\"Trimestre 3\",CHAR(10),GESTION_SEG_3_TRIM!K112,CHAR(10),\"Trimestre 4\",CHAR(10),GESTION_SEG_4_TRIM!K112),\" \")","v":"Trimestre 1\n\nTrimestre 2\n\nTrimestre 3\n\nTrimestre 4\n"}]
[null,null,null,null,null,null,null,null,null,null,null,null,null,null,null,{"$f":"IFERROR(MAX(GESTION_SEG_1_TRIM!H113,GESTION_SEG_2_TRIM!H113,GESTION_SEG_3_TRIM!H113,GESTION_SEG_4_TRIM!H113),\" \")","v":0},"",{"$f":"IFERROR(_xlfn.CONCAT(\"Trimestre 1\",CHAR(10),GESTION_SEG_1_TRIM!J113,CHAR(10),\"Trimestre 2\",CHAR(10),GESTION_SEG_2_TRIM!J113,CHAR(10),\"Trimestre 3\",CHAR(10),GESTION_SEG_3_TRIM!J113,CHAR(10),\"Trimestre 4\",CHAR(10),GESTION_SEG_4_TRIM!J113),\" \")","v":"Trimestre 1\n\nTrimestre 2\n\nTrimestre 3\n\nTrimestre 4\n"},{"$f":"IFERROR(_xlfn.CONCAT(\"Trimestre 1\",CHAR(10),GESTION_SEG_1_TRIM!K113,CHAR(10),\"Trimestre 2\",CHAR(10),GESTION_SEG_2_TRIM!K113,CHAR(10),\"Trimestre 3\",CHAR(10),GESTION_SEG_3_TRIM!K113,CHAR(10),\"Trimestre 4\",CHAR(10),GESTION_SEG_4_TRIM!K113),\" \")","v":"Trimestre 1\n\nTrimestre 2\n\nTrimestre 3\n\nTrimestre 4\n"}]
[null,null,null,null,null,null,null,null,null,null,null,null,null,null,null,{"$f":"IFERROR(MAX(GESTION_SEG_1_TRIM!H114,GESTION_SEG_2_TRIM!H114,GESTION_SEG_3_TRIM!H114,GESTION_SEG_4_TRIM!H114),\" \")","v":0},"",{"$f":"IFERROR(_xlfn.CONCAT(\"Trimestre 1\",CHAR(10),GESTION_SEG_1_TRIM!J114,CHAR(10),\"Trimestre 2\",CHAR(10),GESTION_SEG_2_TRIM!J114,CHAR(10),\"Trimestre 3\",CHAR(10),GESTION_SEG_3_TRIM!J114,CHAR(10),\"Trimestre 4\",CHAR(10),GESTION_SEG_4_TRIM!J114),\" \")","v":"Trimestre 1\n\nTrimestre 2\n\nTrimestre 3\n\nTrimestre 4\n"},{"$f":"IFERROR(_xlfn.CONCAT(\"Trimestre 1\",CHAR(10),GESTION_SEG_1_TRIM!K114,CHAR(10),\"Trimestre 2\",CHAR(10),GESTION_SEG_2_TRIM!K114,CHAR(10),\"Trimestre 3\",CHAR(10),GESTION_SEG_3_TRIM!K114,CHAR(10),\"Trimestre 4\",CHAR(10),GESTION_SEG_4_TRIM!K114),\" \")","v":"Trimestre 1\n\nTrimestre 2\n\nTrimestre 3\n\nTrimestre 4\n"}]
[null,null,null,null,null,null,null,null,null,null,null,null,null,null,null,{"$f":"IFERROR(MAX(GESTION_SEG_1_TRIM!H115,GESTION_SEG_2_TRIM!H115,GESTION_SEG_3_TRIM!H115,GESTION_SEG_4_TRIM!H115),\" \")","v":0},"",{"$f":"IFERROR(_xlfn.CONCAT(\"Trimestre 1\",CHAR(10),GESTION_SEG_1_TRIM!J115,CHAR(10),\"Trimestre 2\",CHAR(10),GESTION_SEG_2_TRIM!J115,CHAR(10),\"Trimestre 3\",CHAR(10),GESTION_SEG_3_TRIM!J115,CHAR(10),\"Trimestre 4\",CHAR(10),GESTION_SEG_4_TRIM!J115),\" \")","v":"Trimestre 1\n\nTrimestre 2\n\nTrimestre 3\n\nTrimestre 4\n"},{"$f":"IFERROR(_xlfn.CONCAT(\"Trimestre 1\",CHAR(10),GESTION_SEG_1_TRIM!K115,CHAR(10),\"Trimestre 2\",CHAR(10),GESTION_SEG_2_TRIM!K115,CHAR(10),\"Trimestre 3\",CHAR(10),GESTION_SEG_3_TRIM!K115,CHAR(10),\"Trimestre 4\",CHAR(10),GESTION_SEG_4_TRIM!K115),\" \")","v":"Trimestre 1\n\nTrimestre 2\n\nTrimestre 3\n\nTrimestre 4\n"}]
["3. Confianza pública, transparencia y rendición de cuentas","Confianza pública, transparencia y rendición de cuentas: Aumentar la confianza pública en la justicia a través de la transparencia, la rendición de cuentas y la participación, incluyendo la información de justicia y la producción, gestión y acceso a las fuentes de derecho, el fortalecimiento del sistema de gestión de calidad y medio ambiente (SIGCMA) y el mejoramiento de la calidad y publicidad de la información. ","1. Incrementar la cantidad, la calidad y pertinencia de los datos sobre el funcionamiento del servicio de justicia bajo un modelo de gobierno de datos y un liderazgo unificado. ","4. Hacer un uso racional de los recursos naturales aplicando los principios y fases de la Economía Circular, para prevenir, mitigar y controlar los impactos ambientales.",null,null,null,null,null,null,null,null,null,null,null,{"$f":"IFERROR(MAX(GESTION_SEG_1_TRIM!H116,GESTION_SEG_2_TRIM!H116,GESTION_SEG_3_TRIM!H116,GESTION_SEG_4_TRIM!H116),\" \")","v":0},"",{"$f":"IFERROR(_xlfn.CONCAT(\"Trimestre 1\",CHAR(10),GESTION_SEG_1_TRIM!J116,CHAR(10),\"Trimestre 2\",CHAR(10),GESTION_SEG_2_TRIM!J116,CHAR(10),\"Trimestre 3\",CHAR(10),GESTION_SEG_3_TRIM!J116,CHAR(10),\"Trimestre 4\",CHAR(10),GESTION_SEG_4_TRIM!J116),\" \")","v":"Trimestre 1\n\nTrimestre 2\n\nTrimestre 3\n\nTrimestre 4\n"},{"$f":"IFERROR(_xlfn.CONCAT(\"Trimestre 1\",CHAR(10),GESTION_SEG_1_TRIM!K116,CHAR(10),\"Trimestre 2\",CHAR(10),GESTION_SEG_2_TRIM!K116,CHAR(10),\"Trimestre 3\",CHAR(10),GESTION_SEG_3_TRIM!K116,CHAR(10),\"Trimestre 4\",CHAR(10),GESTION_SEG_4_TRIM!K116),\" \")","v":"Trimestre 1\n\nTrimestre 2\n\nTrimestre 3\n\nTrimestre 4\n"}]
[null,null,null,null,null,null,null,null,null,null,null,null,null,null,null,{"$f":"IFERROR(MAX(GESTION_SEG_1_TRIM!H117,GESTION_SEG_2_TRIM!H117,GESTION_SEG_3_TRIM!H117,GESTION_SEG_4_TRIM!H117),\" \")","v":0},"",{"$f":"IFERROR(_xlfn.CONCAT(\"Trimestre 1\",CHAR(10),GESTION_SEG_1_TRIM!J117,CHAR(10),\"Trimestre 2\",CHAR(10),GESTION_SEG_2_TRIM!J117,CHAR(10),\"Trimestre 3\",CHAR(10),GESTION_SEG_3_TRIM!J117,CHAR(10),\"Trimestre 4\",CHAR(10),GESTION_SEG_4_TRIM!J117),\" \")","v":"Trimestre 1\n\nTrimestre 2\n\nTrimestre 3\n\nTrimestre 4\n"},{"$f":"IFERROR(_xlfn.CONCAT(\"Trimestre 1\",CHAR(10),GESTION_SEG_1_TRIM!K117,CHAR(10),\"Trimestre 2\",CHAR(10),GESTION_SEG_2_TRIM!K117,CHAR(10),\"Trimestre 3\",CHAR(10),GESTION_SEG_3_TRIM!K117,CHAR(10),\"Trimestre 4\",CHAR(10),GESTION_SEG_4_TRIM!K117),\" \")","v":"Trimestre 1\n\nTrimestre 2\n\nTrimestre 3\n\nTrimestre 4\n"}]
[null,null,null,null,null,null,null,null,null,null,null,null,null,null,null,{"$f":"IFERROR(MAX(GESTION_SEG_1_TRIM!H118,GESTION_SEG_2_TRIM!H118,GESTION_SEG_3_TRIM!H118,GESTION_SEG_4_TRIM!H118),\" \")","v":0},null,{"$f":"IFERROR(_xlfn.CONCAT(\"Trimestre 1\",CHAR(10),GESTION_SEG_1_TRIM!J118,CHAR(10),\"Trimestre 2\",CHAR(10),GESTION_SEG_2_TRIM!J118,CHAR(10),\"Trimestre 3\",CHAR(10),GESTION_SEG_3_TRIM!J118,CHAR(10),\"Trimestre 4\",CHAR(10),GESTION_SEG_4_TRIM!J118),\" \")","v":"Trimestre 1\n\nTrimestre 2\n\nTrimestre 3\n\nTrimestre 4\n"},{"$f":"IFERROR(_xlfn.CONCAT(\"Trimestre 1\",CHAR(10),GESTION_SEG_1_TRIM!K118,CHAR(10),\"Trimestre 2\",CHAR(10),GESTION_SEG_2_TRIM!K118,CHAR(10),\"Trimestre 3\",CHAR(10),GESTION_SEG_3_TRIM!K118,CHAR(10),\"Trimestre 4\",CHAR(10),GESTION_SEG_4_TRIM!K118),\" \")","v":"Trimestre 1\n\nTrimestre 2\n\nTrimestre 3\n\nTrimestre 4\n"}]
[null,null,null,null,null,null,null,null,null,null,null,null,null,null,null,{"$f":"IFERROR(MAX(GESTION_SEG_1_TRIM!H119,GESTION_SEG_2_TRIM!H119,GESTION_SEG_3_TRIM!H119,GESTION_SEG_4_TRIM!H119),\" \")","v":0},null,{"$f":"IFERROR(_xlfn.CONCAT(\"Trimestre 1\",CHAR(10),GESTION_SEG_1_TRIM!J119,CHAR(10),\"Trimestre 2\",CHAR(10),GESTION_SEG_2_TRIM!J119,CHAR(10),\"Trimestre 3\",CHAR(10),GESTION_SEG_3_TRIM!J119,CHAR(10),\"Trimestre 4\",CHAR(10),GESTION_SEG_4_TRIM!J119),\" \")","v":"Trimestre 1\n\nTrimestre 2\n\nTrimestre 3\n\nTrimestre 4\n"},{"$f":"IFERROR(_xlfn.CONCAT(\"Trimestre 1\",CHAR(10),GESTION_SEG_1_TRIM!K119,CHAR(10),\"Trimestre 2\",CHAR(10),GESTION_SEG_2_TRIM!K119,CHAR(10),\"Trimestre 3\",CHAR(10),GESTION_SEG_3_TRIM!K119,CHAR(10),\"Trimestre 4\",CHAR(10),GESTION_SEG_4_TRIM!K119),\" \")","v":"Trimestre 1\n\nTrimestre 2\n\nTrimestre 3\n\nTrimestre 4\n"}]
[null,null,null,null,null,null,null,null,null,null,null,null,null,null,null,{"$f":"IFERROR(MAX(GESTION_SEG_1_TRIM!H120,GESTION_SEG_2_TRIM!H120,GESTION_SEG_3_TRIM!H120,GESTION_SEG_4_TRIM!H120),\" \")","v":0},null,{"$f":"IFERROR(_xlfn.CONCAT(\"Trimestre 1\",CHAR(10),GESTION_SEG_1_TRIM!J120,CHAR(10),\"Trimestre 2\",CHAR(10),GESTION_SEG_2_TRIM!J120,CHAR(10),\"Trimestre 3\",CHAR(10),GESTION_SEG_3_TRIM!J120,CHAR(10),\"Trimestre 4\",CHAR(10),GESTION_SEG_4_TRIM!J120),\" \")","v":"Trimestre 1\n\nTrimestre 2\n\nTrimestre 3\n\nTrimestre 4\n"},{"$f":"IFERROR(_xlfn.CONCAT(\"Trimestre 1\",CHAR(10),GESTION_SEG_1_TRIM!K120,CHAR(10),\"Trimestre 2\",CHAR(10),GESTION_SEG_2_TRIM!K120,CHAR(10),\"Trimestre 3\",CHAR(10),GESTION_SEG_3_TRIM!K120,CHAR(10),\"Trimestre 4\",CHAR(10),GESTION_SEG_4_TRIM!K120),\" \")","v":"Trimestre 1\n\nTrimestre 2\n\nTrimestre 3\n\nTrimestre 4\n"}]
[null,null,null,null,null,null,null,null,null,null,null,null,null,null,null,{"$f":"IFERROR(MAX(GESTION_SEG_1_TRIM!H121,GESTION_SEG_2_TRIM!H121,GESTION_SEG_3_TRIM!H121,GESTION_SEG_4_TRIM!H121),\" \")","v":0},null,{"$f":"IFERROR(_xlfn.CONCAT(\"Trimestre 1\",CHAR(10),GESTION_SEG_1_TRIM!J121,CHAR(10),\"Trimestre 2\",CHAR(10),GESTION_SEG_2_TRIM!J121,CHAR(10),\"Trimestre 3\",CHAR(10),GESTION_SEG_3_TRIM!J121,CHAR(10),\"Trimestre 4\",CHAR(10),GESTION_SEG_4_TRIM!J121),\" \")","v":"Trimestre 1\n\nTrimestre 2\n\nTrimestre 3\n\nTrimestre 4\n"},{"$f":"IFERROR(_xlfn.CONCAT(\"Trimestre 1\",CHAR(10),GESTION_SEG_1_TRIM!K121,CHAR(10),\"Trimestre 2\",CHAR(10),GESTION_SEG_2_TRIM!K121,CHAR(10),\"Trimestre 3\",CHAR(10),GESTION_SEG_3_TRIM!K121,CHAR(10),\"Trimestre 4\",CHAR(10),GESTION_SEG_4_TRIM!K121),\" \")","v":"Trimestre 1\n\nTrimestre 2\n\nTrimestre 3\n\nTrimestre 4\n"}]
[null,null,null,null,null,null,null,null,null,null,null,null,null,null,null,{"$f":"IFERROR(MAX(GESTION_SEG_1_TRIM!H122,GESTION_SEG_2_TRIM!H122,GESTION_SEG_3_TRIM!H122,GESTION_SEG_4_TRIM!H122),\" \")","v":0},null,{"$f":"IFERROR(_xlfn.CONCAT(\"Trimestre 1\",CHAR(10),GESTION_SEG_1_TRIM!J122,CHAR(10),\"Trimestre 2\",CHAR(10),GESTION_SEG_2_TRIM!J122,CHAR(10),\"Trimestre 3\",CHAR(10),GESTION_SEG_3_TRIM!J122,CHAR(10),\"Trimestre 4\",CHAR(10),GESTION_SEG_4_TRIM!J122),\" \")","v":"Trimestre 1\n\nTrimestre 2\n\nTrimestre 3\n\nTrimestre 4\n"},{"$f":"IFERROR(_xlfn.CONCAT(\"Trimestre 1\",CHAR(10),GESTION_SEG_1_TRIM!K122,CHAR(10),\"Trimestre 2\",CHAR(10),GESTION_SEG_2_TRIM!K122,CHAR(10),\"Trimestre 3\",CHAR(10),GESTION_SEG_3_TRIM!K122,CHAR(10),\"Trimestre 4\",CHAR(10),GESTION_SEG_4_TRIM!K122),\" \")","v":"Trimestre 1\n\nTrimestre 2\n\nTrimestre 3\n\nTrimestre 4\n"}]
[null,null,null,null,null,null,null,null,null,null,null,null,null,null,null,{"$f":"IFERROR(MAX(GESTION_SEG_1_TRIM!H123,GESTION_SEG_2_TRIM!H123,GESTION_SEG_3_TRIM!H123,GESTION_SEG_4_TRIM!H123),\" \")","v":0},"",{"$f":"IFERROR(_xlfn.CONCAT(\"Trimestre 1\",CHAR(10),GESTION_SEG_1_TRIM!J123,CHAR(10),\"Trimestre 2\",CHAR(10),GESTION_SEG_2_TRIM!J123,CHAR(10),\"Trimestre 3\",CHAR(10),GESTION_SEG_3_TRIM!J123,CHAR(10),\"Trimestre 4\",CHAR(10),GESTION_SEG_4_TRIM!J123),\" \")","v":"Trimestre 1\n\nTrimestre 2\n\nTrimestre 3\n\nTrimestre 4\n"},{"$f":"IFERROR(_xlfn.CONCAT(\"Trimestre 1\",CHAR(10),GESTION_SEG_1_TRIM!K123,CHAR(10),\"Trimestre 2\",CHAR(10),GESTION_SEG_2_TRIM!K123,CHAR(10),\"Trimestre 3\",CHAR(10),GESTION_SEG_3_TRIM!K123,CHAR(10),\"Trimestre 4\",CHAR(10),GESTION_SEG_4_TRIM!K123),\" \")","v":"Trimestre 1\n\nTrimestre 2\n\nTrimestre 3\n\nTrimestre 4\n"}]
[null,null,null,null,null,null,null,null,null,null,null,null,null,null,null,{"$f":"IFERROR(MAX(GESTION_SEG_1_TRIM!H124,GESTION_SEG_2_TRIM!H124,GESTION_SEG_3_TRIM!H124,GESTION_SEG_4_TRIM!H124),\" \")","v":0},"",{"$f":"IFERROR(_xlfn.CONCAT(\"Trimestre 1\",CHAR(10),GESTION_SEG_1_TRIM!J124,CHAR(10),\"Trimestre 2\",CHAR(10),GESTION_SEG_2_TRIM!J124,CHAR(10),\"Trimestre 3\",CHAR(10),GESTION_SEG_3_TRIM!J124,CHAR(10),\"Trimestre 4\",CHAR(10),GESTION_SEG_4_TRIM!J124),\" \")","v":"Trimestre 1\n\nTrimestre 2\n\nTrimestre 3\n\nTrimestre 4\n"},{"$f":"IFERROR(_xlfn.CONCAT(\"Trimestre 1\",CHAR(10),GESTION_SEG_1_TRIM!K124,CHAR(10),\"Trimestre 2\",CHAR(10),GESTION_SEG_2_TRIM!K124,CHAR(10),\"Trimestre 3\",CHAR(10),GESTION_SEG_3_TRIM!K124,CHAR(10),\"Trimestre 4\",CHAR(10),GESTION_SEG_4_TRIM!K124),\" \")","v":"Trimestre 1\n\nTrimestre 2\n\nTrimestre 3\n\nTrimestre 4\n"}]
[null,null,null,null,null,null,null,null,null,null,null,null,null,null,null,{"$f":"IFERROR(MAX(GESTION_SEG_1_TRIM!H125,GESTION_SEG_2_TRIM!H125,GESTION_SEG_3_TRIM!H125,GESTION_SEG_4_TRIM!H125),\" \")","v":0},"",{"$f":"IFERROR(_xlfn.CONCAT(\"Trimestre 1\",CHAR(10),GESTION_SEG_1_TRIM!J125,CHAR(10),\"Trimestre 2\",CHAR(10),GESTION_SEG_2_TRIM!J125,CHAR(10),\"Trimestre 3\",CHAR(10),GESTION_SEG_3_TRIM!J125,CHAR(10),\"Trimestre 4\",CHAR(10),GESTION_SEG_4_TRIM!J125),\" \")","v":"Trimestre 1\n\nTrimestre 2\n\nTrimestre 3\n\nTrimestre 4\n"},{"$f":"IFERROR(_xlfn.CONCAT(\"Trimestre 1\",CHAR(10),GESTION_SEG_1_TRIM!K125,CHAR(10),\"Trimestre 2\",CHAR(10),GESTION_SEG_2_TRIM!K125,CHAR(10),\"Trimestre 3\",CHAR(10),GESTION_SEG_3_TRIM!K125,CHAR(10),\"Trimestre 4\",CHAR(10),GESTION_SEG_4_TRIM!K125),\" \")","v":"Trimestre 1\n\nTrimestre 2\n\nTrimestre 3\n\nTrimestre 4\n"}]
[null,null,"2. Consolidar la administración de la información entendida como todas las acciones rientadas a garantizar el acceso, consulta, uso y conservación de la información de justicia de manera ágil, flexible e inteligente, bajo un enfoque de innovación.",null,null,null,null,null,null,null,null,null,null,null,null,{"$f":"IFERROR(MAX(GESTION_SEG_1_TRIM!H126,GESTION_SEG_2_TRIM!H126,GESTION_SEG_3_TRIM!H126,GESTION_SEG_4_TRIM!H126),\" \")","v":0},"",{"$f":"IFERROR(_xlfn.CONCAT(\"Trimestre 1\",CHAR(10),GESTION_SEG_1_TRIM!J126,CHAR(10),\"Trimestre 2\",CHAR(10),GESTION_SEG_2_TRIM!J126,CHAR(10),\"Trimestre 3\",CHAR(10),GESTION_SEG_3_TRIM!J126,CHAR(10),\"Trimestre 4\",CHAR(10),GESTION_SEG_4_TRIM!J126),\" \")","v":"Trimestre 1\n\nTrimestre 2\n\nTrimestre 3\n\nTrimestre 4\n"},{"$f":"IFERROR(_xlfn.CONCAT(\"Trimestre 1\",CHAR(10),GESTION_SEG_1_TRIM!K126,CHAR(10),\"Trimestre 2\",CHAR(10),GESTION_SEG_2_TRIM!K126,CHAR(10),\"Trimestre 3\",CHAR(10),GESTION_SEG_3_TRIM!K126,CHAR(10),\"Trimestre 4\",CHAR(10),GESTION_SEG_4_TRIM!K126),\" \")","v":"Trimestre 1\n\nTrimestre 2\n\nTrimestre 3\n\nTrimestre 4\n"}]
[null,null,null,null,null,null,null,null,null,null,null,null,null,null,null,{"$f":"IFERROR(MAX(GESTION_SEG_1_TRIM!H127,GESTION_SEG_2_TRIM!H127,GESTION_SEG_3_TRIM!H127,GESTION_SEG_4_TRIM!H127),\" \")","v":0},"",{"$f":"IFERROR(_xlfn.CONCAT(\"Trimestre 1\",CHAR(10),GESTION_SEG_1_TRIM!J127,CHAR(10),\"Trimestre 2\",CHAR(10),GESTION_SEG_2_TRIM!J127,CHAR(10),\"Trimestre 3\",CHAR(10),GESTION_SEG_3_TRIM!J127,CHAR(10),\"Trimestre 4\",CHAR(10),GESTION_SEG_4_TRIM!J127),\" \")","v":"Trimestre 1\n\nTrimestre 2\n\nTrimestre 3\n\nTrimestre 4\n"},{"$f":"IFERROR(_xlfn.CONCAT(\"Trimestre 1\",CHAR(10),GESTION_SEG_1_TRIM!K127,CHAR(10),\"Trimestre 2\",CHAR(10),GESTION_SEG_2_TRIM!K127,CHAR(10),\"Trimestre 3\",CHAR(10),GESTION_SEG_3_TRIM!K127,CHAR(10),\"Trimestre 4\",CHAR(10),GESTION_SEG_4_TRIM!K127),\" \")","v":"Trimestre 1\n\nTrimestre 2\n\nTrimestre 3\n\nTrimestre 4\n"}]
[null,null,null,null,null,null,null,null,null,null,null,null,null,null,null,{"$f":"IFERROR(MAX(GESTION_SEG_1_TRIM!H128,GESTION_SEG_2_TRIM!H128,GESTION_SEG_3_TRIM!H128,GESTION_SEG_4_TRIM!H128),\" \")","v":0},null,{"$f":"IFERROR(_xlfn.CONCAT(\"Trimestre 1\",CHAR(10),GESTION_SEG_1_TRIM!J128,CHAR(10),\"Trimestre 2\",CHAR(10),GESTION_SEG_2_TRIM!J128,CHAR(10),\"Trimestre 3\",CHAR(10),GESTION_SEG_3_TRIM!J128,CHAR(10),\"Trimestre 4\",CHAR(10),GESTION_SEG_4_TRIM!J128),\" \")","v":"Trimestre 1\n\nTrimestre 2\n\nTrimestre 3\n\nTrimestre 4\n"},{"$f":"IFERROR(_xlfn.CONCAT(\"Trimestre 1\",CHAR(10),GESTION_SEG_1_TRIM!K128,CHAR(10),\"Trimestre 2\",CHAR(10),GESTION_SEG_2_TRIM!K128,CHAR(10),\"Trimestre 3\",CHAR(10),GESTION_SEG_3_TRIM!K128,CHAR(10),\"Trimestre 4\",CHAR(10),GESTION_SEG_4_TRIM!K128),\" \")","v":"Trimestre 1\n\nTrimestre 2\n\nTrimestre 3\n\nTrimestre 4\n"}]
[null,null,null,null,null,null,null,null,null,null,null,null,null,null,null,{"$f":"IFERROR(MAX(GESTION_SEG_1_TRIM!H129,GESTION_SEG_2_TRIM!H129,GESTION_SEG_3_TRIM!H129,GESTION_SEG_4_TRIM!H129),\" \")","v":0},null,{"$f":"IFERROR(_xlfn.CONCAT(\"Trimestre 1\",CHAR(10),GESTION_SEG_1_TRIM!J129,CHAR(10),\"Trimestre 2\",CHAR(10),GESTION_SEG_2_TRIM!J129,CHAR(10),\"Trimestre 3\",CHAR(10),GESTION_SEG_3_TRIM!J129,CHAR(10),\"Trimestre 4\",CHAR(10),GESTION_SEG_4_TRIM!J129),\" \")","v":"Trimestre 1\n\nTrimestre 2\n\nTrimestre 3\n\nTrimestre 4\n"},{"$f":"IFERROR(_xlfn.CONCAT(\"Trimestre 1\",CHAR(10),GESTION_SEG_1_TRIM!K129,CHAR(10),\"Trimestre 2\",CHAR(10),GESTION_SEG_2_TRIM!K129,CHAR(10),\"Trimestre 3\",CHAR(10),GESTION_SEG_3_TRIM!K129,CHAR(10),\"Trimestre 4\",CHAR(10),GESTION_SEG_4_TRIM!K129),\" \")","v":"Trimestre 1\n\nTrimestre 2\n\nTrimestre 3\n\nTrimestre 4\n"}]
[null,null,null,null,null,null,null,null,null,null,null,null,null,null,null,{"$f":"IFERROR(MAX(GESTION_SEG_1_TRIM!H130,GESTION_SEG_2_TRIM!H130,GESTION_SEG_3_TRIM!H130,GESTION_SEG_4_TRIM!H130),\" \")","v":0},null,{"$f":"IFERROR(_xlfn.CONCAT(\"Trimestre 1\",CHAR(10),GESTION_SEG_1_TRIM!J130,CHAR(10),\"Trimestre 2\",CHAR(10),GESTION_SEG_2_TRIM!J130,CHAR(10),\"Trimestre 3\",CHAR(10),GESTION_SEG_3_TRIM!J130,CHAR(10),\"Trimestre 4\",CHAR(10),GESTION_SEG_4_TRIM!J130),\" \")","v":"Trimestre 1\n\nTrimestre 2\n\nTrimestre 3\n\nTrimestre 4\n"},{"$f":"IFERROR(_xlfn.CONCAT(\"Trimestre 1\",CHAR(10),GESTION_SEG_1_TRIM!K130,CHAR(10),\"Trimestre 2\",CHAR(10),GESTION_SEG_2_TRIM!K130,CHAR(10),\"Trimestre 3\",CHAR(10),GESTION_SEG_3_TRIM!K130,CHAR(10),\"Trimestre 4\",CHAR(10),GESTION_SEG_4_TRIM!K130),\" \")","v":"Trimestre 1\n\nTrimestre 2\n\nTrimestre 3\n\nTrimestre 4\n"}]
[null,null,null,null,null,null,null,null,null,null,null,null,null,null,null,{"$f":"IFERROR(MAX(GESTION_SEG_1_TRIM!H131,GESTION_SEG_2_TRIM!H131,GESTION_SEG_3_TRIM!H131,GESTION_SEG_4_TRIM!H131),\" \")","v":0},null,{"$f":"IFERROR(_xlfn.CONCAT(\"Trimestre 1\",CHAR(10),GESTION_SEG_1_TRIM!J131,CHAR(10),\"Trimestre 2\",CHAR(10),GESTION_SEG_2_TRIM!J131,CHAR(10),\"Trimestre 3\",CHAR(10),GESTION_SEG_3_TRIM!J131,CHAR(10),\"Trimestre 4\",CHAR(10),GESTION_SEG_4_TRIM!J131),\" \")","v":"Trimestre 1\n\nTrimestre 2\n\nTrimestre 3\n\nTrimestre 4\n"},{"$f":"IFERROR(_xlfn.CONCAT(\"Trimestre 1\",CHAR(10),GESTION_SEG_1_TRIM!K131,CHAR(10),\"Trimestre 2\",CHAR(10),GESTION_SEG_2_TRIM!K131,CHAR(10),\"Trimestre 3\",CHAR(10),GESTION_SEG_3_TRIM!K131,CHAR(10),\"Trimestre 4\",CHAR(10),GESTION_SEG_4_TRIM!K131),\" \")","v":"Trimestre 1\n\nTrimestre 2\n\nTrimestre 3\n\nTrimestre 4\n"}]
[null,null,null,null,null,null,null,null,null,null,null,null,null,null,null,{"$f":"IFERROR(MAX(GESTION_SEG_1_TRIM!H132,GESTION_SEG_2_TRIM!H132,GESTION_SEG_3_TRIM!H132,GESTION_SEG_4_TRIM!H132),\" \")","v":0},null,{"$f":"IFERROR(_xlfn.CONCAT(\"Trimestre 1\",CHAR(10),GESTION_SEG_1_TRIM!J132,CHAR(10),\"Trimestre 2\",CHAR(10),GESTION_SEG_2_TRIM!J132,CHAR(10),\"Trimestre 3\",CHAR(10),GESTION_SEG_3_TRIM!J132,CHAR(10),\"Trimestre 4\",CHAR(10),GESTION_SEG_4_TRIM!J132),\" \")","v":"Trimestre 1\n\nTrimestre 2\n\nTrimestre 3\n\nTrimestre 4\n"},{"$f":"IFERROR(_xlfn.CONCAT(\"Trimestre 1\",CHAR(10),GESTION_SEG_1_TRIM!K132,CHAR(10),\"Trimestre 2\",CHAR(10),GESTION_SEG_2_TRIM!K132,CHAR(10),\"Trimestre 3\",CHAR(10),GESTION_SEG_3_TRIM!K132,CHAR(10),\"Trimestre 4\",CHAR(10),GESTION_SEG_4_TRIM!K132),\" \")","v":"Trimestre 1\n\nTrimestre 2\n\nTrimestre 3\n\nTrimestre 4\n"}]
[null,null,null,null,null,null,null,null,null,null,null,null,null,null,null,{"$f":"IFERROR(MAX(GESTION_SEG_1_TRIM!H133,GESTION_SEG_2_TRIM!H133,GESTION_SEG_3_TRIM!H133,GESTION_SEG_4_TRIM!H133),\" \")","v":0},"",{"$f":"IFERROR(_xlfn.CONCAT(\"Trimestre 1\",CHAR(10),GESTION_SEG_1_TRIM!J133,CHAR(10),\"Trimestre 2\",CHAR(10),GESTION_SEG_2_TRIM!J133,CHAR(10),\"Trimestre 3\",CHAR(10),GESTION_SEG_3_TRIM!J133,CHAR(10),\"Trimestre 4\",CHAR(10),GESTION_SEG_4_TRIM!J133),\" \")","v":"Trimestre 1\n\nTrimestre 2\n\nTrimestre 3\n\nTrimestre 4\n"},{"$f":"IFERROR(_xlfn.CONCAT(\"Trimestre 1\",CHAR(10),GESTION_SEG_1_TRIM!K133,CHAR(10),\"Trimestre 2\",CHAR(10),GESTION_SEG_2_TRIM!K133,CHAR(10),\"Trimestre 3\",CHAR(10),GESTION_SEG_3_TRIM!K133,CHAR(10),\"Trimestre 4\",CHAR(10),GESTION_SEG_4_TRIM!K133),\" \")","v":"Trimestre 1\n\nTrimestre 2\n\nTrimestre 3\n\nTrimestre 4\n"}]
[null,null,null,null,null,null,null,null,null,null,null,null,null,null,null,{"$f":"IFERROR(MAX(GESTION_SEG_1_TRIM!H134,GESTION_SEG_2_TRIM!H134,GESTION_SEG_3_TRIM!H134,GESTION_SEG_4_TRIM!H134),\" \")","v":0},"",{"$f":"IFERROR(_xlfn.CONCAT(\"Trimestre 1\",CHAR(10),GESTION_SEG_1_TRIM!J134,CHAR(10),\"Trimestre 2\",CHAR(10),GESTION_SEG_2_TRIM!J134,CHAR(10),\"Trimestre 3\",CHAR(10),GESTION_SEG_3_TRIM!J134,CHAR(10),\"Trimestre 4\",CHAR(10),GESTION_SEG_4_TRIM!J134),\" \")","v":"Trimestre 1\n\nTrimestre 2\n\nTrimestre 3\n\nTrimestre 4\n"},{"$f":"IFERROR(_xlfn.CONCAT(\"Trimestre 1\",CHAR(10),GESTION_SEG_1_TRIM!K134,CHAR(10),\"Trimestre 2\",CHAR(10),GESTION_SEG_2_TRIM!K134,CHAR(10),\"Trimestre 3\",CHAR(10),GESTION_SEG_3_TRIM!K134,CHAR(10),\"Trimestre 4\",CHAR(10),GESTION_SEG_4_TRIM!K134),\" \")","v":"Trimestre 1\n\nTrimestre 2\n\nTrimestre 3\n\nTrimestre 4\n"}]
[null,null,null,null,null,null,null,null,null,null,null,null,null,null,null,{"$f":"IFERROR(MAX(GESTION_SEG_1_TRIM!H135,GESTION_SEG_2_TRIM!H135,GESTION_SEG_3_TRIM!H135,GESTION_SEG_4_TRIM!H135),\" \")","v":0},{"$f":"IFERROR(P135/J135,\"\")","v":""},{"$f":"IFERROR(_xlfn.CONCAT(\"Trimestre 1\",CHAR(10),GESTION_SEG_1_TRIM!J135,CHAR(10),\"Trimestre 2\",CHAR(10),GESTION_SEG_2_TRIM!J135,CHAR(10),\"Trimestre 3\",CHAR(10),GESTION_SEG_3_TRIM!J135,CHAR(10),\"Trimestre 4\",CHAR(10),GESTION_SEG_4_TRIM!J135),\" \")","v":"Trimestre 1\n\nTrimestre 2\n\nTrimestre 3\n\nTrimestre 4\n"},{"$f":"IFERROR(_xlfn.CONCAT(\"Trimestre 1\",CHAR(10),GESTION_SEG_1_TRIM!K135,CHAR(10),\"Trimestre 2\",CHAR(10),GESTION_SEG_2_TRIM!K135,CHAR(10),\"Trimestre 3\",CHAR(10),GESTION_SEG_3_TRIM!K135,CHAR(10),\"Trimestre 4\",CHAR(10),GESTION_SEG_4_TRIM!K135),\" \")","v":"Trimestre 1\n\nTrimestre 2\n\nTrimestre 3\n\nTrimestre 4\n"}]
[null,null,"3. Fortalecer el Sistema integrado de Gestión de la Rama, orientado a la implementación y certificación de las normas antisoborno.","1. Gestionar el desarrollo de las competencias, la toma de conciencia , la cultura  organizacional  y el compromiso de los  servidores judiciales, contratistas, practicantes y  judicantes de contribuir a generar valor público en la administración de justicia, en el marco de  cumplimiento de los requisitos  aplicables y el comportamiento ético.\n3. Fomentar la transparencia y la participación generando lineamientos y promoviendo la rendición de cuentas ,la consulta, reporte y planteamiento de inquietudes en relación con las decisiones y aspectos del SIGCMA.",null,null,null,null,null,null,null,null,null,null,null,{"$f":"IFERROR(MAX(GESTION_SEG_1_TRIM!H136,GESTION_SEG_2_TRIM!H136,GESTION_SEG_3_TRIM!H136,GESTION_SEG_4_TRIM!H136),\" \")","v":0},"",{"$f":"IFERROR(_xlfn.CONCAT(\"Trimestre 1\",CHAR(10),GESTION_SEG_1_TRIM!J136,CHAR(10),\"Trimestre 2\",CHAR(10),GESTION_SEG_2_TRIM!J136,CHAR(10),\"Trimestre 3\",CHAR(10),GESTION_SEG_3_TRIM!J136,CHAR(10),\"Trimestre 4\",CHAR(10),GESTION_SEG_4_TRIM!J136),\" \")","v":"Trimestre 1\n\nTrimestre 2\n\nTrimestre 3\n\nTrimestre 4\n"},{"$f":"IFERROR(_xlfn.CONCAT(\"Trimestre 1\",CHAR(10),GESTION_SEG_1_TRIM!K136,CHAR(10),\"Trimestre 2\",CHAR(10),GESTION_SEG_2_TRIM!K136,CHAR(10),\"Trimestre 3\",CHAR(10),GESTION_SEG_3_TRIM!K136,CHAR(10),\"Trimestre 4\",CHAR(10),GESTION_SEG_4_TRIM!K136),\" \")","v":"Trimestre 1\n\nTrimestre 2\n\nTrimestre 3\n\nTrimestre 4\n"}]
[null,null,null,null,null,null,null,null,null,null,null,null,null,null,null,{"$f":"IFERROR(MAX(GESTION_SEG_1_TRIM!H137,GESTION_SEG_2_TRIM!H137,GESTION_SEG_3_TRIM!H137,GESTION_SEG_4_TRIM!H137),\" \")","v":0},"",{"$f":"IFERROR(_xlfn.CONCAT(\"Trimestre 1\",CHAR(10),GESTION_SEG_1_TRIM!J137,CHAR(10),\"Trimestre 2\",CHAR(10),GESTION_SEG_2_TRIM!J137,CHAR(10),\"Trimestre 3\",CHAR(10),GESTION_SEG_3_TRIM!J137,CHAR(10),\"Trimestre 4\",CHAR(10),GESTION_SEG_4_TRIM!J137),\" \")","v":"Trimestre 1\n\nTrimestre 2\n\nTrimestre 3\n\nTrimestre 4\n"},{"$f":"IFERROR(_xlfn.CONCAT(\"Trimestre 1\",CHAR(10),GESTION_SEG_1_TRIM!K137,CHAR(10),\"Trimestre 2\",CHAR(10),GESTION_SEG_2_TRIM!K137,CHAR(10),\"Trimestre 3\",CHAR(10),GESTION_SEG_3_TRIM!K137,CHAR(10),\"Trimestre 4\",CHAR(10),GESTION_SEG_4_TRIM!K137),\" \")","v":"Trimestre 1\n\nTrimestre 2\n\nTrimestre 3\n\nTrimestre 4\n"}]
[null,null,null,null,null,null,null,null,null,null,null,null,null,null,null,{"$f":"IFERROR(MAX(GESTION_SEG_1_TRIM!H138,GESTION_SEG_2_TRIM!H138,GESTION_SEG_3_TRIM!H138,GESTION_SEG_4_TRIM!H138),\" \")","v":0},null,{"$f":"IFERROR(_xlfn.CONCAT(\"Trimestre 1\",CHAR(10),GESTION_SEG_1_TRIM!J138,CHAR(10),\"Trimestre 2\",CHAR(10),GESTION_SEG_2_TRIM!J138,CHAR(10),\"Trimestre 3\",CHAR(10),GESTION_SEG_3_TRIM!J138,CHAR(10),\"Trimestre 4\",CHAR(10),GESTION_SEG_4_TRIM!J138),\" \")","v":"Trimestre 1\n\nTrimestre 2\n\nTrimestre 3\n\nTrimestre 4\n"},{"$f":"IFERROR(_xlfn.CONCAT(\"Trimestre 1\",CHAR(10),GESTION_SEG_1_TRIM!K138,CHAR(10),\"Trimestre 2\",CHAR(10),GESTION_SEG_2_TRIM!K138,CHAR(10),\"Trimestre 3\",CHAR(10),GESTION_SEG_3_TRIM!K138,CHAR(10),\"Trimestre 4\",CHAR(10),GESTION_SEG_4_TRIM!K138),\" \")","v":"Trimestre 1\n\nTrimestre 2\n\nTrimestre 3\n\nTrimestre 4\n"}]
[null,null,null,null,null,null,null,null,null,null,null,null,null,null,null,{"$f":"IFERROR(MAX(GESTION_SEG_1_TRIM!H139,GESTION_SEG_2_TRIM!H139,GESTION_SEG_3_TRIM!H139,GESTION_SEG_4_TRIM!H139),\" \")","v":0},null,{"$f":"IFERROR(_xlfn.CONCAT(\"Trimestre 1\",CHAR(10),GESTION_SEG_1_TRIM!J139,CHAR(10),\"Trimestre 2\",CHAR(10),GESTION_SEG_2_TRIM!J139,CHAR(10),\"Trimestre 3\",CHAR(10),GESTION_SEG_3_TRIM!J139,CHAR(10),\"Trimestre 4\",CHAR(10),GESTION_SEG_4_TRIM!J139),\" \")","v":"Trimestre 1\n\nTrimestre 2\n\nTrimestre 3\n\nTrimestre 4\n"},{"$f":"IFERROR(_xlfn.CONCAT(\"Trimestre 1\",CHAR(10),GESTION_SEG_1_TRIM!K139,CHAR(10),\"Trimestre 2\",CHAR(10),GESTION_SEG_2_TRIM!K139,CHAR(10),\"Trimestre 3\",CHAR(10),GESTION_SEG_3_TRIM!K139,CHAR(10),\"Trimestre 4\",CHAR(10),GESTION_SEG_4_TRIM!K139),\" \")","v":"Trimestre 1\n\nTrimestre 2\n\nTrimestre 3\n\nTrimestre 4\n"}]
[null,null,null,null,null,null,null,null,null,null,null,null,null,null,null,{"$f":"IFERROR(MAX(GESTION_SEG_1_TRIM!H140,GESTION_SEG_2_TRIM!H140,GESTION_SEG_3_TRIM!H140,GESTION_SEG_4_TRIM!H140),\" \")","v":0},null,{"$f":"IFERROR(_xlfn.CONCAT(\"Trimestre 1\",CHAR(10),GESTION_SEG_1_TRIM!J140,CHAR(10),\"Trimestre 2\",CHAR(10),GESTION_SEG_2_TRIM!J140,CHAR(10),\"Trimestre 3\",CHAR(10),GESTION_SEG_3_TRIM!J140,CHAR(10),\"Trimestre 4\",CHAR(10),GESTION_SEG_4_TRIM!J140),\" \")","v":"Trimestre 1\n\nTrimestre 2\n\nTrimestre 3\n\nTrimestre 4\n"},{"$f":"IFERROR(_xlfn.CONCAT(\"Trimestre 1\",CHAR(10),GESTION_SEG_1_TRIM!K140,CHAR(10),\"Trimestre 2\",CHAR(10),GESTION_SEG_2_TRIM!K140,CHAR(10),\"Trimestre 3\",CHAR(10),GESTION_SEG_3_TRIM!K140,CHAR(10),\"Trimestre 4\",CHAR(10),GESTION_SEG_4_TRIM!K140),\" \")","v":"Trimestre 1\n\nTrimestre 2\n\nTrimestre 3\n\nTrimestre 4\n"}]
[null,null,null,null,null,null,null,null,null,null,null,null,null,null,null,{"$f":"IFERROR(MAX(GESTION_SEG_1_TRIM!H141,GESTION_SEG_2_TRIM!H141,GESTION_SEG_3_TRIM!H141,GESTION_SEG_4_TRIM!H141),\" \")","v":0},null,{"$f":"IFERROR(_xlfn.CONCAT(\"Trimestre 1\",CHAR(10),GESTION_SEG_1_TRIM!J141,CHAR(10),\"Trimestre 2\",CHAR(10),GESTION_SEG_2_TRIM!J141,CHAR(10),\"Trimestre 3\",CHAR(10),GESTION_SEG_3_TRIM!J141,CHAR(10),\"Trimestre 4\",CHAR(10),GESTION_SEG_4_TRIM!J141),\" \")","v":"Trimestre 1\n\nTrimestre 2\n\nTrimestre 3\n\nTrimestre 4\n"},{"$f":"IFERROR(_xlfn.CONCAT(\"Trimestre 1\",CHAR(10),GESTION_SEG_1_TRIM!K141,CHAR(10),\"Trimestre 2\",CHAR(10),GESTION_SEG_2_TRIM!K141,CHAR(10),\"Trimestre 3\",CHAR(10),GESTION_SEG_3_TRIM!K141,CHAR(10),\"Trimestre 4\",CHAR(10),GESTION_SEG_4_TRIM!K141),\" \")","v":"Trimestre 1\n\nTrimestre 2\n\nTrimestre 3\n\nTrimestre 4\n"}]
[null,null,null,null,null,null,null,null,null,null,null,null,null,null,null,{"$f":"IFERROR(MAX(GESTION_SEG_1_TRIM!H142,GESTION_SEG_2_TRIM!H142,GESTION_SEG_3_TRIM!H142,GESTION_SEG_4_TRIM!H142),\" \")","v":0},null,{"$f":"IFERROR(_xlfn.CONCAT(\"Trimestre 1\",CHAR(10),GESTION_SEG_1_TRIM!J142,CHAR(10),\"Trimestre 2\",CHAR(10),GESTION_SEG_2_TRIM!J142,CHAR(10),\"Trimestre 3\",CHAR(10),GESTION_SEG_3_TRIM!J142,CHAR(10),\"Trimestre 4\",CHAR(10),GESTION_SEG_4_TRIM!J142),\" \")","v":"Trimestre 1\n\nTrimestre 2\n\nTrimestre 3\n\nTrimestre 4\n"},{"$f":"IFERROR(_xlfn.CONCAT(\"Trimestre 1\",CHAR(10),GESTION_SEG_1_TRIM!K142,CHAR(10),\"Trimestre 2\",CHAR(10),GESTION_SEG_2_TRIM!K142,CHAR(10),\"Trimestre 3\",CHAR(10),GESTION_SEG_3_TRIM!K142,CHAR(10),\"Trimestre 4\",CHAR(10),GESTION_SEG_4_TRIM!K142),\" \")","v":"Trimestre 1\n\nTrimestre 2\n\nTrimestre 3\n\nTrimestre 4\n"}]
[null,null,null,null,null,null,null,null,null,null,null,null,null,null,null,{"$f":"IFERROR(MAX(GESTION_SEG_1_TRIM!H143,GESTION_SEG_2_TRIM!H143,GESTION_SEG_3_TRIM!H143,GESTION_SEG_4_TRIM!H143),\" \")","v":0},"",{"$f":"IFERROR(_xlfn.CONCAT(\"Trimestre 1\",CHAR(10),GESTION_SEG_1_TRIM!J143,CHAR(10),\"Trimestre 2\",CHAR(10),GESTION_SEG_2_TRIM!J143,CHAR(10),\"Trimestre 3\",CHAR(10),GESTION_SEG_3_TRIM!J143,CHAR(10),\"Trimestre 4\",CHAR(10),GESTION_SEG_4_TRIM!J143),\" \")","v":"Trimestre 1\n\nTrimestre 2\n\nTrimestre 3\n\nTrimestre 4\n"},{"$f":"IFERROR(_xlfn.CONCAT(\"Trimestre 1\",CHAR(10),GESTION_SEG_1_TRIM!K143,CHAR(10),\"Trimestre 2\",CHAR(10),GESTION_SEG_2_TRIM!K143,CHAR(10),\"Trimestre 3\",CHAR(10),GESTION_SEG_3_TRIM!K143,CHAR(10),\"Trimestre 4\",CHAR(10),GESTION_SEG_4_TRIM!K143),\" \")","v":"Trimestre 1\n\nTrimestre 2\n\nTrimestre 3\n\nTrimestre 4\n"}]
[null,null,null,null,null,null,null,null,null,null,null,null,null,null,null,{"$f":"IFERROR(MAX(GESTION_SEG_1_TRIM!H144,GESTION_SEG_2_TRIM!H144,GESTION_SEG_3_TRIM!H144,GESTION_SEG_4_TRIM!H144),\" \")","v":0},"",{"$f":"IFERROR(_xlfn.CONCAT(\"Trimestre 1\",CHAR(10),GESTION_SEG_1_TRIM!J144,CHAR(10),\"Trimestre 2\",CHAR(10),GESTION_SEG_2_TRIM!J144,CHAR(10),\"Trimestre 3\",CHAR(10),GESTION_SEG_3_TRIM!J144,CHAR(10),\"Trimestre 4\",CHAR(10),GESTION_SEG_4_TRIM!J144),\" \")","v":"Trimestre 1\n\nTrimestre 2\n\nTrimestre 3\n\nTrimestre 4\n"},{"$f":"IFERROR(_xlfn.CONCAT(\"Trimestre 1\",CHAR(10),GESTION_SEG_1_TRIM!K144,CHAR(10),\"Trimestre 2\",CHAR(10),GESTION_SEG_2_TRIM!K144,CHAR(10),\"Trimestre 3\",CHAR(10),GESTION_SEG_3_TRIM!K144,CHAR(10),\"Trimestre 4\",CHAR(10),GESTION_SEG_4_TRIM!K144),\" \")","v":"Trimestre 1\n\nTrimestre 2\n\nTrimestre 3\n\nTrimestre 4\n"}]
[null,null,null,null,null,null,null,null,null,null,null,null,null,null,null,{"$f":"IFERROR(MAX(GESTION_SEG_1_TRIM!H145,GESTION_SEG_2_TRIM!H145,GESTION_SEG_3_TRIM!H145,GESTION_SEG_4_TRIM!H145),\" \")","v":0},"",{"$f":"IFERROR(_xlfn.CONCAT(\"Trimestre 1\",CHAR(10),GESTION_SEG_1_TRIM!J145,CHAR(10),\"Trimestre 2\",CHAR(10),GESTION_SEG_2_TRIM!J145,CHAR(10),\"Trimestre 3\",CHAR(10),GESTION_SEG_3_TRIM!J145,CHAR(10),\"Trimestre 4\",CHAR(10),GESTION_SEG_4_TRIM!J145),\" \")","v":"Trimestre 1\n\nTrimestre 2\n\nTrimestre 3\n\nTrimestre 4\n"},{"$f":"IFERROR(_xlfn.CONCAT(\"Trimestre 1\",CHAR(10),GESTION_SEG_1_TRIM!K145,CHAR(10),\"Trimestre 2\",CHAR(10),GESTION_SEG_2_TRIM!K145,CHAR(10),\"Trimestre 3\",CHAR(10),GESTION_SEG_3_TRIM!K145,CHAR(10),\"Trimestre 4\",CHAR(10),GESTION_SEG_4_TRIM!K145),\" \")","v":"Trimestre 1\n\nTrimestre 2\n\nTrimestre 3\n\nTrimestre 4\n"}]
[null,null,"4. Aumentar la confianza, la cercanía y acceso a los servicios de la Rama Judicial a través, entre otros, de una comunicación clara y asertiva con la ciudadanía.","3. Fomentar la transparencia y la participación generando lineamientos y promoviendo la rendición de cuentas ,la consulta, reporte y planteamiento de inquietudes en relación con las decisiones y aspectos del SIGCMA.","Apoyo","Admin - Asistencia Legal","Central","Automatizar trámites y procedimientos a cargo de la Unidad de Asistencia Legal.","Entregable",null,null,"Despacho del Director Asistencia Legal","Herramienta tecnológica ","2024-01-03","2024-12-31",{"$f":"IFERROR(MAX(GESTION_SEG_1_TRIM!H146,GESTION_SEG_2_TRIM!H146,GESTION_SEG_3_TRIM!H146,GESTION_SEG_4_TRIM!H146),\" \")","v":100},"",{"$f":"IFERROR(_xlfn.CONCAT(\"Trimestre 1\",CHAR(10),GESTION_SEG_1_TRIM!J146,CHAR(10),\"Trimestre 2\",CHAR(10),GESTION_SEG_2_TRIM!J146,CHAR(10),\"Trimestre 3\",CHAR(10),GESTION_SEG_3_TRIM!J146,CHAR(10),\"Trimestre 4\",CHAR(10),GESTION_SEG_4_TRIM!J146),\" \")","v":"Trimestre 1\nNinguna\nTrimestre 2\n\nTrimestre 3\nEn el presente trimeste no se materializó una dificiltad, pero sí es de anotar que, la matriz de procesos disciplinarios se alimenta y se usa según los proces que tengamos asignados para etapa de juzgamiento remitidos por la Unidad de Control Interno Disciplinario.\nTrimestre 4\nEn el presente trimeste no se materializó una dificiltad, pero sí es de anotar que, la matriz de procesos disciplinarios se alimenta y se usa según los proces que tengamos asignados para etapa de juzgamiento remitidos por la Unidad de Control Interno Disciplinario."},{"$f":"IFERROR(_xlfn.CONCAT(\"Trimestre 1\",CHAR(10),GESTION_SEG_1_TRIM!K146,CHAR(10),\"Trimestre 2\",CHAR(10),GESTION_SEG_2_TRIM!K146,CHAR(10),\"Trimestre 3\",CHAR(10),GESTION_SEG_3_TRIM!K146,CHAR(10),\"Trimestre 4\",CHAR(10),GESTION_SEG_4_TRIM!K146),\" \")","v":"Trimestre 1\nDurante el primer trimestre del 2024, se desarrollo un cuadro de control de los procesos disiciplinarios, conceptos jurídicos y derechos de petición que estan a cargo del director de la Unidad de Asistencia Legal\nTrimestre 2\n\nTrimestre 3\nDurante el terce trimestre del 2024, Enel cuadro de control de los procesos disiciplinarios, conceptos jurídicos y derechos de petición que estan a cargo del director de la Unidad de Asistencia Legal, se continuó registrando y diligenciando de acuerdo a las solicitudes requeridas de la Unidad en el trismestre.\nTrimestre 4\n"}]
[null,null,null,null,"Apoyo","Admin - Asistencia Legal","Central","Automatizar trámites y procedimientos a cargo del Grupo de Sentencias.","Entregable",null,null,"Grupo de sentencias","Herramienta tecnológica ","2024-01-03","2024-12-31",{"$f":"IFERROR(MAX(GESTION_SEG_1_TRIM!H147,GESTION_SEG_2_TRIM!H147,GESTION_SEG_3_TRIM!H147,GESTION_SEG_4_TRIM!H147),\" \")","v":50},"",{"$f":"IFERROR(_xlfn.CONCAT(\"Trimestre 1\",CHAR(10),GESTION_SEG_1_TRIM!J147,CHAR(10),\"Trimestre 2\",CHAR(10),GESTION_SEG_2_TRIM!J147,CHAR(10),\"Trimestre 3\",CHAR(10),GESTION_SEG_3_TRIM!J147,CHAR(10),\"Trimestre 4\",CHAR(10),GESTION_SEG_4_TRIM!J147),\" \")","v":"Trimestre 1\n\nTrimestre 2\n\nTrimestre 3\nEn el tercer trimestre, se han presentado las siguientes dificultades para el desarrollo del proyecto:\n\nLos documentos aportados para la fase de entrenamiento no se encuentran en formato OCR lo que dificultad en gran medida el entrenamiento de la herramienta del análisis de sentencias.\n\nDado el gran volumen de documentos con los que cuenta un expediente se hace dificil para la herramienta de inteligencia artificial distinguir en la étapa de entrenamiento las instancias de una sentencia, identificar que es un auto o una conciliación\nTrimestre 4\nEn el cuarto trimestre, se ha presentado las siguientes dificultades para el desarrollo del proyecto:\n\nIntegración de la fase 1 de la inteligencia artificial desarrollada por NUVU con el aplicartivo Efinómina. "},{"$f":"IFERROR(_xlfn.CONCAT(\"Trimestre 1\",CHAR(10),GESTION_SEG_1_TRIM!K147,CHAR(10),\"Trimestre 2\",CHAR(10),GESTION_SEG_2_TRIM!K147,CHAR(10),\"Trimestre 3\",CHAR(10),GESTION_SEG_3_TRIM!K147,CHAR(10),\"Trimestre 4\",CHAR(10),GESTION_SEG_4_TRIM!K147),\" \")","v":"Trimestre 1\nDurante el primer trimestre de 2024, se desarrollaron 6 reuniones con la Unidad de Transformación Dígital y la empresa BIG View partners de Microsoft, quienes presentaron una propuesta con un demo para la automatización y extracción de información para la elaboracion del acto administrativo del reconocimiento de pago de sentencias y conciliaciones. La propuesta en mención no colmó las expectativas del Grupo de Sentencias y de la Unidad de Transformación Digital, por lo que en la última reunión se decidió emprender la iniciativa con herramientas de Inteligencia Artificial de AWS, para lo cual se desarrolló una primera reunión con la empresa NUVU partner de AWS en Colombia y donde se expuso las ideas y las tareas que se pretenden automatizar por parte del Grupo de Sentencias\nTrimestre 2\nDurante el segundo trimestre de 2024, se desarrollaron 3 reuniones con la Unidad de Transformación Dígital y la empresa NUVU partner de AWS en Colombia, donde se realizó la revisión del proceso de análisis de sentencias que se pretenden automatizar,  por parte del Grupo de Sentencias, a su vez se determinó integrar al nuevo desarrollo de inteligencia artificial la consulta de los documentos de identidad con la Registraduría Nacional. Producto de esas reuniones se elaboraron los siguientes documentos: Propuesta Análisis de Sentencias con IA, Flujo Analisis Sentencias y PlanteamientoAnalisisDeSentencias_paraNUVU, lo anterior para estructurar y presentar el proyecto para aprobación. Finalmente en la reunión de fecha 28 de junio de 2024, la Ingeniera Johanna Pimiento dió el aval para seguir adelante con la primera fase de construcción e implementación del proyecto de análisis de sentencias en conjunto con NUVU y se acordó la presentación del plan de trabajo y seguimiento por medio de reuniones quincenales en conjunto con las Unidades de Transformación Digital y Asistencia Legal. \nTrimestre 3\nEn el tercer trimestre de 2024, se dió inicio a la fase 1 que corresponde a la fragmentación de los documentos de cuentas de cobro y extracción de las entidades para la elaboración del formato de acto administrativo de reconocimiento de pago de sentencias y conciliaciones. \nEn el mismo sentido se realizó el cargue en el bucket de AWS de los documentos de cuentas de cobro escaneados y pagados como insumo para el correspondiente entrenamiento del análisis de sentencias para la generación del acto administrativo correspondiente al reconocimiento de pago de la sentencia.\nAsí mismo a la fecha por parte del contratista NUVU se ha recibido a la fecha el diagrama de la arquitectura que tienen las fases 1 y 2, los documentos de historias de usuario los cuales se encuentran en revisión y ajustes y se han realizado en lo corrido del trimestre 15 sesiones, en las que se ha revisado el diseño UX de la herramienta, se han revisado los documentos de arquitectura de las fases I y II, se ha realizado la validación del plan de trabajo propuesto por NUVU, se han realizado validaciones y alternativas para el enrolamiento de usuarios externos al análisis de sentencias, se llevaron a cabo dos sesiones de levantamiento de información y aclaración de dudas y se han realizado reuniones de revisión y avance del proyecto.\nTrimestre 4\nEn el cuarto trimestre de 2024, se presentó cambio en el proyecto, donde se dispuso la integración de la fase 1 de la inteligencia artificial desarrollada por NUVU que contempla la fragmentación de los documentos de cuentas de cobro y extracción de las entidades para que esta información sirva de insumo al sistema Efinómina, para el cálculo, liquidación y elaboración de los actos administrativos de reconocimiento de pago de las sentencias en contra de la entidad. \nPara esta integración se realizaron reuniones entre el grupo técnico de efinómina de soporte lógico y la entidad con el grupo técnico de NUVU y los líderes de proyecto de la entidad para entender las funcionalidades que realiza el aplicativo de efinómina y la extracción de información que realiza la IA desarrollada por NUVU. Posterior a esta reunión de presentación se realizó una reunión para realizar un mapeo de los campos de información requeridos por Efinómina para realizar la liquidación para pago de las sentencias y elaboración de los actos administrativos de reconocimiento de pago y las entidades que extrae la IA desarrollada por NUVU y se discriminaron cuales de estas entidades sirven de insumo a las entradas de información requeridas por Efinómina. Está pendiente el desarrollo de la Base de datos encargada de recibir la información extraida por la IA de NUVU y la cual será un paso intermedio en la migración de información hacia Efinómina."}]
[null,null,null,null,"Apoyo","Admin - Asistencia Legal","Central","Fortalecimiento de la gestión del Cobro Coactivo.","Meta cuantificable",36114,"Porcentaje","División de Cobro Coactivo","Inventario de medidas cautelares efectivas o materializadas sobre los bienes de los deudores contra quienes se adelantan procesos de cobro coactivo actualizado.","2024-01-22","2024-12-31",{"$f":"IFERROR(MAX(GESTION_SEG_1_TRIM!H148,GESTION_SEG_2_TRIM!H148,GESTION_SEG_3_TRIM!H148,GESTION_SEG_4_TRIM!H148),\" \")","v":0.8},null,{"$f":"IFERROR(_xlfn.CONCAT(\"Trimestre 1\",CHAR(10),GESTION_SEG_1_TRIM!J148,CHAR(10),\"Trimestre 2\",CHAR(10),GESTION_SEG_2_TRIM!J148,CHAR(10),\"Trimestre 3\",CHAR(10),GESTION_SEG_3_TRIM!J148,CHAR(10),\"Trimestre 4\",CHAR(10),GESTION_SEG_4_TRIM!J148),\" \")","v":"Trimestre 1\n\nTrimestre 2\nNinguna\nTrimestre 3\n\nTrimestre 4\n"},{"$f":"IFERROR(_xlfn.CONCAT(\"Trimestre 1\",CHAR(10),GESTION_SEG_1_TRIM!K148,CHAR(10),\"Trimestre 2\",CHAR(10),GESTION_SEG_2_TRIM!K148,CHAR(10),\"Trimestre 3\",CHAR(10),GESTION_SEG_3_TRIM!K148,CHAR(10),\"Trimestre 4\",CHAR(10),GESTION_SEG_4_TRIM!K148),\" \")","v":"Trimestre 1\n\nTrimestre 2\nLa meta para el 2024, es gestionar y realizar 2 capacitaciones en materia de Prevención del Daño Antijurídico. Se reporta avance sobre la gestión adelantada.\nTrimestre 3\n\nTrimestre 4\n"}]
[null,null,null,null,"Apoyo","Admin - Asistencia Legal","Central","Realizar capacitaciones sobre la política de daño antijurídico (PDA) al plan de acción de la DEAJ, en cumplimiento de los lineamientos establecidos por la Agencia Nacional de Defensa Jurídica del Estado- ANDJE.","Entregable",null,null,"División de Procesos","Listado de asistencia las capacitaciones y/o registro fotografico","2024-03-01","2024-09-30",{"$f":"IFERROR(MAX(GESTION_SEG_1_TRIM!H149,GESTION_SEG_2_TRIM!H149,GESTION_SEG_3_TRIM!H149,GESTION_SEG_4_TRIM!H149),\" \")","v":111864},null,{"$f":"IFERROR(_xlfn.CONCAT(\"Trimestre 1\",CHAR(10),GESTION_SEG_1_TRIM!J149,CHAR(10),\"Trimestre 2\",CHAR(10),GESTION_SEG_2_TRIM!J149,CHAR(10),\"Trimestre 3\",CHAR(10),GESTION_SEG_3_TRIM!J149,CHAR(10),\"Trimestre 4\",CHAR(10),GESTION_SEG_4_TRIM!J149),\" \")","v":"Trimestre 1\nNinguna\nTrimestre 2\n\nTrimestre 3\nNinguna\nTrimestre 4\nNinguna"},{"$f":"IFERROR(_xlfn.CONCAT(\"Trimestre 1\",CHAR(10),GESTION_SEG_1_TRIM!K149,CHAR(10),\"Trimestre 2\",CHAR(10),GESTION_SEG_2_TRIM!K149,CHAR(10),\"Trimestre 3\",CHAR(10),GESTION_SEG_3_TRIM!K149,CHAR(10),\"Trimestre 4\",CHAR(10),GESTION_SEG_4_TRIM!K149),\" \")","v":"Trimestre 1\n25 enero de 2024: se radicó ante la EJRLB la solicitud de capacitaciones – Ciclo de videoconferencias Prevención del Daño Antijurídico - Radicado DEAJALO24-78 (adjunto).\n13 de febrero de 2024: se recibió la confirmación de la EJRLB en que se indica que mediante el Acuerdo PCSJA 23–12054 del 30 de marzo de 2023, el CSJ aprobó el Plan de Formación de la Rama Judicial para las vigencias 2023-2024. En este \norden, la EJRLB deberá ejecutar aquellas actividades autorizadas por la  Corporación y que están incorporadas en el mencionado Plan, el cual tiene previstas dos actividades referentes a la \nprevención del daño antijurídico - Radicado EJO24-177  (adjunto).\nTrimestre 2\nDurante el primer semestre de 2024, se comprometieron recursos para el pago por valor de 111.864 millones de pesos que corresponde a una ejecución del 56% del total del presupuesto asignado para los rubros de sentencias y conciliaciones\nTrimestre 3\nEl pasado 29 de agosto en la sede del Hotel DoubleTree by Hilton Avenida Carrera 60 No. 22-99, en el horario de 8:00 a.m. a 2:00 p.m tuvo lugar el Conversatorio para Jueces Administrativos y Penales: “La prevención del daño antijurídico como principio de la labor judicial”, actividad que tuvo dos modalidades de participación: presencial y virtual. Contó con la participación de 215 discentes de los cuales 155 fueron remotos y 60 fueron presenciales. Actualmente se está preparando la actividad academica que ya cuenta con la reserva del espacio físico en Bogotá Hotel Tequendama, con un presupuesto asignado de $150 millones y una población de hasta 70 discentes. La Actividad se desarrollará los días 31 de octubre y 1 de noviembre de 2024.\nTrimestre 4\nLos pasados 31 de octubre y 01 de noviembre en el Hotel Tequendama Cra. 10 #26-21 Salón Esmeralda, en el horario de 8:00 a.m. a 5:00 p.m., se desarrolló el evento: Prevención del Daño Antijuridico “Aspectos Relevantes de la Defensa de la Rama Judicial”. Actividad que tuvo dos modalidades de participación: presencial y virtual. Contó con la participación de 160 discentes de los cuales 98 fueron aboga-dos del nivel nacional que participaron de forma presencial y 62 fueron remotos."}]
[null,null,null,null,"Apoyo","Admin - Asistencia Legal","Central","Ejecutar el presupuesto asignado a la vigencia para el pago de sentencias y conciliaciones","Meta cuantificable",219585,"millones de pesos","Grupo de Sentencias","Informe mensual de Ejecución del PAC","2024-01-10","2024-12-31",{"$f":"IFERROR(MAX(GESTION_SEG_1_TRIM!H150,GESTION_SEG_2_TRIM!H150,GESTION_SEG_3_TRIM!H150,GESTION_SEG_4_TRIM!H150),\" \")","v":35946530},null,{"$f":"IFERROR(_xlfn.CONCAT(\"Trimestre 1\",CHAR(10),GESTION_SEG_1_TRIM!J150,CHAR(10),\"Trimestre 2\",CHAR(10),GESTION_SEG_2_TRIM!J150,CHAR(10),\"Trimestre 3\",CHAR(10),GESTION_SEG_3_TRIM!J150,CHAR(10),\"Trimestre 4\",CHAR(10),GESTION_SEG_4_TRIM!J150),\" \")","v":"Trimestre 1\n\nTrimestre 2\n\nTrimestre 3\nPara el mes de septiembre de 2024, no fue asignado PAC para los rubros de Transferencias Corrientes CSF, con los cuales se atienden las obligaciones y el pago de las mismas, situación que frenó el avance en la ejecución del presupuesto de 2024.\nTrimestre 4\n"},{"$f":"IFERROR(_xlfn.CONCAT(\"Trimestre 1\",CHAR(10),GESTION_SEG_1_TRIM!K150,CHAR(10),\"Trimestre 2\",CHAR(10),GESTION_SEG_2_TRIM!K150,CHAR(10),\"Trimestre 3\",CHAR(10),GESTION_SEG_3_TRIM!K150,CHAR(10),\"Trimestre 4\",CHAR(10),GESTION_SEG_4_TRIM!K150),\" \")","v":"Trimestre 1\nEn el primer trimestre de 2024, la ejecución en las metas de pago correspondió a 35.946 millones de pesos que en porcentaje se traduce en un 18%. En el mes de marzo se pagaron sentencias y conciliaciones por valor de $18.609 millones que correspondió a un 51% de la ejecución del trimestre y que redundó en un INPANUT del porcentaje del 0,28%\nTrimestre 2\nLa meta de recaudo nacional para el 2024, es de $15.312.921.460. Con corte al 2do. trimestre, el recaudo acumulado es de $8.479.711.929, lo que se traduce en un cumplimiento en la meta de recaudo del 55,38%. El grado de avance a nivel nacional es óptimo, para este período del año. \nTrimestre 3\nPara el tercer trimestre de 2024, se comprometieron recursos por valor de $171.796.999.488,97, de los cuáles fueron obligados $162.425.246.273 y pagados $157.607.079.906, lo que se resume en una ejecución de los recursos del 79%. \nTrimestre 4\nPara el cuarto trimestre de 2024, fue adicionada la apropiación en $19.585 millones de pesos, se efectuaron pagos a 31 de diciembre de 2024 por valor de $208.799 millones, lo que se resume en una ejecución de pagos del 95%. "}]
[null,null,null,null,"Apoyo","Admin - Asistencia Legal","Central","Cumplir con la meta de recaudo en valor fijada por la Dirección Ejecutiva de Administración Judicial.","Entregable",15312,null,"División de Cobro Coactivo ","Aplicativo de Gestión de Cobro Coactivo ","2024-01-01","2024-12-31",{"$f":"IFERROR(MAX(GESTION_SEG_1_TRIM!H151,GESTION_SEG_2_TRIM!H151,GESTION_SEG_3_TRIM!H151,GESTION_SEG_4_TRIM!H151),\" \")","v":3970966240},null,{"$f":"IFERROR(_xlfn.CONCAT(\"Trimestre 1\",CHAR(10),GESTION_SEG_1_TRIM!J151,CHAR(10),\"Trimestre 2\",CHAR(10),GESTION_SEG_2_TRIM!J151,CHAR(10),\"Trimestre 3\",CHAR(10),GESTION_SEG_3_TRIM!J151,CHAR(10),\"Trimestre 4\",CHAR(10),GESTION_SEG_4_TRIM!J151),\" \")","v":"Trimestre 1\n\nTrimestre 2\n\nTrimestre 3\n\nTrimestre 4\n"},{"$f":"IFERROR(_xlfn.CONCAT(\"Trimestre 1\",CHAR(10),GESTION_SEG_1_TRIM!K151,CHAR(10),\"Trimestre 2\",CHAR(10),GESTION_SEG_2_TRIM!K151,CHAR(10),\"Trimestre 3\",CHAR(10),GESTION_SEG_3_TRIM!K151,CHAR(10),\"Trimestre 4\",CHAR(10),GESTION_SEG_4_TRIM!K151),\" \")","v":"Trimestre 1\nLa meta de recaudo para el 2024, es de 15.312.921.460, para el 1er. trimestre de se han recaudado 3.970.966.240, cumplimiento en la meta de recaudo es del 25,93%, el grado de avance que es óptimo para este período del año. \nTrimestre 2\nPara el 2do. trimestre de 2024, el grado de avance en la cantidad de procesos que registran recaudo, corresponde al 57,83%. Resultado satisfactorio.\nTrimestre 3\nLa meta de recaudo nacional para el 2024, es de $15.312.921.460. Con corte al 3er. trimestre, el recaudo acumulado es de $13.307.382.684, lo que se traduce en un cumplimiento en la meta de recaudo del 86,90%. El grado de avance a nivel nacional es óptimo, para este período del año. NOTA: Los valores de las columnas G y H de la fila 151, están expresados en miles de millones, dada la parametrización de las celdas de la matriz por parte del SIGCMA.\nTrimestre 4\nLa meta de recaudo nacional para el 2024, es de $15.312.921.460. Con corte al 4to. trimestre, el recaudo total es de $20.038.245.219, lo que se traduce en un cumplimiento en la meta de recaudo del 130,86%. El grado de avance a nivel nacional es óptimo, para este período del año. NOTA: Los valores de las columnas G y H de la fila 151, están expresados en miles de millones, dada la parametrización de las celdas de la matriz por parte del SIGCMA."}]
[null,null,null,null,"Apoyo","Admin - Asistencia Legal","Central","Cumplir con la meta mínima de procesos con recaudo fijada por la Dirección Ejecutiva de Administración Judicial.","Meta cuantificable",4470,"Porcentaje","División de Cobro Coactivo ","Aplicativo de Gestión de Cobro Coactivo ","2024-01-01","2024-12-31",{"$f":"IFERROR(MAX(GESTION_SEG_1_TRIM!H152,GESTION_SEG_2_TRIM!H152,GESTION_SEG_3_TRIM!H152,GESTION_SEG_4_TRIM!H152),\" \")","v":83682},null,{"$f":"IFERROR(_xlfn.CONCAT(\"Trimestre 1\",CHAR(10),GESTION_SEG_1_TRIM!J152,CHAR(10),\"Trimestre 2\",CHAR(10),GESTION_SEG_2_TRIM!J152,CHAR(10),\"Trimestre 3\",CHAR(10),GESTION_SEG_3_TRIM!J152,CHAR(10),\"Trimestre 4\",CHAR(10),GESTION_SEG_4_TRIM!J152),\" \")","v":"Trimestre 1\n\nTrimestre 2\n\nTrimestre 3\n\nTrimestre 4\n"},{"$f":"IFERROR(_xlfn.CONCAT(\"Trimestre 1\",CHAR(10),GESTION_SEG_1_TRIM!K152,CHAR(10),\"Trimestre 2\",CHAR(10),GESTION_SEG_2_TRIM!K152,CHAR(10),\"Trimestre 3\",CHAR(10),GESTION_SEG_3_TRIM!K152,CHAR(10),\"Trimestre 4\",CHAR(10),GESTION_SEG_4_TRIM!K152),\" \")","v":"Trimestre 1\nPara el 1er. trimestre de 2024, el grado de avance en la cantidad de procesos que registran recaudo, corresponde al 35,68%, resultado satisfactorio.\nTrimestre 2\nAl corte del segundo trimestre de 2024, se registran 86.127 procesos en estado activo, de los cuales, quedaron pendientes por realizarles búsqueda de bienes y de datos, 2.445 procesos, correspondientes al 3%, resultado que es justificable, respecto de los procesos recién aperturados.\nTrimestre 3\nPara el 3er. trimestre de 2024, el grado de avance en la cantidad de procesos que registran recaudo, corresponde al 78,81%. Resultado satisfactorio.\nTrimestre 4\nPara el 4to. trimestre de 2024, el cumplimiento de la meta corresponde al 104,56%. Resultado satisfactorio."}]
[null,null,null,null,"Apoyo","Admin - Asistencia Legal","Central","Realizar búsquedas de datos y de bienes de los deudores en sistemas de información oficiales, con el propósito de persuadirlos para que paguen o celebren acuerdos de pago y determinar si hay lugar al decreto y práctica de medidas cautelares.","Entregable",90284,"Porcentaje","División de Cobro Coactivo ","Aplicativo de Gestión de Cobro Coactivo ","2024-01-01","2024-12-31",{"$f":"IFERROR(MAX(GESTION_SEG_1_TRIM!H153,GESTION_SEG_2_TRIM!H153,GESTION_SEG_3_TRIM!H153,GESTION_SEG_4_TRIM!H153),\" \")","v":86119},0.95386779495813212,{"$f":"IFERROR(_xlfn.CONCAT(\"Trimestre 1\",CHAR(10),GESTION_SEG_1_TRIM!J153,CHAR(10),\"Trimestre 2\",CHAR(10),GESTION_SEG_2_TRIM!J153,CHAR(10),\"Trimestre 3\",CHAR(10),GESTION_SEG_3_TRIM!J153,CHAR(10),\"Trimestre 4\",CHAR(10),GESTION_SEG_4_TRIM!J153),\" \")","v":"Trimestre 1\n\\\nTrimestre 2\n\nTrimestre 3\n\nTrimestre 4\n"},{"$f":"IFERROR(_xlfn.CONCAT(\"Trimestre 1\",CHAR(10),GESTION_SEG_1_TRIM!K153,CHAR(10),\"Trimestre 2\",CHAR(10),GESTION_SEG_2_TRIM!K153,CHAR(10),\"Trimestre 3\",CHAR(10),GESTION_SEG_3_TRIM!K153,CHAR(10),\"Trimestre 4\",CHAR(10),GESTION_SEG_4_TRIM!K153),\" \")","v":"Trimestre 1\nYU7H\nTrimestre 2\nAl corte del segundo trimestre de 2024, se registran 86.127 procesos activos, de los cuales solo 8, quedaron pendientes de gestión, resultado que es justificable, respecto de los procesos recién aperturados\nTrimestre 3\nAl corte del tercer trimestre de 2024, se registran 82.937 procesos en estado activo, de los cuales, quedaron pendientes por realizarles búsqueda de bienes y de datos, a 2.291 procesos, correspondientes al 3% de la cartera total activa, resultado que es justificable, respecto de los procesos recién aperturados.\nTrimestre 4\nAl corte del 4to trimestre de 2024, se registran 76.891 procesos en estado activo, de los cuales, quedaron pendientes por realizarles búsqueda de bienes y de datos 1.650 procesos, correspondientes al 2,15% de la cartera total activa, resultado que es justificable, respecto de los procesos recién aperturados."}]
[null,null,null,null,"Apoyo","Admin - Asistencia Legal","Central","Hacer seguimiento a la gestión jurídica de los abogados ejecutores, con el fin de identificar que se encuentren en la etapa procesal que les corresponde, y aquellos que no, se les solicita impulsarlos en lo que corresponda.","Entregable",90284,"Porcetaje","División de Cobro Coactivo ","Aplicativo de Gestión de Cobro Coactivo ","2024-01-01","2024-12-31",{"$f":"IFERROR(MAX(GESTION_SEG_1_TRIM!H154,GESTION_SEG_2_TRIM!H154,GESTION_SEG_3_TRIM!H154,GESTION_SEG_4_TRIM!H154),\" \")","v":92216},1.0213991404900093,{"$f":"IFERROR(_xlfn.CONCAT(\"Trimestre 1\",CHAR(10),GESTION_SEG_1_TRIM!J154,CHAR(10),\"Trimestre 2\",CHAR(10),GESTION_SEG_2_TRIM!J154,CHAR(10),\"Trimestre 3\",CHAR(10),GESTION_SEG_3_TRIM!J154,CHAR(10),\"Trimestre 4\",CHAR(10),GESTION_SEG_4_TRIM!J154),\" \")","v":"Trimestre 1\n\nTrimestre 2\n\nTrimestre 3\n\nTrimestre 4\n"},{"$f":"IFERROR(_xlfn.CONCAT(\"Trimestre 1\",CHAR(10),GESTION_SEG_1_TRIM!K154,CHAR(10),\"Trimestre 2\",CHAR(10),GESTION_SEG_2_TRIM!K154,CHAR(10),\"Trimestre 3\",CHAR(10),GESTION_SEG_3_TRIM!K154,CHAR(10),\"Trimestre 4\",CHAR(10),GESTION_SEG_4_TRIM!K154),\" \")","v":"Trimestre 1\nAl corte del primer trimestre de 2024, solo el 0,95% de los procesos, quedaron pendientes de gestión, resultado que es justificable, respecto de los procesos recién aperturados\nTrimestre 2\n\nTrimestre 3\nAl corte del tercer trimestre de 2024, se registran 82.937 procesos activos, de los cuales, 43 quedaron pendientes de gestión, resultado que es justificable, respecto de los procesos recién aperturados\nTrimestre 4\nAl corte del 4to trimestre de 2024, se registran 76.891 procesos activos, de los cuales, 29 quedaron pendientes de gestión, resultado que es justificable, respecto de los procesos recién aperturados"}]
[null,null,null,null,"Apoyo","Admin - Asistencia Legal","Central","Medir el nivel de satisfacción de la asesoría jurídica brindada por Asistencia Legal","Meta cuantificable",3,"Encuestas","Despacho del Director Asistencia Legal ","Encuesta de Satisfacción","2024-01-01","2024-12-31",{"$f":"IFERROR(MAX(GESTION_SEG_1_TRIM!H155,GESTION_SEG_2_TRIM!H155,GESTION_SEG_3_TRIM!H155,GESTION_SEG_4_TRIM!H155),\" \")","v":1},0.33333333333333331,{"$f":"IFERROR(_xlfn.CONCAT(\"Trimestre 1\",CHAR(10),GESTION_SEG_1_TRIM!J155,CHAR(10),\"Trimestre 2\",CHAR(10),GESTION_SEG_2_TRIM!J155,CHAR(10),\"Trimestre 3\",CHAR(10),GESTION_SEG_3_TRIM!J155,CHAR(10),\"Trimestre 4\",CHAR(10),GESTION_SEG_4_TRIM!J155),\" \")","v":"Trimestre 1\n\nTrimestre 2\n\nTrimestre 3\n\nTrimestre 4\n"},{"$f":"IFERROR(_xlfn.CONCAT(\"Trimestre 1\",CHAR(10),GESTION_SEG_1_TRIM!K155,CHAR(10),\"Trimestre 2\",CHAR(10),GESTION_SEG_2_TRIM!K155,CHAR(10),\"Trimestre 3\",CHAR(10),GESTION_SEG_3_TRIM!K155,CHAR(10),\"Trimestre 4\",CHAR(10),GESTION_SEG_4_TRIM!K155),\" \")","v":"Trimestre 1\nSe esta trabajndo en la formulación de la consulta a las direntes unidades de CSJ y las DESAJ\nTrimestre 2\n\nTrimestre 3\n\nTrimestre 4\nCon corte a este trimestre no fue posible realizar la meta proyectada"}]
[null,null,"5. Prevenir fenómenos asociados con actos de corrupción en la Rama Judicial y reducir las experiencias de corrupción de usuarios y servidores judiciales.",null,"Apoyo","Admin - Asistencia Legal","Central","Emitir conceptos jurídicos sobre temas de importancia jurídica para la Rama Judicial, en la oportunidad requerida","Entregable",null,null,"Despacho del Director Asistencia Legal ","Informe de Conceptos Emitidos por Asistencia Legal","2024-01-01","2024-12-31",{"$f":"IFERROR(MAX(GESTION_SEG_1_TRIM!H156,GESTION_SEG_2_TRIM!H156,GESTION_SEG_3_TRIM!H156,GESTION_SEG_4_TRIM!H156),\" \")","v":100},"",{"$f":"IFERROR(_xlfn.CONCAT(\"Trimestre 1\",CHAR(10),GESTION_SEG_1_TRIM!J156,CHAR(10),\"Trimestre 2\",CHAR(10),GESTION_SEG_2_TRIM!J156,CHAR(10),\"Trimestre 3\",CHAR(10),GESTION_SEG_3_TRIM!J156,CHAR(10),\"Trimestre 4\",CHAR(10),GESTION_SEG_4_TRIM!J156),\" \")","v":"Trimestre 1\nNinguna\nTrimestre 2\nNinguna\nTrimestre 3\n\nTrimestre 4\n"},{"$f":"IFERROR(_xlfn.CONCAT(\"Trimestre 1\",CHAR(10),GESTION_SEG_1_TRIM!K156,CHAR(10),\"Trimestre 2\",CHAR(10),GESTION_SEG_2_TRIM!K156,CHAR(10),\"Trimestre 3\",CHAR(10),GESTION_SEG_3_TRIM!K156,CHAR(10),\"Trimestre 4\",CHAR(10),GESTION_SEG_4_TRIM!K156),\" \")","v":"Trimestre 1\nDurante el primer trimestre de 2024, se han emitido diferentes concepto jurídicos a las unidades de la DEAJ\nTrimestre 2\nProcesos judiciales: atención oportuna en las contestaciones de demandas notificadas en contra de la entidad, según control que se realiza de manera permanente a este tema.\nTrimestre 3\n\nTrimestre 4\nCon corte a 31 diciembre de 2024, se emitierón 29 cocneptos jurídicos las diferente sDireccines Secionales y Uidades del CSJ"}]
[null,null,null,null,"Apoyo","Admin - Asistencia Legal","Central","Atender de forma oportuna los procesos judiciales en contra de la Entidad","Entregable",null,null,"División de Procesos","Matriz de seguimiento","2024-01-01","2024-12-31",{"$f":"IFERROR(MAX(GESTION_SEG_1_TRIM!H157,GESTION_SEG_2_TRIM!H157,GESTION_SEG_3_TRIM!H157,GESTION_SEG_4_TRIM!H157),\" \")","v":100},"",{"$f":"IFERROR(_xlfn.CONCAT(\"Trimestre 1\",CHAR(10),GESTION_SEG_1_TRIM!J157,CHAR(10),\"Trimestre 2\",CHAR(10),GESTION_SEG_2_TRIM!J157,CHAR(10),\"Trimestre 3\",CHAR(10),GESTION_SEG_3_TRIM!J157,CHAR(10),\"Trimestre 4\",CHAR(10),GESTION_SEG_4_TRIM!J157),\" \")","v":"Trimestre 1\nNinguna\nTrimestre 2\nNinguna\nTrimestre 3\nNinguna\nTrimestre 4\nNinguna"},{"$f":"IFERROR(_xlfn.CONCAT(\"Trimestre 1\",CHAR(10),GESTION_SEG_1_TRIM!K157,CHAR(10),\"Trimestre 2\",CHAR(10),GESTION_SEG_2_TRIM!K157,CHAR(10),\"Trimestre 3\",CHAR(10),GESTION_SEG_3_TRIM!K157,CHAR(10),\"Trimestre 4\",CHAR(10),GESTION_SEG_4_TRIM!K157),\" \")","v":"Trimestre 1\nProcesos judiciales: atención oportuna en las contestaciones de demandas notificadas en contra de la entidad, según control que se realiza de manera permanente a este tema.\nTrimestre 2\nProcesos judiciales: atención oportuna en las contestaciones de demandas notificadas en contra de la entidad, según control que se realiza de manera permanente a este tema.\nTrimestre 3\nDurante el 3er trimestre de 2024 se han gestionado 828 contestaciones en término (99,9%), solo una contestada fuera de término (0,1%)\nTrimestre 4\nDurante el 4to trimestre de 2024 se han gestionado 596 contestaciones en término (99,9%), solo una contestada fuera de término (0,1%)"}]
[null,null,null,null,"Apoyo","Admin - Asistencia Legal","Central","Atender de forma oportuna los procesos judiciales de alto impacto en contra de la Entidad","Entregable",null,null,"Despacho del Director Asistencia Legal ","Informe de Procesos Judiciales de Alto Impacto atendidos por el Despacho de la Unidad de Asistencia Legal","2024-01-01","2024-12-31",{"$f":"IFERROR(MAX(GESTION_SEG_1_TRIM!H158,GESTION_SEG_2_TRIM!H158,GESTION_SEG_3_TRIM!H158,GESTION_SEG_4_TRIM!H158),\" \")","v":100},null,{"$f":"IFERROR(_xlfn.CONCAT(\"Trimestre 1\",CHAR(10),GESTION_SEG_1_TRIM!J158,CHAR(10),\"Trimestre 2\",CHAR(10),GESTION_SEG_2_TRIM!J158,CHAR(10),\"Trimestre 3\",CHAR(10),GESTION_SEG_3_TRIM!J158,CHAR(10),\"Trimestre 4\",CHAR(10),GESTION_SEG_4_TRIM!J158),\" \")","v":"Trimestre 1\nNinguna\nTrimestre 2\nNinguna\nTrimestre 3\nNinguna\nTrimestre 4\nNinguna"},{"$f":"IFERROR(_xlfn.CONCAT(\"Trimestre 1\",CHAR(10),GESTION_SEG_1_TRIM!K158,CHAR(10),\"Trimestre 2\",CHAR(10),GESTION_SEG_2_TRIM!K158,CHAR(10),\"Trimestre 3\",CHAR(10),GESTION_SEG_3_TRIM!K158,CHAR(10),\"Trimestre 4\",CHAR(10),GESTION_SEG_4_TRIM!K158),\" \")","v":"Trimestre 1\nProcesos judiciales: atención oportuna en las contestaciones de demandas notificadas en contra de la entidad, según control que se realiza de manera permanente a este tema.\nTrimestre 2\nNo se han configurado hallazgos en relación con la implementación del aplicativo eKOGUI o con el pasivo contingente de los procesos judiciales a cargo de la División de Procesos de la Unidad de Asistencia Legal, razón por la cual no se han elaborado Planes de Mejoramiento ni se encuentran acciones de mejora abiertas, derivadas de auditorías internas o externas.\nTrimestre 3\nProcesos judiciales: atención oportuna en las contestaciones de demandas notificadas en contra de la entidad, según control que se realiza de manera permanente a este tema.\nTrimestre 4\nProcesos judiciales: atención oportuna en las contestaciones de demandas notificadas en contra de la entidad, según control que se realiza de manera permanente a este tema."}]
[null,null,null,null,"Apoyo","Admin - Asistencia Legal","Seccional","Plan de mejoramiento Sistema Único del Gestión e Información Litigiosa del Estado eKOGUI - ANDJE y Pasivo Contingente Litigioso","Meta cuantificable",4,"Informes","Abogados en defensa de la Entidad de las Seccionales y Personal Administrativo Nivel Central","Informe Trimestral","2024-01-01","2024-12-31",{"$f":"IFERROR(MAX(GESTION_SEG_1_TRIM!H159,GESTION_SEG_2_TRIM!H159,GESTION_SEG_3_TRIM!H159,GESTION_SEG_4_TRIM!H159),\" \")","v":3},null,{"$f":"IFERROR(_xlfn.CONCAT(\"Trimestre 1\",CHAR(10),GESTION_SEG_1_TRIM!J159,CHAR(10),\"Trimestre 2\",CHAR(10),GESTION_SEG_2_TRIM!J159,CHAR(10),\"Trimestre 3\",CHAR(10),GESTION_SEG_3_TRIM!J159,CHAR(10),\"Trimestre 4\",CHAR(10),GESTION_SEG_4_TRIM!J159),\" \")","v":"Trimestre 1\nNinguna\nTrimestre 2\n\nTrimestre 3\nNinguna\nTrimestre 4\n"},{"$f":"IFERROR(_xlfn.CONCAT(\"Trimestre 1\",CHAR(10),GESTION_SEG_1_TRIM!K159,CHAR(10),\"Trimestre 2\",CHAR(10),GESTION_SEG_2_TRIM!K159,CHAR(10),\"Trimestre 3\",CHAR(10),GESTION_SEG_3_TRIM!K159,CHAR(10),\"Trimestre 4\",CHAR(10),GESTION_SEG_4_TRIM!K159),\" \")","v":"Trimestre 1\nNo se han configurado hallazgos en relación con la implementación del aplicativo eKOGUI o con el pasivo contingente de los procesos judiciales a cargo de la División de Procesos de la Unidad de Asistencia Legal, razón por la cual no se han elaborado Planes de Mejoramiento ni se encuentran acciones de mejora abiertas, derivadas de auditorías internas o externas.\nTrimestre 2\n\nTrimestre 3\nNo se han configurado hallazgos en relación con la implementación del aplicativo eKOGUI o con el pasivo contingente de los procesos judiciales a cargo de la División de Procesos de la Unidad de Asistencia Legal, razón por la cual no se han elaborado Planes de Mejoramiento ni se encuentran acciones de mejora abiertas, derivadas de auditorías internas o externas. Lo anterior de acuerdo al informe definitivo de auditoría del 1er semestre de 2024, radicado UA24-IL023\nTrimestre 4\nHasta la fecha no se han configurado hallazgos relacionados con la implementación del aplicativo eKOGUI ni con el pasivo contingente de los procesos judiciales a cargo de la División de Procesos de la Unidad de Asistencia Legal. Sin embargo, se aclara que el resultado de la auditoría interna del pasivo estará disponible en marzo de 2025, y el resultado de la auditoría externa realizada por la Contraloría General de la Nación se tendrá en mayo de 2025."}]
[null,null,null,null,null,null,null,null,null,null,null,null,null,null,null,{"$f":"IFERROR(MAX(GESTION_SEG_1_TRIM!H160,GESTION_SEG_2_TRIM!H160,GESTION_SEG_3_TRIM!H160,GESTION_SEG_4_TRIM!H160),\" \")","v":0},null,{"$f":"IFERROR(_xlfn.CONCAT(\"Trimestre 1\",CHAR(10),GESTION_SEG_1_TRIM!J160,CHAR(10),\"Trimestre 2\",CHAR(10),GESTION_SEG_2_TRIM!J160,CHAR(10),\"Trimestre 3\",CHAR(10),GESTION_SEG_3_TRIM!J160,CHAR(10),\"Trimestre 4\",CHAR(10),GESTION_SEG_4_TRIM!J160),\" \")","v":"Trimestre 1\n\nTrimestre 2\n\nTrimestre 3\n\nTrimestre 4\n"},{"$f":"IFERROR(_xlfn.CONCAT(\"Trimestre 1\",CHAR(10),GESTION_SEG_1_TRIM!K160,CHAR(10),\"Trimestre 2\",CHAR(10),GESTION_SEG_2_TRIM!K160,CHAR(10),\"Trimestre 3\",CHAR(10),GESTION_SEG_3_TRIM!K160,CHAR(10),\"Trimestre 4\",CHAR(10),GESTION_SEG_4_TRIM!K160),\" \")","v":"Trimestre 1\n\nTrimestre 2\n\nTrimestre 3\n\nTrimestre 4\n"}]
[null,null,null,null,null,null,null,null,null,null,null,null,null,null,null,{"$f":"IFERROR(MAX(GESTION_SEG_1_TRIM!H161,GESTION_SEG_2_TRIM!H161,GESTION_SEG_3_TRIM!H161,GESTION_SEG_4_TRIM!H161),\" \")","v":0},null,{"$f":"IFERROR(_xlfn.CONCAT(\"Trimestre 1\",CHAR(10),GESTION_SEG_1_TRIM!J161,CHAR(10),\"Trimestre 2\",CHAR(10),GESTION_SEG_2_TRIM!J161,CHAR(10),\"Trimestre 3\",CHAR(10),GESTION_SEG_3_TRIM!J161,CHAR(10),\"Trimestre 4\",CHAR(10),GESTION_SEG_4_TRIM!J161),\" \")","v":"Trimestre 1\n\nTrimestre 2\n\nTrimestre 3\n\nTrimestre 4\n"},{"$f":"IFERROR(_xlfn.CONCAT(\"Trimestre 1\",CHAR(10),GESTION_SEG_1_TRIM!K161,CHAR(10),\"Trimestre 2\",CHAR(10),GESTION_SEG_2_TRIM!K161,CHAR(10),\"Trimestre 3\",CHAR(10),GESTION_SEG_3_TRIM!K161,CHAR(10),\"Trimestre 4\",CHAR(10),GESTION_SEG_4_TRIM!K161),\" \")","v":"Trimestre 1\n\nTrimestre 2\n\nTrimestre 3\n\nTrimestre 4\n"}]
[null,null,null,null,null,null,null,null,null,null,null,null,null,null,null,{"$f":"IFERROR(MAX(GESTION_SEG_1_TRIM!H162,GESTION_SEG_2_TRIM!H162,GESTION_SEG_3_TRIM!H162,GESTION_SEG_4_TRIM!H162),\" \")","v":0},null,{"$f":"IFERROR(_xlfn.CONCAT(\"Trimestre 1\",CHAR(10),GESTION_SEG_1_TRIM!J162,CHAR(10),\"Trimestre 2\",CHAR(10),GESTION_SEG_2_TRIM!J162,CHAR(10),\"Trimestre 3\",CHAR(10),GESTION_SEG_3_TRIM!J162,CHAR(10),\"Trimestre 4\",CHAR(10),GESTION_SEG_4_TRIM!J162),\" \")","v":"Trimestre 1\n\nTrimestre 2\n\nTrimestre 3\n\nTrimestre 4\n"},{"$f":"IFERROR(_xlfn.CONCAT(\"Trimestre 1\",CHAR(10),GESTION_SEG_1_TRIM!K162,CHAR(10),\"Trimestre 2\",CHAR(10),GESTION_SEG_2_TRIM!K162,CHAR(10),\"Trimestre 3\",CHAR(10),GESTION_SEG_3_TRIM!K162,CHAR(10),\"Trimestre 4\",CHAR(10),GESTION_SEG_4_TRIM!K162),\" \")","v":"Trimestre 1\n\nTrimestre 2\n\nTrimestre 3\n\nTrimestre 4\n"}]
[null,null,null,null,null,null,null,null,null,null,null,null,null,null,null,{"$f":"IFERROR(MAX(GESTION_SEG_1_TRIM!H163,GESTION_SEG_2_TRIM!H163,GESTION_SEG_3_TRIM!H163,GESTION_SEG_4_TRIM!H163),\" \")","v":0},"",{"$f":"IFERROR(_xlfn.CONCAT(\"Trimestre 1\",CHAR(10),GESTION_SEG_1_TRIM!J163,CHAR(10),\"Trimestre 2\",CHAR(10),GESTION_SEG_2_TRIM!J163,CHAR(10),\"Trimestre 3\",CHAR(10),GESTION_SEG_3_TRIM!J163,CHAR(10),\"Trimestre 4\",CHAR(10),GESTION_SEG_4_TRIM!J163),\" \")","v":"Trimestre 1\n\nTrimestre 2\n\nTrimestre 3\n\nTrimestre 4\n"},{"$f":"IFERROR(_xlfn.CONCAT(\"Trimestre 1\",CHAR(10),GESTION_SEG_1_TRIM!K163,CHAR(10),\"Trimestre 2\",CHAR(10),GESTION_SEG_2_TRIM!K163,CHAR(10),\"Trimestre 3\",CHAR(10),GESTION_SEG_3_TRIM!K163,CHAR(10),\"Trimestre 4\",CHAR(10),GESTION_SEG_4_TRIM!K163),\" \")","v":"Trimestre 1\n\nTrimestre 2\n\nTrimestre 3\n\nTrimestre 4\n"}]
[null,null,null,null,null,null,null,null,null,null,null,null,null,null,null,{"$f":"IFERROR(MAX(GESTION_SEG_1_TRIM!H164,GESTION_SEG_2_TRIM!H164,GESTION_SEG_3_TRIM!H164,GESTION_SEG_4_TRIM!H164),\" \")","v":0},"",{"$f":"IFERROR(_xlfn.CONCAT(\"Trimestre 1\",CHAR(10),GESTION_SEG_1_TRIM!J164,CHAR(10),\"Trimestre 2\",CHAR(10),GESTION_SEG_2_TRIM!J164,CHAR(10),\"Trimestre 3\",CHAR(10),GESTION_SEG_3_TRIM!J164,CHAR(10),\"Trimestre 4\",CHAR(10),GESTION_SEG_4_TRIM!J164),\" \")","v":"Trimestre 1\n\nTrimestre 2\n\nTrimestre 3\n\nTrimestre 4\n"},{"$f":"IFERROR(_xlfn.CONCAT(\"Trimestre 1\",CHAR(10),GESTION_SEG_1_TRIM!K164,CHAR(10),\"Trimestre 2\",CHAR(10),GESTION_SEG_2_TRIM!K164,CHAR(10),\"Trimestre 3\",CHAR(10),GESTION_SEG_3_TRIM!K164,CHAR(10),\"Trimestre 4\",CHAR(10),GESTION_SEG_4_TRIM!K164),\" \")","v":"Trimestre 1\n\nTrimestre 2\n\nTrimestre 3\n\nTrimestre 4\n"}]
[null,null,null,null,null,null,null,null,null,null,null,null,null,null,null,{"$f":"IFERROR(MAX(GESTION_SEG_1_TRIM!H165,GESTION_SEG_2_TRIM!H165,GESTION_SEG_3_TRIM!H165,GESTION_SEG_4_TRIM!H165),\" \")","v":0},"",{"$f":"IFERROR(_xlfn.CONCAT(\"Trimestre 1\",CHAR(10),GESTION_SEG_1_TRIM!J165,CHAR(10),\"Trimestre 2\",CHAR(10),GESTION_SEG_2_TRIM!J165,CHAR(10),\"Trimestre 3\",CHAR(10),GESTION_SEG_3_TRIM!J165,CHAR(10),\"Trimestre 4\",CHAR(10),GESTION_SEG_4_TRIM!J165),\" \")","v":"Trimestre 1\n\nTrimestre 2\n\nTrimestre 3\n\nTrimestre 4\n"},{"$f":"IFERROR(_xlfn.CONCAT(\"Trimestre 1\",CHAR(10),GESTION_SEG_1_TRIM!K165,CHAR(10),\"Trimestre 2\",CHAR(10),GESTION_SEG_2_TRIM!K165,CHAR(10),\"Trimestre 3\",CHAR(10),GESTION_SEG_3_TRIM!K165,CHAR(10),\"Trimestre 4\",CHAR(10),GESTION_SEG_4_TRIM!K165),\" \")","v":"Trimestre 1\n\nTrimestre 2\n\nTrimestre 3\n\nTrimestre 4\n"}]
[null,null,"6. Promover la rendición de cuentas y la colaboración real con la ciudadanía como fundamento para diseñar acciones de mejoramiento del acceso a la justicia.",null,null,null,null,null,null,null,null,null,null,null,null,{"$f":"IFERROR(MAX(GESTION_SEG_1_TRIM!H166,GESTION_SEG_2_TRIM!H166,GESTION_SEG_3_TRIM!H166,GESTION_SEG_4_TRIM!H166),\" \")","v":0},"",{"$f":"IFERROR(_xlfn.CONCAT(\"Trimestre 1\",CHAR(10),GESTION_SEG_1_TRIM!J166,CHAR(10),\"Trimestre 2\",CHAR(10),GESTION_SEG_2_TRIM!J166,CHAR(10),\"Trimestre 3\",CHAR(10),GESTION_SEG_3_TRIM!J166,CHAR(10),\"Trimestre 4\",CHAR(10),GESTION_SEG_4_TRIM!J166),\" \")","v":"Trimestre 1\n\nTrimestre 2\n\nTrimestre 3\n\nTrimestre 4\n"},{"$f":"IFERROR(_xlfn.CONCAT(\"Trimestre 1\",CHAR(10),GESTION_SEG_1_TRIM!K166,CHAR(10),\"Trimestre 2\",CHAR(10),GESTION_SEG_2_TRIM!K166,CHAR(10),\"Trimestre 3\",CHAR(10),GESTION_SEG_3_TRIM!K166,CHAR(10),\"Trimestre 4\",CHAR(10),GESTION_SEG_4_TRIM!K166),\" \")","v":"Trimestre 1\n\nTrimestre 2\n\nTrimestre 3\n\nTrimestre 4\n"}]
[null,null,null,null,null,null,null,null,null,null,null,null,null,null,null,{"$f":"IFERROR(MAX(GESTION_SEG_1_TRIM!H167,GESTION_SEG_2_TRIM!H167,GESTION_SEG_3_TRIM!H167,GESTION_SEG_4_TRIM!H167),\" \")","v":0},"",{"$f":"IFERROR(_xlfn.CONCAT(\"Trimestre 1\",CHAR(10),GESTION_SEG_1_TRIM!J167,CHAR(10),\"Trimestre 2\",CHAR(10),GESTION_SEG_2_TRIM!J167,CHAR(10),\"Trimestre 3\",CHAR(10),GESTION_SEG_3_TRIM!J167,CHAR(10),\"Trimestre 4\",CHAR(10),GESTION_SEG_4_TRIM!J167),\" \")","v":"Trimestre 1\n\nTrimestre 2\n\nTrimestre 3\n\nTrimestre 4\n"},{"$f":"IFERROR(_xlfn.CONCAT(\"Trimestre 1\",CHAR(10),GESTION_SEG_1_TRIM!K167,CHAR(10),\"Trimestre 2\",CHAR(10),GESTION_SEG_2_TRIM!K167,CHAR(10),\"Trimestre 3\",CHAR(10),GESTION_SEG_3_TRIM!K167,CHAR(10),\"Trimestre 4\",CHAR(10),GESTION_SEG_4_TRIM!K167),\" \")","v":"Trimestre 1\n\nTrimestre 2\n\nTrimestre 3\n\nTrimestre 4\n"}]
[null,null,null,null,null,null,null,null,null,null,null,null,null,null,null,{"$f":"IFERROR(MAX(GESTION_SEG_1_TRIM!H168,GESTION_SEG_2_TRIM!H168,GESTION_SEG_3_TRIM!H168,GESTION_SEG_4_TRIM!H168),\" \")","v":0},null,{"$f":"IFERROR(_xlfn.CONCAT(\"Trimestre 1\",CHAR(10),GESTION_SEG_1_TRIM!J168,CHAR(10),\"Trimestre 2\",CHAR(10),GESTION_SEG_2_TRIM!J168,CHAR(10),\"Trimestre 3\",CHAR(10),GESTION_SEG_3_TRIM!J168,CHAR(10),\"Trimestre 4\",CHAR(10),GESTION_SEG_4_TRIM!J168),\" \")","v":"Trimestre 1\n\nTrimestre 2\n\nTrimestre 3\n\nTrimestre 4\n"},{"$f":"IFERROR(_xlfn.CONCAT(\"Trimestre 1\",CHAR(10),GESTION_SEG_1_TRIM!K168,CHAR(10),\"Trimestre 2\",CHAR(10),GESTION_SEG_2_TRIM!K168,CHAR(10),\"Trimestre 3\",CHAR(10),GESTION_SEG_3_TRIM!K168,CHAR(10),\"Trimestre 4\",CHAR(10),GESTION_SEG_4_TRIM!K168),\" \")","v":"Trimestre 1\n\nTrimestre 2\n\nTrimestre 3\n\nTrimestre 4\n"}]
[null,null,null,null,null,null,null,null,null,null,null,null,null,null,null,{"$f":"IFERROR(MAX(GESTION_SEG_1_TRIM!H169,GESTION_SEG_2_TRIM!H169,GESTION_SEG_3_TRIM!H169,GESTION_SEG_4_TRIM!H169),\" \")","v":0},null,{"$f":"IFERROR(_xlfn.CONCAT(\"Trimestre 1\",CHAR(10),GESTION_SEG_1_TRIM!J169,CHAR(10),\"Trimestre 2\",CHAR(10),GESTION_SEG_2_TRIM!J169,CHAR(10),\"Trimestre 3\",CHAR(10),GESTION_SEG_3_TRIM!J169,CHAR(10),\"Trimestre 4\",CHAR(10),GESTION_SEG_4_TRIM!J169),\" \")","v":"Trimestre 1\n\nTrimestre 2\n\nTrimestre 3\n\nTrimestre 4\n"},{"$f":"IFERROR(_xlfn.CONCAT(\"Trimestre 1\",CHAR(10),GESTION_SEG_1_TRIM!K169,CHAR(10),\"Trimestre 2\",CHAR(10),GESTION_SEG_2_TRIM!K169,CHAR(10),\"Trimestre 3\",CHAR(10),GESTION_SEG_3_TRIM!K169,CHAR(10),\"Trimestre 4\",CHAR(10),GESTION_SEG_4_TRIM!K169),\" \")","v":"Trimestre 1\n\nTrimestre 2\n\nTrimestre 3\n\nTrimestre 4\n"}]
[null,null,null,null,null,null,null,null,null,null,null,null,null,null,null,{"$f":"IFERROR(MAX(GESTION_SEG_1_TRIM!H170,GESTION_SEG_2_TRIM!H170,GESTION_SEG_3_TRIM!H170,GESTION_SEG_4_TRIM!H170),\" \")","v":0},null,{"$f":"IFERROR(_xlfn.CONCAT(\"Trimestre 1\",CHAR(10),GESTION_SEG_1_TRIM!J170,CHAR(10),\"Trimestre 2\",CHAR(10),GESTION_SEG_2_TRIM!J170,CHAR(10),\"Trimestre 3\",CHAR(10),GESTION_SEG_3_TRIM!J170,CHAR(10),\"Trimestre 4\",CHAR(10),GESTION_SEG_4_TRIM!J170),\" \")","v":"Trimestre 1\n\nTrimestre 2\n\nTrimestre 3\n\nTrimestre 4\n"},{"$f":"IFERROR(_xlfn.CONCAT(\"Trimestre 1\",CHAR(10),GESTION_SEG_1_TRIM!K170,CHAR(10),\"Trimestre 2\",CHAR(10),GESTION_SEG_2_TRIM!K170,CHAR(10),\"Trimestre 3\",CHAR(10),GESTION_SEG_3_TRIM!K170,CHAR(10),\"Trimestre 4\",CHAR(10),GESTION_SEG_4_TRIM!K170),\" \")","v":"Trimestre 1\n\nTrimestre 2\n\nTrimestre 3\n\nTrimestre 4\n"}]
[null,null,null,null,null,null,null,null,null,null,null,null,null,null,null,{"$f":"IFERROR(MAX(GESTION_SEG_1_TRIM!H171,GESTION_SEG_2_TRIM!H171,GESTION_SEG_3_TRIM!H171,GESTION_SEG_4_TRIM!H171),\" \")","v":0},null,{"$f":"IFERROR(_xlfn.CONCAT(\"Trimestre 1\",CHAR(10),GESTION_SEG_1_TRIM!J171,CHAR(10),\"Trimestre 2\",CHAR(10),GESTION_SEG_2_TRIM!J171,CHAR(10),\"Trimestre 3\",CHAR(10),GESTION_SEG_3_TRIM!J171,CHAR(10),\"Trimestre 4\",CHAR(10),GESTION_SEG_4_TRIM!J171),\" \")","v":"Trimestre 1\n\nTrimestre 2\n\nTrimestre 3\n\nTrimestre 4\n"},{"$f":"IFERROR(_xlfn.CONCAT(\"Trimestre 1\",CHAR(10),GESTION_SEG_1_TRIM!K171,CHAR(10),\"Trimestre 2\",CHAR(10),GESTION_SEG_2_TRIM!K171,CHAR(10),\"Trimestre 3\",CHAR(10),GESTION_SEG_3_TRIM!K171,CHAR(10),\"Trimestre 4\",CHAR(10),GESTION_SEG_4_TRIM!K171),\" \")","v":"Trimestre 1\n\nTrimestre 2\n\nTrimestre 3\n\nTrimestre 4\n"}]
[null,null,null,null,null,null,null,null,null,null,null,null,null,null,null,{"$f":"IFERROR(MAX(GESTION_SEG_1_TRIM!H172,GESTION_SEG_2_TRIM!H172,GESTION_SEG_3_TRIM!H172,GESTION_SEG_4_TRIM!H172),\" \")","v":0},null,{"$f":"IFERROR(_xlfn.CONCAT(\"Trimestre 1\",CHAR(10),GESTION_SEG_1_TRIM!J172,CHAR(10),\"Trimestre 2\",CHAR(10),GESTION_SEG_2_TRIM!J172,CHAR(10),\"Trimestre 3\",CHAR(10),GESTION_SEG_3_TRIM!J172,CHAR(10),\"Trimestre 4\",CHAR(10),GESTION_SEG_4_TRIM!J172),\" \")","v":"Trimestre 1\n\nTrimestre 2\n\nTrimestre 3\n\nTrimestre 4\n"},{"$f":"IFERROR(_xlfn.CONCAT(\"Trimestre 1\",CHAR(10),GESTION_SEG_1_TRIM!K172,CHAR(10),\"Trimestre 2\",CHAR(10),GESTION_SEG_2_TRIM!K172,CHAR(10),\"Trimestre 3\",CHAR(10),GESTION_SEG_3_TRIM!K172,CHAR(10),\"Trimestre 4\",CHAR(10),GESTION_SEG_4_TRIM!K172),\" \")","v":"Trimestre 1\n\nTrimestre 2\n\nTrimestre 3\n\nTrimestre 4\n"}]
[null,null,null,null,null,null,null,null,null,null,null,null,null,null,null,{"$f":"IFERROR(MAX(GESTION_SEG_1_TRIM!H173,GESTION_SEG_2_TRIM!H173,GESTION_SEG_3_TRIM!H173,GESTION_SEG_4_TRIM!H173),\" \")","v":0},"",{"$f":"IFERROR(_xlfn.CONCAT(\"Trimestre 1\",CHAR(10),GESTION_SEG_1_TRIM!J173,CHAR(10),\"Trimestre 2\",CHAR(10),GESTION_SEG_2_TRIM!J173,CHAR(10),\"Trimestre 3\",CHAR(10),GESTION_SEG_3_TRIM!J173,CHAR(10),\"Trimestre 4\",CHAR(10),GESTION_SEG_4_TRIM!J173),\" \")","v":"Trimestre 1\n\nTrimestre 2\n\nTrimestre 3\n\nTrimestre 4\n"},{"$f":"IFERROR(_xlfn.CONCAT(\"Trimestre 1\",CHAR(10),GESTION_SEG_1_TRIM!K173,CHAR(10),\"Trimestre 2\",CHAR(10),GESTION_SEG_2_TRIM!K173,CHAR(10),\"Trimestre 3\",CHAR(10),GESTION_SEG_3_TRIM!K173,CHAR(10),\"Trimestre 4\",CHAR(10),GESTION_SEG_4_TRIM!K173),\" \")","v":"Trimestre 1\n\nTrimestre 2\n\nTrimestre 3\n\nTrimestre 4\n"}]
[null,null,null,null,null,null,null,null,null,null,null,null,null,null,null,{"$f":"IFERROR(MAX(GESTION_SEG_1_TRIM!H174,GESTION_SEG_2_TRIM!H174,GESTION_SEG_3_TRIM!H174,GESTION_SEG_4_TRIM!H174),\" \")","v":0},"",{"$f":"IFERROR(_xlfn.CONCAT(\"Trimestre 1\",CHAR(10),GESTION_SEG_1_TRIM!J174,CHAR(10),\"Trimestre 2\",CHAR(10),GESTION_SEG_2_TRIM!J174,CHAR(10),\"Trimestre 3\",CHAR(10),GESTION_SEG_3_TRIM!J174,CHAR(10),\"Trimestre 4\",CHAR(10),GESTION_SEG_4_TRIM!J174),\" \")","v":"Trimestre 1\n\nTrimestre 2\n\nTrimestre 3\n\nTrimestre 4\n"},{"$f":"IFERROR(_xlfn.CONCAT(\"Trimestre 1\",CHAR(10),GESTION_SEG_1_TRIM!K174,CHAR(10),\"Trimestre 2\",CHAR(10),GESTION_SEG_2_TRIM!K174,CHAR(10),\"Trimestre 3\",CHAR(10),GESTION_SEG_3_TRIM!K174,CHAR(10),\"Trimestre 4\",CHAR(10),GESTION_SEG_4_TRIM!K174),\" \")","v":"Trimestre 1\n\nTrimestre 2\n\nTrimestre 3\n\nTrimestre 4\n"}]
[null,null,null,null,null,null,null,null,null,null,null,null,null,null,null,{"$f":"IFERROR(MAX(GESTION_SEG_1_TRIM!H175,GESTION_SEG_2_TRIM!H175,GESTION_SEG_3_TRIM!H175,GESTION_SEG_4_TRIM!H175),\" \")","v":0},"",{"$f":"IFERROR(_xlfn.CONCAT(\"Trimestre 1\",CHAR(10),GESTION_SEG_1_TRIM!J175,CHAR(10),\"Trimestre 2\",CHAR(10),GESTION_SEG_2_TRIM!J175,CHAR(10),\"Trimestre 3\",CHAR(10),GESTION_SEG_3_TRIM!J175,CHAR(10),\"Trimestre 4\",CHAR(10),GESTION_SEG_4_TRIM!J175),\" \")","v":"Trimestre 1\n\nTrimestre 2\n\nTrimestre 3\n\nTrimestre 4\n"},{"$f":"IFERROR(_xlfn.CONCAT(\"Trimestre 1\",CHAR(10),GESTION_SEG_1_TRIM!K175,CHAR(10),\"Trimestre 2\",CHAR(10),GESTION_SEG_2_TRIM!K175,CHAR(10),\"Trimestre 3\",CHAR(10),GESTION_SEG_3_TRIM!K175,CHAR(10),\"Trimestre 4\",CHAR(10),GESTION_SEG_4_TRIM!K175),\" \")","v":"Trimestre 1\n\nTrimestre 2\n\nTrimestre 3\n\nTrimestre 4\n"}]
[null,null,"7. Continuar la consolidación del SIGCMA, a través de los procesos de formación en modelos de gestión, logrando la implementación y ampliación de este en los esquemas certificados de manera gradual, teniendo en cuenta las capacidades de los diferentes despachos judiciales y dependencias de la Rama Judicial y articulando el enfoque de Arquitectura Empresarial para el desarrollo del PETD a través de la gestión del conocimiento para la gestión del cambio propendiendo por una cultura de la calidad, la transparencia, la rendición de cuentas, la anticorrupción y el antisoborno","1. Gestionar el desarrollo de las competencias, la toma de conciencia , la cultura  organizacional  y el compromiso de los  servidores judiciales, contratistas, practicantes y  judicantes de contribuir a generar valor público en la administración de justicia, en el marco de  cumplimiento de los requisitos  aplicables y el comportamiento ético.\n4. Hacer un uso racional de los recursos naturales aplicando los principios y fases de la Economía Circular, para prevenir, mitigar y controlar los impactos ambientales.",null,null,null,null,null,null,null,null,null,null,null,{"$f":"IFERROR(MAX(GESTION_SEG_1_TRIM!H176,GESTION_SEG_2_TRIM!H176,GESTION_SEG_3_TRIM!H176,GESTION_SEG_4_TRIM!H176),\" \")","v":0},"",{"$f":"IFERROR(_xlfn.CONCAT(\"Trimestre 1\",CHAR(10),GESTION_SEG_1_TRIM!J176,CHAR(10),\"Trimestre 2\",CHAR(10),GESTION_SEG_2_TRIM!J176,CHAR(10),\"Trimestre 3\",CHAR(10),GESTION_SEG_3_TRIM!J176,CHAR(10),\"Trimestre 4\",CHAR(10),GESTION_SEG_4_TRIM!J176),\" \")","v":"Trimestre 1\n\nTrimestre 2\n\nTrimestre 3\n\nTrimestre 4\n"},{"$f":"IFERROR(_xlfn.CONCAT(\"Trimestre 1\",CHAR(10),GESTION_SEG_1_TRIM!K176,CHAR(10),\"Trimestre 2\",CHAR(10),GESTION_SEG_2_TRIM!K176,CHAR(10),\"Trimestre 3\",CHAR(10),GESTION_SEG_3_TRIM!K176,CHAR(10),\"Trimestre 4\",CHAR(10),GESTION_SEG_4_TRIM!K176),\" \")","v":"Trimestre 1\n\nTrimestre 2\n\nTrimestre 3\n\nTrimestre 4\n"}]
[null,null,null,null,null,null,null,null,null,null,null,null,null,null,null,{"$f":"IFERROR(MAX(GESTION_SEG_1_TRIM!H177,GESTION_SEG_2_TRIM!H177,GESTION_SEG_3_TRIM!H177,GESTION_SEG_4_TRIM!H177),\" \")","v":0},null,{"$f":"IFERROR(_xlfn.CONCAT(\"Trimestre 1\",CHAR(10),GESTION_SEG_1_TRIM!J177,CHAR(10),\"Trimestre 2\",CHAR(10),GESTION_SEG_2_TRIM!J177,CHAR(10),\"Trimestre 3\",CHAR(10),GESTION_SEG_3_TRIM!J177,CHAR(10),\"Trimestre 4\",CHAR(10),GESTION_SEG_4_TRIM!J177),\" \")","v":"Trimestre 1\n\nTrimestre 2\n\nTrimestre 3\n\nTrimestre 4\n"},{"$f":"IFERROR(_xlfn.CONCAT(\"Trimestre 1\",CHAR(10),GESTION_SEG_1_TRIM!K177,CHAR(10),\"Trimestre 2\",CHAR(10),GESTION_SEG_2_TRIM!K177,CHAR(10),\"Trimestre 3\",CHAR(10),GESTION_SEG_3_TRIM!K177,CHAR(10),\"Trimestre 4\",CHAR(10),GESTION_SEG_4_TRIM!K177),\" \")","v":"Trimestre 1\n\nTrimestre 2\n\nTrimestre 3\n\nTrimestre 4\n"}]
[null,null,null,null,null,null,null,null,null,null,null,null,null,null,null,{"$f":"IFERROR(MAX(GESTION_SEG_1_TRIM!H178,GESTION_SEG_2_TRIM!H178,GESTION_SEG_3_TRIM!H178,GESTION_SEG_4_TRIM!H178),\" \")","v":0},null,{"$f":"IFERROR(_xlfn.CONCAT(\"Trimestre 1\",CHAR(10),GESTION_SEG_1_TRIM!J178,CHAR(10),\"Trimestre 2\",CHAR(10),GESTION_SEG_2_TRIM!J178,CHAR(10),\"Trimestre 3\",CHAR(10),GESTION_SEG_3_TRIM!J178,CHAR(10),\"Trimestre 4\",CHAR(10),GESTION_SEG_4_TRIM!J178),\" \")","v":"Trimestre 1\n\nTrimestre 2\n\nTrimestre 3\n\nTrimestre 4\n"},{"$f":"IFERROR(_xlfn.CONCAT(\"Trimestre 1\",CHAR(10),GESTION_SEG_1_TRIM!K178,CHAR(10),\"Trimestre 2\",CHAR(10),GESTION_SEG_2_TRIM!K178,CHAR(10),\"Trimestre 3\",CHAR(10),GESTION_SEG_3_TRIM!K178,CHAR(10),\"Trimestre 4\",CHAR(10),GESTION_SEG_4_TRIM!K178),\" \")","v":"Trimestre 1\n\nTrimestre 2\n\nTrimestre 3\n\nTrimestre 4\n"}]
[null,null,null,null,null,null,null,null,null,null,null,null,null,null,null,{"$f":"IFERROR(MAX(GESTION_SEG_1_TRIM!H179,GESTION_SEG_2_TRIM!H179,GESTION_SEG_3_TRIM!H179,GESTION_SEG_4_TRIM!H179),\" \")","v":0},null,{"$f":"IFERROR(_xlfn.CONCAT(\"Trimestre 1\",CHAR(10),GESTION_SEG_1_TRIM!J179,CHAR(10),\"Trimestre 2\",CHAR(10),GESTION_SEG_2_TRIM!J179,CHAR(10),\"Trimestre 3\",CHAR(10),GESTION_SEG_3_TRIM!J179,CHAR(10),\"Trimestre 4\",CHAR(10),GESTION_SEG_4_TRIM!J179),\" \")","v":"Trimestre 1\n\nTrimestre 2\n\nTrimestre 3\n\nTrimestre 4\n"},{"$f":"IFERROR(_xlfn.CONCAT(\"Trimestre 1\",CHAR(10),GESTION_SEG_1_TRIM!K179,CHAR(10),\"Trimestre 2\",CHAR(10),GESTION_SEG_2_TRIM!K179,CHAR(10),\"Trimestre 3\",CHAR(10),GESTION_SEG_3_TRIM!K179,CHAR(10),\"Trimestre 4\",CHAR(10),GESTION_SEG_4_TRIM!K179),\" \")","v":"Trimestre 1\n\nTrimestre 2\n\nTrimestre 3\n\nTrimestre 4\n"}]
[null,null,null,null,null,null,null,null,null,null,null,null,null,null,null,{"$f":"IFERROR(MAX(GESTION_SEG_1_TRIM!H180,GESTION_SEG_2_TRIM!H180,GESTION_SEG_3_TRIM!H180,GESTION_SEG_4_TRIM!H180),\" \")","v":0},null,{"$f":"IFERROR(_xlfn.CONCAT(\"Trimestre 1\",CHAR(10),GESTION_SEG_1_TRIM!J180,CHAR(10),\"Trimestre 2\",CHAR(10),GESTION_SEG_2_TRIM!J180,CHAR(10),\"Trimestre 3\",CHAR(10),GESTION_SEG_3_TRIM!J180,CHAR(10),\"Trimestre 4\",CHAR(10),GESTION_SEG_4_TRIM!J180),\" \")","v":"Trimestre 1\n\nTrimestre 2\n\nTrimestre 3\n\nTrimestre 4\n"},{"$f":"IFERROR(_xlfn.CONCAT(\"Trimestre 1\",CHAR(10),GESTION_SEG_1_TRIM!K180,CHAR(10),\"Trimestre 2\",CHAR(10),GESTION_SEG_2_TRIM!K180,CHAR(10),\"Trimestre 3\",CHAR(10),GESTION_SEG_3_TRIM!K180,CHAR(10),\"Trimestre 4\",CHAR(10),GESTION_SEG_4_TRIM!K180),\" \")","v":"Trimestre 1\n\nTrimestre 2\n\nTrimestre 3\n\nTrimestre 4\n"}]
[null,null,null,null,null,null,null,null,null,null,null,null,null,null,null,{"$f":"IFERROR(MAX(GESTION_SEG_1_TRIM!H181,GESTION_SEG_2_TRIM!H181,GESTION_SEG_3_TRIM!H181,GESTION_SEG_4_TRIM!H181),\" \")","v":0},null,{"$f":"IFERROR(_xlfn.CONCAT(\"Trimestre 1\",CHAR(10),GESTION_SEG_1_TRIM!J181,CHAR(10),\"Trimestre 2\",CHAR(10),GESTION_SEG_2_TRIM!J181,CHAR(10),\"Trimestre 3\",CHAR(10),GESTION_SEG_3_TRIM!J181,CHAR(10),\"Trimestre 4\",CHAR(10),GESTION_SEG_4_TRIM!J181),\" \")","v":"Trimestre 1\n\nTrimestre 2\n\nTrimestre 3\n\nTrimestre 4\n"},{"$f":"IFERROR(_xlfn.CONCAT(\"Trimestre 1\",CHAR(10),GESTION_SEG_1_TRIM!K181,CHAR(10),\"Trimestre 2\",CHAR(10),GESTION_SEG_2_TRIM!K181,CHAR(10),\"Trimestre 3\",CHAR(10),GESTION_SEG_3_TRIM!K181,CHAR(10),\"Trimestre 4\",CHAR(10),GESTION_SEG_4_TRIM!K181),\" \")","v":"Trimestre 1\n\nTrimestre 2\n\nTrimestre 3\n\nTrimestre 4\n"}]
[null,null,null,null,null,null,null,null,null,null,null,null,null,null,null,{"$f":"IFERROR(MAX(GESTION_SEG_1_TRIM!H182,GESTION_SEG_2_TRIM!H182,GESTION_SEG_3_TRIM!H182,GESTION_SEG_4_TRIM!H182),\" \")","v":0},"",{"$f":"IFERROR(_xlfn.CONCAT(\"Trimestre 1\",CHAR(10),GESTION_SEG_1_TRIM!J182,CHAR(10),\"Trimestre 2\",CHAR(10),GESTION_SEG_2_TRIM!J182,CHAR(10),\"Trimestre 3\",CHAR(10),GESTION_SEG_3_TRIM!J182,CHAR(10),\"Trimestre 4\",CHAR(10),GESTION_SEG_4_TRIM!J182),\" \")","v":"Trimestre 1\n\nTrimestre 2\n\nTrimestre 3\n\nTrimestre 4\n"},{"$f":"IFERROR(_xlfn.CONCAT(\"Trimestre 1\",CHAR(10),GESTION_SEG_1_TRIM!K182,CHAR(10),\"Trimestre 2\",CHAR(10),GESTION_SEG_2_TRIM!K182,CHAR(10),\"Trimestre 3\",CHAR(10),GESTION_SEG_3_TRIM!K182,CHAR(10),\"Trimestre 4\",CHAR(10),GESTION_SEG_4_TRIM!K182),\" \")","v":"Trimestre 1\n\nTrimestre 2\n\nTrimestre 3\n\nTrimestre 4\n"}]
[null,null,null,null,null,null,null,null,null,null,null,null,null,null,null,{"$f":"IFERROR(MAX(GESTION_SEG_1_TRIM!H183,GESTION_SEG_2_TRIM!H183,GESTION_SEG_3_TRIM!H183,GESTION_SEG_4_TRIM!H183),\" \")","v":0},"",{"$f":"IFERROR(_xlfn.CONCAT(\"Trimestre 1\",CHAR(10),GESTION_SEG_1_TRIM!J183,CHAR(10),\"Trimestre 2\",CHAR(10),GESTION_SEG_2_TRIM!J183,CHAR(10),\"Trimestre 3\",CHAR(10),GESTION_SEG_3_TRIM!J183,CHAR(10),\"Trimestre 4\",CHAR(10),GESTION_SEG_4_TRIM!J183),\" \")","v":"Trimestre 1\n\nTrimestre 2\n\nTrimestre 3\n\nTrimestre 4\n"},{"$f":"IFERROR(_xlfn.CONCAT(\"Trimestre 1\",CHAR(10),GESTION_SEG_1_TRIM!K183,CHAR(10),\"Trimestre 2\",CHAR(10),GESTION_SEG_2_TRIM!K183,CHAR(10),\"Trimestre 3\",CHAR(10),GESTION_SEG_3_TRIM!K183,CHAR(10),\"Trimestre 4\",CHAR(10),GESTION_SEG_4_TRIM!K183),\" \")","v":"Trimestre 1\n\nTrimestre 2\n\nTrimestre 3\n\nTrimestre 4\n"}]
[null,null,null,null,null,null,null,null,null,null,null,null,null,null,null,{"$f":"IFERROR(MAX(GESTION_SEG_1_TRIM!H184,GESTION_SEG_2_TRIM!H184,GESTION_SEG_3_TRIM!H184,GESTION_SEG_4_TRIM!H184),\" \")","v":0},"",{"$f":"IFERROR(_xlfn.CONCAT(\"Trimestre 1\",CHAR(10),GESTION_SEG_1_TRIM!J184,CHAR(10),\"Trimestre 2\",CHAR(10),GESTION_SEG_2_TRIM!J184,CHAR(10),\"Trimestre 3\",CHAR(10),GESTION_SEG_3_TRIM!J184,CHAR(10),\"Trimestre 4\",CHAR(10),GESTION_SEG_4_TRIM!J184),\" \")","v":"Trimestre 1\n\nTrimestre 2\n\nTrimestre 3\n\nTrimestre 4\n"},{"$f":"IFERROR(_xlfn.CONCAT(\"Trimestre 1\",CHAR(10),GESTION_SEG_1_TRIM!K184,CHAR(10),\"Trimestre 2\",CHAR(10),GESTION_SEG_2_TRIM!K184,CHAR(10),\"Trimestre 3\",CHAR(10),GESTION_SEG_3_TRIM!K184,CHAR(10),\"Trimestre 4\",CHAR(10),GESTION_SEG_4_TRIM!K184),\" \")","v":"Trimestre 1\n\nTrimestre 2\n\nTrimestre 3\n\nTrimestre 4\n"}]
[null,null,null,null,null,null,null,null,null,null,null,null,null,null,null,{"$f":"IFERROR(MAX(GESTION_SEG_1_TRIM!H185,GESTION_SEG_2_TRIM!H185,GESTION_SEG_3_TRIM!H185,GESTION_SEG_4_TRIM!H185),\" \")","v":0},"",{"$f":"IFERROR(_xlfn.CONCAT(\"Trimestre 1\",CHAR(10),GESTION_SEG_1_TRIM!J185,CHAR(10),\"Trimestre 2\",CHAR(10),GESTION_SEG_2_TRIM!J185,CHAR(10),\"Trimestre 3\",CHAR(10),GESTION_SEG_3_TRIM!J185,CHAR(10),\"Trimestre 4\",CHAR(10),GESTION_SEG_4_TRIM!J185),\" \")","v":"Trimestre 1\n\nTrimestre 2\n\nTrimestre 3\n\nTrimestre 4\n"},{"$f":"IFERROR(_xlfn.CONCAT(\"Trimestre 1\",CHAR(10),GESTION_SEG_1_TRIM!K185,CHAR(10),\"Trimestre 2\",CHAR(10),GESTION_SEG_2_TRIM!K185,CHAR(10),\"Trimestre 3\",CHAR(10),GESTION_SEG_3_TRIM!K185,CHAR(10),\"Trimestre 4\",CHAR(10),GESTION_SEG_4_TRIM!K185),\" \")","v":"Trimestre 1\n\nTrimestre 2\n\nTrimestre 3\n\nTrimestre 4\n"}]
["4. Talento Humano","Talento Humano: Fortalecer el talento humano en la Rama Judicial para que sea eficiente, capacitado y realice su labor en ambientes saludables y seguros. Ampliar la cobertura de la carrera judicial y mejorar la oferta de formación, que esté disponible para todos los servidores judiciales e impacte positivamente el servicio de justicia y responda a las necesidades reales del ejercicio de la función judicial.","1. Ampliar la cobertura de la carrera judicial optimizando los procesos de los concursos de méritos y propender por mitigar su litigiosidad.","1. Gestionar el desarrollo de las competencias, la toma de conciencia , la cultura  organizacional  y el compromiso de los  servidores judiciales, contratistas, practicantes y  judicantes de contribuir a generar valor público en la administración de justicia, en el marco de  cumplimiento de los requisitos  aplicables y el comportamiento ético.",null,null,null,null,null,null,null,null,null,null,null,{"$f":"IFERROR(MAX(GESTION_SEG_1_TRIM!H186,GESTION_SEG_2_TRIM!H186,GESTION_SEG_3_TRIM!H186,GESTION_SEG_4_TRIM!H186),\" \")","v":0},"",{"$f":"IFERROR(_xlfn.CONCAT(\"Trimestre 1\",CHAR(10),GESTION_SEG_1_TRIM!J186,CHAR(10),\"Trimestre 2\",CHAR(10),GESTION_SEG_2_TRIM!J186,CHAR(10),\"Trimestre 3\",CHAR(10),GESTION_SEG_3_TRIM!J186,CHAR(10),\"Trimestre 4\",CHAR(10),GESTION_SEG_4_TRIM!J186),\" \")","v":"Trimestre 1\n\nTrimestre 2\n\nTrimestre 3\n\nTrimestre 4\n"},{"$f":"IFERROR(_xlfn.CONCAT(\"Trimestre 1\",CHAR(10),GESTION_SEG_1_TRIM!K186,CHAR(10),\"Trimestre 2\",CHAR(10),GESTION_SEG_2_TRIM!K186,CHAR(10),\"Trimestre 3\",CHAR(10),GESTION_SEG_3_TRIM!K186,CHAR(10),\"Trimestre 4\",CHAR(10),GESTION_SEG_4_TRIM!K186),\" \")","v":"Trimestre 1\n\nTrimestre 2\n\nTrimestre 3\n\nTrimestre 4\n"}]
[null,null,null,null,null,null,null,null,null,null,null,null,null,null,null,{"$f":"IFERROR(MAX(GESTION_SEG_1_TRIM!H187,GESTION_SEG_2_TRIM!H187,GESTION_SEG_3_TRIM!H187,GESTION_SEG_4_TRIM!H187),\" \")","v":0},"",{"$f":"IFERROR(_xlfn.CONCAT(\"Trimestre 1\",CHAR(10),GESTION_SEG_1_TRIM!J187,CHAR(10),\"Trimestre 2\",CHAR(10),GESTION_SEG_2_TRIM!J187,CHAR(10),\"Trimestre 3\",CHAR(10),GESTION_SEG_3_TRIM!J187,CHAR(10),\"Trimestre 4\",CHAR(10),GESTION_SEG_4_TRIM!J187),\" \")","v":"Trimestre 1\n\nTrimestre 2\n\nTrimestre 3\n\nTrimestre 4\n"},{"$f":"IFERROR(_xlfn.CONCAT(\"Trimestre 1\",CHAR(10),GESTION_SEG_1_TRIM!K187,CHAR(10),\"Trimestre 2\",CHAR(10),GESTION_SEG_2_TRIM!K187,CHAR(10),\"Trimestre 3\",CHAR(10),GESTION_SEG_3_TRIM!K187,CHAR(10),\"Trimestre 4\",CHAR(10),GESTION_SEG_4_TRIM!K187),\" \")","v":"Trimestre 1\n\nTrimestre 2\n\nTrimestre 3\n\nTrimestre 4\n"}]
[null,null,null,null,null,null,null,null,null,null,null,null,null,null,null,{"$f":"IFERROR(MAX(GESTION_SEG_1_TRIM!H188,GESTION_SEG_2_TRIM!H188,GESTION_SEG_3_TRIM!H188,GESTION_SEG_4_TRIM!H188),\" \")","v":0},null,{"$f":"IFERROR(_xlfn.CONCAT(\"Trimestre 1\",CHAR(10),GESTION_SEG_1_TRIM!J188,CHAR(10),\"Trimestre 2\",CHAR(10),GESTION_SEG_2_TRIM!J188,CHAR(10),\"Trimestre 3\",CHAR(10),GESTION_SEG_3_TRIM!J188,CHAR(10),\"Trimestre 4\",CHAR(10),GESTION_SEG_4_TRIM!J188),\" \")","v":"Trimestre 1\n\nTrimestre 2\n\nTrimestre 3\n\nTrimestre 4\n"},{"$f":"IFERROR(_xlfn.CONCAT(\"Trimestre 1\",CHAR(10),GESTION_SEG_1_TRIM!K188,CHAR(10),\"Trimestre 2\",CHAR(10),GESTION_SEG_2_TRIM!K188,CHAR(10),\"Trimestre 3\",CHAR(10),GESTION_SEG_3_TRIM!K188,CHAR(10),\"Trimestre 4\",CHAR(10),GESTION_SEG_4_TRIM!K188),\" \")","v":"Trimestre 1\n\nTrimestre 2\n\nTrimestre 3\n\nTrimestre 4\n"}]
[null,null,null,null,null,null,null,null,null,null,null,null,null,null,null,{"$f":"IFERROR(MAX(GESTION_SEG_1_TRIM!H189,GESTION_SEG_2_TRIM!H189,GESTION_SEG_3_TRIM!H189,GESTION_SEG_4_TRIM!H189),\" \")","v":0},null,{"$f":"IFERROR(_xlfn.CONCAT(\"Trimestre 1\",CHAR(10),GESTION_SEG_1_TRIM!J189,CHAR(10),\"Trimestre 2\",CHAR(10),GESTION_SEG_2_TRIM!J189,CHAR(10),\"Trimestre 3\",CHAR(10),GESTION_SEG_3_TRIM!J189,CHAR(10),\"Trimestre 4\",CHAR(10),GESTION_SEG_4_TRIM!J189),\" \")","v":"Trimestre 1\n\nTrimestre 2\n\nTrimestre 3\n\nTrimestre 4\n"},{"$f":"IFERROR(_xlfn.CONCAT(\"Trimestre 1\",CHAR(10),GESTION_SEG_1_TRIM!K189,CHAR(10),\"Trimestre 2\",CHAR(10),GESTION_SEG_2_TRIM!K189,CHAR(10),\"Trimestre 3\",CHAR(10),GESTION_SEG_3_TRIM!K189,CHAR(10),\"Trimestre 4\",CHAR(10),GESTION_SEG_4_TRIM!K189),\" \")","v":"Trimestre 1\n\nTrimestre 2\n\nTrimestre 3\n\nTrimestre 4\n"}]
[null,null,null,null,null,null,null,null,null,null,null,null,null,null,null,{"$f":"IFERROR(MAX(GESTION_SEG_1_TRIM!H190,GESTION_SEG_2_TRIM!H190,GESTION_SEG_3_TRIM!H190,GESTION_SEG_4_TRIM!H190),\" \")","v":0},null,{"$f":"IFERROR(_xlfn.CONCAT(\"Trimestre 1\",CHAR(10),GESTION_SEG_1_TRIM!J190,CHAR(10),\"Trimestre 2\",CHAR(10),GESTION_SEG_2_TRIM!J190,CHAR(10),\"Trimestre 3\",CHAR(10),GESTION_SEG_3_TRIM!J190,CHAR(10),\"Trimestre 4\",CHAR(10),GESTION_SEG_4_TRIM!J190),\" \")","v":"Trimestre 1\n\nTrimestre 2\n\nTrimestre 3\n\nTrimestre 4\n"},{"$f":"IFERROR(_xlfn.CONCAT(\"Trimestre 1\",CHAR(10),GESTION_SEG_1_TRIM!K190,CHAR(10),\"Trimestre 2\",CHAR(10),GESTION_SEG_2_TRIM!K190,CHAR(10),\"Trimestre 3\",CHAR(10),GESTION_SEG_3_TRIM!K190,CHAR(10),\"Trimestre 4\",CHAR(10),GESTION_SEG_4_TRIM!K190),\" \")","v":"Trimestre 1\n\nTrimestre 2\n\nTrimestre 3\n\nTrimestre 4\n"}]
[null,null,null,null,null,null,null,null,null,null,null,null,null,null,null,{"$f":"IFERROR(MAX(GESTION_SEG_1_TRIM!H191,GESTION_SEG_2_TRIM!H191,GESTION_SEG_3_TRIM!H191,GESTION_SEG_4_TRIM!H191),\" \")","v":0},null,{"$f":"IFERROR(_xlfn.CONCAT(\"Trimestre 1\",CHAR(10),GESTION_SEG_1_TRIM!J191,CHAR(10),\"Trimestre 2\",CHAR(10),GESTION_SEG_2_TRIM!J191,CHAR(10),\"Trimestre 3\",CHAR(10),GESTION_SEG_3_TRIM!J191,CHAR(10),\"Trimestre 4\",CHAR(10),GESTION_SEG_4_TRIM!J191),\" \")","v":"Trimestre 1\n\nTrimestre 2\n\nTrimestre 3\n\nTrimestre 4\n"},{"$f":"IFERROR(_xlfn.CONCAT(\"Trimestre 1\",CHAR(10),GESTION_SEG_1_TRIM!K191,CHAR(10),\"Trimestre 2\",CHAR(10),GESTION_SEG_2_TRIM!K191,CHAR(10),\"Trimestre 3\",CHAR(10),GESTION_SEG_3_TRIM!K191,CHAR(10),\"Trimestre 4\",CHAR(10),GESTION_SEG_4_TRIM!K191),\" \")","v":"Trimestre 1\n\nTrimestre 2\n\nTrimestre 3\n\nTrimestre 4\n"}]
[null,null,null,null,null,null,null,null,null,null,null,null,null,null,null,{"$f":"IFERROR(MAX(GESTION_SEG_1_TRIM!H192,GESTION_SEG_2_TRIM!H192,GESTION_SEG_3_TRIM!H192,GESTION_SEG_4_TRIM!H192),\" \")","v":0},null,{"$f":"IFERROR(_xlfn.CONCAT(\"Trimestre 1\",CHAR(10),GESTION_SEG_1_TRIM!J192,CHAR(10),\"Trimestre 2\",CHAR(10),GESTION_SEG_2_TRIM!J192,CHAR(10),\"Trimestre 3\",CHAR(10),GESTION_SEG_3_TRIM!J192,CHAR(10),\"Trimestre 4\",CHAR(10),GESTION_SEG_4_TRIM!J192),\" \")","v":"Trimestre 1\n\nTrimestre 2\n\nTrimestre 3\n\nTrimestre 4\n"},{"$f":"IFERROR(_xlfn.CONCAT(\"Trimestre 1\",CHAR(10),GESTION_SEG_1_TRIM!K192,CHAR(10),\"Trimestre 2\",CHAR(10),GESTION_SEG_2_TRIM!K192,CHAR(10),\"Trimestre 3\",CHAR(10),GESTION_SEG_3_TRIM!K192,CHAR(10),\"Trimestre 4\",CHAR(10),GESTION_SEG_4_TRIM!K192),\" \")","v":"Trimestre 1\n\nTrimestre 2\n\nTrimestre 3\n\nTrimestre 4\n"}]
[null,null,null,null,null,null,null,null,null,null,null,null,null,null,null,{"$f":"IFERROR(MAX(GESTION_SEG_1_TRIM!H193,GESTION_SEG_2_TRIM!H193,GESTION_SEG_3_TRIM!H193,GESTION_SEG_4_TRIM!H193),\" \")","v":0},"",{"$f":"IFERROR(_xlfn.CONCAT(\"Trimestre 1\",CHAR(10),GESTION_SEG_1_TRIM!J193,CHAR(10),\"Trimestre 2\",CHAR(10),GESTION_SEG_2_TRIM!J193,CHAR(10),\"Trimestre 3\",CHAR(10),GESTION_SEG_3_TRIM!J193,CHAR(10),\"Trimestre 4\",CHAR(10),GESTION_SEG_4_TRIM!J193),\" \")","v":"Trimestre 1\n\nTrimestre 2\n\nTrimestre 3\n\nTrimestre 4\n"},{"$f":"IFERROR(_xlfn.CONCAT(\"Trimestre 1\",CHAR(10),GESTION_SEG_1_TRIM!K193,CHAR(10),\"Trimestre 2\",CHAR(10),GESTION_SEG_2_TRIM!K193,CHAR(10),\"Trimestre 3\",CHAR(10),GESTION_SEG_3_TRIM!K193,CHAR(10),\"Trimestre 4\",CHAR(10),GESTION_SEG_4_TRIM!K193),\" \")","v":"Trimestre 1\n\nTrimestre 2\n\nTrimestre 3\n\nTrimestre 4\n"}]
[null,null,null,null,null,null,null,null,null,null,null,null,null,null,null,{"$f":"IFERROR(MAX(GESTION_SEG_1_TRIM!H194,GESTION_SEG_2_TRIM!H194,GESTION_SEG_3_TRIM!H194,GESTION_SEG_4_TRIM!H194),\" \")","v":0},"",{"$f":"IFERROR(_xlfn.CONCAT(\"Trimestre 1\",CHAR(10),GESTION_SEG_1_TRIM!J194,CHAR(10),\"Trimestre 2\",CHAR(10),GESTION_SEG_2_TRIM!J194,CHAR(10),\"Trimestre 3\",CHAR(10),GESTION_SEG_3_TRIM!J194,CHAR(10),\"Trimestre 4\",CHAR(10),GESTION_SEG_4_TRIM!J194),\" \")","v":"Trimestre 1\n\nTrimestre 2\n\nTrimestre 3\n\nTrimestre 4\n"},{"$f":"IFERROR(_xlfn.CONCAT(\"Trimestre 1\",CHAR(10),GESTION_SEG_1_TRIM!K194,CHAR(10),\"Trimestre 2\",CHAR(10),GESTION_SEG_2_TRIM!K194,CHAR(10),\"Trimestre 3\",CHAR(10),GESTION_SEG_3_TRIM!K194,CHAR(10),\"Trimestre 4\",CHAR(10),GESTION_SEG_4_TRIM!K194),\" \")","v":"Trimestre 1\n\nTrimestre 2\n\nTrimestre 3\n\nTrimestre 4\n"}]
[null,null,null,null,null,null,null,null,null,null,null,null,null,null,null,{"$f":"IFERROR(MAX(GESTION_SEG_1_TRIM!H195,GESTION_SEG_2_TRIM!H195,GESTION_SEG_3_TRIM!H195,GESTION_SEG_4_TRIM!H195),\" \")","v":0},"",{"$f":"IFERROR(_xlfn.CONCAT(\"Trimestre 1\",CHAR(10),GESTION_SEG_1_TRIM!J195,CHAR(10),\"Trimestre 2\",CHAR(10),GESTION_SEG_2_TRIM!J195,CHAR(10),\"Trimestre 3\",CHAR(10),GESTION_SEG_3_TRIM!J195,CHAR(10),\"Trimestre 4\",CHAR(10),GESTION_SEG_4_TRIM!J195),\" \")","v":"Trimestre 1\n\nTrimestre 2\n\nTrimestre 3\n\nTrimestre 4\n"},{"$f":"IFERROR(_xlfn.CONCAT(\"Trimestre 1\",CHAR(10),GESTION_SEG_1_TRIM!K195,CHAR(10),\"Trimestre 2\",CHAR(10),GESTION_SEG_2_TRIM!K195,CHAR(10),\"Trimestre 3\",CHAR(10),GESTION_SEG_3_TRIM!K195,CHAR(10),\"Trimestre 4\",CHAR(10),GESTION_SEG_4_TRIM!K195),\" \")","v":"Trimestre 1\n\nTrimestre 2\n\nTrimestre 3\n\nTrimestre 4\n"}]
[null,null,"2. Impactar la función y servicios que presta la Rama Judicial, a través de una formación integral desde una visión de gestión del conocimiento, relacionada con los problemas de la justicia y los problemas de gestión de quienes administran los recursos de la justicia, y potenciando el uso de medios virtuales.",null,null,null,null,null,null,null,null,null,null,null,null,{"$f":"IFERROR(MAX(GESTION_SEG_1_TRIM!H196,GESTION_SEG_2_TRIM!H196,GESTION_SEG_3_TRIM!H196,GESTION_SEG_4_TRIM!H196),\" \")","v":0},"",{"$f":"IFERROR(_xlfn.CONCAT(\"Trimestre 1\",CHAR(10),GESTION_SEG_1_TRIM!J196,CHAR(10),\"Trimestre 2\",CHAR(10),GESTION_SEG_2_TRIM!J196,CHAR(10),\"Trimestre 3\",CHAR(10),GESTION_SEG_3_TRIM!J196,CHAR(10),\"Trimestre 4\",CHAR(10),GESTION_SEG_4_TRIM!J196),\" \")","v":"Trimestre 1\n\nTrimestre 2\n\nTrimestre 3\n\nTrimestre 4\n"},{"$f":"IFERROR(_xlfn.CONCAT(\"Trimestre 1\",CHAR(10),GESTION_SEG_1_TRIM!K196,CHAR(10),\"Trimestre 2\",CHAR(10),GESTION_SEG_2_TRIM!K196,CHAR(10),\"Trimestre 3\",CHAR(10),GESTION_SEG_3_TRIM!K196,CHAR(10),\"Trimestre 4\",CHAR(10),GESTION_SEG_4_TRIM!K196),\" \")","v":"Trimestre 1\n\nTrimestre 2\n\nTrimestre 3\n\nTrimestre 4\n"}]
[null,null,null,null,null,null,null,null,null,null,null,null,null,null,null,{"$f":"IFERROR(MAX(GESTION_SEG_1_TRIM!H197,GESTION_SEG_2_TRIM!H197,GESTION_SEG_3_TRIM!H197,GESTION_SEG_4_TRIM!H197),\" \")","v":0},{"$f":"IFERROR(P197/J197,\"\")","v":""},{"$f":"IFERROR(_xlfn.CONCAT(\"Trimestre 1\",CHAR(10),GESTION_SEG_1_TRIM!J197,CHAR(10),\"Trimestre 2\",CHAR(10),GESTION_SEG_2_TRIM!J197,CHAR(10),\"Trimestre 3\",CHAR(10),GESTION_SEG_3_TRIM!J197,CHAR(10),\"Trimestre 4\",CHAR(10),GESTION_SEG_4_TRIM!J197),\" \")","v":"Trimestre 1\n\nTrimestre 2\n\nTrimestre 3\n\nTrimestre 4\n"},{"$f":"IFERROR(_xlfn.CONCAT(\"Trimestre 1\",CHAR(10),GESTION_SEG_1_TRIM!K197,CHAR(10),\"Trimestre 2\",CHAR(10),GESTION_SEG_2_TRIM!K197,CHAR(10),\"Trimestre 3\",CHAR(10),GESTION_SEG_3_TRIM!K197,CHAR(10),\"Trimestre 4\",CHAR(10),GESTION_SEG_4_TRIM!K197),\" \")","v":"Trimestre 1\n\nTrimestre 2\n\nTrimestre 3\n\nTrimestre 4\n"}]
[null,null,null,null,null,null,null,null,null,null,null,null,null,null,null,{"$f":"IFERROR(MAX(GESTION_SEG_1_TRIM!H198,GESTION_SEG_2_TRIM!H198,GESTION_SEG_3_TRIM!H198,GESTION_SEG_4_TRIM!H198),\" \")","v":0},null,{"$f":"IFERROR(_xlfn.CONCAT(\"Trimestre 1\",CHAR(10),GESTION_SEG_1_TRIM!J198,CHAR(10),\"Trimestre 2\",CHAR(10),GESTION_SEG_2_TRIM!J198,CHAR(10),\"Trimestre 3\",CHAR(10),GESTION_SEG_3_TRIM!J198,CHAR(10),\"Trimestre 4\",CHAR(10),GESTION_SEG_4_TRIM!J198),\" \")","v":"Trimestre 1\n\nTrimestre 2\n\nTrimestre 3\n\nTrimestre 4\n"},{"$f":"IFERROR(_xlfn.CONCAT(\"Trimestre 1\",CHAR(10),GESTION_SEG_1_TRIM!K198,CHAR(10),\"Trimestre 2\",CHAR(10),GESTION_SEG_2_TRIM!K198,CHAR(10),\"Trimestre 3\",CHAR(10),GESTION_SEG_3_TRIM!K198,CHAR(10),\"Trimestre 4\",CHAR(10),GESTION_SEG_4_TRIM!K198),\" \")","v":"Trimestre 1\n\nTrimestre 2\n\nTrimestre 3\n\nTrimestre 4\n"}]
[null,null,null,null,null,null,null,null,null,null,null,null,null,null,null,{"$f":"IFERROR(MAX(GESTION_SEG_1_TRIM!H199,GESTION_SEG_2_TRIM!H199,GESTION_SEG_3_TRIM!H199,GESTION_SEG_4_TRIM!H199),\" \")","v":0},null,{"$f":"IFERROR(_xlfn.CONCAT(\"Trimestre 1\",CHAR(10),GESTION_SEG_1_TRIM!J199,CHAR(10),\"Trimestre 2\",CHAR(10),GESTION_SEG_2_TRIM!J199,CHAR(10),\"Trimestre 3\",CHAR(10),GESTION_SEG_3_TRIM!J199,CHAR(10),\"Trimestre 4\",CHAR(10),GESTION_SEG_4_TRIM!J199),\" \")","v":"Trimestre 1\n\nTrimestre 2\n\nTrimestre 3\n\nTrimestre 4\n"},{"$f":"IFERROR(_xlfn.CONCAT(\"Trimestre 1\",CHAR(10),GESTION_SEG_1_TRIM!K199,CHAR(10),\"Trimestre 2\",CHAR(10),GESTION_SEG_2_TRIM!K199,CHAR(10),\"Trimestre 3\",CHAR(10),GESTION_SEG_3_TRIM!K199,CHAR(10),\"Trimestre 4\",CHAR(10),GESTION_SEG_4_TRIM!K199),\" \")","v":"Trimestre 1\n\nTrimestre 2\n\nTrimestre 3\n\nTrimestre 4\n"}]
[null,null,null,null,null,null,null,null,null,null,null,null,null,null,null,{"$f":"IFERROR(MAX(GESTION_SEG_1_TRIM!H200,GESTION_SEG_2_TRIM!H200,GESTION_SEG_3_TRIM!H200,GESTION_SEG_4_TRIM!H200),\" \")","v":0},null,{"$f":"IFERROR(_xlfn.CONCAT(\"Trimestre 1\",CHAR(10),GESTION_SEG_1_TRIM!J200,CHAR(10),\"Trimestre 2\",CHAR(10),GESTION_SEG_2_TRIM!J200,CHAR(10),\"Trimestre 3\",CHAR(10),GESTION_SEG_3_TRIM!J200,CHAR(10),\"Trimestre 4\",CHAR(10),GESTION_SEG_4_TRIM!J200),\" \")","v":"Trimestre 1\n\nTrimestre 2\n\nTrimestre 3\n\nTrimestre 4\n"},{"$f":"IFERROR(_xlfn.CONCAT(\"Trimestre 1\",CHAR(10),GESTION_SEG_1_TRIM!K200,CHAR(10),\"Trimestre 2\",CHAR(10),GESTION_SEG_2_TRIM!K200,CHAR(10),\"Trimestre 3\",CHAR(10),GESTION_SEG_3_TRIM!K200,CHAR(10),\"Trimestre 4\",CHAR(10),GESTION_SEG_4_TRIM!K200),\" \")","v":"Trimestre 1\n\nTrimestre 2\n\nTrimestre 3\n\nTrimestre 4\n"}]
[null,null,null,null,null,null,null,null,null,null,null,null,null,null,null,{"$f":"IFERROR(MAX(GESTION_SEG_1_TRIM!H201,GESTION_SEG_2_TRIM!H201,GESTION_SEG_3_TRIM!H201,GESTION_SEG_4_TRIM!H201),\" \")","v":0},null,{"$f":"IFERROR(_xlfn.CONCAT(\"Trimestre 1\",CHAR(10),GESTION_SEG_1_TRIM!J201,CHAR(10),\"Trimestre 2\",CHAR(10),GESTION_SEG_2_TRIM!J201,CHAR(10),\"Trimestre 3\",CHAR(10),GESTION_SEG_3_TRIM!J201,CHAR(10),\"Trimestre 4\",CHAR(10),GESTION_SEG_4_TRIM!J201),\" \")","v":"Trimestre 1\n\nTrimestre 2\n\nTrimestre 3\n\nTrimestre 4\n"},{"$f":"IFERROR(_xlfn.CONCAT(\"Trimestre 1\",CHAR(10),GESTION_SEG_1_TRIM!K201,CHAR(10),\"Trimestre 2\",CHAR(10),GESTION_SEG_2_TRIM!K201,CHAR(10),\"Trimestre 3\",CHAR(10),GESTION_SEG_3_TRIM!K201,CHAR(10),\"Trimestre 4\",CHAR(10),GESTION_SEG_4_TRIM!K201),\" \")","v":"Trimestre 1\n\nTrimestre 2\n\nTrimestre 3\n\nTrimestre 4\n"}]
[null,null,null,null,null,null,null,null,null,null,null,null,null,null,null,{"$f":"IFERROR(MAX(GESTION_SEG_1_TRIM!H202,GESTION_SEG_2_TRIM!H202,GESTION_SEG_3_TRIM!H202,GESTION_SEG_4_TRIM!H202),\" \")","v":0},null,{"$f":"IFERROR(_xlfn.CONCAT(\"Trimestre 1\",CHAR(10),GESTION_SEG_1_TRIM!J202,CHAR(10),\"Trimestre 2\",CHAR(10),GESTION_SEG_2_TRIM!J202,CHAR(10),\"Trimestre 3\",CHAR(10),GESTION_SEG_3_TRIM!J202,CHAR(10),\"Trimestre 4\",CHAR(10),GESTION_SEG_4_TRIM!J202),\" \")","v":"Trimestre 1\n\nTrimestre 2\n\nTrimestre 3\n\nTrimestre 4\n"},{"$f":"IFERROR(_xlfn.CONCAT(\"Trimestre 1\",CHAR(10),GESTION_SEG_1_TRIM!K202,CHAR(10),\"Trimestre 2\",CHAR(10),GESTION_SEG_2_TRIM!K202,CHAR(10),\"Trimestre 3\",CHAR(10),GESTION_SEG_3_TRIM!K202,CHAR(10),\"Trimestre 4\",CHAR(10),GESTION_SEG_4_TRIM!K202),\" \")","v":"Trimestre 1\n\nTrimestre 2\n\nTrimestre 3\n\nTrimestre 4\n"}]
[null,null,null,null,null,null,null,null,null,null,null,null,null,null,null,{"$f":"IFERROR(MAX(GESTION_SEG_1_TRIM!H203,GESTION_SEG_2_TRIM!H203,GESTION_SEG_3_TRIM!H203,GESTION_SEG_4_TRIM!H203),\" \")","v":0},"",{"$f":"IFERROR(_xlfn.CONCAT(\"Trimestre 1\",CHAR(10),GESTION_SEG_1_TRIM!J203,CHAR(10),\"Trimestre 2\",CHAR(10),GESTION_SEG_2_TRIM!J203,CHAR(10),\"Trimestre 3\",CHAR(10),GESTION_SEG_3_TRIM!J203,CHAR(10),\"Trimestre 4\",CHAR(10),GESTION_SEG_4_TRIM!J203),\" \")","v":"Trimestre 1\n\nTrimestre 2\n\nTrimestre 3\n\nTrimestre 4\n"},{"$f":"IFERROR(_xlfn.CONCAT(\"Trimestre 1\",CHAR(10),GESTION_SEG_1_TRIM!K203,CHAR(10),\"Trimestre 2\",CHAR(10),GESTION_SEG_2_TRIM!K203,CHAR(10),\"Trimestre 3\",CHAR(10),GESTION_SEG_3_TRIM!K203,CHAR(10),\"Trimestre 4\",CHAR(10),GESTION_SEG_4_TRIM!K203),\" \")","v":"Trimestre 1\n\nTrimestre 2\n\nTrimestre 3\n\nTrimestre 4\n"}]
[null,null,null,null,null,null,null,null,null,null,null,null,null,null,null,{"$f":"IFERROR(MAX(GESTION_SEG_1_TRIM!H204,GESTION_SEG_2_TRIM!H204,GESTION_SEG_3_TRIM!H204,GESTION_SEG_4_TRIM!H204),\" \")","v":0},"",{"$f":"IFERROR(_xlfn.CONCAT(\"Trimestre 1\",CHAR(10),GESTION_SEG_1_TRIM!J204,CHAR(10),\"Trimestre 2\",CHAR(10),GESTION_SEG_2_TRIM!J204,CHAR(10),\"Trimestre 3\",CHAR(10),GESTION_SEG_3_TRIM!J204,CHAR(10),\"Trimestre 4\",CHAR(10),GESTION_SEG_4_TRIM!J204),\" \")","v":"Trimestre 1\n\nTrimestre 2\n\nTrimestre 3\n\nTrimestre 4\n"},{"$f":"IFERROR(_xlfn.CONCAT(\"Trimestre 1\",CHAR(10),GESTION_SEG_1_TRIM!K204,CHAR(10),\"Trimestre 2\",CHAR(10),GESTION_SEG_2_TRIM!K204,CHAR(10),\"Trimestre 3\",CHAR(10),GESTION_SEG_3_TRIM!K204,CHAR(10),\"Trimestre 4\",CHAR(10),GESTION_SEG_4_TRIM!K204),\" \")","v":"Trimestre 1\n\nTrimestre 2\n\nTrimestre 3\n\nTrimestre 4\n"}]
[null,null,null,null,null,null,null,null,null,null,null,null,null,null,null,{"$f":"IFERROR(MAX(GESTION_SEG_1_TRIM!H205,GESTION_SEG_2_TRIM!H205,GESTION_SEG_3_TRIM!H205,GESTION_SEG_4_TRIM!H205),\" \")","v":0},"",{"$f":"IFERROR(_xlfn.CONCAT(\"Trimestre 1\",CHAR(10),GESTION_SEG_1_TRIM!J205,CHAR(10),\"Trimestre 2\",CHAR(10),GESTION_SEG_2_TRIM!J205,CHAR(10),\"Trimestre 3\",CHAR(10),GESTION_SEG_3_TRIM!J205,CHAR(10),\"Trimestre 4\",CHAR(10),GESTION_SEG_4_TRIM!J205),\" \")","v":"Trimestre 1\n\nTrimestre 2\n\nTrimestre 3\n\nTrimestre 4\n"},{"$f":"IFERROR(_xlfn.CONCAT(\"Trimestre 1\",CHAR(10),GESTION_SEG_1_TRIM!K205,CHAR(10),\"Trimestre 2\",CHAR(10),GESTION_SEG_2_TRIM!K205,CHAR(10),\"Trimestre 3\",CHAR(10),GESTION_SEG_3_TRIM!K205,CHAR(10),\"Trimestre 4\",CHAR(10),GESTION_SEG_4_TRIM!K205),\" \")","v":"Trimestre 1\n\nTrimestre 2\n\nTrimestre 3\n\nTrimestre 4\n"}]
[null,null,"3. Promover la incorporación de la perspectiva de género y el enfoque diferencial en los fallos judiciales y en la atención a los ciudadanos, la administración de la Rama Judicial, la administración de la carrera judicial y la elaboración de listas para altas Cortes. ",null,null,null,null,null,null,null,null,null,null,null,null,{"$f":"IFERROR(MAX(GESTION_SEG_1_TRIM!H206,GESTION_SEG_2_TRIM!H206,GESTION_SEG_3_TRIM!H206,GESTION_SEG_4_TRIM!H206),\" \")","v":0},"",{"$f":"IFERROR(_xlfn.CONCAT(\"Trimestre 1\",CHAR(10),GESTION_SEG_1_TRIM!J206,CHAR(10),\"Trimestre 2\",CHAR(10),GESTION_SEG_2_TRIM!J206,CHAR(10),\"Trimestre 3\",CHAR(10),GESTION_SEG_3_TRIM!J206,CHAR(10),\"Trimestre 4\",CHAR(10),GESTION_SEG_4_TRIM!J206),\" \")","v":"Trimestre 1\n\nTrimestre 2\n\nTrimestre 3\n\nTrimestre 4\n"},{"$f":"IFERROR(_xlfn.CONCAT(\"Trimestre 1\",CHAR(10),GESTION_SEG_1_TRIM!K206,CHAR(10),\"Trimestre 2\",CHAR(10),GESTION_SEG_2_TRIM!K206,CHAR(10),\"Trimestre 3\",CHAR(10),GESTION_SEG_3_TRIM!K206,CHAR(10),\"Trimestre 4\",CHAR(10),GESTION_SEG_4_TRIM!K206),\" \")","v":"Trimestre 1\n\nTrimestre 2\n\nTrimestre 3\n\nTrimestre 4\n"}]
[null,null,null,null,null,null,null,null,null,null,null,null,null,null,null,{"$f":"IFERROR(MAX(GESTION_SEG_1_TRIM!H207,GESTION_SEG_2_TRIM!H207,GESTION_SEG_3_TRIM!H207,GESTION_SEG_4_TRIM!H207),\" \")","v":0},"",{"$f":"IFERROR(_xlfn.CONCAT(\"Trimestre 1\",CHAR(10),GESTION_SEG_1_TRIM!J207,CHAR(10),\"Trimestre 2\",CHAR(10),GESTION_SEG_2_TRIM!J207,CHAR(10),\"Trimestre 3\",CHAR(10),GESTION_SEG_3_TRIM!J207,CHAR(10),\"Trimestre 4\",CHAR(10),GESTION_SEG_4_TRIM!J207),\" \")","v":"Trimestre 1\n\nTrimestre 2\n\nTrimestre 3\n\nTrimestre 4\n"},{"$f":"IFERROR(_xlfn.CONCAT(\"Trimestre 1\",CHAR(10),GESTION_SEG_1_TRIM!K207,CHAR(10),\"Trimestre 2\",CHAR(10),GESTION_SEG_2_TRIM!K207,CHAR(10),\"Trimestre 3\",CHAR(10),GESTION_SEG_3_TRIM!K207,CHAR(10),\"Trimestre 4\",CHAR(10),GESTION_SEG_4_TRIM!K207),\" \")","v":"Trimestre 1\n\nTrimestre 2\n\nTrimestre 3\n\nTrimestre 4\n"}]
[null,null,null,null,null,null,null,null,null,null,null,null,null,null,null,{"$f":"IFERROR(MAX(GESTION_SEG_1_TRIM!H208,GESTION_SEG_2_TRIM!H208,GESTION_SEG_3_TRIM!H208,GESTION_SEG_4_TRIM!H208),\" \")","v":0},null,{"$f":"IFERROR(_xlfn.CONCAT(\"Trimestre 1\",CHAR(10),GESTION_SEG_1_TRIM!J208,CHAR(10),\"Trimestre 2\",CHAR(10),GESTION_SEG_2_TRIM!J208,CHAR(10),\"Trimestre 3\",CHAR(10),GESTION_SEG_3_TRIM!J208,CHAR(10),\"Trimestre 4\",CHAR(10),GESTION_SEG_4_TRIM!J208),\" \")","v":"Trimestre 1\n\nTrimestre 2\n\nTrimestre 3\n\nTrimestre 4\n"},{"$f":"IFERROR(_xlfn.CONCAT(\"Trimestre 1\",CHAR(10),GESTION_SEG_1_TRIM!K208,CHAR(10),\"Trimestre 2\",CHAR(10),GESTION_SEG_2_TRIM!K208,CHAR(10),\"Trimestre 3\",CHAR(10),GESTION_SEG_3_TRIM!K208,CHAR(10),\"Trimestre 4\",CHAR(10),GESTION_SEG_4_TRIM!K208),\" \")","v":"Trimestre 1\n\nTrimestre 2\n\nTrimestre 3\n\nTrimestre 4\n"}]
[null,null,null,null,null,null,null,null,null,null,null,null,null,null,null,{"$f":"IFERROR(MAX(GESTION_SEG_1_TRIM!H209,GESTION_SEG_2_TRIM!H209,GESTION_SEG_3_TRIM!H209,GESTION_SEG_4_TRIM!H209),\" \")","v":0},null,{"$f":"IFERROR(_xlfn.CONCAT(\"Trimestre 1\",CHAR(10),GESTION_SEG_1_TRIM!J209,CHAR(10),\"Trimestre 2\",CHAR(10),GESTION_SEG_2_TRIM!J209,CHAR(10),\"Trimestre 3\",CHAR(10),GESTION_SEG_3_TRIM!J209,CHAR(10),\"Trimestre 4\",CHAR(10),GESTION_SEG_4_TRIM!J209),\" \")","v":"Trimestre 1\n\nTrimestre 2\n\nTrimestre 3\n\nTrimestre 4\n"},{"$f":"IFERROR(_xlfn.CONCAT(\"Trimestre 1\",CHAR(10),GESTION_SEG_1_TRIM!K209,CHAR(10),\"Trimestre 2\",CHAR(10),GESTION_SEG_2_TRIM!K209,CHAR(10),\"Trimestre 3\",CHAR(10),GESTION_SEG_3_TRIM!K209,CHAR(10),\"Trimestre 4\",CHAR(10),GESTION_SEG_4_TRIM!K209),\" \")","v":"Trimestre 1\n\nTrimestre 2\n\nTrimestre 3\n\nTrimestre 4\n"}]
[null,null,null,null,null,null,null,null,null,null,null,null,null,null,null,{"$f":"IFERROR(MAX(GESTION_SEG_1_TRIM!H210,GESTION_SEG_2_TRIM!H210,GESTION_SEG_3_TRIM!H210,GESTION_SEG_4_TRIM!H210),\" \")","v":0},null,{"$f":"IFERROR(_xlfn.CONCAT(\"Trimestre 1\",CHAR(10),GESTION_SEG_1_TRIM!J210,CHAR(10),\"Trimestre 2\",CHAR(10),GESTION_SEG_2_TRIM!J210,CHAR(10),\"Trimestre 3\",CHAR(10),GESTION_SEG_3_TRIM!J210,CHAR(10),\"Trimestre 4\",CHAR(10),GESTION_SEG_4_TRIM!J210),\" \")","v":"Trimestre 1\n\nTrimestre 2\n\nTrimestre 3\n\nTrimestre 4\n"},{"$f":"IFERROR(_xlfn.CONCAT(\"Trimestre 1\",CHAR(10),GESTION_SEG_1_TRIM!K210,CHAR(10),\"Trimestre 2\",CHAR(10),GESTION_SEG_2_TRIM!K210,CHAR(10),\"Trimestre 3\",CHAR(10),GESTION_SEG_3_TRIM!K210,CHAR(10),\"Trimestre 4\",CHAR(10),GESTION_SEG_4_TRIM!K210),\" \")","v":"Trimestre 1\n\nTrimestre 2\n\nTrimestre 3\n\nTrimestre 4\n"}]
[null,null,null,null,null,null,null,null,null,null,null,null,null,null,null,{"$f":"IFERROR(MAX(GESTION_SEG_1_TRIM!H211,GESTION_SEG_2_TRIM!H211,GESTION_SEG_3_TRIM!H211,GESTION_SEG_4_TRIM!H211),\" \")","v":0},null,{"$f":"IFERROR(_xlfn.CONCAT(\"Trimestre 1\",CHAR(10),GESTION_SEG_1_TRIM!J211,CHAR(10),\"Trimestre 2\",CHAR(10),GESTION_SEG_2_TRIM!J211,CHAR(10),\"Trimestre 3\",CHAR(10),GESTION_SEG_3_TRIM!J211,CHAR(10),\"Trimestre 4\",CHAR(10),GESTION_SEG_4_TRIM!J211),\" \")","v":"Trimestre 1\n\nTrimestre 2\n\nTrimestre 3\n\nTrimestre 4\n"},{"$f":"IFERROR(_xlfn.CONCAT(\"Trimestre 1\",CHAR(10),GESTION_SEG_1_TRIM!K211,CHAR(10),\"Trimestre 2\",CHAR(10),GESTION_SEG_2_TRIM!K211,CHAR(10),\"Trimestre 3\",CHAR(10),GESTION_SEG_3_TRIM!K211,CHAR(10),\"Trimestre 4\",CHAR(10),GESTION_SEG_4_TRIM!K211),\" \")","v":"Trimestre 1\n\nTrimestre 2\n\nTrimestre 3\n\nTrimestre 4\n"}]
[null,null,null,null,null,null,null,null,null,null,null,null,null,null,null,{"$f":"IFERROR(MAX(GESTION_SEG_1_TRIM!H212,GESTION_SEG_2_TRIM!H212,GESTION_SEG_3_TRIM!H212,GESTION_SEG_4_TRIM!H212),\" \")","v":0},null,{"$f":"IFERROR(_xlfn.CONCAT(\"Trimestre 1\",CHAR(10),GESTION_SEG_1_TRIM!J212,CHAR(10),\"Trimestre 2\",CHAR(10),GESTION_SEG_2_TRIM!J212,CHAR(10),\"Trimestre 3\",CHAR(10),GESTION_SEG_3_TRIM!J212,CHAR(10),\"Trimestre 4\",CHAR(10),GESTION_SEG_4_TRIM!J212),\" \")","v":"Trimestre 1\n\nTrimestre 2\n\nTrimestre 3\n\nTrimestre 4\n"},{"$f":"IFERROR(_xlfn.CONCAT(\"Trimestre 1\",CHAR(10),GESTION_SEG_1_TRIM!K212,CHAR(10),\"Trimestre 2\",CHAR(10),GESTION_SEG_2_TRIM!K212,CHAR(10),\"Trimestre 3\",CHAR(10),GESTION_SEG_3_TRIM!K212,CHAR(10),\"Trimestre 4\",CHAR(10),GESTION_SEG_4_TRIM!K212),\" \")","v":"Trimestre 1\n\nTrimestre 2\n\nTrimestre 3\n\nTrimestre 4\n"}]
[null,null,null,null,null,null,null,null,null,null,null,null,null,null,null,{"$f":"IFERROR(MAX(GESTION_SEG_1_TRIM!H213,GESTION_SEG_2_TRIM!H213,GESTION_SEG_3_TRIM!H213,GESTION_SEG_4_TRIM!H213),\" \")","v":0},"",{"$f":"IFERROR(_xlfn.CONCAT(\"Trimestre 1\",CHAR(10),GESTION_SEG_1_TRIM!J213,CHAR(10),\"Trimestre 2\",CHAR(10),GESTION_SEG_2_TRIM!J213,CHAR(10),\"Trimestre 3\",CHAR(10),GESTION_SEG_3_TRIM!J213,CHAR(10),\"Trimestre 4\",CHAR(10),GESTION_SEG_4_TRIM!J213),\" \")","v":"Trimestre 1\n\nTrimestre 2\n\nTrimestre 3\n\nTrimestre 4\n"},{"$f":"IFERROR(_xlfn.CONCAT(\"Trimestre 1\",CHAR(10),GESTION_SEG_1_TRIM!K213,CHAR(10),\"Trimestre 2\",CHAR(10),GESTION_SEG_2_TRIM!K213,CHAR(10),\"Trimestre 3\",CHAR(10),GESTION_SEG_3_TRIM!K213,CHAR(10),\"Trimestre 4\",CHAR(10),GESTION_SEG_4_TRIM!K213),\" \")","v":"Trimestre 1\n\nTrimestre 2\n\nTrimestre 3\n\nTrimestre 4\n"}]
[null,null,null,null,null,null,null,null,null,null,null,null,null,null,null,{"$f":"IFERROR(MAX(GESTION_SEG_1_TRIM!H214,GESTION_SEG_2_TRIM!H214,GESTION_SEG_3_TRIM!H214,GESTION_SEG_4_TRIM!H214),\" \")","v":0},"",{"$f":"IFERROR(_xlfn.CONCAT(\"Trimestre 1\",CHAR(10),GESTION_SEG_1_TRIM!J214,CHAR(10),\"Trimestre 2\",CHAR(10),GESTION_SEG_2_TRIM!J214,CHAR(10),\"Trimestre 3\",CHAR(10),GESTION_SEG_3_TRIM!J214,CHAR(10),\"Trimestre 4\",CHAR(10),GESTION_SEG_4_TRIM!J214),\" \")","v":"Trimestre 1\n\nTrimestre 2\n\nTrimestre 3\n\nTrimestre 4\n"},{"$f":"IFERROR(_xlfn.CONCAT(\"Trimestre 1\",CHAR(10),GESTION_SEG_1_TRIM!K214,CHAR(10),\"Trimestre 2\",CHAR(10),GESTION_SEG_2_TRIM!K214,CHAR(10),\"Trimestre 3\",CHAR(10),GESTION_SEG_3_TRIM!K214,CHAR(10),\"Trimestre 4\",CHAR(10),GESTION_SEG_4_TRIM!K214),\" \")","v":"Trimestre 1\n\nTrimestre 2\n\nTrimestre 3\n\nTrimestre 4\n"}]
[null,null,null,null,null,null,null,null,null,null,null,null,null,null,null,{"$f":"IFERROR(MAX(GESTION_SEG_1_TRIM!H215,GESTION_SEG_2_TRIM!H215,GESTION_SEG_3_TRIM!H215,GESTION_SEG_4_TRIM!H215),\" \")","v":0},"",{"$f":"IFERROR(_xlfn.CONCAT(\"Trimestre 1\",CHAR(10),GESTION_SEG_1_TRIM!J215,CHAR(10),\"Trimestre 2\",CHAR(10),GESTION_SEG_2_TRIM!J215,CHAR(10),\"Trimestre 3\",CHAR(10),GESTION_SEG_3_TRIM!J215,CHAR(10),\"Trimestre 4\",CHAR(10),GESTION_SEG_4_TRIM!J215),\" \")","v":"Trimestre 1\n\nTrimestre 2\n\nTrimestre 3\n\nTrimestre 4\n"},{"$f":"IFERROR(_xlfn.CONCAT(\"Trimestre 1\",CHAR(10),GESTION_SEG_1_TRIM!K215,CHAR(10),\"Trimestre 2\",CHAR(10),GESTION_SEG_2_TRIM!K215,CHAR(10),\"Trimestre 3\",CHAR(10),GESTION_SEG_3_TRIM!K215,CHAR(10),\"Trimestre 4\",CHAR(10),GESTION_SEG_4_TRIM!K215),\" \")","v":"Trimestre 1\n\nTrimestre 2\n\nTrimestre 3\n\nTrimestre 4\n"}]
[null,null,"4. Desarrollar en los servidores judiciales y demás grupos de valor relevantes las competencias necesarias para la efectividad de la transformación digital de modo que puedan, entre otros, utilizar con solvencia las herramientas digitales dispuestas para sus respectivas funciones. Además, fortalecer y actualizar los conocimientos del personal a cargo de la gestión de proyectos de tecnología.",null,null,null,null,null,null,null,null,null,null,null,null,{"$f":"IFERROR(MAX(GESTION_SEG_1_TRIM!H216,GESTION_SEG_2_TRIM!H216,GESTION_SEG_3_TRIM!H216,GESTION_SEG_4_TRIM!H216),\" \")","v":0},"",{"$f":"IFERROR(_xlfn.CONCAT(\"Trimestre 1\",CHAR(10),GESTION_SEG_1_TRIM!J216,CHAR(10),\"Trimestre 2\",CHAR(10),GESTION_SEG_2_TRIM!J216,CHAR(10),\"Trimestre 3\",CHAR(10),GESTION_SEG_3_TRIM!J216,CHAR(10),\"Trimestre 4\",CHAR(10),GESTION_SEG_4_TRIM!J216),\" \")","v":"Trimestre 1\n\nTrimestre 2\n\nTrimestre 3\n\nTrimestre 4\n"},{"$f":"IFERROR(_xlfn.CONCAT(\"Trimestre 1\",CHAR(10),GESTION_SEG_1_TRIM!K216,CHAR(10),\"Trimestre 2\",CHAR(10),GESTION_SEG_2_TRIM!K216,CHAR(10),\"Trimestre 3\",CHAR(10),GESTION_SEG_3_TRIM!K216,CHAR(10),\"Trimestre 4\",CHAR(10),GESTION_SEG_4_TRIM!K216),\" \")","v":"Trimestre 1\n\nTrimestre 2\n\nTrimestre 3\n\nTrimestre 4\n"}]
[null,null,null,null,null,null,null,null,null,null,null,null,null,null,null,{"$f":"IFERROR(MAX(GESTION_SEG_1_TRIM!H217,GESTION_SEG_2_TRIM!H217,GESTION_SEG_3_TRIM!H217,GESTION_SEG_4_TRIM!H217),\" \")","v":0},"",{"$f":"IFERROR(_xlfn.CONCAT(\"Trimestre 1\",CHAR(10),GESTION_SEG_1_TRIM!J217,CHAR(10),\"Trimestre 2\",CHAR(10),GESTION_SEG_2_TRIM!J217,CHAR(10),\"Trimestre 3\",CHAR(10),GESTION_SEG_3_TRIM!J217,CHAR(10),\"Trimestre 4\",CHAR(10),GESTION_SEG_4_TRIM!J217),\" \")","v":"Trimestre 1\n\nTrimestre 2\n\nTrimestre 3\n\nTrimestre 4\n"},{"$f":"IFERROR(_xlfn.CONCAT(\"Trimestre 1\",CHAR(10),GESTION_SEG_1_TRIM!K217,CHAR(10),\"Trimestre 2\",CHAR(10),GESTION_SEG_2_TRIM!K217,CHAR(10),\"Trimestre 3\",CHAR(10),GESTION_SEG_3_TRIM!K217,CHAR(10),\"Trimestre 4\",CHAR(10),GESTION_SEG_4_TRIM!K217),\" \")","v":"Trimestre 1\n\nTrimestre 2\n\nTrimestre 3\n\nTrimestre 4\n"}]
[null,null,null,null,null,null,null,null,null,null,null,null,null,null,null,{"$f":"IFERROR(MAX(GESTION_SEG_1_TRIM!H218,GESTION_SEG_2_TRIM!H218,GESTION_SEG_3_TRIM!H218,GESTION_SEG_4_TRIM!H218),\" \")","v":0},null,{"$f":"IFERROR(_xlfn.CONCAT(\"Trimestre 1\",CHAR(10),GESTION_SEG_1_TRIM!J218,CHAR(10),\"Trimestre 2\",CHAR(10),GESTION_SEG_2_TRIM!J218,CHAR(10),\"Trimestre 3\",CHAR(10),GESTION_SEG_3_TRIM!J218,CHAR(10),\"Trimestre 4\",CHAR(10),GESTION_SEG_4_TRIM!J218),\" \")","v":"Trimestre 1\n\nTrimestre 2\n\nTrimestre 3\n\nTrimestre 4\n"},{"$f":"IFERROR(_xlfn.CONCAT(\"Trimestre 1\",CHAR(10),GESTION_SEG_1_TRIM!K218,CHAR(10),\"Trimestre 2\",CHAR(10),GESTION_SEG_2_TRIM!K218,CHAR(10),\"Trimestre 3\",CHAR(10),GESTION_SEG_3_TRIM!K218,CHAR(10),\"Trimestre 4\",CHAR(10),GESTION_SEG_4_TRIM!K218),\" \")","v":"Trimestre 1\n\nTrimestre 2\n\nTrimestre 3\n\nTrimestre 4\n"}]
[null,null,null,null,null,null,null,null,null,null,null,null,null,null,null,{"$f":"IFERROR(MAX(GESTION_SEG_1_TRIM!H219,GESTION_SEG_2_TRIM!H219,GESTION_SEG_3_TRIM!H219,GESTION_SEG_4_TRIM!H219),\" \")","v":0},null,{"$f":"IFERROR(_xlfn.CONCAT(\"Trimestre 1\",CHAR(10),GESTION_SEG_1_TRIM!J219,CHAR(10),\"Trimestre 2\",CHAR(10),GESTION_SEG_2_TRIM!J219,CHAR(10),\"Trimestre 3\",CHAR(10),GESTION_SEG_3_TRIM!J219,CHAR(10),\"Trimestre 4\",CHAR(10),GESTION_SEG_4_TRIM!J219),\" \")","v":"Trimestre 1\n\nTrimestre 2\n\nTrimestre 3\n\nTrimestre 4\n"},{"$f":"IFERROR(_xlfn.CONCAT(\"Trimestre 1\",CHAR(10),GESTION_SEG_1_TRIM!K219,CHAR(10),\"Trimestre 2\",CHAR(10),GESTION_SEG_2_TRIM!K219,CHAR(10),\"Trimestre 3\",CHAR(10),GESTION_SEG_3_TRIM!K219,CHAR(10),\"Trimestre 4\",CHAR(10),GESTION_SEG_4_TRIM!K219),\" \")","v":"Trimestre 1\n\nTrimestre 2\n\nTrimestre 3\n\nTrimestre 4\n"}]
[null,null,null,null,null,null,null,null,null,null,null,null,null,null,null,{"$f":"IFERROR(MAX(GESTION_SEG_1_TRIM!H220,GESTION_SEG_2_TRIM!H220,GESTION_SEG_3_TRIM!H220,GESTION_SEG_4_TRIM!H220),\" \")","v":0},null,{"$f":"IFERROR(_xlfn.CONCAT(\"Trimestre 1\",CHAR(10),GESTION_SEG_1_TRIM!J220,CHAR(10),\"Trimestre 2\",CHAR(10),GESTION_SEG_2_TRIM!J220,CHAR(10),\"Trimestre 3\",CHAR(10),GESTION_SEG_3_TRIM!J220,CHAR(10),\"Trimestre 4\",CHAR(10),GESTION_SEG_4_TRIM!J220),\" \")","v":"Trimestre 1\n\nTrimestre 2\n\nTrimestre 3\n\nTrimestre 4\n"},{"$f":"IFERROR(_xlfn.CONCAT(\"Trimestre 1\",CHAR(10),GESTION_SEG_1_TRIM!K220,CHAR(10),\"Trimestre 2\",CHAR(10),GESTION_SEG_2_TRIM!K220,CHAR(10),\"Trimestre 3\",CHAR(10),GESTION_SEG_3_TRIM!K220,CHAR(10),\"Trimestre 4\",CHAR(10),GESTION_SEG_4_TRIM!K220),\" \")","v":"Trimestre 1\n\nTrimestre 2\n\nTrimestre 3\n\nTrimestre 4\n"}]
[null,null,null,null,null,null,null,null,null,null,null,null,null,null,null,{"$f":"IFERROR(MAX(GESTION_SEG_1_TRIM!H221,GESTION_SEG_2_TRIM!H221,GESTION_SEG_3_TRIM!H221,GESTION_SEG_4_TRIM!H221),\" \")","v":0},null,{"$f":"IFERROR(_xlfn.CONCAT(\"Trimestre 1\",CHAR(10),GESTION_SEG_1_TRIM!J221,CHAR(10),\"Trimestre 2\",CHAR(10),GESTION_SEG_2_TRIM!J221,CHAR(10),\"Trimestre 3\",CHAR(10),GESTION_SEG_3_TRIM!J221,CHAR(10),\"Trimestre 4\",CHAR(10),GESTION_SEG_4_TRIM!J221),\" \")","v":"Trimestre 1\n\nTrimestre 2\n\nTrimestre 3\n\nTrimestre 4\n"},{"$f":"IFERROR(_xlfn.CONCAT(\"Trimestre 1\",CHAR(10),GESTION_SEG_1_TRIM!K221,CHAR(10),\"Trimestre 2\",CHAR(10),GESTION_SEG_2_TRIM!K221,CHAR(10),\"Trimestre 3\",CHAR(10),GESTION_SEG_3_TRIM!K221,CHAR(10),\"Trimestre 4\",CHAR(10),GESTION_SEG_4_TRIM!K221),\" \")","v":"Trimestre 1\n\nTrimestre 2\n\nTrimestre 3\n\nTrimestre 4\n"}]
[null,null,null,null,null,null,null,null,null,null,null,null,null,null,null,{"$f":"IFERROR(MAX(GESTION_SEG_1_TRIM!H222,GESTION_SEG_2_TRIM!H222,GESTION_SEG_3_TRIM!H222,GESTION_SEG_4_TRIM!H222),\" \")","v":0},null,{"$f":"IFERROR(_xlfn.CONCAT(\"Trimestre 1\",CHAR(10),GESTION_SEG_1_TRIM!J222,CHAR(10),\"Trimestre 2\",CHAR(10),GESTION_SEG_2_TRIM!J222,CHAR(10),\"Trimestre 3\",CHAR(10),GESTION_SEG_3_TRIM!J222,CHAR(10),\"Trimestre 4\",CHAR(10),GESTION_SEG_4_TRIM!J222),\" \")","v":"Trimestre 1\n\nTrimestre 2\n\nTrimestre 3\n\nTrimestre 4\n"},{"$f":"IFERROR(_xlfn.CONCAT(\"Trimestre 1\",CHAR(10),GESTION_SEG_1_TRIM!K222,CHAR(10),\"Trimestre 2\",CHAR(10),GESTION_SEG_2_TRIM!K222,CHAR(10),\"Trimestre 3\",CHAR(10),GESTION_SEG_3_TRIM!K222,CHAR(10),\"Trimestre 4\",CHAR(10),GESTION_SEG_4_TRIM!K222),\" \")","v":"Trimestre 1\n\nTrimestre 2\n\nTrimestre 3\n\nTrimestre 4\n"}]
[null,null,null,null,null,null,null,null,null,null,null,null,null,null,null,{"$f":"IFERROR(MAX(GESTION_SEG_1_TRIM!H223,GESTION_SEG_2_TRIM!H223,GESTION_SEG_3_TRIM!H223,GESTION_SEG_4_TRIM!H223),\" \")","v":0},"",{"$f":"IFERROR(_xlfn.CONCAT(\"Trimestre 1\",CHAR(10),GESTION_SEG_1_TRIM!J223,CHAR(10),\"Trimestre 2\",CHAR(10),GESTION_SEG_2_TRIM!J223,CHAR(10),\"Trimestre 3\",CHAR(10),GESTION_SEG_3_TRIM!J223,CHAR(10),\"Trimestre 4\",CHAR(10),GESTION_SEG_4_TRIM!J223),\" \")","v":"Trimestre 1\n\nTrimestre 2\n\nTrimestre 3\n\nTrimestre 4\n"},{"$f":"IFERROR(_xlfn.CONCAT(\"Trimestre 1\",CHAR(10),GESTION_SEG_1_TRIM!K223,CHAR(10),\"Trimestre 2\",CHAR(10),GESTION_SEG_2_TRIM!K223,CHAR(10),\"Trimestre 3\",CHAR(10),GESTION_SEG_3_TRIM!K223,CHAR(10),\"Trimestre 4\",CHAR(10),GESTION_SEG_4_TRIM!K223),\" \")","v":"Trimestre 1\n\nTrimestre 2\n\nTrimestre 3\n\nTrimestre 4\n"}]
[null,null,null,null,null,null,null,null,null,null,null,null,null,null,null,{"$f":"IFERROR(MAX(GESTION_SEG_1_TRIM!H224,GESTION_SEG_2_TRIM!H224,GESTION_SEG_3_TRIM!H224,GESTION_SEG_4_TRIM!H224),\" \")","v":0},"",{"$f":"IFERROR(_xlfn.CONCAT(\"Trimestre 1\",CHAR(10),GESTION_SEG_1_TRIM!J224,CHAR(10),\"Trimestre 2\",CHAR(10),GESTION_SEG_2_TRIM!J224,CHAR(10),\"Trimestre 3\",CHAR(10),GESTION_SEG_3_TRIM!J224,CHAR(10),\"Trimestre 4\",CHAR(10),GESTION_SEG_4_TRIM!J224),\" \")","v":"Trimestre 1\n\nTrimestre 2\n\nTrimestre 3\n\nTrimestre 4\n"},{"$f":"IFERROR(_xlfn.CONCAT(\"Trimestre 1\",CHAR(10),GESTION_SEG_1_TRIM!K224,CHAR(10),\"Trimestre 2\",CHAR(10),GESTION_SEG_2_TRIM!K224,CHAR(10),\"Trimestre 3\",CHAR(10),GESTION_SEG_3_TRIM!K224,CHAR(10),\"Trimestre 4\",CHAR(10),GESTION_SEG_4_TRIM!K224),\" \")","v":"Trimestre 1\n\nTrimestre 2\n\nTrimestre 3\n\nTrimestre 4\n"}]
[null,null,null,null,null,null,null,null,null,null,null,null,null,null,null,{"$f":"IFERROR(MAX(GESTION_SEG_1_TRIM!H225,GESTION_SEG_2_TRIM!H225,GESTION_SEG_3_TRIM!H225,GESTION_SEG_4_TRIM!H225),\" \")","v":0},"",{"$f":"IFERROR(_xlfn.CONCAT(\"Trimestre 1\",CHAR(10),GESTION_SEG_1_TRIM!J225,CHAR(10),\"Trimestre 2\",CHAR(10),GESTION_SEG_2_TRIM!J225,CHAR(10),\"Trimestre 3\",CHAR(10),GESTION_SEG_3_TRIM!J225,CHAR(10),\"Trimestre 4\",CHAR(10),GESTION_SEG_4_TRIM!J225),\" \")","v":"Trimestre 1\n\nTrimestre 2\n\nTrimestre 3\n\nTrimestre 4\n"},{"$f":"IFERROR(_xlfn.CONCAT(\"Trimestre 1\",CHAR(10),GESTION_SEG_1_TRIM!K225,CHAR(10),\"Trimestre 2\",CHAR(10),GESTION_SEG_2_TRIM!K225,CHAR(10),\"Trimestre 3\",CHAR(10),GESTION_SEG_3_TRIM!K225,CHAR(10),\"Trimestre 4\",CHAR(10),GESTION_SEG_4_TRIM!K225),\" \")","v":"Trimestre 1\n\nTrimestre 2\n\nTrimestre 3\n\nTrimestre 4\n"}]
[null,null,"5. Promover el bienestar de todos los servidores judiciales a través de la implementación de un sistema que contemple los diferentes niveles de estrategias y acciones necesarios para mejorar el clima laboral, la salud física y mental y la calidad del tiempo de descanso.","5. Generar espacios de trabajo seguros y saludables que contribuyan a minimizar los  incidentes, accidentes y enfermedades laborales derivados de las condiciones y actos  inseguros y fomentar  el autocuidado, los  estilos de vida y el trabajo saludable en los servidores judiciales, contratistas, judicantes y practicantes",null,null,null,null,null,null,null,null,null,null,null,{"$f":"IFERROR(MAX(GESTION_SEG_1_TRIM!H226,GESTION_SEG_2_TRIM!H226,GESTION_SEG_3_TRIM!H226,GESTION_SEG_4_TRIM!H226),\" \")","v":0},"",{"$f":"IFERROR(_xlfn.CONCAT(\"Trimestre 1\",CHAR(10),GESTION_SEG_1_TRIM!J226,CHAR(10),\"Trimestre 2\",CHAR(10),GESTION_SEG_2_TRIM!J226,CHAR(10),\"Trimestre 3\",CHAR(10),GESTION_SEG_3_TRIM!J226,CHAR(10),\"Trimestre 4\",CHAR(10),GESTION_SEG_4_TRIM!J226),\" \")","v":"Trimestre 1\n\nTrimestre 2\n\nTrimestre 3\n\nTrimestre 4\n"},{"$f":"IFERROR(_xlfn.CONCAT(\"Trimestre 1\",CHAR(10),GESTION_SEG_1_TRIM!K226,CHAR(10),\"Trimestre 2\",CHAR(10),GESTION_SEG_2_TRIM!K226,CHAR(10),\"Trimestre 3\",CHAR(10),GESTION_SEG_3_TRIM!K226,CHAR(10),\"Trimestre 4\",CHAR(10),GESTION_SEG_4_TRIM!K226),\" \")","v":"Trimestre 1\n\nTrimestre 2\n\nTrimestre 3\n\nTrimestre 4\n"}]
[null,null,null,null,null,null,null,null,null,null,null,null,null,null,null,{"$f":"IFERROR(MAX(GESTION_SEG_1_TRIM!H227,GESTION_SEG_2_TRIM!H227,GESTION_SEG_3_TRIM!H227,GESTION_SEG_4_TRIM!H227),\" \")","v":0},"",{"$f":"IFERROR(_xlfn.CONCAT(\"Trimestre 1\",CHAR(10),GESTION_SEG_1_TRIM!J227,CHAR(10),\"Trimestre 2\",CHAR(10),GESTION_SEG_2_TRIM!J227,CHAR(10),\"Trimestre 3\",CHAR(10),GESTION_SEG_3_TRIM!J227,CHAR(10),\"Trimestre 4\",CHAR(10),GESTION_SEG_4_TRIM!J227),\" \")","v":"Trimestre 1\n\nTrimestre 2\n\nTrimestre 3\n\nTrimestre 4\n"},{"$f":"IFERROR(_xlfn.CONCAT(\"Trimestre 1\",CHAR(10),GESTION_SEG_1_TRIM!K227,CHAR(10),\"Trimestre 2\",CHAR(10),GESTION_SEG_2_TRIM!K227,CHAR(10),\"Trimestre 3\",CHAR(10),GESTION_SEG_3_TRIM!K227,CHAR(10),\"Trimestre 4\",CHAR(10),GESTION_SEG_4_TRIM!K227),\" \")","v":"Trimestre 1\n\nTrimestre 2\n\nTrimestre 3\n\nTrimestre 4\n"}]
[null,null,null,null,null,null,null,null,null,null,null,null,null,null,null,{"$f":"IFERROR(MAX(GESTION_SEG_1_TRIM!H228,GESTION_SEG_2_TRIM!H228,GESTION_SEG_3_TRIM!H228,GESTION_SEG_4_TRIM!H228),\" \")","v":0},null,{"$f":"IFERROR(_xlfn.CONCAT(\"Trimestre 1\",CHAR(10),GESTION_SEG_1_TRIM!J228,CHAR(10),\"Trimestre 2\",CHAR(10),GESTION_SEG_2_TRIM!J228,CHAR(10),\"Trimestre 3\",CHAR(10),GESTION_SEG_3_TRIM!J228,CHAR(10),\"Trimestre 4\",CHAR(10),GESTION_SEG_4_TRIM!J228),\" \")","v":"Trimestre 1\n\nTrimestre 2\n\nTrimestre 3\n\nTrimestre 4\n"},{"$f":"IFERROR(_xlfn.CONCAT(\"Trimestre 1\",CHAR(10),GESTION_SEG_1_TRIM!K228,CHAR(10),\"Trimestre 2\",CHAR(10),GESTION_SEG_2_TRIM!K228,CHAR(10),\"Trimestre 3\",CHAR(10),GESTION_SEG_3_TRIM!K228,CHAR(10),\"Trimestre 4\",CHAR(10),GESTION_SEG_4_TRIM!K228),\" \")","v":"Trimestre 1\n\nTrimestre 2\n\nTrimestre 3\n\nTrimestre 4\n"}]
[null,null,null,null,null,null,null,null,null,null,null,null,null,null,null,{"$f":"IFERROR(MAX(GESTION_SEG_1_TRIM!H229,GESTION_SEG_2_TRIM!H229,GESTION_SEG_3_TRIM!H229,GESTION_SEG_4_TRIM!H229),\" \")","v":0},null,{"$f":"IFERROR(_xlfn.CONCAT(\"Trimestre 1\",CHAR(10),GESTION_SEG_1_TRIM!J229,CHAR(10),\"Trimestre 2\",CHAR(10),GESTION_SEG_2_TRIM!J229,CHAR(10),\"Trimestre 3\",CHAR(10),GESTION_SEG_3_TRIM!J229,CHAR(10),\"Trimestre 4\",CHAR(10),GESTION_SEG_4_TRIM!J229),\" \")","v":"Trimestre 1\n\nTrimestre 2\n\nTrimestre 3\n\nTrimestre 4\n"},{"$f":"IFERROR(_xlfn.CONCAT(\"Trimestre 1\",CHAR(10),GESTION_SEG_1_TRIM!K229,CHAR(10),\"Trimestre 2\",CHAR(10),GESTION_SEG_2_TRIM!K229,CHAR(10),\"Trimestre 3\",CHAR(10),GESTION_SEG_3_TRIM!K229,CHAR(10),\"Trimestre 4\",CHAR(10),GESTION_SEG_4_TRIM!K229),\" \")","v":"Trimestre 1\n\nTrimestre 2\n\nTrimestre 3\n\nTrimestre 4\n"}]
[null,null,null,null,null,null,null,null,null,null,null,null,null,null,null,{"$f":"IFERROR(MAX(GESTION_SEG_1_TRIM!H230,GESTION_SEG_2_TRIM!H230,GESTION_SEG_3_TRIM!H230,GESTION_SEG_4_TRIM!H230),\" \")","v":0},null,{"$f":"IFERROR(_xlfn.CONCAT(\"Trimestre 1\",CHAR(10),GESTION_SEG_1_TRIM!J230,CHAR(10),\"Trimestre 2\",CHAR(10),GESTION_SEG_2_TRIM!J230,CHAR(10),\"Trimestre 3\",CHAR(10),GESTION_SEG_3_TRIM!J230,CHAR(10),\"Trimestre 4\",CHAR(10),GESTION_SEG_4_TRIM!J230),\" \")","v":"Trimestre 1\n\nTrimestre 2\n\nTrimestre 3\n\nTrimestre 4\n"},{"$f":"IFERROR(_xlfn.CONCAT(\"Trimestre 1\",CHAR(10),GESTION_SEG_1_TRIM!K230,CHAR(10),\"Trimestre 2\",CHAR(10),GESTION_SEG_2_TRIM!K230,CHAR(10),\"Trimestre 3\",CHAR(10),GESTION_SEG_3_TRIM!K230,CHAR(10),\"Trimestre 4\",CHAR(10),GESTION_SEG_4_TRIM!K230),\" \")","v":"Trimestre 1\n\nTrimestre 2\n\nTrimestre 3\n\nTrimestre 4\n"}]
[null,null,null,null,null,null,null,null,null,null,null,null,null,null,null,{"$f":"IFERROR(MAX(GESTION_SEG_1_TRIM!H231,GESTION_SEG_2_TRIM!H231,GESTION_SEG_3_TRIM!H231,GESTION_SEG_4_TRIM!H231),\" \")","v":0},null,{"$f":"IFERROR(_xlfn.CONCAT(\"Trimestre 1\",CHAR(10),GESTION_SEG_1_TRIM!J231,CHAR(10),\"Trimestre 2\",CHAR(10),GESTION_SEG_2_TRIM!J231,CHAR(10),\"Trimestre 3\",CHAR(10),GESTION_SEG_3_TRIM!J231,CHAR(10),\"Trimestre 4\",CHAR(10),GESTION_SEG_4_TRIM!J231),\" \")","v":"Trimestre 1\n\nTrimestre 2\n\nTrimestre 3\n\nTrimestre 4\n"},{"$f":"IFERROR(_xlfn.CONCAT(\"Trimestre 1\",CHAR(10),GESTION_SEG_1_TRIM!K231,CHAR(10),\"Trimestre 2\",CHAR(10),GESTION_SEG_2_TRIM!K231,CHAR(10),\"Trimestre 3\",CHAR(10),GESTION_SEG_3_TRIM!K231,CHAR(10),\"Trimestre 4\",CHAR(10),GESTION_SEG_4_TRIM!K231),\" \")","v":"Trimestre 1\n\nTrimestre 2\n\nTrimestre 3\n\nTrimestre 4\n"}]
[null,null,null,null,null,null,null,null,null,null,null,null,null,null,null,{"$f":"IFERROR(MAX(GESTION_SEG_1_TRIM!H232,GESTION_SEG_2_TRIM!H232,GESTION_SEG_3_TRIM!H232,GESTION_SEG_4_TRIM!H232),\" \")","v":0},null,{"$f":"IFERROR(_xlfn.CONCAT(\"Trimestre 1\",CHAR(10),GESTION_SEG_1_TRIM!J232,CHAR(10),\"Trimestre 2\",CHAR(10),GESTION_SEG_2_TRIM!J232,CHAR(10),\"Trimestre 3\",CHAR(10),GESTION_SEG_3_TRIM!J232,CHAR(10),\"Trimestre 4\",CHAR(10),GESTION_SEG_4_TRIM!J232),\" \")","v":"Trimestre 1\n\nTrimestre 2\n\nTrimestre 3\n\nTrimestre 4\n"},{"$f":"IFERROR(_xlfn.CONCAT(\"Trimestre 1\",CHAR(10),GESTION_SEG_1_TRIM!K232,CHAR(10),\"Trimestre 2\",CHAR(10),GESTION_SEG_2_TRIM!K232,CHAR(10),\"Trimestre 3\",CHAR(10),GESTION_SEG_3_TRIM!K232,CHAR(10),\"Trimestre 4\",CHAR(10),GESTION_SEG_4_TRIM!K232),\" \")","v":"Trimestre 1\n\nTrimestre 2\n\nTrimestre 3\n\nTrimestre 4\n"}]
[null,null,null,null,null,null,null,null,null,null,null,null,null,null,null,{"$f":"IFERROR(MAX(GESTION_SEG_1_TRIM!H233,GESTION_SEG_2_TRIM!H233,GESTION_SEG_3_TRIM!H233,GESTION_SEG_4_TRIM!H233),\" \")","v":0},"",{"$f":"IFERROR(_xlfn.CONCAT(\"Trimestre 1\",CHAR(10),GESTION_SEG_1_TRIM!J233,CHAR(10),\"Trimestre 2\",CHAR(10),GESTION_SEG_2_TRIM!J233,CHAR(10),\"Trimestre 3\",CHAR(10),GESTION_SEG_3_TRIM!J233,CHAR(10),\"Trimestre 4\",CHAR(10),GESTION_SEG_4_TRIM!J233),\" \")","v":"Trimestre 1\n\nTrimestre 2\n\nTrimestre 3\n\nTrimestre 4\n"},{"$f":"IFERROR(_xlfn.CONCAT(\"Trimestre 1\",CHAR(10),GESTION_SEG_1_TRIM!K233,CHAR(10),\"Trimestre 2\",CHAR(10),GESTION_SEG_2_TRIM!K233,CHAR(10),\"Trimestre 3\",CHAR(10),GESTION_SEG_3_TRIM!K233,CHAR(10),\"Trimestre 4\",CHAR(10),GESTION_SEG_4_TRIM!K233),\" \")","v":"Trimestre 1\n\nTrimestre 2\n\nTrimestre 3\n\nTrimestre 4\n"}]
[null,null,null,null,null,null,null,null,null,null,null,null,null,null,null,{"$f":"IFERROR(MAX(GESTION_SEG_1_TRIM!H234,GESTION_SEG_2_TRIM!H234,GESTION_SEG_3_TRIM!H234,GESTION_SEG_4_TRIM!H234),\" \")","v":0},"",{"$f":"IFERROR(_xlfn.CONCAT(\"Trimestre 1\",CHAR(10),GESTION_SEG_1_TRIM!J234,CHAR(10),\"Trimestre 2\",CHAR(10),GESTION_SEG_2_TRIM!J234,CHAR(10),\"Trimestre 3\",CHAR(10),GESTION_SEG_3_TRIM!J234,CHAR(10),\"Trimestre 4\",CHAR(10),GESTION_SEG_4_TRIM!J234),\" \")","v":"Trimestre 1\n\nTrimestre 2\n\nTrimestre 3\n\nTrimestre 4\n"},{"$f":"IFERROR(_xlfn.CONCAT(\"Trimestre 1\",CHAR(10),GESTION_SEG_1_TRIM!K234,CHAR(10),\"Trimestre 2\",CHAR(10),GESTION_SEG_2_TRIM!K234,CHAR(10),\"Trimestre 3\",CHAR(10),GESTION_SEG_3_TRIM!K234,CHAR(10),\"Trimestre 4\",CHAR(10),GESTION_SEG_4_TRIM!K234),\" \")","v":"Trimestre 1\n\nTrimestre 2\n\nTrimestre 3\n\nTrimestre 4\n"}]
[null,null,null,null,null,null,null,null,null,null,null,null,null,null,null,{"$f":"IFERROR(MAX(GESTION_SEG_1_TRIM!H235,GESTION_SEG_2_TRIM!H235,GESTION_SEG_3_TRIM!H235,GESTION_SEG_4_TRIM!H235),\" \")","v":0},"",{"$f":"IFERROR(_xlfn.CONCAT(\"Trimestre 1\",CHAR(10),GESTION_SEG_1_TRIM!J235,CHAR(10),\"Trimestre 2\",CHAR(10),GESTION_SEG_2_TRIM!J235,CHAR(10),\"Trimestre 3\",CHAR(10),GESTION_SEG_3_TRIM!J235,CHAR(10),\"Trimestre 4\",CHAR(10),GESTION_SEG_4_TRIM!J235),\" \")","v":"Trimestre 1\n\nTrimestre 2\n\nTrimestre 3\n\nTrimestre 4\n"},{"$f":"IFERROR(_xlfn.CONCAT(\"Trimestre 1\",CHAR(10),GESTION_SEG_1_TRIM!K235,CHAR(10),\"Trimestre 2\",CHAR(10),GESTION_SEG_2_TRIM!K235,CHAR(10),\"Trimestre 3\",CHAR(10),GESTION_SEG_3_TRIM!K235,CHAR(10),\"Trimestre 4\",CHAR(10),GESTION_SEG_4_TRIM!K235),\" \")","v":"Trimestre 1\n\nTrimestre 2\n\nTrimestre 3\n\nTrimestre 4\n"}]
["5. Gobernanza, planeación estratégica y capacidad de toma de decisiones","Gobernanza, planeación estratégica y capacidad de toma de decisiones: Fortalecer la gobernanza, la planeación estratégica y la capacidad de toma de decisiones de la Rama Judicial con base en la evidencia empírica y la articulación efectiva con las demás entidades, para que la perspectiva de género y el enfoque diferencial sean transversales en el presente plan. ","1. Implementar un nuevo modelo integrado para la planeación estratégica, el seguimiento y la medición del desempeño institucional.","2. Asegurar  el cumplimiento de los objetivos institucionales, la normatividad aplicable,  la mejora del SIGCMA y la satisfacción de los usuarios, revisando de  forma continua y sistemática la planificación de la gestión y fortaleciendo la administración de riesgos y sus controles.",null,null,null,null,null,null,null,null,null,null,null,{"$f":"IFERROR(MAX(GESTION_SEG_1_TRIM!H236,GESTION_SEG_2_TRIM!H236,GESTION_SEG_3_TRIM!H236,GESTION_SEG_4_TRIM!H236),\" \")","v":0},"",{"$f":"IFERROR(_xlfn.CONCAT(\"Trimestre 1\",CHAR(10),GESTION_SEG_1_TRIM!J236,CHAR(10),\"Trimestre 2\",CHAR(10),GESTION_SEG_2_TRIM!J236,CHAR(10),\"Trimestre 3\",CHAR(10),GESTION_SEG_3_TRIM!J236,CHAR(10),\"Trimestre 4\",CHAR(10),GESTION_SEG_4_TRIM!J236),\" \")","v":"Trimestre 1\n\nTrimestre 2\n\nTrimestre 3\n\nTrimestre 4\n"},{"$f":"IFERROR(_xlfn.CONCAT(\"Trimestre 1\",CHAR(10),GESTION_SEG_1_TRIM!K236,CHAR(10),\"Trimestre 2\",CHAR(10),GESTION_SEG_2_TRIM!K236,CHAR(10),\"Trimestre 3\",CHAR(10),GESTION_SEG_3_TRIM!K236,CHAR(10),\"Trimestre 4\",CHAR(10),GESTION_SEG_4_TRIM!K236),\" \")","v":"Trimestre 1\n\nTrimestre 2\n\nTrimestre 3\n\nTrimestre 4\n"}]
[null,null,null,null,null,null,null,null,null,null,null,null,null,null,null,{"$f":"IFERROR(MAX(GESTION_SEG_1_TRIM!H237,GESTION_SEG_2_TRIM!H237,GESTION_SEG_3_TRIM!H237,GESTION_SEG_4_TRIM!H237),\" \")","v":0},null,{"$f":"IFERROR(_xlfn.CONCAT(\"Trimestre 1\",CHAR(10),GESTION_SEG_1_TRIM!J237,CHAR(10),\"Trimestre 2\",CHAR(10),GESTION_SEG_2_TRIM!J237,CHAR(10),\"Trimestre 3\",CHAR(10),GESTION_SEG_3_TRIM!J237,CHAR(10),\"Trimestre 4\",CHAR(10),GESTION_SEG_4_TRIM!J237),\" \")","v":"Trimestre 1\n\nTrimestre 2\n\nTrimestre 3\n\nTrimestre 4\n"},{"$f":"IFERROR(_xlfn.CONCAT(\"Trimestre 1\",CHAR(10),GESTION_SEG_1_TRIM!K237,CHAR(10),\"Trimestre 2\",CHAR(10),GESTION_SEG_2_TRIM!K237,CHAR(10),\"Trimestre 3\",CHAR(10),GESTION_SEG_3_TRIM!K237,CHAR(10),\"Trimestre 4\",CHAR(10),GESTION_SEG_4_TRIM!K237),\" \")","v":"Trimestre 1\n\nTrimestre 2\n\nTrimestre 3\n\nTrimestre 4\n"}]
[null,null,null,null,null,null,null,null,null,null,null,null,null,null,null,{"$f":"IFERROR(MAX(GESTION_SEG_1_TRIM!H238,GESTION_SEG_2_TRIM!H238,GESTION_SEG_3_TRIM!H238,GESTION_SEG_4_TRIM!H238),\" \")","v":0},null,{"$f":"IFERROR(_xlfn.CONCAT(\"Trimestre 1\",CHAR(10),GESTION_SEG_1_TRIM!J238,CHAR(10),\"Trimestre 2\",CHAR(10),GESTION_SEG_2_TRIM!J238,CHAR(10),\"Trimestre 3\",CHAR(10),GESTION_SEG_3_TRIM!J238,CHAR(10),\"Trimestre 4\",CHAR(10),GESTION_SEG_4_TRIM!J238),\" \")","v":"Trimestre 1\n\nTrimestre 2\n\nTrimestre 3\n\nTrimestre 4\n"},{"$f":"IFERROR(_xlfn.CONCAT(\"Trimestre 1\",CHAR(10),GESTION_SEG_1_TRIM!K238,CHAR(10),\"Trimestre 2\",CHAR(10),GESTION_SEG_2_TRIM!K238,CHAR(10),\"Trimestre 3\",CHAR(10),GESTION_SEG_3_TRIM!K238,CHAR(10),\"Trimestre 4\",CHAR(10),GESTION_SEG_4_TRIM!K238),\" \")","v":"Trimestre 1\n\nTrimestre 2\n\nTrimestre 3\n\nTrimestre 4\n"}]
[null,null,null,null,null,null,null,null,null,null,null,null,null,null,null,{"$f":"IFERROR(MAX(GESTION_SEG_1_TRIM!H239,GESTION_SEG_2_TRIM!H239,GESTION_SEG_3_TRIM!H239,GESTION_SEG_4_TRIM!H239),\" \")","v":0},null,{"$f":"IFERROR(_xlfn.CONCAT(\"Trimestre 1\",CHAR(10),GESTION_SEG_1_TRIM!J239,CHAR(10),\"Trimestre 2\",CHAR(10),GESTION_SEG_2_TRIM!J239,CHAR(10),\"Trimestre 3\",CHAR(10),GESTION_SEG_3_TRIM!J239,CHAR(10),\"Trimestre 4\",CHAR(10),GESTION_SEG_4_TRIM!J239),\" \")","v":"Trimestre 1\n\nTrimestre 2\n\nTrimestre 3\n\nTrimestre 4\n"},{"$f":"IFERROR(_xlfn.CONCAT(\"Trimestre 1\",CHAR(10),GESTION_SEG_1_TRIM!K239,CHAR(10),\"Trimestre 2\",CHAR(10),GESTION_SEG_2_TRIM!K239,CHAR(10),\"Trimestre 3\",CHAR(10),GESTION_SEG_3_TRIM!K239,CHAR(10),\"Trimestre 4\",CHAR(10),GESTION_SEG_4_TRIM!K239),\" \")","v":"Trimestre 1\n\nTrimestre 2\n\nTrimestre 3\n\nTrimestre 4\n"}]
[null,null,null,null,null,null,null,null,null,null,null,null,null,null,null,{"$f":"IFERROR(MAX(GESTION_SEG_1_TRIM!H240,GESTION_SEG_2_TRIM!H240,GESTION_SEG_3_TRIM!H240,GESTION_SEG_4_TRIM!H240),\" \")","v":0},null,{"$f":"IFERROR(_xlfn.CONCAT(\"Trimestre 1\",CHAR(10),GESTION_SEG_1_TRIM!J240,CHAR(10),\"Trimestre 2\",CHAR(10),GESTION_SEG_2_TRIM!J240,CHAR(10),\"Trimestre 3\",CHAR(10),GESTION_SEG_3_TRIM!J240,CHAR(10),\"Trimestre 4\",CHAR(10),GESTION_SEG_4_TRIM!J240),\" \")","v":"Trimestre 1\n\nTrimestre 2\n\nTrimestre 3\n\nTrimestre 4\n"},{"$f":"IFERROR(_xlfn.CONCAT(\"Trimestre 1\",CHAR(10),GESTION_SEG_1_TRIM!K240,CHAR(10),\"Trimestre 2\",CHAR(10),GESTION_SEG_2_TRIM!K240,CHAR(10),\"Trimestre 3\",CHAR(10),GESTION_SEG_3_TRIM!K240,CHAR(10),\"Trimestre 4\",CHAR(10),GESTION_SEG_4_TRIM!K240),\" \")","v":"Trimestre 1\n\nTrimestre 2\n\nTrimestre 3\n\nTrimestre 4\n"}]
[null,null,null,null,null,null,null,null,null,null,null,null,null,null,null,{"$f":"IFERROR(MAX(GESTION_SEG_1_TRIM!H241,GESTION_SEG_2_TRIM!H241,GESTION_SEG_3_TRIM!H241,GESTION_SEG_4_TRIM!H241),\" \")","v":0},null,{"$f":"IFERROR(_xlfn.CONCAT(\"Trimestre 1\",CHAR(10),GESTION_SEG_1_TRIM!J241,CHAR(10),\"Trimestre 2\",CHAR(10),GESTION_SEG_2_TRIM!J241,CHAR(10),\"Trimestre 3\",CHAR(10),GESTION_SEG_3_TRIM!J241,CHAR(10),\"Trimestre 4\",CHAR(10),GESTION_SEG_4_TRIM!J241),\" \")","v":"Trimestre 1\n\nTrimestre 2\n\nTrimestre 3\n\nTrimestre 4\n"},{"$f":"IFERROR(_xlfn.CONCAT(\"Trimestre 1\",CHAR(10),GESTION_SEG_1_TRIM!K241,CHAR(10),\"Trimestre 2\",CHAR(10),GESTION_SEG_2_TRIM!K241,CHAR(10),\"Trimestre 3\",CHAR(10),GESTION_SEG_3_TRIM!K241,CHAR(10),\"Trimestre 4\",CHAR(10),GESTION_SEG_4_TRIM!K241),\" \")","v":"Trimestre 1\n\nTrimestre 2\n\nTrimestre 3\n\nTrimestre 4\n"}]
[null,null,null,null,null,null,null,null,null,null,null,null,null,null,null,{"$f":"IFERROR(MAX(GESTION_SEG_1_TRIM!H242,GESTION_SEG_2_TRIM!H242,GESTION_SEG_3_TRIM!H242,GESTION_SEG_4_TRIM!H242),\" \")","v":0},"",{"$f":"IFERROR(_xlfn.CONCAT(\"Trimestre 1\",CHAR(10),GESTION_SEG_1_TRIM!J242,CHAR(10),\"Trimestre 2\",CHAR(10),GESTION_SEG_2_TRIM!J242,CHAR(10),\"Trimestre 3\",CHAR(10),GESTION_SEG_3_TRIM!J242,CHAR(10),\"Trimestre 4\",CHAR(10),GESTION_SEG_4_TRIM!J242),\" \")","v":"Trimestre 1\n\nTrimestre 2\n\nTrimestre 3\n\nTrimestre 4\n"},{"$f":"IFERROR(_xlfn.CONCAT(\"Trimestre 1\",CHAR(10),GESTION_SEG_1_TRIM!K242,CHAR(10),\"Trimestre 2\",CHAR(10),GESTION_SEG_2_TRIM!K242,CHAR(10),\"Trimestre 3\",CHAR(10),GESTION_SEG_3_TRIM!K242,CHAR(10),\"Trimestre 4\",CHAR(10),GESTION_SEG_4_TRIM!K242),\" \")","v":"Trimestre 1\n\nTrimestre 2\n\nTrimestre 3\n\nTrimestre 4\n"}]
[null,null,null,null,null,null,null,null,null,null,null,null,null,null,null,{"$f":"IFERROR(MAX(GESTION_SEG_1_TRIM!H243,GESTION_SEG_2_TRIM!H243,GESTION_SEG_3_TRIM!H243,GESTION_SEG_4_TRIM!H243),\" \")","v":0},"",{"$f":"IFERROR(_xlfn.CONCAT(\"Trimestre 1\",CHAR(10),GESTION_SEG_1_TRIM!J243,CHAR(10),\"Trimestre 2\",CHAR(10),GESTION_SEG_2_TRIM!J243,CHAR(10),\"Trimestre 3\",CHAR(10),GESTION_SEG_3_TRIM!J243,CHAR(10),\"Trimestre 4\",CHAR(10),GESTION_SEG_4_TRIM!J243),\" \")","v":"Trimestre 1\n\nTrimestre 2\n\nTrimestre 3\n\nTrimestre 4\n"},{"$f":"IFERROR(_xlfn.CONCAT(\"Trimestre 1\",CHAR(10),GESTION_SEG_1_TRIM!K243,CHAR(10),\"Trimestre 2\",CHAR(10),GESTION_SEG_2_TRIM!K243,CHAR(10),\"Trimestre 3\",CHAR(10),GESTION_SEG_3_TRIM!K243,CHAR(10),\"Trimestre 4\",CHAR(10),GESTION_SEG_4_TRIM!K243),\" \")","v":"Trimestre 1\n\nTrimestre 2\n\nTrimestre 3\n\nTrimestre 4\n"}]
[null,null,null,null,null,null,null,null,null,null,null,null,null,null,null,{"$f":"IFERROR(MAX(GESTION_SEG_1_TRIM!H244,GESTION_SEG_2_TRIM!H244,GESTION_SEG_3_TRIM!H244,GESTION_SEG_4_TRIM!H244),\" \")","v":0},"",{"$f":"IFERROR(_xlfn.CONCAT(\"Trimestre 1\",CHAR(10),GESTION_SEG_1_TRIM!J244,CHAR(10),\"Trimestre 2\",CHAR(10),GESTION_SEG_2_TRIM!J244,CHAR(10),\"Trimestre 3\",CHAR(10),GESTION_SEG_3_TRIM!J244,CHAR(10),\"Trimestre 4\",CHAR(10),GESTION_SEG_4_TRIM!J244),\" \")","v":"Trimestre 1\n\nTrimestre 2\n\nTrimestre 3\n\nTrimestre 4\n"},{"$f":"IFERROR(_xlfn.CONCAT(\"Trimestre 1\",CHAR(10),GESTION_SEG_1_TRIM!K244,CHAR(10),\"Trimestre 2\",CHAR(10),GESTION_SEG_2_TRIM!K244,CHAR(10),\"Trimestre 3\",CHAR(10),GESTION_SEG_3_TRIM!K244,CHAR(10),\"Trimestre 4\",CHAR(10),GESTION_SEG_4_TRIM!K244),\" \")","v":"Trimestre 1\n\nTrimestre 2\n\nTrimestre 3\n\nTrimestre 4\n"}]
[null,null,null,null,null,null,null,null,null,null,null,null,null,null,null,{"$f":"IFERROR(MAX(GESTION_SEG_1_TRIM!H245,GESTION_SEG_2_TRIM!H245,GESTION_SEG_3_TRIM!H245,GESTION_SEG_4_TRIM!H245),\" \")","v":0},"",{"$f":"IFERROR(_xlfn.CONCAT(\"Trimestre 1\",CHAR(10),GESTION_SEG_1_TRIM!J245,CHAR(10),\"Trimestre 2\",CHAR(10),GESTION_SEG_2_TRIM!J245,CHAR(10),\"Trimestre 3\",CHAR(10),GESTION_SEG_3_TRIM!J245,CHAR(10),\"Trimestre 4\",CHAR(10),GESTION_SEG_4_TRIM!J245),\" \")","v":"Trimestre 1\n\nTrimestre 2\n\nTrimestre 3\n\nTrimestre 4\n"},{"$f":"IFERROR(_xlfn.CONCAT(\"Trimestre 1\",CHAR(10),GESTION_SEG_1_TRIM!K245,CHAR(10),\"Trimestre 2\",CHAR(10),GESTION_SEG_2_TRIM!K245,CHAR(10),\"Trimestre 3\",CHAR(10),GESTION_SEG_3_TRIM!K245,CHAR(10),\"Trimestre 4\",CHAR(10),GESTION_SEG_4_TRIM!K245),\" \")","v":"Trimestre 1\n\nTrimestre 2\n\nTrimestre 3\n\nTrimestre 4\n"}]
[null,null,"2. Definir e implementar el modelo optimizado de formulación, seguimiento y evaluación de la política pública judicial.",null,null,null,null,null,null,null,null,null,null,null,null,{"$f":"IFERROR(MAX(GESTION_SEG_1_TRIM!H246,GESTION_SEG_2_TRIM!H246,GESTION_SEG_3_TRIM!H246,GESTION_SEG_4_TRIM!H246),\" \")","v":0},"",{"$f":"IFERROR(_xlfn.CONCAT(\"Trimestre 1\",CHAR(10),GESTION_SEG_1_TRIM!J246,CHAR(10),\"Trimestre 2\",CHAR(10),GESTION_SEG_2_TRIM!J246,CHAR(10),\"Trimestre 3\",CHAR(10),GESTION_SEG_3_TRIM!J246,CHAR(10),\"Trimestre 4\",CHAR(10),GESTION_SEG_4_TRIM!J246),\" \")","v":"Trimestre 1\n\nTrimestre 2\n\nTrimestre 3\n\nTrimestre 4\n"},{"$f":"IFERROR(_xlfn.CONCAT(\"Trimestre 1\",CHAR(10),GESTION_SEG_1_TRIM!K246,CHAR(10),\"Trimestre 2\",CHAR(10),GESTION_SEG_2_TRIM!K246,CHAR(10),\"Trimestre 3\",CHAR(10),GESTION_SEG_3_TRIM!K246,CHAR(10),\"Trimestre 4\",CHAR(10),GESTION_SEG_4_TRIM!K246),\" \")","v":"Trimestre 1\n\nTrimestre 2\n\nTrimestre 3\n\nTrimestre 4\n"}]
[null,null,null,null,null,null,null,null,null,null,null,null,null,null,null,{"$f":"IFERROR(MAX(GESTION_SEG_1_TRIM!H247,GESTION_SEG_2_TRIM!H247,GESTION_SEG_3_TRIM!H247,GESTION_SEG_4_TRIM!H247),\" \")","v":0},"",{"$f":"IFERROR(_xlfn.CONCAT(\"Trimestre 1\",CHAR(10),GESTION_SEG_1_TRIM!J247,CHAR(10),\"Trimestre 2\",CHAR(10),GESTION_SEG_2_TRIM!J247,CHAR(10),\"Trimestre 3\",CHAR(10),GESTION_SEG_3_TRIM!J247,CHAR(10),\"Trimestre 4\",CHAR(10),GESTION_SEG_4_TRIM!J247),\" \")","v":"Trimestre 1\n\nTrimestre 2\n\nTrimestre 3\n\nTrimestre 4\n"},{"$f":"IFERROR(_xlfn.CONCAT(\"Trimestre 1\",CHAR(10),GESTION_SEG_1_TRIM!K247,CHAR(10),\"Trimestre 2\",CHAR(10),GESTION_SEG_2_TRIM!K247,CHAR(10),\"Trimestre 3\",CHAR(10),GESTION_SEG_3_TRIM!K247,CHAR(10),\"Trimestre 4\",CHAR(10),GESTION_SEG_4_TRIM!K247),\" \")","v":"Trimestre 1\n\nTrimestre 2\n\nTrimestre 3\n\nTrimestre 4\n"}]
[null,null,null,null,null,null,null,null,null,null,null,null,null,null,null,{"$f":"IFERROR(MAX(GESTION_SEG_1_TRIM!H248,GESTION_SEG_2_TRIM!H248,GESTION_SEG_3_TRIM!H248,GESTION_SEG_4_TRIM!H248),\" \")","v":0},null,{"$f":"IFERROR(_xlfn.CONCAT(\"Trimestre 1\",CHAR(10),GESTION_SEG_1_TRIM!J248,CHAR(10),\"Trimestre 2\",CHAR(10),GESTION_SEG_2_TRIM!J248,CHAR(10),\"Trimestre 3\",CHAR(10),GESTION_SEG_3_TRIM!J248,CHAR(10),\"Trimestre 4\",CHAR(10),GESTION_SEG_4_TRIM!J248),\" \")","v":"Trimestre 1\n\nTrimestre 2\n\nTrimestre 3\n\nTrimestre 4\n"},{"$f":"IFERROR(_xlfn.CONCAT(\"Trimestre 1\",CHAR(10),GESTION_SEG_1_TRIM!K248,CHAR(10),\"Trimestre 2\",CHAR(10),GESTION_SEG_2_TRIM!K248,CHAR(10),\"Trimestre 3\",CHAR(10),GESTION_SEG_3_TRIM!K248,CHAR(10),\"Trimestre 4\",CHAR(10),GESTION_SEG_4_TRIM!K248),\" \")","v":"Trimestre 1\n\nTrimestre 2\n\nTrimestre 3\n\nTrimestre 4\n"}]
[null,null,null,null,null,null,null,null,null,null,null,null,null,null,null,{"$f":"IFERROR(MAX(GESTION_SEG_1_TRIM!H249,GESTION_SEG_2_TRIM!H249,GESTION_SEG_3_TRIM!H249,GESTION_SEG_4_TRIM!H249),\" \")","v":0},null,{"$f":"IFERROR(_xlfn.CONCAT(\"Trimestre 1\",CHAR(10),GESTION_SEG_1_TRIM!J249,CHAR(10),\"Trimestre 2\",CHAR(10),GESTION_SEG_2_TRIM!J249,CHAR(10),\"Trimestre 3\",CHAR(10),GESTION_SEG_3_TRIM!J249,CHAR(10),\"Trimestre 4\",CHAR(10),GESTION_SEG_4_TRIM!J249),\" \")","v":"Trimestre 1\n\nTrimestre 2\n\nTrimestre 3\n\nTrimestre 4\n"},{"$f":"IFERROR(_xlfn.CONCAT(\"Trimestre 1\",CHAR(10),GESTION_SEG_1_TRIM!K249,CHAR(10),\"Trimestre 2\",CHAR(10),GESTION_SEG_2_TRIM!K249,CHAR(10),\"Trimestre 3\",CHAR(10),GESTION_SEG_3_TRIM!K249,CHAR(10),\"Trimestre 4\",CHAR(10),GESTION_SEG_4_TRIM!K249),\" \")","v":"Trimestre 1\n\nTrimestre 2\n\nTrimestre 3\n\nTrimestre 4\n"}]
[null,null,null,null,null,null,null,null,null,null,null,null,null,null,null,{"$f":"IFERROR(MAX(GESTION_SEG_1_TRIM!H250,GESTION_SEG_2_TRIM!H250,GESTION_SEG_3_TRIM!H250,GESTION_SEG_4_TRIM!H250),\" \")","v":0},null,{"$f":"IFERROR(_xlfn.CONCAT(\"Trimestre 1\",CHAR(10),GESTION_SEG_1_TRIM!J250,CHAR(10),\"Trimestre 2\",CHAR(10),GESTION_SEG_2_TRIM!J250,CHAR(10),\"Trimestre 3\",CHAR(10),GESTION_SEG_3_TRIM!J250,CHAR(10),\"Trimestre 4\",CHAR(10),GESTION_SEG_4_TRIM!J250),\" \")","v":"Trimestre 1\n\nTrimestre 2\n\nTrimestre 3\n\nTrimestre 4\n"},{"$f":"IFERROR(_xlfn.CONCAT(\"Trimestre 1\",CHAR(10),GESTION_SEG_1_TRIM!K250,CHAR(10),\"Trimestre 2\",CHAR(10),GESTION_SEG_2_TRIM!K250,CHAR(10),\"Trimestre 3\",CHAR(10),GESTION_SEG_3_TRIM!K250,CHAR(10),\"Trimestre 4\",CHAR(10),GESTION_SEG_4_TRIM!K250),\" \")","v":"Trimestre 1\n\nTrimestre 2\n\nTrimestre 3\n\nTrimestre 4\n"}]
[null,null,null,null,null,null,null,null,null,null,null,null,null,null,null,{"$f":"IFERROR(MAX(GESTION_SEG_1_TRIM!H251,GESTION_SEG_2_TRIM!H251,GESTION_SEG_3_TRIM!H251,GESTION_SEG_4_TRIM!H251),\" \")","v":0},null,{"$f":"IFERROR(_xlfn.CONCAT(\"Trimestre 1\",CHAR(10),GESTION_SEG_1_TRIM!J251,CHAR(10),\"Trimestre 2\",CHAR(10),GESTION_SEG_2_TRIM!J251,CHAR(10),\"Trimestre 3\",CHAR(10),GESTION_SEG_3_TRIM!J251,CHAR(10),\"Trimestre 4\",CHAR(10),GESTION_SEG_4_TRIM!J251),\" \")","v":"Trimestre 1\n\nTrimestre 2\n\nTrimestre 3\n\nTrimestre 4\n"},{"$f":"IFERROR(_xlfn.CONCAT(\"Trimestre 1\",CHAR(10),GESTION_SEG_1_TRIM!K251,CHAR(10),\"Trimestre 2\",CHAR(10),GESTION_SEG_2_TRIM!K251,CHAR(10),\"Trimestre 3\",CHAR(10),GESTION_SEG_3_TRIM!K251,CHAR(10),\"Trimestre 4\",CHAR(10),GESTION_SEG_4_TRIM!K251),\" \")","v":"Trimestre 1\n\nTrimestre 2\n\nTrimestre 3\n\nTrimestre 4\n"}]
[null,null,null,null,null,null,null,null,null,null,null,null,null,null,null,{"$f":"IFERROR(MAX(GESTION_SEG_1_TRIM!H252,GESTION_SEG_2_TRIM!H252,GESTION_SEG_3_TRIM!H252,GESTION_SEG_4_TRIM!H252),\" \")","v":0},null,{"$f":"IFERROR(_xlfn.CONCAT(\"Trimestre 1\",CHAR(10),GESTION_SEG_1_TRIM!J252,CHAR(10),\"Trimestre 2\",CHAR(10),GESTION_SEG_2_TRIM!J252,CHAR(10),\"Trimestre 3\",CHAR(10),GESTION_SEG_3_TRIM!J252,CHAR(10),\"Trimestre 4\",CHAR(10),GESTION_SEG_4_TRIM!J252),\" \")","v":"Trimestre 1\n\nTrimestre 2\n\nTrimestre 3\n\nTrimestre 4\n"},{"$f":"IFERROR(_xlfn.CONCAT(\"Trimestre 1\",CHAR(10),GESTION_SEG_1_TRIM!K252,CHAR(10),\"Trimestre 2\",CHAR(10),GESTION_SEG_2_TRIM!K252,CHAR(10),\"Trimestre 3\",CHAR(10),GESTION_SEG_3_TRIM!K252,CHAR(10),\"Trimestre 4\",CHAR(10),GESTION_SEG_4_TRIM!K252),\" \")","v":"Trimestre 1\n\nTrimestre 2\n\nTrimestre 3\n\nTrimestre 4\n"}]
[null,null,null,null,null,null,null,null,null,null,null,null,null,null,null,{"$f":"IFERROR(MAX(GESTION_SEG_1_TRIM!H253,GESTION_SEG_2_TRIM!H253,GESTION_SEG_3_TRIM!H253,GESTION_SEG_4_TRIM!H253),\" \")","v":0},"",{"$f":"IFERROR(_xlfn.CONCAT(\"Trimestre 1\",CHAR(10),GESTION_SEG_1_TRIM!J253,CHAR(10),\"Trimestre 2\",CHAR(10),GESTION_SEG_2_TRIM!J253,CHAR(10),\"Trimestre 3\",CHAR(10),GESTION_SEG_3_TRIM!J253,CHAR(10),\"Trimestre 4\",CHAR(10),GESTION_SEG_4_TRIM!J253),\" \")","v":"Trimestre 1\n\nTrimestre 2\n\nTrimestre 3\n\nTrimestre 4\n"},{"$f":"IFERROR(_xlfn.CONCAT(\"Trimestre 1\",CHAR(10),GESTION_SEG_1_TRIM!K253,CHAR(10),\"Trimestre 2\",CHAR(10),GESTION_SEG_2_TRIM!K253,CHAR(10),\"Trimestre 3\",CHAR(10),GESTION_SEG_3_TRIM!K253,CHAR(10),\"Trimestre 4\",CHAR(10),GESTION_SEG_4_TRIM!K253),\" \")","v":"Trimestre 1\n\nTrimestre 2\n\nTrimestre 3\n\nTrimestre 4\n"}]
[null,null,null,null,null,null,null,null,null,null,null,null,null,null,null,{"$f":"IFERROR(MAX(GESTION_SEG_1_TRIM!H254,GESTION_SEG_2_TRIM!H254,GESTION_SEG_3_TRIM!H254,GESTION_SEG_4_TRIM!H254),\" \")","v":0},"",{"$f":"IFERROR(_xlfn.CONCAT(\"Trimestre 1\",CHAR(10),GESTION_SEG_1_TRIM!J254,CHAR(10),\"Trimestre 2\",CHAR(10),GESTION_SEG_2_TRIM!J254,CHAR(10),\"Trimestre 3\",CHAR(10),GESTION_SEG_3_TRIM!J254,CHAR(10),\"Trimestre 4\",CHAR(10),GESTION_SEG_4_TRIM!J254),\" \")","v":"Trimestre 1\n\nTrimestre 2\n\nTrimestre 3\n\nTrimestre 4\n"},{"$f":"IFERROR(_xlfn.CONCAT(\"Trimestre 1\",CHAR(10),GESTION_SEG_1_TRIM!K254,CHAR(10),\"Trimestre 2\",CHAR(10),GESTION_SEG_2_TRIM!K254,CHAR(10),\"Trimestre 3\",CHAR(10),GESTION_SEG_3_TRIM!K254,CHAR(10),\"Trimestre 4\",CHAR(10),GESTION_SEG_4_TRIM!K254),\" \")","v":"Trimestre 1\n\nTrimestre 2\n\nTrimestre 3\n\nTrimestre 4\n"}]
[null,null,null,null,null,null,null,null,null,null,null,null,null,null,null,{"$f":"IFERROR(MAX(GESTION_SEG_1_TRIM!H255,GESTION_SEG_2_TRIM!H255,GESTION_SEG_3_TRIM!H255,GESTION_SEG_4_TRIM!H255),\" \")","v":0},"",{"$f":"IFERROR(_xlfn.CONCAT(\"Trimestre 1\",CHAR(10),GESTION_SEG_1_TRIM!J255,CHAR(10),\"Trimestre 2\",CHAR(10),GESTION_SEG_2_TRIM!J255,CHAR(10),\"Trimestre 3\",CHAR(10),GESTION_SEG_3_TRIM!J255,CHAR(10),\"Trimestre 4\",CHAR(10),GESTION_SEG_4_TRIM!J255),\" \")","v":"Trimestre 1\n\nTrimestre 2\n\nTrimestre 3\n\nTrimestre 4\n"},{"$f":"IFERROR(_xlfn.CONCAT(\"Trimestre 1\",CHAR(10),GESTION_SEG_1_TRIM!K255,CHAR(10),\"Trimestre 2\",CHAR(10),GESTION_SEG_2_TRIM!K255,CHAR(10),\"Trimestre 3\",CHAR(10),GESTION_SEG_3_TRIM!K255,CHAR(10),\"Trimestre 4\",CHAR(10),GESTION_SEG_4_TRIM!K255),\" \")","v":"Trimestre 1\n\nTrimestre 2\n\nTrimestre 3\n\nTrimestre 4\n"}]

{"sheet":"GESTION_SEG_4_TRIM","index":5,"n_rows":255,"n_cols":11,"rows_kept":255,"cut":false,"hidden":false,"merged":[[205,2,214,2],[215,2,224,2],[225,2,234,2],[225,3,234,3],[235,0,254,0],[235,1,254,1],[235,2,244,2],[235,3,254,3],[245,2,254,2],[185,0,234,0],[185,1,234,1],[185,2,194,2],[185,3,224,3],[195,2,204,2],[105,2,114,2],[115,0,184,0],[115,1,184,1],[115,2,124,2],[115,3,124,3],[125,2,134,2],[125,3,134,3],[135,2,144,2],[135,3,144,3],[145,2,154,2],[145,3,174,3],[155,2,164,2],[165,2,174,2],[175,2,184,2],[175,3,184,3],[45,2,54,2],[45,3,54,3],[55,0,114,0],[55,1,114,1],[55,2,64,2],[55,3,114,3],[65,2,74,2],[75,2,84,2],[85,2,94,2],[95,2,104,2],[5,0,54,0],[5,1,54,1],[5,2,14,2],[5,3,14,3],[15,2,24,2],[15,3,24,3],[25,2,34,2],[25,3,34,3],[35,2,44,2],[35,3,44,3],[1,0,1,10],[2,0,2,3],[2,4,2,9],[2,10,4,10],[3,0,4,1],[3,2,4,2],[3,3,4,3],[3,4,3,9]]}
[]
["CONSEJO SUPERIOR DE LA JUDICATURA \nUNIDADES MISIONALES DEL CONSEJO SUPERIOR DE LA JUDICATURA - \nDIRECCIÓN EJECUTIVA DE ADMINISTRACIÓN JUDICIAL - UNIDADES MISIONALES DE LA DEAJ\nDIRECCIONES SECCIONALES DE ADMINISTRACIÓN JUDICIAL - DEPENDENCIAS JUDICIALES CERTIFICADAS"]
["PLAN SECTORIAL DE DESARROLLO 2023-2026 - OBJETIVOS SIGCMA",null,null,null,null,null,null,null,null,null," ANÁLISIS RESULTADO"]
["OBJETIVO ESTRATÉGICO",null,"OBJETIVO ESPECÍFICO PSD","OBJETIVO ESPECÍFICO SIGCMA","MEDICIÓN DE LA GESTIÓN ANUAL"]
[null,null,null,null,"ACTIVIDADES ","INDIQUE SI ES ENTREGABLE O META CUANTIFICABLE","META ANUAL","AVANCE DE LA META ","NIVEL CUMPLIMIENTO","DIFICULTADES PARA LOGRAR LA META PROPUESTA"]
["1. Acceso e Infraestructura Física","Acceso e Infraestructura Física: Ampliar, en todo el territorio nacional, el acceso a una justicia efectiva, pronta, equitativa e incluyente, reduciendo el atraso y la congestión, de acuerdo con las necesidades de la demanda de justicia por jurisdicción y especialidad, y mejorando la articulación con la justicia restaurativa y terapéutica, y otros mecanismos de solución de conflictos y consolidando una infraestructura física óptima para el acceso a la justicia.","1. Ampliar el acceso a justicia para atender las necesidades jurídicas de los ciudadanos con un enfoque diferencial, de una manera pronta, reduciendo las inequidades y las brechas territoriales de acceso.","2. Asegurar  el cumplimiento de los objetivos institucionales, la normatividad aplicable,  la mejora del SIGCMA y la satisfacción de los usuarios, revisando de  forma continua y sistemática la planificación de la gestión y fortaleciendo la administración de riesgos y sus controles",{"$f":"IFERROR(GESTION!H6,\" \")","v":0},{"$f":"IFERROR(GESTION!I6,\" \")","v":0},{"$f":"IFERROR(GESTION!J6,\" \")","v":0},null,{"$f":"IFERROR(H6/G6,\"\")","v":""}]
[null,null,null,null,{"$f":"IFERROR(GESTION!H7,\" \")","v":0},{"$f":"IFERROR(GESTION!I7,\" \")","v":0},{"$f":"IFERROR(GESTION!J7,\" \")","v":0},null,""]
[null,null,null,null,{"$f":"IFERROR(GESTION!H8,\" \")","v":0},{"$f":"IFERROR(GESTION!I8,\" \")","v":0},{"$f":"IFERROR(GESTION!J8,\" \")","v":0},null,""]
[null,null,null,null,{"$f":"IFERROR(GESTION!H9,\" \")","v":0},{"$f":"IFERROR(GESTION!I9,\" \")","v":0},{"$f":"IFERROR(GESTION!J9,\" \")","v":0},null,""]
[null,null,null,null,{"$f":"IFERROR(GESTION!H10,\" \")","v":0},{"$f":"IFERROR(GESTION!I10,\" \")","v":0},{"$f":"IFERROR(GESTION!J10,\" \")","v":0},null,""]
[null,null,null,null,{"$f":"IFERROR(GESTION!H11,\" \")","v":0},{"$f":"IFERROR(GESTION!I11,\" \")","v":0},{"$f":"IFERROR(GESTION!J11,\" \")","v":0},null,""]
[null,null,null,null,{"$f":"IFERROR(GESTION!H12,\" \")","v":0},{"$f":"IFERROR(GESTION!I12,\" \")","v":0},{"$f":"IFERROR(GESTION!J12,\" \")","v":0},null,""]
[null,null,null,null,{"$f":"IFERROR(GESTION!H13,\" \")","v":0},{"$f":"IFERROR(GESTION!I13,\" \")","v":0},{"$f":"IFERROR(GESTION!J13,\" \")","v":0},null,""]
[null,null,null,null,{"$f":"IFERROR(GESTION!H14,\" \")","v":0},{"$f":"IFERROR(GESTION!I14,\" \")","v":0},{"$f":"IFERROR(GESTION!J14,\" \")","v":0},null,""]
[null,null,null,null,{"$f":"IFERROR(GESTION!H15,\" \")","v":0},{"$f":"IFERROR(GESTION!I15,\" \")","v":0},{"$f":"IFERROR(GESTION!J15,\" \")","v":0},null,""]
[null,null,"2. Mejorar los tiempos de respuesta de la Rama Judicial y reducir el inventario de procesos, identificando los retos internos y promoviendo tanto acciones articuladas específicas para abordarlos como estrategias coordinadas para enfrentar las barreras que dependen de otras entidades.","2. Asegurar  el cumplimiento de los objetivos institucionales, la normatividad aplicable,  la mejora del SIGCMA y la satisfacción de los usuarios, revisando de  forma continua y sistemática la planificación de la gestión y fortaleciendo la administración de riesgos y sus controles",{"$f":"IFERROR(GESTION!H16,\" \")","v":0},{"$f":"IFERROR(GESTION!I16,\" \")","v":0},{"$f":"IFERROR(GESTION!J16,\" \")","v":0},null,""]
[null,null,null,null,{"$f":"IFERROR(GESTION!H17,\" \")","v":0},{"$f":"IFERROR(GESTION!I17,\" \")","v":0},{"$f":"IFERROR(GESTION!J17,\" \")","v":0},null,""]
[null,null,null,null,{"$f":"IFERROR(GESTION!H18,\" \")","v":0},{"$f":"IFERROR(GESTION!I18,\" \")","v":0},{"$f":"IFERROR(GESTION!J18,\" \")","v":0},null,""]
[null,null,null,null,{"$f":"IFERROR(GESTION!H19,\" \")","v":0},{"$f":"IFERROR(GESTION!I19,\" \")","v":0},{"$f":"IFERROR(GESTION!J19,\" \")","v":0},null,""]
[null,null,null,null,{"$f":"IFERROR(GESTION!H20,\" \")","v":0},{"$f":"IFERROR(GESTION!I20,\" \")","v":0},{"$f":"IFERROR(GESTION!J20,\" \")","v":0},null,""]
[null,null,null,null,{"$f":"IFERROR(GESTION!H21,\" \")","v":0},{"$f":"IFERROR(GESTION!I21,\" \")","v":0},{"$f":"IFERROR(GESTION!J21,\" \")","v":0},null,""]
[null,null,null,null,{"$f":"IFERROR(GESTION!H22,\" \")","v":0},{"$f":"IFERROR(GESTION!I22,\" \")","v":0},{"$f":"IFERROR(GESTION!J22,\" \")","v":0},null,""]
[null,null,null,null,{"$f":"IFERROR(GESTION!H23,\" \")","v":0},{"$f":"IFERROR(GESTION!I23,\" \")","v":0},{"$f":"IFERROR(GESTION!J23,\" \")","v":0},null,""]
[null,null,null,null,{"$f":"IFERROR(GESTION!H24,\" \")","v":0},{"$f":"IFERROR(GESTION!I24,\" \")","v":0},{"$f":"IFERROR(GESTION!J24,\" \")","v":0},null,""]
[null,null,null,null,{"$f":"IFERROR(GESTION!H25,\" \")","v":0},{"$f":"IFERROR(GESTION!I25,\" \")","v":0},{"$f":"IFERROR(GESTION!J25,\" \")","v":0},null,""]
[null,null,"3. Coadyuvar en la garantía de la idoneidad en el ejercicio de la profesión jurídica de acuerdo con lo establecido en la Ley 1905 de 2018","2. Asegurar  el cumplimiento de los objetivos institucionales, la normatividad aplicable,  la mejora del SIGCMA y la satisfacción de los usuarios, revisando de  forma continua y sistemática la planificación de la gestión y fortaleciendo la administración de riesgos y sus controles",{"$f":"IFERROR(GESTION!H26,\" \")","v":0},{"$f":"IFERROR(GESTION!I26,\" \")","v":0},{"$f":"IFERROR(GESTION!J26,\" \")","v":0},null,""]
[null,null,null,null,{"$f":"IFERROR(GESTION!H27,\" \")","v":0},{"$f":"IFERROR(GESTION!I27,\" \")","v":0},{"$f":"IFERROR(GESTION!J27,\" \")","v":0},null,""]
[null,null,null,null,{"$f":"IFERROR(GESTION!H28,\" \")","v":0},{"$f":"IFERROR(GESTION!I28,\" \")","v":0},{"$f":"IFERROR(GESTION!J28,\" \")","v":0},null,""]
[null,null,null,null,{"$f":"IFERROR(GESTION!H29,\" \")","v":0},{"$f":"IFERROR(GESTION!I29,\" \")","v":0},{"$f":"IFERROR(GESTION!J29,\" \")","v":0},null,""]
[null,null,null,null,{"$f":"IFERROR(GESTION!H30,\" \")","v":0},{"$f":"IFERROR(GESTION!I30,\" \")","v":0},{"$f":"IFERROR(GESTION!J30,\" \")","v":0},null,""]
[null,null,null,null,{"$f":"IFERROR(GESTION!H31,\" \")","v":0},{"$f":"IFERROR(GESTION!I31,\" \")","v":0},{"$f":"IFERROR(GESTION!J31,\" \")","v":0},null,""]
[null,null,null,null,{"$f":"IFERROR(GESTION!H32,\" \")","v":0},{"$f":"IFERROR(GESTION!I32,\" \")","v":0},{"$f":"IFERROR(GESTION!J32,\" \")","v":0},null,""]
[null,null,null,null,{"$f":"IFERROR(GESTION!H33,\" \")","v":0},{"$f":"IFERROR(GESTION!I33,\" \")","v":0},{"$f":"IFERROR(GESTION!J33,\" \")","v":0},null,""]
[null,null,null,null,{"$f":"IFERROR(GESTION!H34,\" \")","v":0},{"$f":"IFERROR(GESTION!I34,\" \")","v":0},{"$f":"IFERROR(GESTION!J34,\" \")","v":0},null,""]
[null,null,null,null,{"$f":"IFERROR(GESTION!H35,\" \")","v":0},{"$f":"IFERROR(GESTION!I35,\" \")","v":0},{"$f":"IFERROR(GESTION!J35,\" \")","v":0},null,""]
[null,null,"4. Avanzar en la disposición de una infraestructura óptima para el acceso a la justicia en la Rama Judicial de modo que se fortalezca la presencia territorial, teniendo en cuenta las posibilidades que ofrece la transformación digital y las necesidades que se derivan de ella, y considerando tanto las necesidades de los usuarios como las de los servidores judiciales.","4. Hacer un uso racional de los recursos naturales aplicando los principios y fases de la Economía Circular, para prevenir, mitigar y controlar los impactos ambientales",{"$f":"IFERROR(GESTION!H36,\" \")","v":0},{"$f":"IFERROR(GESTION!I36,\" \")","v":0},{"$f":"IFERROR(GESTION!J36,\" \")","v":0},null,""]
[null,null,null,null,{"$f":"IFERROR(GESTION!H37,\" \")","v":0},{"$f":"IFERROR(GESTION!I37,\" \")","v":0},{"$f":"IFERROR(GESTION!J37,\" \")","v":0},null,""]
[null,null,null,null,{"$f":"IFERROR(GESTION!H38,\" \")","v":0},{"$f":"IFERROR(GESTION!I38,\" \")","v":0},{"$f":"IFERROR(GESTION!J38,\" \")","v":0},null,{"$f":"IFERROR(H38/G38,\"\")","v":""}]
[null,null,null,null,{"$f":"IFERROR(GESTION!H39,\" \")","v":0},{"$f":"IFERROR(GESTION!I39,\" \")","v":0},{"$f":"IFERROR(GESTION!J39,\" \")","v":0},null,""]
[null,null,null,null,{"$f":"IFERROR(GESTION!H40,\" \")","v":0},{"$f":"IFERROR(GESTION!I40,\" \")","v":0},{"$f":"IFERROR(GESTION!J40,\" \")","v":0},null,""]
[null,null,null,null,{"$f":"IFERROR(GESTION!H41,\" \")","v":0},{"$f":"IFERROR(GESTION!I41,\" \")","v":0},{"$f":"IFERROR(GESTION!J41,\" \")","v":0},null,""]
[null,null,null,null,{"$f":"IFERROR(GESTION!H42,\" \")","v":0},{"$f":"IFERROR(GESTION!I42,\" \")","v":0},{"$f":"IFERROR(GESTION!J42,\" \")","v":0},null,""]
[null,null,null,null,{"$f":"IFERROR(GESTION!H43,\" \")","v":0},{"$f":"IFERROR(GESTION!I43,\" \")","v":0},{"$f":"IFERROR(GESTION!J43,\" \")","v":0},null,""]
[null,null,null,null,{"$f":"IFERROR(GESTION!H44,\" \")","v":0},{"$f":"IFERROR(GESTION!I44,\" \")","v":0},{"$f":"IFERROR(GESTION!J44,\" \")","v":0},null,""]
[null,null,null,null,{"$f":"IFERROR(GESTION!H45,\" \")","v":0},{"$f":"IFERROR(GESTION!I45,\" \")","v":0},{"$f":"IFERROR(GESTION!J45,\" \")","v":0},null,""]
[null,null,"5. Impulsar el uso de mecanismos alternativos para la solución de conflictos y la ampliación de la justicia restaurativa y terapéutica y el robustecimiento de las alternativas al encarcelamiento","2. Asegurar  el cumplimiento de los objetivos institucionales, la normatividad aplicable,  la mejora del SIGCMA y la satisfacción de los usuarios, revisando de  forma continua y sistemática la planificación de la gestión y fortaleciendo la administración de riesgos y sus controles",{"$f":"IFERROR(GESTION!H46,\" \")","v":0},{"$f":"IFERROR(GESTION!I46,\" \")","v":0},{"$f":"IFERROR(GESTION!J46,\" \")","v":0},null,""]
[null,null,null,null,{"$f":"IFERROR(GESTION!H47,\" \")","v":0},{"$f":"IFERROR(GESTION!I47,\" \")","v":0},{"$f":"IFERROR(GESTION!J47,\" \")","v":0},null,""]
[null,null,null,null,{"$f":"IFERROR(GESTION!H48,\" \")","v":0},{"$f":"IFERROR(GESTION!I48,\" \")","v":0},{"$f":"IFERROR(GESTION!J48,\" \")","v":0},null,""]
[null,null,null,null,{"$f":"IFERROR(GESTION!H49,\" \")","v":0},{"$f":"IFERROR(GESTION!I49,\" \")","v":0},{"$f":"IFERROR(GESTION!J49,\" \")","v":0},null,""]
[null,null,null,null,{"$f":"IFERROR(GESTION!H50,\" \")","v":0},{"$f":"IFERROR(GESTION!I50,\" \")","v":0},{"$f":"IFERROR(GESTION!J50,\" \")","v":0},null,""]
[null,null,null,null,{"$f":"IFERROR(GESTION!H51,\" \")","v":0},{"$f":"IFERROR(GESTION!I51,\" \")","v":0},{"$f":"IFERROR(GESTION!J51,\" \")","v":0},null,""]
[null,null,null,null,{"$f":"IFERROR(GESTION!H52,\" \")","v":0},{"$f":"IFERROR(GESTION!I52,\" \")","v":0},{"$f":"IFERROR(GESTION!J52,\" \")","v":0},null,""]
[null,null,null,null,{"$f":"IFERROR(GESTION!H53,\" \")","v":0},{"$f":"IFERROR(GESTION!I53,\" \")","v":0},{"$f":"IFERROR(GESTION!J53,\" \")","v":0},null,""]
[null,null,null,null,{"$f":"IFERROR(GESTION!H54,\" \")","v":0},{"$f":"IFERROR(GESTION!I54,\" \")","v":0},{"$f":"IFERROR(GESTION!J54,\" \")","v":0},null,""]
[null,null,null,null,{"$f":"IFERROR(GESTION!H55,\" \")","v":0},{"$f":"IFERROR(GESTION!I55,\" \")","v":0},{"$f":"IFERROR(GESTION!J55,\" \")","v":0},null,""]
["2. Servicios digitales y de tecnología, innovación y análisis de la información.","Servicios digitales y de tecnología, innovación y análisis de la información: Consolidar una justicia integrada y soportada en servicios digitales y de tecnología, innovación y análisis de la información, con una cultura digital apropiada, segura y sensible a las realidades del territorio nacional. ","1. Ampliar el acceso a la justicia a través de la consolidación del uso de los servicios digitales que conforman el sistema único integrado de gestión judicial en todos los despachos judiciales y dependencias de apoyo y, específicamente, incluyendo el despliegue e implementación del Expediente Judicial Electrónico en todas las jurisdicciones y especialidades.","6. Proteger, preservar y administrar los activos de información  implementando acciones  para gestionar de forma adecuada los incidentes, proteger los datos personales y adoptar mecanismos  de ciberseguridad y aseguramiento de la  continuidad del negocio.",{"$f":"IFERROR(GESTION!H56,\" \")","v":0},{"$f":"IFERROR(GESTION!I56,\" \")","v":0},{"$f":"IFERROR(GESTION!J56,\" \")","v":0},null,""]
[null,null,null,null,{"$f":"IFERROR(GESTION!H57,\" \")","v":0},{"$f":"IFERROR(GESTION!I57,\" \")","v":0},{"$f":"IFERROR(GESTION!J57,\" \")","v":0},null,""]
[null,null,null,null,{"$f":"IFERROR(GESTION!H58,\" \")","v":0},{"$f":"IFERROR(GESTION!I58,\" \")","v":0},{"$f":"IFERROR(GESTION!J58,\" \")","v":0},null,""]
[null,null,null,null,{"$f":"IFERROR(GESTION!H59,\" \")","v":0},{"$f":"IFERROR(GESTION!I59,\" \")","v":0},{"$f":"IFERROR(GESTION!J59,\" \")","v":0},null,""]
[null,null,null,null,{"$f":"IFERROR(GESTION!H60,\" \")","v":0},{"$f":"IFERROR(GESTION!I60,\" \")","v":0},{"$f":"IFERROR(GESTION!J60,\" \")","v":0},null,""]
[null,null,null,null,{"$f":"IFERROR(GESTION!H61,\" \")","v":0},{"$f":"IFERROR(GESTION!I61,\" \")","v":0},{"$f":"IFERROR(GESTION!J61,\" \")","v":0},null,""]
[null,null,null,null,{"$f":"IFERROR(GESTION!H62,\" \")","v":0},{"$f":"IFERROR(GESTION!I62,\" \")","v":0},{"$f":"IFERROR(GESTION!J62,\" \")","v":0},null,""]
[null,null,null,null,{"$f":"IFERROR(GESTION!H63,\" \")","v":0},{"$f":"IFERROR(GESTION!I63,\" \")","v":0},{"$f":"IFERROR(GESTION!J63,\" \")","v":0},null,""]
[null,null,null,null,{"$f":"IFERROR(GESTION!H64,\" \")","v":0},{"$f":"IFERROR(GESTION!I64,\" \")","v":0},{"$f":"IFERROR(GESTION!J64,\" \")","v":0},null,""]
[null,null,null,null,{"$f":"IFERROR(GESTION!H65,\" \")","v":0},{"$f":"IFERROR(GESTION!I65,\" \")","v":0},{"$f":"IFERROR(GESTION!J65,\" \")","v":0},null,""]
[null,null,"2. Integrar y hacer compatibles todos los aplicativos de transición con SIUGJ, para que la migración de los expedientes judiciales a dicha plataforma sea real y no suponga afectaciones en la prestación del servicio de justicia.",null,{"$f":"IFERROR(GESTION!H66,\" \")","v":0},{"$f":"IFERROR(GESTION!I66,\" \")","v":0},{"$f":"IFERROR(GESTION!J66,\" \")","v":0},null,""]
[null,null,null,null,{"$f":"IFERROR(GESTION!H67,\" \")","v":0},{"$f":"IFERROR(GESTION!I67,\" \")","v":0},{"$f":"IFERROR(GESTION!J67,\" \")","v":0},null,""]
[null,null,null,null,{"$f":"IFERROR(GESTION!H68,\" \")","v":0},{"$f":"IFERROR(GESTION!I68,\" \")","v":0},{"$f":"IFERROR(GESTION!J68,\" \")","v":0},null,""]
[null,null,null,null,{"$f":"IFERROR(GESTION!H69,\" \")","v":0},{"$f":"IFERROR(GESTION!I69,\" \")","v":0},{"$f":"IFERROR(GESTION!J69,\" \")","v":0},null,""]
[null,null,null,null,{"$f":"IFERROR(GESTION!H70,\" \")","v":0},{"$f":"IFERROR(GESTION!I70,\" \")","v":0},{"$f":"IFERROR(GESTION!J70,\" \")","v":0},null,{"$f":"IFERROR(H70/G70,\"\")","v":""}]
[null,null,null,null,{"$f":"IFERROR(GESTION!H71,\" \")","v":0},{"$f":"IFERROR(GESTION!I71,\" \")","v":0},{"$f":"IFERROR(GESTION!J71,\" \")","v":0},null,""]
[null,null,null,null,{"$f":"IFERROR(GESTION!H72,\" \")","v":0},{"$f":"IFERROR(GESTION!I72,\" \")","v":0},{"$f":"IFERROR(GESTION!J72,\" \")","v":0},null,""]
[null,null,null,null,{"$f":"IFERROR(GESTION!H73,\" \")","v":0},{"$f":"IFERROR(GESTION!I73,\" \")","v":0},{"$f":"IFERROR(GESTION!J73,\" \")","v":0},null,""]
[null,null,null,null,{"$f":"IFERROR(GESTION!H74,\" \")","v":0},{"$f":"IFERROR(GESTION!I74,\" \")","v":0},{"$f":"IFERROR(GESTION!J74,\" \")","v":0},null,""]
[null,null,null,null,{"$f":"IFERROR(GESTION!H75,\" \")","v":0},{"$f":"IFERROR(GESTION!I75,\" \")","v":0},{"$f":"IFERROR(GESTION!J75,\" \")","v":0},null,""]
[null,null,"3. Fortalecer las capacidades institucionales, adecuar el modelo operativo y de servicio, bajo un enfoque de Arquitectura Empresarial y de fortalecimiento del acceso a la justicia.",null,{"$f":"IFERROR(GESTION!H76,\" \")","v":0},{"$f":"IFERROR(GESTION!I76,\" \")","v":0},{"$f":"IFERROR(GESTION!J76,\" \")","v":0},null,""]
[null,null,null,null,{"$f":"IFERROR(GESTION!H77,\" \")","v":0},{"$f":"IFERROR(GESTION!I77,\" \")","v":0},{"$f":"IFERROR(GESTION!J77,\" \")","v":0},null,""]
[null,null,null,null,{"$f":"IFERROR(GESTION!H78,\" \")","v":0},{"$f":"IFERROR(GESTION!I78,\" \")","v":0},{"$f":"IFERROR(GESTION!J78,\" \")","v":0},null,""]
[null,null,null,null,{"$f":"IFERROR(GESTION!H79,\" \")","v":0},{"$f":"IFERROR(GESTION!I79,\" \")","v":0},{"$f":"IFERROR(GESTION!J79,\" \")","v":0},null,""]
[null,null,null,null,{"$f":"IFERROR(GESTION!H80,\" \")","v":0},{"$f":"IFERROR(GESTION!I80,\" \")","v":0},{"$f":"IFERROR(GESTION!J80,\" \")","v":0},null,""]
[null,null,null,null,{"$f":"IFERROR(GESTION!H81,\" \")","v":0},{"$f":"IFERROR(GESTION!I81,\" \")","v":0},{"$f":"IFERROR(GESTION!J81,\" \")","v":0},null,""]
[null,null,null,null,{"$f":"IFERROR(GESTION!H82,\" \")","v":0},{"$f":"IFERROR(GESTION!I82,\" \")","v":0},{"$f":"IFERROR(GESTION!J82,\" \")","v":0},null,""]
[null,null,null,null,{"$f":"IFERROR(GESTION!H83,\" \")","v":0},{"$f":"IFERROR(GESTION!I83,\" \")","v":0},{"$f":"IFERROR(GESTION!J83,\" \")","v":0},null,""]
[null,null,null,null,{"$f":"IFERROR(GESTION!H84,\" \")","v":0},{"$f":"IFERROR(GESTION!I84,\" \")","v":0},{"$f":"IFERROR(GESTION!J84,\" \")","v":0},null,""]
[null,null,null,null,{"$f":"IFERROR(GESTION!H85,\" \")","v":0},{"$f":"IFERROR(GESTION!I85,\" \")","v":0},{"$f":"IFERROR(GESTION!J85,\" \")","v":0},null,""]
[null,null,"4.Consolidar la cultura y apropiación de la transformación digital en los servidores y usuarios de los servicios de la Rama Judicial y reducir brechas de acceso y conocimiento, incluyendo la oferta efectiva de información sobre el uso de las nuevas herramientas virtuales implementadas en las diferentes jurisdicciones, con especial énfasis en las zonas del país donde es evidente la brecha digital.",null,{"$f":"IFERROR(GESTION!H86,\" \")","v":0},{"$f":"IFERROR(GESTION!I86,\" \")","v":0},{"$f":"IFERROR(GESTION!J86,\" \")","v":0},null,""]
[null,null,null,null,{"$f":"IFERROR(GESTION!H87,\" \")","v":0},{"$f":"IFERROR(GESTION!I87,\" \")","v":0},{"$f":"IFERROR(GESTION!J87,\" \")","v":0},null,""]
[null,null,null,null,{"$f":"IFERROR(GESTION!H88,\" \")","v":0},{"$f":"IFERROR(GESTION!I88,\" \")","v":0},{"$f":"IFERROR(GESTION!J88,\" \")","v":0},null,""]
[null,null,null,null,{"$f":"IFERROR(GESTION!H89,\" \")","v":0},{"$f":"IFERROR(GESTION!I89,\" \")","v":0},{"$f":"IFERROR(GESTION!J89,\" \")","v":0},null,""]
[null,null,null,null,{"$f":"IFERROR(GESTION!H90,\" \")","v":0},{"$f":"IFERROR(GESTION!I90,\" \")","v":0},{"$f":"IFERROR(GESTION!J90,\" \")","v":0},null,""]
[null,null,null,null,{"$f":"IFERROR(GESTION!H91,\" \")","v":0},{"$f":"IFERROR(GESTION!I91,\" \")","v":0},{"$f":"IFERROR(GESTION!J91,\" \")","v":0},null,""]
[null,null,null,null,{"$f":"IFERROR(GESTION!H92,\" \")","v":0},{"$f":"IFERROR(GESTION!I92,\" \")","v":0},{"$f":"IFERROR(GESTION!J92,\" \")","v":0},null,""]
[null,null,null,null,{"$f":"IFERROR(GESTION!H93,\" \")","v":0},{"$f":"IFERROR(GESTION!I93,\" \")","v":0},{"$f":"IFERROR(GESTION!J93,\" \")","v":0},null,""]
[null,null,null,null,{"$f":"IFERROR(GESTION!H94,\" \")","v":0},{"$f":"IFERROR(GESTION!I94,\" \")","v":0},{"$f":"IFERROR(GESTION!J94,\" \")","v":0},null,""]
[null,null,null,null,{"$f":"IFERROR(GESTION!H95,\" \")","v":0},{"$f":"IFERROR(GESTION!I95,\" \")","v":0},{"$f":"IFERROR(GESTION!J95,\" \")","v":0},null,""]
[null,null,"5.Consolidar la infraestructura y los recursos necesarios para la implementación exitosa de la transformación digital, incluyendo la disposición de internet de calidad en el 100% de las sedes en la Rama Judicial y modernizar los servicios tecnológicos de soporte. ",null,{"$f":"IFERROR(GESTION!H96,\" \")","v":0},{"$f":"IFERROR(GESTION!I96,\" \")","v":0},{"$f":"IFERROR(GESTION!J96,\" \")","v":0},null,""]
[null,null,null,null,{"$f":"IFERROR(GESTION!H97,\" \")","v":0},{"$f":"IFERROR(GESTION!I97,\" \")","v":0},{"$f":"IFERROR(GESTION!J97,\" \")","v":0},null,""]
[null,null,null,null,{"$f":"IFERROR(GESTION!H98,\" \")","v":0},{"$f":"IFERROR(GESTION!I98,\" \")","v":0},{"$f":"IFERROR(GESTION!J98,\" \")","v":0},null,""]
[null,null,null,null,{"$f":"IFERROR(GESTION!H99,\" \")","v":0},{"$f":"IFERROR(GESTION!I99,\" \")","v":0},{"$f":"IFERROR(GESTION!J99,\" \")","v":0},null,""]
[null,null,null,null,{"$f":"IFERROR(GESTION!H100,\" \")","v":0},{"$f":"IFERROR(GESTION!I100,\" \")","v":0},{"$f":"IFERROR(GESTION!J100,\" \")","v":0},null,""]
[null,null,null,null,{"$f":"IFERROR(GESTION!H101,\" \")","v":0},{"$f":"IFERROR(GESTION!I101,\" \")","v":0},{"$f":"IFERROR(GESTION!J101,\" \")","v":0},null,""]
[null,null,null,null,{"$f":"IFERROR(GESTION!H102,\" \")","v":0},{"$f":"IFERROR(GESTION!I102,\" \")","v":0},{"$f":"IFERROR(GESTION!J102,\" \")","v":0},null,{"$f":"IFERROR(H102/G102,\"\")","v":""}]
[null,null,null,null,{"$f":"IFERROR(GESTION!H103,\" \")","v":0},{"$f":"IFERROR(GESTION!I103,\" \")","v":0},{"$f":"IFERROR(GESTION!J103,\" \")","v":0},null,""]
[null,null,null,null,{"$f":"IFERROR(GESTION!H104,\" \")","v":0},{"$f":"IFERROR(GESTION!I104,\" \")","v":0},{"$f":"IFERROR(GESTION!J104,\" \")","v":0},null,""]
[null,null,null,null,{"$f":"IFERROR(GESTION!H105,\" \")","v":0},{"$f":"IFERROR(GESTION!I105,\" \")","v":0},{"$f":"IFERROR(GESTION!J105,\" \")","v":0},null,""]
[null,null,"6.Integrar y optimizar los servicios administrativos de la Rama Judicial bajo un enfoque de transformación digital e innovación incluyendo los componentes financiero, administrativo, talento humano, entre otros",null,{"$f":"IFERROR(GESTION!H106,\" \")","v":0},{"$f":"IFERROR(GESTION!I106,\" \")","v":0},{"$f":"IFERROR(GESTION!J106,\" \")","v":0},null,""]
[null,null,null,null,{"$f":"IFERROR(GESTION!H107,\" \")","v":0},{"$f":"IFERROR(GESTION!I107,\" \")","v":0},{"$f":"IFERROR(GESTION!J107,\" \")","v":0},null,""]
[null,null,null,null,{"$f":"IFERROR(GESTION!H108,\" \")","v":0},{"$f":"IFERROR(GESTION!I108,\" \")","v":0},{"$f":"IFERROR(GESTION!J108,\" \")","v":0},null,""]
[null,null,null,null,{"$f":"IFERROR(GESTION!H109,\" \")","v":0},{"$f":"IFERROR(GESTION!I109,\" \")","v":0},{"$f":"IFERROR(GESTION!J109,\" \")","v":0},null,""]
[null,null,null,null,{"$f":"IFERROR(GESTION!H110,\" \")","v":0},{"$f":"IFERROR(GESTION!I110,\" \")","v":0},{"$f":"IFERROR(GESTION!J110,\" \")","v":0},null,""]
[null,null,null,null,{"$f":"IFERROR(GESTION!H111,\" \")","v":0},{"$f":"IFERROR(GESTION!I111,\" \")","v":0},{"$f":"IFERROR(GESTION!J111,\" \")","v":0},null,""]
[null,null,null,null,{"$f":"IFERROR(GESTION!H112,\" \")","v":0},{"$f":"IFERROR(GESTION!I112,\" \")","v":0},{"$f":"IFERROR(GESTION!J112,\" \")","v":0},null,""]
[null,null,null,null,{"$f":"IFERROR(GESTION!H113,\" \")","v":0},{"$f":"IFERROR(GESTION!I113,\" \")","v":0},{"$f":"IFERROR(GESTION!J113,\" \")","v":0},null,""]
[null,null,null,null,{"$f":"IFERROR(GESTION!H114,\" \")","v":0},{"$f":"IFERROR(GESTION!I114,\" \")","v":0},{"$f":"IFERROR(GESTION!J114,\" \")","v":0},null,""]
[null,null,null,null,{"$f":"IFERROR(GESTION!H115,\" \")","v":0},{"$f":"IFERROR(GESTION!I115,\" \")","v":0},{"$f":"IFERROR(GESTION!J115,\" \")","v":0},null,""]
["3. Confianza pública, transparencia y rendición de cuentas","Confianza pública, transparencia y rendición de cuentas: Aumentar la confianza pública en la justicia a través de la transparencia, la rendición de cuentas y la participación, incluyendo la información de justicia y la producción, gestión y acceso a las fuentes de derecho, el fortalecimiento del sistema de gestión de calidad y medio ambiente (SIGCMA) y el mejoramiento de la calidad y publicidad de la información. ","1. Incrementar la cantidad, la calidad y pertinencia de los datos sobre el funcionamiento del servicio de justicia bajo un modelo de gobierno de datos y un liderazgo unificado. ","4. Hacer un uso racional de los recursos naturales aplicando los principios y fases de la Economía Circular, para prevenir, mitigar y controlar los impactos ambientales.",{"$f":"IFERROR(GESTION!H116,\" \")","v":0},{"$f":"IFERROR(GESTION!I116,\" \")","v":0},{"$f":"IFERROR(GESTION!J116,\" \")","v":0},null,""]
[null,null,null,null,{"$f":"IFERROR(GESTION!H117,\" \")","v":0},{"$f":"IFERROR(GESTION!I117,\" \")","v":0},{"$f":"IFERROR(GESTION!J117,\" \")","v":0},null,""]
[null,null,null,null,{"$f":"IFERROR(GESTION!H118,\" \")","v":0},{"$f":"IFERROR(GESTION!I118,\" \")","v":0},{"$f":"IFERROR(GESTION!J118,\" \")","v":0},null,""]
[null,null,null,null,{"$f":"IFERROR(GESTION!H119,\" \")","v":0},{"$f":"IFERROR(GESTION!I119,\" \")","v":0},{"$f":"IFERROR(GESTION!J119,\" \")","v":0},null,""]
[null,null,null,null,{"$f":"IFERROR(GESTION!H120,\" \")","v":0},{"$f":"IFERROR(GESTION!I120,\" \")","v":0},{"$f":"IFERROR(GESTION!J120,\" \")","v":0},null,""]
[null,null,null,null,{"$f":"IFERROR(GESTION!H121,\" \")","v":0},{"$f":"IFERROR(GESTION!I121,\" \")","v":0},{"$f":"IFERROR(GESTION!J121,\" \")","v":0},null,""]
[null,null,null,null,{"$f":"IFERROR(GESTION!H122,\" \")","v":0},{"$f":"IFERROR(GESTION!I122,\" \")","v":0},{"$f":"IFERROR(GESTION!J122,\" \")","v":0},null,""]
[null,null,null,null,{"$f":"IFERROR(GESTION!H123,\" \")","v":0},{"$f":"IFERROR(GESTION!I123,\" \")","v":0},{"$f":"IFERROR(GESTION!J123,\" \")","v":0},null,""]
[null,null,null,null,{"$f":"IFERROR(GESTION!H124,\" \")","v":0},{"$f":"IFERROR(GESTION!I124,\" \")","v":0},{"$f":"IFERROR(GESTION!J124,\" \")","v":0},null,""]
[null,null,null,null,{"$f":"IFERROR(GESTION!H125,\" \")","v":0},{"$f":"IFERROR(GESTION!I125,\" \")","v":0},{"$f":"IFERROR(GESTION!J125,\" \")","v":0},null,""]
[null,null,"2. Consolidar la administración de la información entendida como todas las acciones rientadas a garantizar el acceso, consulta, uso y conservación de la información de justicia de manera ágil, flexible e inteligente, bajo un enfoque de innovación.",null,{"$f":"IFERROR(GESTION!H126,\" \")","v":0},{"$f":"IFERROR(GESTION!I126,\" \")","v":0},{"$f":"IFERROR(GESTION!J126,\" \")","v":0},null,""]
[null,null,null,null,{"$f":"IFERROR(GESTION!H127,\" \")","v":0},{"$f":"IFERROR(GESTION!I127,\" \")","v":0},{"$f":"IFERROR(GESTION!J127,\" \")","v":0},null,""]
[null,null,null,null,{"$f":"IFERROR(GESTION!H128,\" \")","v":0},{"$f":"IFERROR(GESTION!I128,\" \")","v":0},{"$f":"IFERROR(GESTION!J128,\" \")","v":0},null,""]
[null,null,null,null,{"$f":"IFERROR(GESTION!H129,\" \")","v":0},{"$f":"IFERROR(GESTION!I129,\" \")","v":0},{"$f":"IFERROR(GESTION!J129,\" \")","v":0},null,""]
[null,null,null,null,{"$f":"IFERROR(GESTION!H130,\" \")","v":0},{"$f":"IFERROR(GESTION!I130,\" \")","v":0},{"$f":"IFERROR(GESTION!J130,\" \")","v":0},null,""]
[null,null,null,null,{"$f":"IFERROR(GESTION!H131,\" \")","v":0},{"$f":"IFERROR(GESTION!I131,\" \")","v":0},{"$f":"IFERROR(GESTION!J131,\" \")","v":0},null,""]
[null,null,null,null,{"$f":"IFERROR(GESTION!H132,\" \")","v":0},{"$f":"IFERROR(GESTION!I132,\" \")","v":0},{"$f":"IFERROR(GESTION!J132,\" \")","v":0},null,""]
[null,null,null,null,{"$f":"IFERROR(GESTION!H133,\" \")","v":0},{"$f":"IFERROR(GESTION!I133,\" \")","v":0},{"$f":"IFERROR(GESTION!J133,\" \")","v":0},null,""]
[null,null,null,null,{"$f":"IFERROR(GESTION!H134,\" \")","v":0},{"$f":"IFERROR(GESTION!I134,\" \")","v":0},{"$f":"IFERROR(GESTION!J134,\" \")","v":0},null,{"$f":"IFERROR(H134/G134,\"\")","v":""}]
[null,null,null,null,{"$f":"IFERROR(GESTION!H135,\" \")","v":0},{"$f":"IFERROR(GESTION!I135,\" \")","v":0},{"$f":"IFERROR(GESTION!J135,\" \")","v":0},null,""]
[null,null,"3. Fortalecer el Sistema integrado de Gestión de la Rama, orientado a la implementación y certificación de las normas antisoborno.","1. Gestionar el desarrollo de las competencias, la toma de conciencia , la cultura  organizacional  y el compromiso de los  servidores judiciales, contratistas, practicantes y  judicantes de contribuir a generar valor público en la administración de justicia, en el marco de  cumplimiento de los requisitos  aplicables y el comportamiento ético.\n3. Fomentar la transparencia y la participación generando lineamientos y promoviendo la rendición de cuentas ,la consulta, reporte y planteamiento de inquietudes en relación con las decisiones y aspectos del SIGCMA.",{"$f":"IFERROR(GESTION!H136,\" \")","v":0},{"$f":"IFERROR(GESTION!I136,\" \")","v":0},{"$f":"IFERROR(GESTION!J136,\" \")","v":0},null,""]
[null,null,null,null,{"$f":"IFERROR(GESTION!H137,\" \")","v":0},{"$f":"IFERROR(GESTION!I137,\" \")","v":0},{"$f":"IFERROR(GESTION!J137,\" \")","v":0},null,""]
[null,null,null,null,{"$f":"IFERROR(GESTION!H138,\" \")","v":0},{"$f":"IFERROR(GESTION!I138,\" \")","v":0},{"$f":"IFERROR(GESTION!J138,\" \")","v":0},null,""]
[null,null,null,null,{"$f":"IFERROR(GESTION!H139,\" \")","v":0},{"$f":"IFERROR(GESTION!I139,\" \")","v":0},{"$f":"IFERROR(GESTION!J139,\" \")","v":0},null,""]
[null,null,null,null,{"$f":"IFERROR(GESTION!H140,\" \")","v":0},{"$f":"IFERROR(GESTION!I140,\" \")","v":0},{"$f":"IFERROR(GESTION!J140,\" \")","v":0},null,""]
[null,null,null,null,{"$f":"IFERROR(GESTION!H141,\" \")","v":0},{"$f":"IFERROR(GESTION!I141,\" \")","v":0},{"$f":"IFERROR(GESTION!J141,\" \")","v":0},null,""]
[null,null,null,null,{"$f":"IFERROR(GESTION!H142,\" \")","v":0},{"$f":"IFERROR(GESTION!I142,\" \")","v":0},{"$f":"IFERROR(GESTION!J142,\" \")","v":0},null,""]
[null,null,null,null,{"$f":"IFERROR(GESTION!H143,\" \")","v":0},{"$f":"IFERROR(GESTION!I143,\" \")","v":0},{"$f":"IFERROR(GESTION!J143,\" \")","v":0},null,""]
[null,null,null,null,{"$f":"IFERROR(GESTION!H144,\" \")","v":0},{"$f":"IFERROR(GESTION!I144,\" \")","v":0},{"$f":"IFERROR(GESTION!J144,\" \")","v":0},null,""]
[null,null,null,null,{"$f":"IFERROR(GESTION!H145,\" \")","v":0},{"$f":"IFERROR(GESTION!I145,\" \")","v":0},{"$f":"IFERROR(GESTION!J145,\" \")","v":0},null,""]
[null,null,"4. Aumentar la confianza, la cercanía y acceso a los servicios de la Rama Judicial a través, entre otros, de una comunicación clara y asertiva con la ciudadanía.","3. Fomentar la transparencia y la participación generando lineamientos y promoviendo la rendición de cuentas ,la consulta, reporte y planteamiento de inquietudes en relación con las decisiones y aspectos del SIGCMA.",{"$f":"IFERROR(GESTION!H146,\" \")","v":"Automatizar trámites y procedimientos a cargo de la Unidad de Asistencia Legal."},{"$f":"IFERROR(GESTION!I146,\" \")","v":"Entregable"},100,100,1,"En el presente trimeste no se materializó una dificiltad, pero sí es de anotar que, la matriz de procesos disciplinarios se alimenta y se usa según los proces que tengamos asignados para etapa de juzgamiento remitidos por la Unidad de Control Interno Disciplinario."]
[null,null,null,null,{"$f":"IFERROR(GESTION!H147,\" \")","v":"Automatizar trámites y procedimientos a cargo del Grupo de Sentencias."},{"$f":"IFERROR(GESTION!I147,\" \")","v":"Entregable"},100,50,0.5,"En el cuarto trimestre, se ha presentado las siguientes dificultades para el desarrollo del proyecto:\n\nIntegración de la fase 1 de la inteligencia artificial desarrollada por NUVU con el aplicartivo Efinómina. ","En el cuarto trimestre de 2024, se presentó cambio en el proyecto, donde se dispuso la integración de la fase 1 de la inteligencia artificial desarrollada por NUVU que contempla la fragmentación de los documentos de cuentas de cobro y extracción de las entidades para que esta información sirva de insumo al sistema Efinómina, para el cálculo, liquidación y elaboración de los actos administrativos de reconocimiento de pago de las sentencias en contra de la entidad. \nPara esta integración se realizaron reuniones entre el grupo técnico de efinómina de soporte lógico y la entidad con el grupo técnico de NUVU y los líderes de proyecto de la entidad para entender las funcionalidades que realiza el aplicativo de efinómina y la extracción de información que realiza la IA desarrollada por NUVU. Posterior a esta reunión de presentación se realizó una reunión para realizar un mapeo de los campos de información requeridos por Efinómina para realizar la liquidación para pago de las sentencias y elaboración de los actos administrativos de reconocimiento de pago y las entidades que extrae la IA desarrollada por NUVU y se discriminaron cuales de estas entidades sirven de insumo a las entradas de información requeridas por Efinómina. Está pendiente el desarrollo de la Base de datos encargada de recibir la información extraida por la IA de NUVU y la cual será un paso intermedio en la migración de información hacia Efinómina."]
[null,null,null,null,{"$f":"IFERROR(GESTION!H148,\" \")","v":"Fortalecimiento de la gestión del Cobro Coactivo."},{"$f":"IFERROR(GESTION!I148,\" \")","v":"Meta cuantificable"},{"$f":"IFERROR(GESTION!J148,\" \")","v":36114},null,0]
[null,null,null,null,{"$f":"IFERROR(GESTION!H149,\" \")","v":"Realizar capacitaciones sobre la política de daño antijurídico (PDA) al plan de acción de la DEAJ, en cumplimiento de los lineamientos establecidos por la Agencia Nacional de Defensa Jurídica del Estado- ANDJE."},{"$f":"IFERROR(GESTION!I149,\" \")","v":"Entregable"},2,2,1,"Ninguna","Los pasados 31 de octubre y 01 de noviembre en el Hotel Tequendama Cra. 10 #26-21 Salón Esmeralda, en el horario de 8:00 a.m. a 5:00 p.m., se desarrolló el evento: Prevención del Daño Antijuridico “Aspectos Relevantes de la Defensa de la Rama Judicial”. Actividad que tuvo dos modalidades de participación: presencial y virtual. Contó con la participación de 160 discentes de los cuales 98 fueron aboga-dos del nivel nacional que participaron de forma presencial y 62 fueron remotos."]
[null,null,null,null,{"$f":"IFERROR(GESTION!H150,\" \")","v":"Ejecutar el presupuesto asignado a la vigencia para el pago de sentencias y conciliaciones"},{"$f":"IFERROR(GESTION!I150,\" \")","v":"Meta cuantificable"},{"$f":"IFERROR(GESTION!J150,\" \")","v":219585},208799,0.95088006922148594,null,"Para el cuarto trimestre de 2024, fue adicionada la apropiación en $19.585 millones de pesos, se efectuaron pagos a 31 de diciembre de 2024 por valor de $208.799 millones, lo que se resume en una ejecución de pagos del 95%. "]
[null,null,null,null,{"$f":"IFERROR(GESTION!H151,\" \")","v":"Cumplir con la meta de recaudo en valor fijada por la Dirección Ejecutiva de Administración Judicial."},{"$f":"IFERROR(GESTION!I151,\" \")","v":"Entregable"},{"$f":"IFERROR(GESTION!J151,\" \")","v":15312},20038,1.3086468129571578,null,"La meta de recaudo nacional para el 2024, es de $15.312.921.460. Con corte al 4to. trimestre, el recaudo total es de $20.038.245.219, lo que se traduce en un cumplimiento en la meta de recaudo del 130,86%. El grado de avance a nivel nacional es óptimo, para este período del año. NOTA: Los valores de las columnas G y H de la fila 151, están expresados en miles de millones, dada la parametrización de las celdas de la matriz por parte del SIGCMA."]
[null,null,null,null,{"$f":"IFERROR(GESTION!H152,\" \")","v":"Cumplir con la meta mínima de procesos con recaudo fijada por la Dirección Ejecutiva de Administración Judicial."},{"$f":"IFERROR(GESTION!I152,\" \")","v":"Meta cuantificable"},{"$f":"IFERROR(GESTION!J152,\" \")","v":4470},4674,1.0456375838926175,null,"Para el 4to. trimestre de 2024, el cumplimiento de la meta corresponde al 104,56%. Resultado satisfactorio."]
[null,null,null,null,{"$f":"IFERROR(GESTION!H153,\" \")","v":"Realizar búsquedas de datos y de bienes de los deudores en sistemas de información oficiales, con el propósito de persuadirlos para que paguen o celebren acuerdos de pago y determinar si hay lugar al decreto y práctica de medidas cautelares."},{"$f":"IFERROR(GESTION!I153,\" \")","v":"Entregable"},76891,75241,0.97854105161852489,null,"Al corte del 4to trimestre de 2024, se registran 76.891 procesos en estado activo, de los cuales, quedaron pendientes por realizarles búsqueda de bienes y de datos 1.650 procesos, correspondientes al 2,15% de la cartera total activa, resultado que es justificable, respecto de los procesos recién aperturados."]
[null,null,null,null,{"$f":"IFERROR(GESTION!H154,\" \")","v":"Hacer seguimiento a la gestión jurídica de los abogados ejecutores, con el fin de identificar que se encuentren en la etapa procesal que les corresponde, y aquellos que no, se les solicita impulsarlos en lo que corresponda."},{"$f":"IFERROR(GESTION!I154,\" \")","v":"Entregable"},76891,76862,0.99962284272541646,null,"Al corte del 4to trimestre de 2024, se registran 76.891 procesos activos, de los cuales, 29 quedaron pendientes de gestión, resultado que es justificable, respecto de los procesos recién aperturados"]
[null,null,null,null,{"$f":"IFERROR(GESTION!H155,\" \")","v":"Medir el nivel de satisfacción de la asesoría jurídica brindada por Asistencia Legal"},{"$f":"IFERROR(GESTION!I155,\" \")","v":"Meta cuantificable"},{"$f":"IFERROR(GESTION!J155,\" \")","v":3},1,0.33333333333333331,null,"Con corte a este trimestre no fue posible realizar la meta proyectada"]
[null,null,"5. Prevenir fenómenos asociados con actos de corrupción en la Rama Judicial y reducir las experiencias de corrupción de usuarios y servidores judiciales.",null,{"$f":"IFERROR(GESTION!H156,\" \")","v":"Emitir conceptos jurídicos sobre temas de importancia jurídica para la Rama Judicial, en la oportunidad requerida"},{"$f":"IFERROR(GESTION!I156,\" \")","v":"Entregable"},29,29,{"$f":"IFERROR(H156/G156,\"\")","v":1},null,"Con corte a 31 diciembre de 2024, se emitierón 29 cocneptos jurídicos las diferente sDireccines Secionales y Uidades del CSJ"]
[null,null,null,null,{"$f":"IFERROR(GESTION!H157,\" \")","v":"Atender de forma oportuna los procesos judiciales en contra de la Entidad"},{"$f":"IFERROR(GESTION!I157,\" \")","v":"Entregable"},100,99.9,0.99900000000000011,"Ninguna","Durante el 4to trimestre de 2024 se han gestionado 596 contestaciones en término (99,9%), solo una contestada fuera de término (0,1%)"]
[null,null,null,null,{"$f":"IFERROR(GESTION!H158,\" \")","v":"Atender de forma oportuna los procesos judiciales de alto impacto en contra de la Entidad"},{"$f":"IFERROR(GESTION!I158,\" \")","v":"Entregable"},100,100,1,"Ninguna","Procesos judiciales: atención oportuna en las contestaciones de demandas notificadas en contra de la entidad, según control que se realiza de manera permanente a este tema."]
[null,null,null,null,{"$f":"IFERROR(GESTION!H159,\" \")","v":"Plan de mejoramiento Sistema Único del Gestión e Información Litigiosa del Estado eKOGUI - ANDJE y Pasivo Contingente Litigioso"},{"$f":"IFERROR(GESTION!I159,\" \")","v":"Meta cuantificable"},{"$f":"IFERROR(GESTION!J159,\" \")","v":4},null,{"$f":"IFERROR(H159/G159,\"\")","v":0},null,"Hasta la fecha no se han configurado hallazgos relacionados con la implementación del aplicativo eKOGUI ni con el pasivo contingente de los procesos judiciales a cargo de la División de Procesos de la Unidad de Asistencia Legal. Sin embargo, se aclara que el resultado de la auditoría interna del pasivo estará disponible en marzo de 2025, y el resultado de la auditoría externa realizada por la Contraloría General de la Nación se tendrá en mayo de 2025."]
[null,null,null,null,{"$f":"IFERROR(GESTION!H160,\" \")","v":0},{"$f":"IFERROR(GESTION!I160,\" \")","v":0},{"$f":"IFERROR(GESTION!J160,\" \")","v":0},null,{"$f":"IFERROR(H160/G160,\"\")","v":""}]
[null,null,null,null,{"$f":"IFERROR(GESTION!H161,\" \")","v":0},{"$f":"IFERROR(GESTION!I161,\" \")","v":0},{"$f":"IFERROR(GESTION!J161,\" \")","v":0},null,""]
[null,null,null,null,{"$f":"IFERROR(GESTION!H162,\" \")","v":0},{"$f":"IFERROR(GESTION!I162,\" \")","v":0},{"$f":"IFERROR(GESTION!J162,\" \")","v":0},null,""]
[null,null,null,null,{"$f":"IFERROR(GESTION!H163,\" \")","v":0},{"$f":"IFERROR(GESTION!I163,\" \")","v":0},{"$f":"IFERROR(GESTION!J163,\" \")","v":0},null,""]
[null,null,null,null,{"$f":"IFERROR(GESTION!H164,\" \")","v":0},{"$f":"IFERROR(GESTION!I164,\" \")","v":0},{"$f":"IFERROR(GESTION!J164,\" \")","v":0},null,""]
[null,null,null,null,{"$f":"IFERROR(GESTION!H165,\" \")","v":0},{"$f":"IFERROR(GESTION!I165,\" \")","v":0},{"$f":"IFERROR(GESTION!J165,\" \")","v":0},null,""]
[null,null,"6. Promover la rendición de cuentas y la colaboración real con la ciudadanía como fundamento para diseñar acciones de mejoramiento del acceso a la justicia.",null,{"$f":"IFERROR(GESTION!H166,\" \")","v":0},{"$f":"IFERROR(GESTION!I166,\" \")","v":0},{"$f":"IFERROR(GESTION!J166,\" \")","v":0},null,""]
[null,null,null,null,{"$f":"IFERROR(GESTION!H167,\" \")","v":0},{"$f":"IFERROR(GESTION!I167,\" \")","v":0},{"$f":"IFERROR(GESTION!J167,\" \")","v":0},null,""]
[null,null,null,null,{"$f":"IFERROR(GESTION!H168,\" \")","v":0},{"$f":"IFERROR(GESTION!I168,\" \")","v":0},{"$f":"IFERROR(GESTION!J168,\" \")","v":0},null,""]
[null,null,null,null,{"$f":"IFERROR(GESTION!H169,\" \")","v":0},{"$f":"IFERROR(GESTION!I169,\" \")","v":0},{"$f":"IFERROR(GESTION!J169,\" \")","v":0},null,""]
[null,null,null,null,{"$f":"IFERROR(GESTION!H170,\" \")","v":0},{"$f":"IFERROR(GESTION!I170,\" \")","v":0},{"$f":"IFERROR(GESTION!J170,\" \")","v":0},null,""]
[null,null,null,null,{"$f":"IFERROR(GESTION!H171,\" \")","v":0},{"$f":"IFERROR(GESTION!I171,\" \")","v":0},{"$f":"IFERROR(GESTION!J171,\" \")","v":0},null,""]
[null,null,null,null,{"$f":"IFERROR(GESTION!H172,\" \")","v":0},{"$f":"IFERROR(GESTION!I172,\" \")","v":0},{"$f":"IFERROR(GESTION!J172,\" \")","v":0},null,""]
[null,null,null,null,{"$f":"IFERROR(GESTION!H173,\" \")","v":0},{"$f":"IFERROR(GESTION!I173,\" \")","v":0},{"$f":"IFERROR(GESTION!J173,\" \")","v":0},null,""]
[null,null,null,null,{"$f":"IFERROR(GESTION!H174,\" \")","v":0},{"$f":"IFERROR(GESTION!I174,\" \")","v":0},{"$f":"IFERROR(GESTION!J174,\" \")","v":0},null,""]
[null,null,null,null,{"$f":"IFERROR(GESTION!H175,\" \")","v":0},{"$f":"IFERROR(GESTION!I175,\" \")","v":0},{"$f":"IFERROR(GESTION!J175,\" \")","v":0},null,""]
[null,null,"7. Continuar la consolidación del SIGCMA, a través de los procesos de formación en modelos de gestión, logrando la implementación y ampliación de este en los esquemas certificados de manera gradual, teniendo en cuenta las capacidades de los diferentes despachos judiciales y dependencias de la Rama Judicial y articulando el enfoque de Arquitectura Empresarial para el desarrollo del PETD a través de la gestión del conocimiento para la gestión del cambio propendiendo por una cultura de la calidad, la transparencia, la rendición de cuentas, la anticorrupción y el antisoborno","1. Gestionar el desarrollo de las competencias, la toma de conciencia , la cultura  organizacional  y el compromiso de los  servidores judiciales, contratistas, practicantes y  judicantes de contribuir a generar valor público en la administración de justicia, en el marco de  cumplimiento de los requisitos  aplicables y el comportamiento ético.\n4. Hacer un uso racional de los recursos naturales aplicando los principios y fases de la Economía Circular, para prevenir, mitigar y controlar los impactos ambientales.",{"$f":"IFERROR(GESTION!H176,\" \")","v":0},{"$f":"IFERROR(GESTION!I176,\" \")","v":0},{"$f":"IFERROR(GESTION!J176,\" \")","v":0},null,""]
[null,null,null,null,{"$f":"IFERROR(GESTION!H177,\" \")","v":0},{"$f":"IFERROR(GESTION!I177,\" \")","v":0},{"$f":"IFERROR(GESTION!J177,\" \")","v":0},null,""]
[null,null,null,null,{"$f":"IFERROR(GESTION!H178,\" \")","v":0},{"$f":"IFERROR(GESTION!I178,\" \")","v":0},{"$f":"IFERROR(GESTION!J178,\" \")","v":0},null,""]
[null,null,null,null,{"$f":"IFERROR(GESTION!H179,\" \")","v":0},{"$f":"IFERROR(GESTION!I179,\" \")","v":0},{"$f":"IFERROR(GESTION!J179,\" \")","v":0},null,""]
[null,null,null,null,{"$f":"IFERROR(GESTION!H180,\" \")","v":0},{"$f":"IFERROR(GESTION!I180,\" \")","v":0},{"$f":"IFERROR(GESTION!J180,\" \")","v":0},null,""]
[null,null,null,null,{"$f":"IFERROR(GESTION!H181,\" \")","v":0},{"$f":"IFERROR(GESTION!I181,\" \")","v":0},{"$f":"IFERROR(GESTION!J181,\" \")","v":0},null,""]
[null,null,null,null,{"$f":"IFERROR(GESTION!H182,\" \")","v":0},{"$f":"IFERROR(GESTION!I182,\" \")","v":0},{"$f":"IFERROR(GESTION!J182,\" \")","v":0},null,""]
[null,null,null,null,{"$f":"IFERROR(GESTION!H183,\" \")","v":0},{"$f":"IFERROR(GESTION!I183,\" \")","v":0},{"$f":"IFERROR(GESTION!J183,\" \")","v":0},null,""]
[null,null,null,null,{"$f":"IFERROR(GESTION!H184,\" \")","v":0},{"$f":"IFERROR(GESTION!I184,\" \")","v":0},{"$f":"IFERROR(GESTION!J184,\" \")","v":0},null,""]
[null,null,null,null,{"$f":"IFERROR(GESTION!H185,\" \")","v":0},{"$f":"IFERROR(GESTION!I185,\" \")","v":0},{"$f":"IFERROR(GESTION!J185,\" \")","v":0},null,""]
["4. Talento Humano","Talento Humano: Fortalecer el talento humano en la Rama Judicial para que sea eficiente, capacitado y realice su labor en ambientes saludables y seguros. Ampliar la cobertura de la carrera judicial y mejorar la oferta de formación, que esté disponible para todos los servidores judiciales e impacte positivamente el servicio de justicia y responda a las necesidades reales del ejercicio de la función judicial.","1. Ampliar la cobertura de la carrera judicial optimizando los procesos de los concursos de méritos y propender por mitigar su litigiosidad.","1. Gestionar el desarrollo de las competencias, la toma de conciencia , la cultura  organizacional  y el compromiso de los  servidores judiciales, contratistas, practicantes y  judicantes de contribuir a generar valor público en la administración de justicia, en el marco de  cumplimiento de los requisitos  aplicables y el comportamiento ético.",{"$f":"IFERROR(GESTION!H186,\" \")","v":0},{"$f":"IFERROR(GESTION!I186,\" \")","v":0},{"$f":"IFERROR(GESTION!J186,\" \")","v":0},null,""]
[null,null,null,null,{"$f":"IFERROR(GESTION!H187,\" \")","v":0},{"$f":"IFERROR(GESTION!I187,\" \")","v":0},{"$f":"IFERROR(GESTION!J187,\" \")","v":0},null,""]
[null,null,null,null,{"$f":"IFERROR(GESTION!H188,\" \")","v":0},{"$f":"IFERROR(GESTION!I188,\" \")","v":0},{"$f":"IFERROR(GESTION!J188,\" \")","v":0},null,""]
[null,null,null,null,{"$f":"IFERROR(GESTION!H189,\" \")","v":0},{"$f":"IFERROR(GESTION!I189,\" \")","v":0},{"$f":"IFERROR(GESTION!J189,\" \")","v":0},null,""]
[null,null,null,null,{"$f":"IFERROR(GESTION!H190,\" \")","v":0},{"$f":"IFERROR(GESTION!I190,\" \")","v":0},{"$f":"IFERROR(GESTION!J190,\" \")","v":0},null,""]
[null,null,null,null,{"$f":"IFERROR(GESTION!H191,\" \")","v":0},{"$f":"IFERROR(GESTION!I191,\" \")","v":0},{"$f":"IFERROR(GESTION!J191,\" \")","v":0},null,""]
[null,null,null,null,{"$f":"IFERROR(GESTION!H192,\" \")","v":0},{"$f":"IFERROR(GESTION!I192,\" \")","v":0},{"$f":"IFERROR(GESTION!J192,\" \")","v":0},null,{"$f":"IFERROR(H192/G192,\"\")","v":""}]
[null,null,null,null,{"$f":"IFERROR(GESTION!H193,\" \")","v":0},{"$f":"IFERROR(GESTION!I193,\" \")","v":0},{"$f":"IFERROR(GESTION!J193,\" \")","v":0},null,""]
[null,null,null,null,{"$f":"IFERROR(GESTION!H194,\" \")","v":0},{"$f":"IFERROR(GESTION!I194,\" \")","v":0},{"$f":"IFERROR(GESTION!J194,\" \")","v":0},null,""]
[null,null,null,null,{"$f":"IFERROR(GESTION!H195,\" \")","v":0},{"$f":"IFERROR(GESTION!I195,\" \")","v":0},{"$f":"IFERROR(GESTION!J195,\" \")","v":0},null,""]
[null,null,"2. Impactar la función y servicios que presta la Rama Judicial, a través de una formación integral desde una visión de gestión del conocimiento, relacionada con los problemas de la justicia y los problemas de gestión de quienes administran los recursos de la justicia, y potenciando el uso de medios virtuales.",null,{"$f":"IFERROR(GESTION!H196,\" \")","v":0},{"$f":"IFERROR(GESTION!I196,\" \")","v":0},{"$f":"IFERROR(GESTION!J196,\" \")","v":0},null,""]
[null,null,null,null,{"$f":"IFERROR(GESTION!H197,\" \")","v":0},{"$f":"IFERROR(GESTION!I197,\" \")","v":0},{"$f":"IFERROR(GESTION!J197,\" \")","v":0},null,""]
[null,null,null,null,{"$f":"IFERROR(GESTION!H198,\" \")","v":0},{"$f":"IFERROR(GESTION!I198,\" \")","v":0},{"$f":"IFERROR(GESTION!J198,\" \")","v":0},null,""]
[null,null,null,null,{"$f":"IFERROR(GESTION!H199,\" \")","v":0},{"$f":"IFERROR(GESTION!I199,\" \")","v":0},{"$f":"IFERROR(GESTION!J199,\" \")","v":0},null,""]
[null,null,null,null,{"$f":"IFERROR(GESTION!H200,\" \")","v":0},{"$f":"IFERROR(GESTION!I200,\" \")","v":0},{"$f":"IFERROR(GESTION!J200,\" \")","v":0},null,""]
[null,null,null,null,{"$f":"IFERROR(GESTION!H201,\" \")","v":0},{"$f":"IFERROR(GESTION!I201,\" \")","v":0},{"$f":"IFERROR(GESTION!J201,\" \")","v":0},null,""]
[null,null,null,null,{"$f":"IFERROR(GESTION!H202,\" \")","v":0},{"$f":"IFERROR(GESTION!I202,\" \")","v":0},{"$f":"IFERROR(GESTION!J202,\" \")","v":0},null,""]
[null,null,null,null,{"$f":"IFERROR(GESTION!H203,\" \")","v":0},{"$f":"IFERROR(GESTION!I203,\" \")","v":0},{"$f":"IFERROR(GESTION!J203,\" \")","v":0},null,""]
[null,null,null,null,{"$f":"IFERROR(GESTION!H204,\" \")","v":0},{"$f":"IFERROR(GESTION!I204,\" \")","v":0},{"$f":"IFERROR(GESTION!J204,\" \")","v":0},null,""]
[null,null,null,null,{"$f":"IFERROR(GESTION!H205,\" \")","v":0},{"$f":"IFERROR(GESTION!I205,\" \")","v":0},{"$f":"IFERROR(GESTION!J205,\" \")","v":0},null,""]
[null,null,"3. Promover la incorporación de la perspectiva de género y el enfoque diferencial en los fallos judiciales y en la atención a los ciudadanos, la administración de la Rama Judicial, la administración de la carrera judicial y la elaboración de listas para altas Cortes. ",null,{"$f":"IFERROR(GESTION!H206,\" \")","v":0},{"$f":"IFERROR(GESTION!I206,\" \")","v":0},{"$f":"IFERROR(GESTION!J206,\" \")","v":0},null,""]
[null,null,null,null,{"$f":"IFERROR(GESTION!H207,\" \")","v":0},{"$f":"IFERROR(GESTION!I207,\" \")","v":0},{"$f":"IFERROR(GESTION!J207,\" \")","v":0},null,""]
[null,null,null,null,{"$f":"IFERROR(GESTION!H208,\" \")","v":0},{"$f":"IFERROR(GESTION!I208,\" \")","v":0},{"$f":"IFERROR(GESTION!J208,\" \")","v":0},null,""]
[null,null,null,null,{"$f":"IFERROR(GESTION!H209,\" \")","v":0},{"$f":"IFERROR(GESTION!I209,\" \")","v":0},{"$f":"IFERROR(GESTION!J209,\" \")","v":0},null,""]
[null,null,null,null,{"$f":"IFERROR(GESTION!H210,\" \")","v":0},{"$f":"IFERROR(GESTION!I210,\" \")","v":0},{"$f":"IFERROR(GESTION!J210,\" \")","v":0},null,""]
[null,null,null,null,{"$f":"IFERROR(GESTION!H211,\" \")","v":0},{"$f":"IFERROR(GESTION!I211,\" \")","v":0},{"$f":"IFERROR(GESTION!J211,\" \")","v":0},null,""]
[null,null,null,null,{"$f":"IFERROR(GESTION!H212,\" \")","v":0},{"$f":"IFERROR(GESTION!I212,\" \")","v":0},{"$f":"IFERROR(GESTION!J212,\" \")","v":0},null,""]
[null,null,null,null,{"$f":"IFERROR(GESTION!H213,\" \")","v":0},{"$f":"IFERROR(GESTION!I213,\" \")","v":0},{"$f":"IFERROR(GESTION!J213,\" \")","v":0},null,""]
[null,null,null,null,{"$f":"IFERROR(GESTION!H214,\" \")","v":0},{"$f":"IFERROR(GESTION!I214,\" \")","v":0},{"$f":"IFERROR(GESTION!J214,\" \")","v":0},null,""]
[null,null,null,null,{"$f":"IFERROR(GESTION!H215,\" \")","v":0},{"$f":"IFERROR(GESTION!I215,\" \")","v":0},{"$f":"IFERROR(GESTION!J215,\" \")","v":0},null,""]
[null,null,"4. Desarrollar en los servidores judiciales y demás grupos de valor relevantes las competencias necesarias para la efectividad de la transformación digital de modo que puedan, entre otros, utilizar con solvencia las herramientas digitales dispuestas para sus respectivas funciones. Además, fortalecer y actualizar los conocimientos del personal a cargo de la gestión de proyectos de tecnología.",null,{"$f":"IFERROR(GESTION!H216,\" \")","v":0},{"$f":"IFERROR(GESTION!I216,\" \")","v":0},{"$f":"IFERROR(GESTION!J216,\" \")","v":0},null,""]
[null,null,null,null,{"$f":"IFERROR(GESTION!H217,\" \")","v":0},{"$f":"IFERROR(GESTION!I217,\" \")","v":0},{"$f":"IFERROR(GESTION!J217,\" \")","v":0},null,""]
[null,null,null,null,{"$f":"IFERROR(GESTION!H218,\" \")","v":0},{"$f":"IFERROR(GESTION!I218,\" \")","v":0},{"$f":"IFERROR(GESTION!J218,\" \")","v":0},null,""]
[null,null,null,null,{"$f":"IFERROR(GESTION!H219,\" \")","v":0},{"$f":"IFERROR(GESTION!I219,\" \")","v":0},{"$f":"IFERROR(GESTION!J219,\" \")","v":0},null,""]
[null,null,null,null,{"$f":"IFERROR(GESTION!H220,\" \")","v":0},{"$f":"IFERROR(GESTION!I220,\" \")","v":0},{"$f":"IFERROR(GESTION!J220,\" \")","v":0},null,""]
[null,null,null,null,{"$f":"IFERROR(GESTION!H221,\" \")","v":0},{"$f":"IFERROR(GESTION!I221,\" \")","v":0},{"$f":"IFERROR(GESTION!J221,\" \")","v":0},null,""]
[null,null,null,null,{"$f":"IFERROR(GESTION!H222,\" \")","v":0},{"$f":"IFERROR(GESTION!I222,\" \")","v":0},{"$f":"IFERROR(GESTION!J222,\" \")","v":0},null,""]
[null,null,null,null,{"$f":"IFERROR(GESTION!H223,\" \")","v":0},{"$f":"IFERROR(GESTION!I223,\" \")","v":0},{"$f":"IFERROR(GESTION!J223,\" \")","v":0},null,""]
[null,null,null,null,{"$f":"IFERROR(GESTION!H224,\" \")","v":0},{"$f":"IFERROR(GESTION!I224,\" \")","v":0},{"$f":"IFERROR(GESTION!J224,\" \")","v":0},null,{"$f":"IFERROR(H224/G224,\"\")","v":""}]
[null,null,null,null,{"$f":"IFERROR(GESTION!H225,\" \")","v":0},{"$f":"IFERROR(GESTION!I225,\" \")","v":0},{"$f":"IFERROR(GESTION!J225,\" \")","v":0},null,""]
[null,null,"5. Promover el bienestar de todos los servidores judiciales a través de la implementación de un sistema que contemple los diferentes niveles de estrategias y acciones necesarios para mejorar el clima laboral, la salud física y mental y la calidad del tiempo de descanso.","5. Generar espacios de trabajo seguros y saludables que contribuyan a minimizar los  incidentes, accidentes y enfermedades laborales derivados de las condiciones y actos  inseguros y fomentar  el autocuidado, los  estilos de vida y el trabajo saludable en los servidores judiciales, contratistas, judicantes y practicantes",{"$f":"IFERROR(GESTION!H226,\" \")","v":0},{"$f":"IFERROR(GESTION!I226,\" \")","v":0},{"$f":"IFERROR(GESTION!J226,\" \")","v":0},null,""]
[null,null,null,null,{"$f":"IFERROR(GESTION!H227,\" \")","v":0},{"$f":"IFERROR(GESTION!I227,\" \")","v":0},{"$f":"IFERROR(GESTION!J227,\" \")","v":0},null,""]
[null,null,null,null,{"$f":"IFERROR(GESTION!H228,\" \")","v":0},{"$f":"IFERROR(GESTION!I228,\" \")","v":0},{"$f":"IFERROR(GESTION!J228,\" \")","v":0},null,""]
[null,null,null,null,{"$f":"IFERROR(GESTION!H229,\" \")","v":0},{"$f":"IFERROR(GESTION!I229,\" \")","v":0},{"$f":"IFERROR(GESTION!J229,\" \")","v":0},null,""]
[null,null,null,null,{"$f":"IFERROR(GESTION!H230,\" \")","v":0},{"$f":"IFERROR(GESTION!I230,\" \")","v":0},{"$f":"IFERROR(GESTION!J230,\" \")","v":0},null,""]
[null,null,null,null,{"$f":"IFERROR(GESTION!H231,\" \")","v":0},{"$f":"IFERROR(GESTION!I231,\" \")","v":0},{"$f":"IFERROR(GESTION!J231,\" \")","v":0},null,""]
[null,null,null,null,{"$f":"IFERROR(GESTION!H232,\" \")","v":0},{"$f":"IFERROR(GESTION!I232,\" \")","v":0},{"$f":"IFERROR(GESTION!J232,\" \")","v":0},null,""]
[null,null,null,null,{"$f":"IFERROR(GESTION!H233,\" \")","v":0},{"$f":"IFERROR(GESTION!I233,\" \")","v":0},{"$f":"IFERROR(GESTION!J233,\" \")","v":0},null,""]
[null,null,null,null,{"$f":"IFERROR(GESTION!H234,\" \")","v":0},{"$f":"IFERROR(GESTION!I234,\" \")","v":0},{"$f":"IFERROR(GESTION!J234,\" \")","v":0},null,""]
[null,null,null,null,{"$f":"IFERROR(GESTION!H235,\" \")","v":0},{"$f":"IFERROR(GESTION!I235,\" \")","v":0},{"$f":"IFERROR(GESTION!J235,\" \")","v":0},null,""]
["5. Gobernanza, planeación estratégica y capacidad de toma de decisiones","Gobernanza, planeación estratégica y capacidad de toma de decisiones: Fortalecer la gobernanza, la planeación estratégica y la capacidad de toma de decisiones de la Rama Judicial con base en la evidencia empírica y la articulación efectiva con las demás entidades, para que la perspectiva de género y el enfoque diferencial sean transversales en el presente plan. ","1. Implementar un nuevo modelo integrado para la planeación estratégica, el seguimiento y la medición del desempeño institucional.","2. Asegurar  el cumplimiento de los objetivos institucionales, la normatividad aplicable,  la mejora del SIGCMA y la satisfacción de los usuarios, revisando de  forma continua y sistemática la planificación de la gestión y fortaleciendo la administración de riesgos y sus controles.",{"$f":"IFERROR(GESTION!H236,\" \")","v":0},{"$f":"IFERROR(GESTION!I236,\" \")","v":0},{"$f":"IFERROR(GESTION!J236,\" \")","v":0},null,""]
[null,null,null,null,{"$f":"IFERROR(GESTION!H237,\" \")","v":0},{"$f":"IFERROR(GESTION!I237,\" \")","v":0},{"$f":"IFERROR(GESTION!J237,\" \")","v":0},null,""]
[null,null,null,null,{"$f":"IFERROR(GESTION!H238,\" \")","v":0},{"$f":"IFERROR(GESTION!I238,\" \")","v":0},{"$f":"IFERROR(GESTION!J238,\" \")","v":0},null,""]
[null,null,null,null,{"$f":"IFERROR(GESTION!H239,\" \")","v":0},{"$f":"IFERROR(GESTION!I239,\" \")","v":0},{"$f":"IFERROR(GESTION!J239,\" \")","v":0},null,""]
[null,null,null,null,{"$f":"IFERROR(GESTION!H240,\" \")","v":0},{"$f":"IFERROR(GESTION!I240,\" \")","v":0},{"$f":"IFERROR(GESTION!J240,\" \")","v":0},null,""]
[null,null,null,null,{"$f":"IFERROR(GESTION!H241,\" \")","v":0},{"$f":"IFERROR(GESTION!I241,\" \")","v":0},{"$f":"IFERROR(GESTION!J241,\" \")","v":0},null,""]
[null,null,null,null,{"$f":"IFERROR(GESTION!H242,\" \")","v":0},{"$f":"IFERROR(GESTION!I242,\" \")","v":0},{"$f":"IFERROR(GESTION!J242,\" \")","v":0},null,""]
[null,null,null,null,{"$f":"IFERROR(GESTION!H243,\" \")","v":0},{"$f":"IFERROR(GESTION!I243,\" \")","v":0},{"$f":"IFERROR(GESTION!J243,\" \")","v":0},null,""]
[null,null,null,null,{"$f":"IFERROR(GESTION!H244,\" \")","v":0},{"$f":"IFERROR(GESTION!I244,\" \")","v":0},{"$f":"IFERROR(GESTION!J244,\" \")","v":0},null,""]
[null,null,null,null,{"$f":"IFERROR(GESTION!H245,\" \")","v":0},{"$f":"IFERROR(GESTION!I245,\" \")","v":0},{"$f":"IFERROR(GESTION!J245,\" \")","v":0},null,""]
[null,null,"2. Definir e implementar el modelo optimizado de formulación, seguimiento y evaluación de la política pública judicial.",null,{"$f":"IFERROR(GESTION!H246,\" \")","v":0},{"$f":"IFERROR(GESTION!I246,\" \")","v":0},{"$f":"IFERROR(GESTION!J246,\" \")","v":0},null,""]
[null,null,null,null,{"$f":"IFERROR(GESTION!H247,\" \")","v":0},{"$f":"IFERROR(GESTION!I247,\" \")","v":0},{"$f":"IFERROR(GESTION!J247,\" \")","v":0},null,""]
[null,null,null,null,{"$f":"IFERROR(GESTION!H248,\" \")","v":0},{"$f":"IFERROR(GESTION!I248,\" \")","v":0},{"$f":"IFERROR(GESTION!J248,\" \")","v":0},null,""]
[null,null,null,null,{"$f":"IFERROR(GESTION!H249,\" \")","v":0},{"$f":"IFERROR(GESTION!I249,\" \")","v":0},{"$f":"IFERROR(GESTION!J249,\" \")","v":0},null,""]
[null,null,null,null,{"$f":"IFERROR(GESTION!H250,\" \")","v":0},{"$f":"IFERROR(GESTION!I250,\" \")","v":0},{"$f":"IFERROR(GESTION!J250,\" \")","v":0},null,""]
[null,null,null,null,{"$f":"IFERROR(GESTION!H251,\" \")","v":0},{"$f":"IFERROR(GESTION!I251,\" \")","v":0},{"$f":"IFERROR(GESTION!J251,\" \")","v":0},null,""]
[null,null,null,null,{"$f":"IFERROR(GESTION!H252,\" \")","v":0},{"$f":"IFERROR(GESTION!I252,\" \")","v":0},{"$f":"IFERROR(GESTION!J252,\" \")","v":0},null,""]
[null,null,null,null,{"$f":"IFERROR(GESTION!H253,\" \")","v":0},{"$f":"IFERROR(GESTION!I253,\" \")","v":0},{"$f":"IFERROR(GESTION!J253,\" \")","v":0},null,""]
[null,null,null,null,{"$f":"IFERROR(GESTION!H254,\" \")","v":0},{"$f":"IFERROR(GESTION!I254,\" \")","v":0},{"$f":"IFERROR(GESTION!J254,\" \")","v":0},null,""]
[null,null,null,null,{"$f":"IFERROR(GESTION!H255,\" \")","v":0},{"$f":"IFERROR(GESTION!I255,\" \")","v":0},{"$f":"IFERROR(GESTION!J255,\" \")","v":0},null,""]

{"sheet":"GESTION_SEG_3_TRIM","index":6,"n_rows":255,"n_cols":11,"rows_kept":255,"cut":false,"hidden":false,"merged":[[25,2,34,2],[25,3,34,3],[35,2,44,2],[35,3,44,3],[1,0,1,10],[2,0,2,3],[2,4,2,9],[2,10,4,10],[3,0,4,1],[3,2,4,2],[3,3,4,3],[3,4,3,9],[45,2,54,2],[45,3,54,3],[55,0,114,0],[55,1,114,1],[55,2,64,2],[55,3,114,3],[65,2,74,2],[75,2,84,2],[85,2,94,2],[95,2,104,2],[5,0,54,0],[5,1,54,1],[5,2,14,2],[5,3,14,3],[15,2,24,2],[15,3,24,3],[105,2,114,2],[115,0,184,0],[115,1,184,1],[115,2,124,2],[115,3,124,3],[125,2,134,2],[125,3,134,3],[135,2,144,2],[135,3,144,3],[145,2,154,2],[145,3,174,3],[155,2,164,2],[165,2,174,2],[175,2,184,2],[175,3,184,3],[205,2,214,2],[215,2,224,2],[225,2,234,2],[225,3,234,3],[235,0,254,0],[235,1,254,1],[235,2,244,2],[235,3,254,3],[245,2,254,2],[185,0,234,0],[185,1,234,1],[185,2,194,2],[185,3,224,3],[195,2,204,2]]}
[]
["CONSEJO SUPERIOR DE LA JUDICATURA \nUNIDADES MISIONALES DEL CONSEJO SUPERIOR DE LA JUDICATURA - \nDIRECCIÓN EJECUTIVA DE ADMINISTRACIÓN JUDICIAL - UNIDADES MISIONALES DE LA DEAJ\nDIRECCIONES SECCIONALES DE ADMINISTRACIÓN JUDICIAL - DEPENDENCIAS JUDICIALES CERTIFICADAS"]
["PLAN SECTORIAL DE DESARROLLO 2023-2026 - OBJETIVOS SIGCMA",null,null,null,null,null,null,null,null,null," ANÁLISIS RESULTADO"]
["OBJETIVO ESTRATÉGICO",null,"OBJETIVO ESPECÍFICO PSD","OBJETIVO ESPECÍFICO SIGCMA","MEDICIÓN DE LA GESTIÓN ANUAL"]
[null,null,null,null,"ACTIVIDADES ","INDIQUE SI ES ENTREGABLE O META CUANTIFICABLE","META ANUAL","AVANCE DE LA META ","NIVEL CUMPLIMIENTO","DIFICULTADES PARA LOGRAR LA META PROPUESTA"]
["1. Acceso e Infraestructura Física","Acceso e Infraestructura Física: Ampliar, en todo el territorio nacional, el acceso a una justicia efectiva, pronta, equitativa e incluyente, reduciendo el atraso y la congestión, de acuerdo con las necesidades de la demanda de justicia por jurisdicción y especialidad, y mejorando la articulación con la justicia restaurativa y terapéutica, y otros mecanismos de solución de conflictos y consolidando una infraestructura física óptima para el acceso a la justicia.","1. Ampliar el acceso a justicia para atender las necesidades jurídicas de los ciudadanos con un enfoque diferencial, de una manera pronta, reduciendo las inequidades y las brechas territoriales de acceso.","2. Asegurar  el cumplimiento de los objetivos institucionales, la normatividad aplicable,  la mejora del SIGCMA y la satisfacción de los usuarios, revisando de  forma continua y sistemática la planificación de la gestión y fortaleciendo la administración de riesgos y sus controles",{"$f":"IFERROR(GESTION!H6,\" \")","v":0},{"$f":"IFERROR(GESTION!I6,\" \")","v":0},{"$f":"IFERROR(GESTION!J6,\" \")","v":0},null,{"$f":"IFERROR(H6/G6,\"\")","v":""}]
[null,null,null,null,{"$f":"IFERROR(GESTION!H7,\" \")","v":0},{"$f":"IFERROR(GESTION!I7,\" \")","v":0},{"$f":"IFERROR(GESTION!J7,\" \")","v":0},null,""]
[null,null,null,null,{"$f":"IFERROR(GESTION!H8,\" \")","v":0},{"$f":"IFERROR(GESTION!I8,\" \")","v":0},{"$f":"IFERROR(GESTION!J8,\" \")","v":0},null,""]
[null,null,null,null,{"$f":"IFERROR(GESTION!H9,\" \")","v":0},{"$f":"IFERROR(GESTION!I9,\" \")","v":0},{"$f":"IFERROR(GESTION!J9,\" \")","v":0},null,""]
[null,null,null,null,{"$f":"IFERROR(GESTION!H10,\" \")","v":0},{"$f":"IFERROR(GESTION!I10,\" \")","v":0},{"$f":"IFERROR(GESTION!J10,\" \")","v":0},null,""]
[null,null,null,null,{"$f":"IFERROR(GESTION!H11,\" \")","v":0},{"$f":"IFERROR(GESTION!I11,\" \")","v":0},{"$f":"IFERROR(GESTION!J11,\" \")","v":0},null,""]
[null,null,null,null,{"$f":"IFERROR(GESTION!H12,\" \")","v":0},{"$f":"IFERROR(GESTION!I12,\" \")","v":0},{"$f":"IFERROR(GESTION!J12,\" \")","v":0},null,""]
[null,null,null,null,{"$f":"IFERROR(GESTION!H13,\" \")","v":0},{"$f":"IFERROR(GESTION!I13,\" \")","v":0},{"$f":"IFERROR(GESTION!J13,\" \")","v":0},null,""]
[null,null,null,null,{"$f":"IFERROR(GESTION!H14,\" \")","v":0},{"$f":"IFERROR(GESTION!I14,\" \")","v":0},{"$f":"IFERROR(GESTION!J14,\" \")","v":0},null,""]
[null,null,null,null,{"$f":"IFERROR(GESTION!H15,\" \")","v":0},{"$f":"IFERROR(GESTION!I15,\" \")","v":0},{"$f":"IFERROR(GESTION!J15,\" \")","v":0},null,""]
[null,null,"2. Mejorar los tiempos de respuesta de la Rama Judicial y reducir el inventario de procesos, identificando los retos internos y promoviendo tanto acciones articuladas específicas para abordarlos como estrategias coordinadas para enfrentar las barreras que dependen de otras entidades.","2. Asegurar  el cumplimiento de los objetivos institucionales, la normatividad aplicable,  la mejora del SIGCMA y la satisfacción de los usuarios, revisando de  forma continua y sistemática la planificación de la gestión y fortaleciendo la administración de riesgos y sus controles",{"$f":"IFERROR(GESTION!H16,\" \")","v":0},{"$f":"IFERROR(GESTION!I16,\" \")","v":0},{"$f":"IFERROR(GESTION!J16,\" \")","v":0},null,""]
[null,null,null,null,{"$f":"IFERROR(GESTION!H17,\" \")","v":0},{"$f":"IFERROR(GESTION!I17,\" \")","v":0},{"$f":"IFERROR(GESTION!J17,\" \")","v":0},null,""]
[null,null,null,null,{"$f":"IFERROR(GESTION!H18,\" \")","v":0},{"$f":"IFERROR(GESTION!I18,\" \")","v":0},{"$f":"IFERROR(GESTION!J18,\" \")","v":0},null,""]
[null,null,null,null,{"$f":"IFERROR(GESTION!H19,\" \")","v":0},{"$f":"IFERROR(GESTION!I19,\" \")","v":0},{"$f":"IFERROR(GESTION!J19,\" \")","v":0},null,""]
[null,null,null,null,{"$f":"IFERROR(GESTION!H20,\" \")","v":0},{"$f":"IFERROR(GESTION!I20,\" \")","v":0},{"$f":"IFERROR(GESTION!J20,\" \")","v":0},null,""]
[null,null,null,null,{"$f":"IFERROR(GESTION!H21,\" \")","v":0},{"$f":"IFERROR(GESTION!I21,\" \")","v":0},{"$f":"IFERROR(GESTION!J21,\" \")","v":0},null,""]
[null,null,null,null,{"$f":"IFERROR(GESTION!H22,\" \")","v":0},{"$f":"IFERROR(GESTION!I22,\" \")","v":0},{"$f":"IFERROR(GESTION!J22,\" \")","v":0},null,""]
[null,null,null,null,{"$f":"IFERROR(GESTION!H23,\" \")","v":0},{"$f":"IFERROR(GESTION!I23,\" \")","v":0},{"$f":"IFERROR(GESTION!J23,\" \")","v":0},null,""]
[null,null,null,null,{"$f":"IFERROR(GESTION!H24,\" \")","v":0},{"$f":"IFERROR(GESTION!I24,\" \")","v":0},{"$f":"IFERROR(GESTION!J24,\" \")","v":0},null,""]
[null,null,null,null,{"$f":"IFERROR(GESTION!H25,\" \")","v":0},{"$f":"IFERROR(GESTION!I25,\" \")","v":0},{"$f":"IFERROR(GESTION!J25,\" \")","v":0},null,""]
[null,null,"3. Coadyuvar en la garantía de la idoneidad en el ejercicio de la profesión jurídica de acuerdo con lo establecido en la Ley 1905 de 2018","2. Asegurar  el cumplimiento de los objetivos institucionales, la normatividad aplicable,  la mejora del SIGCMA y la satisfacción de los usuarios, revisando de  forma continua y sistemática la planificación de la gestión y fortaleciendo la administración de riesgos y sus controles",{"$f":"IFERROR(GESTION!H26,\" \")","v":0},{"$f":"IFERROR(GESTION!I26,\" \")","v":0},{"$f":"IFERROR(GESTION!J26,\" \")","v":0},null,""]
[null,null,null,null,{"$f":"IFERROR(GESTION!H27,\" \")","v":0},{"$f":"IFERROR(GESTION!I27,\" \")","v":0},{"$f":"IFERROR(GESTION!J27,\" \")","v":0},null,""]
[null,null,null,null,{"$f":"IFERROR(GESTION!H28,\" \")","v":0},{"$f":"IFERROR(GESTION!I28,\" \")","v":0},{"$f":"IFERROR(GESTION!J28,\" \")","v":0},null,""]
[null,null,null,null,{"$f":"IFERROR(GESTION!H29,\" \")","v":0},{"$f":"IFERROR(GESTION!I29,\" \")","v":0},{"$f":"IFERROR(GESTION!J29,\" \")","v":0},null,""]
[null,null,null,null,{"$f":"IFERROR(GESTION!H30,\" \")","v":0},{"$f":"IFERROR(GESTION!I30,\" \")","v":0},{"$f":"IFERROR(GESTION!J30,\" \")","v":0},null,""]
[null,null,null,null,{"$f":"IFERROR(GESTION!H31,\" \")","v":0},{"$f":"IFERROR(GESTION!I31,\" \")","v":0},{"$f":"IFERROR(GESTION!J31,\" \")","v":0},null,""]
[null,null,null,null,{"$f":"IFERROR(GESTION!H32,\" \")","v":0},{"$f":"IFERROR(GESTION!I32,\" \")","v":0},{"$f":"IFERROR(GESTION!J32,\" \")","v":0},null,""]
[null,null,null,null,{"$f":"IFERROR(GESTION!H33,\" \")","v":0},{"$f":"IFERROR(GESTION!I33,\" \")","v":0},{"$f":"IFERROR(GESTION!J33,\" \")","v":0},null,""]
[null,null,null,null,{"$f":"IFERROR(GESTION!H34,\" \")","v":0},{"$f":"IFERROR(GESTION!I34,\" \")","v":0},{"$f":"IFERROR(GESTION!J34,\" \")","v":0},null,""]
[null,null,null,null,{"$f":"IFERROR(GESTION!H35,\" \")","v":0},{"$f":"IFERROR(GESTION!I35,\" \")","v":0},{"$f":"IFERROR(GESTION!J35,\" \")","v":0},null,""]
[null,null,"4. Avanzar en la disposición de una infraestructura óptima para el acceso a la justicia en la Rama Judicial de modo que se fortalezca la presencia territorial, teniendo en cuenta las posibilidades que ofrece la transformación digital y las necesidades que se derivan de ella, y considerando tanto las necesidades de los usuarios como las de los servidores judiciales.","4. Hacer un uso racional de los recursos naturales aplicando los principios y fases de la Economía Circular, para prevenir, mitigar y controlar los impactos ambientales",{"$f":"IFERROR(GESTION!H36,\" \")","v":0},{"$f":"IFERROR(GESTION!I36,\" \")","v":0},{"$f":"IFERROR(GESTION!J36,\" \")","v":0},null,""]
[null,null,null,null,{"$f":"IFERROR(GESTION!H37,\" \")","v":0},{"$f":"IFERROR(GESTION!I37,\" \")","v":0},{"$f":"IFERROR(GESTION!J37,\" \")","v":0},null,""]
[null,null,null,null,{"$f":"IFERROR(GESTION!H38,\" \")","v":0},{"$f":"IFERROR(GESTION!I38,\" \")","v":0},{"$f":"IFERROR(GESTION!J38,\" \")","v":0},null,{"$f":"IFERROR(H38/G38,\"\")","v":""}]
[null,null,null,null,{"$f":"IFERROR(GESTION!H39,\" \")","v":0},{"$f":"IFERROR(GESTION!I39,\" \")","v":0},{"$f":"IFERROR(GESTION!J39,\" \")","v":0},null,""]
[null,null,null,null,{"$f":"IFERROR(GESTION!H40,\" \")","v":0},{"$f":"IFERROR(GESTION!I40,\" \")","v":0},{"$f":"IFERROR(GESTION!J40,\" \")","v":0},null,""]
[null,null,null,null,{"$f":"IFERROR(GESTION!H41,\" \")","v":0},{"$f":"IFERROR(GESTION!I41,\" \")","v":0},{"$f":"IFERROR(GESTION!J41,\" \")","v":0},null,""]
[null,null,null,null,{"$f":"IFERROR(GESTION!H42,\" \")","v":0},{"$f":"IFERROR(GESTION!I42,\" \")","v":0},{"$f":"IFERROR(GESTION!J42,\" \")","v":0},null,""]
[null,null,null,null,{"$f":"IFERROR(GESTION!H43,\" \")","v":0},{"$f":"IFERROR(GESTION!I43,\" \")","v":0},{"$f":"IFERROR(GESTION!J43,\" \")","v":0},null,""]
[null,null,null,null,{"$f":"IFERROR(GESTION!H44,\" \")","v":0},{"$f":"IFERROR(GESTION!I44,\" \")","v":0},{"$f":"IFERROR(GESTION!J44,\" \")","v":0},null,""]
[null,null,null,null,{"$f":"IFERROR(GESTION!H45,\" \")","v":0},{"$f":"IFERROR(GESTION!I45,\" \")","v":0},{"$f":"IFERROR(GESTION!J45,\" \")","v":0},null,""]
[null,null,"5. Impulsar el uso de mecanismos alternativos para la solución de conflictos y la ampliación de la justicia restaurativa y terapéutica y el robustecimiento de las alternativas al encarcelamiento","2. Asegurar  el cumplimiento de los objetivos institucionales, la normatividad aplicable,  la mejora del SIGCMA y la satisfacción de los usuarios, revisando de  forma continua y sistemática la planificación de la gestión y fortaleciendo la administración de riesgos y sus controles",{"$f":"IFERROR(GESTION!H46,\" \")","v":0},{"$f":"IFERROR(GESTION!I46,\" \")","v":0},{"$f":"IFERROR(GESTION!J46,\" \")","v":0},null,""]
[null,null,null,null,{"$f":"IFERROR(GESTION!H47,\" \")","v":0},{"$f":"IFERROR(GESTION!I47,\" \")","v":0},{"$f":"IFERROR(GESTION!J47,\" \")","v":0},null,""]
[null,null,null,null,{"$f":"IFERROR(GESTION!H48,\" \")","v":0},{"$f":"IFERROR(GESTION!I48,\" \")","v":0},{"$f":"IFERROR(GESTION!J48,\" \")","v":0},null,""]
[null,null,null,null,{"$f":"IFERROR(GESTION!H49,\" \")","v":0},{"$f":"IFERROR(GESTION!I49,\" \")","v":0},{"$f":"IFERROR(GESTION!J49,\" \")","v":0},null,""]
[null,null,null,null,{"$f":"IFERROR(GESTION!H50,\" \")","v":0},{"$f":"IFERROR(GESTION!I50,\" \")","v":0},{"$f":"IFERROR(GESTION!J50,\" \")","v":0},null,""]
[null,null,null,null,{"$f":"IFERROR(GESTION!H51,\" \")","v":0},{"$f":"IFERROR(GESTION!I51,\" \")","v":0},{"$f":"IFERROR(GESTION!J51,\" \")","v":0},null,""]
[null,null,null,null,{"$f":"IFERROR(GESTION!H52,\" \")","v":0},{"$f":"IFERROR(GESTION!I52,\" \")","v":0},{"$f":"IFERROR(GESTION!J52,\" \")","v":0},null,""]
[null,null,null,null,{"$f":"IFERROR(GESTION!H53,\" \")","v":0},{"$f":"IFERROR(GESTION!I53,\" \")","v":0},{"$f":"IFERROR(GESTION!J53,\" \")","v":0},null,""]
[null,null,null,null,{"$f":"IFERROR(GESTION!H54,\" \")","v":0},{"$f":"IFERROR(GESTION!I54,\" \")","v":0},{"$f":"IFERROR(GESTION!J54,\" \")","v":0},null,""]
[null,null,null,null,{"$f":"IFERROR(GESTION!H55,\" \")","v":0},{"$f":"IFERROR(GESTION!I55,\" \")","v":0},{"$f":"IFERROR(GESTION!J55,\" \")","v":0},null,""]
["2. Servicios digitales y de tecnología, innovación y análisis de la información.","Servicios digitales y de tecnología, innovación y análisis de la información: Consolidar una justicia integrada y soportada en servicios digitales y de tecnología, innovación y análisis de la información, con una cultura digital apropiada, segura y sensible a las realidades del territorio nacional. ","1. Ampliar el acceso a la justicia a través de la consolidación del uso de los servicios digitales que conforman el sistema único integrado de gestión judicial en todos los despachos judiciales y dependencias de apoyo y, específicamente, incluyendo el despliegue e implementación del Expediente Judicial Electrónico en todas las jurisdicciones y especialidades.","6. Proteger, preservar y administrar los activos de información  implementando acciones  para gestionar de forma adecuada los incidentes, proteger los datos personales y adoptar mecanismos  de ciberseguridad y aseguramiento de la  continuidad del negocio.",{"$f":"IFERROR(GESTION!H56,\" \")","v":0},{"$f":"IFERROR(GESTION!I56,\" \")","v":0},{"$f":"IFERROR(GESTION!J56,\" \")","v":0},null,""]
[null,null,null,null,{"$f":"IFERROR(GESTION!H57,\" \")","v":0},{"$f":"IFERROR(GESTION!I57,\" \")","v":0},{"$f":"IFERROR(GESTION!J57,\" \")","v":0},null,""]
[null,null,null,null,{"$f":"IFERROR(GESTION!H58,\" \")","v":0},{"$f":"IFERROR(GESTION!I58,\" \")","v":0},{"$f":"IFERROR(GESTION!J58,\" \")","v":0},null,""]
[null,null,null,null,{"$f":"IFERROR(GESTION!H59,\" \")","v":0},{"$f":"IFERROR(GESTION!I59,\" \")","v":0},{"$f":"IFERROR(GESTION!J59,\" \")","v":0},null,""]
[null,null,null,null,{"$f":"IFERROR(GESTION!H60,\" \")","v":0},{"$f":"IFERROR(GESTION!I60,\" \")","v":0},{"$f":"IFERROR(GESTION!J60,\" \")","v":0},null,""]
[null,null,null,null,{"$f":"IFERROR(GESTION!H61,\" \")","v":0},{"$f":"IFERROR(GESTION!I61,\" \")","v":0},{"$f":"IFERROR(GESTION!J61,\" \")","v":0},null,""]
[null,null,null,null,{"$f":"IFERROR(GESTION!H62,\" \")","v":0},{"$f":"IFERROR(GESTION!I62,\" \")","v":0},{"$f":"IFERROR(GESTION!J62,\" \")","v":0},null,""]
[null,null,null,null,{"$f":"IFERROR(GESTION!H63,\" \")","v":0},{"$f":"IFERROR(GESTION!I63,\" \")","v":0},{"$f":"IFERROR(GESTION!J63,\" \")","v":0},null,""]
[null,null,null,null,{"$f":"IFERROR(GESTION!H64,\" \")","v":0},{"$f":"IFERROR(GESTION!I64,\" \")","v":0},{"$f":"IFERROR(GESTION!J64,\" \")","v":0},null,""]
[null,null,null,null,{"$f":"IFERROR(GESTION!H65,\" \")","v":0},{"$f":"IFERROR(GESTION!I65,\" \")","v":0},{"$f":"IFERROR(GESTION!J65,\" \")","v":0},null,""]
[null,null,"2. Integrar y hacer compatibles todos los aplicativos de transición con SIUGJ, para que la migración de los expedientes judiciales a dicha plataforma sea real y no suponga afectaciones en la prestación del servicio de justicia.",null,{"$f":"IFERROR(GESTION!H66,\" \")","v":0},{"$f":"IFERROR(GESTION!I66,\" \")","v":0},{"$f":"IFERROR(GESTION!J66,\" \")","v":0},null,""]
[null,null,null,null,{"$f":"IFERROR(GESTION!H67,\" \")","v":0},{"$f":"IFERROR(GESTION!I67,\" \")","v":0},{"$f":"IFERROR(GESTION!J67,\" \")","v":0},null,""]
[null,null,null,null,{"$f":"IFERROR(GESTION!H68,\" \")","v":0},{"$f":"IFERROR(GESTION!I68,\" \")","v":0},{"$f":"IFERROR(GESTION!J68,\" \")","v":0},null,""]
[null,null,null,null,{"$f":"IFERROR(GESTION!H69,\" \")","v":0},{"$f":"IFERROR(GESTION!I69,\" \")","v":0},{"$f":"IFERROR(GESTION!J69,\" \")","v":0},null,""]
[null,null,null,null,{"$f":"IFERROR(GESTION!H70,\" \")","v":0},{"$f":"IFERROR(GESTION!I70,\" \")","v":0},{"$f":"IFERROR(GESTION!J70,\" \")","v":0},null,{"$f":"IFERROR(H70/G70,\"\")","v":""}]
[null,null,null,null,{"$f":"IFERROR(GESTION!H71,\" \")","v":0},{"$f":"IFERROR(GESTION!I71,\" \")","v":0},{"$f":"IFERROR(GESTION!J71,\" \")","v":0},null,""]
[null,null,null,null,{"$f":"IFERROR(GESTION!H72,\" \")","v":0},{"$f":"IFERROR(GESTION!I72,\" \")","v":0},{"$f":"IFERROR(GESTION!J72,\" \")","v":0},null,""]
[null,null,null,null,{"$f":"IFERROR(GESTION!H73,\" \")","v":0},{"$f":"IFERROR(GESTION!I73,\" \")","v":0},{"$f":"IFERROR(GESTION!J73,\" \")","v":0},null,""]
[null,null,null,null,{"$f":"IFERROR(GESTION!H74,\" \")","v":0},{"$f":"IFERROR(GESTION!I74,\" \")","v":0},{"$f":"IFERROR(GESTION!J74,\" \")","v":0},null,""]
[null,null,null,null,{"$f":"IFERROR(GESTION!H75,\" \")","v":0},{"$f":"IFERROR(GESTION!I75,\" \")","v":0},{"$f":"IFERROR(GESTION!J75,\" \")","v":0},null,""]
[null,null,"3. Fortalecer las capacidades institucionales, adecuar el modelo operativo y de servicio, bajo un enfoque de Arquitectura Empresarial y de fortalecimiento del acceso a la justicia.",null,{"$f":"IFERROR(GESTION!H76,\" \")","v":0},{"$f":"IFERROR(GESTION!I76,\" \")","v":0},{"$f":"IFERROR(GESTION!J76,\" \")","v":0},null,""]
[null,null,null,null,{"$f":"IFERROR(GESTION!H77,\" \")","v":0},{"$f":"IFERROR(GESTION!I77,\" \")","v":0},{"$f":"IFERROR(GESTION!J77,\" \")","v":0},null,""]
[null,null,null,null,{"$f":"IFERROR(GESTION!H78,\" \")","v":0},{"$f":"IFERROR(GESTION!I78,\" \")","v":0},{"$f":"IFERROR(GESTION!J78,\" \")","v":0},null,""]
[null,null,null,null,{"$f":"IFERROR(GESTION!H79,\" \")","v":0},{"$f":"IFERROR(GESTION!I79,\" \")","v":0},{"$f":"IFERROR(GESTION!J79,\" \")","v":0},null,""]
[null,null,null,null,{"$f":"IFERROR(GESTION!H80,\" \")","v":0},{"$f":"IFERROR(GESTION!I80,\" \")","v":0},{"$f":"IFERROR(GESTION!J80,\" \")","v":0},null,""]
[null,null,null,null,{"$f":"IFERROR(GESTION!H81,\" \")","v":0},{"$f":"IFERROR(GESTION!I81,\" \")","v":0},{"$f":"IFERROR(GESTION!J81,\" \")","v":0},null,""]
[null,null,null,null,{"$f":"IFERROR(GESTION!H82,\" \")","v":0},{"$f":"IFERROR(GESTION!I82,\" \")","v":0},{"$f":"IFERROR(GESTION!J82,\" \")","v":0},null,""]
[null,null,null,null,{"$f":"IFERROR(GESTION!H83,\" \")","v":0},{"$f":"IFERROR(GESTION!I83,\" \")","v":0},{"$f":"IFERROR(GESTION!J83,\" \")","v":0},null,""]
[null,null,null,null,{"$f":"IFERROR(GESTION!H84,\" \")","v":0},{"$f":"IFERROR(GESTION!I84,\" \")","v":0},{"$f":"IFERROR(GESTION!J84,\" \")","v":0},null,""]
[null,null,null,null,{"$f":"IFERROR(GESTION!H85,\" \")","v":0},{"$f":"IFERROR(GESTION!I85,\" \")","v":0},{"$f":"IFERROR(GESTION!J85,\" \")","v":0},null,""]
[null,null,"4.Consolidar la cultura y apropiación de la transformación digital en los servidores y usuarios de los servicios de la Rama Judicial y reducir brechas de acceso y conocimiento, incluyendo la oferta efectiva de información sobre el uso de las nuevas herramientas virtuales implementadas en las diferentes jurisdicciones, con especial énfasis en las zonas del país donde es evidente la brecha digital.",null,{"$f":"IFERROR(GESTION!H86,\" \")","v":0},{"$f":"IFERROR(GESTION!I86,\" \")","v":0},{"$f":"IFERROR(GESTION!J86,\" \")","v":0},null,""]
[null,null,null,null,{"$f":"IFERROR(GESTION!H87,\" \")","v":0},{"$f":"IFERROR(GESTION!I87,\" \")","v":0},{"$f":"IFERROR(GESTION!J87,\" \")","v":0},null,""]
[null,null,null,null,{"$f":"IFERROR(GESTION!H88,\" \")","v":0},{"$f":"IFERROR(GESTION!I88,\" \")","v":0},{"$f":"IFERROR(GESTION!J88,\" \")","v":0},null,""]
[null,null,null,null,{"$f":"IFERROR(GESTION!H89,\" \")","v":0},{"$f":"IFERROR(GESTION!I89,\" \")","v":0},{"$f":"IFERROR(GESTION!J89,\" \")","v":0},null,""]
[null,null,null,null,{"$f":"IFERROR(GESTION!H90,\" \")","v":0},{"$f":"IFERROR(GESTION!I90,\" \")","v":0},{"$f":"IFERROR(GESTION!J90,\" \")","v":0},null,""]
[null,null,null,null,{"$f":"IFERROR(GESTION!H91,\" \")","v":0},{"$f":"IFERROR(GESTION!I91,\" \")","v":0},{"$f":"IFERROR(GESTION!J91,\" \")","v":0},null,""]
[null,null,null,null,{"$f":"IFERROR(GESTION!H92,\" \")","v":0},{"$f":"IFERROR(GESTION!I92,\" \")","v":0},{"$f":"IFERROR(GESTION!J92,\" \")","v":0},null,""]
[null,null,null,null,{"$f":"IFERROR(GESTION!H93,\" \")","v":0},{"$f":"IFERROR(GESTION!I93,\" \")","v":0},{"$f":"IFERROR(GESTION!J93,\" \")","v":0},null,""]
[null,null,null,null,{"$f":"IFERROR(GESTION!H94,\" \")","v":0},{"$f":"IFERROR(GESTION!I94,\" \")","v":0},{"$f":"IFERROR(GESTION!J94,\" \")","v":0},null,""]
[null,null,null,null,{"$f":"IFERROR(GESTION!H95,\" \")","v":0},{"$f":"IFERROR(GESTION!I95,\" \")","v":0},{"$f":"IFERROR(GESTION!J95,\" \")","v":0},null,""]
[null,null,"5.Consolidar la infraestructura y los recursos necesarios para la implementación exitosa de la transformación digital, incluyendo la disposición de internet de calidad en el 100% de las sedes en la Rama Judicial y modernizar los servicios tecnológicos de soporte. ",null,{"$f":"IFERROR(GESTION!H96,\" \")","v":0},{"$f":"IFERROR(GESTION!I96,\" \")","v":0},{"$f":"IFERROR(GESTION!J96,\" \")","v":0},null,""]
[null,null,null,null,{"$f":"IFERROR(GESTION!H97,\" \")","v":0},{"$f":"IFERROR(GESTION!I97,\" \")","v":0},{"$f":"IFERROR(GESTION!J97,\" \")","v":0},null,""]
[null,null,null,null,{"$f":"IFERROR(GESTION!H98,\" \")","v":0},{"$f":"IFERROR(GESTION!I98,\" \")","v":0},{"$f":"IFERROR(GESTION!J98,\" \")","v":0},null,""]
[null,null,null,null,{"$f":"IFERROR(GESTION!H99,\" \")","v":0},{"$f":"IFERROR(GESTION!I99,\" \")","v":0},{"$f":"IFERROR(GESTION!J99,\" \")","v":0},null,""]
[null,null,null,null,{"$f":"IFERROR(GESTION!H100,\" \")","v":0},{"$f":"IFERROR(GESTION!I100,\" \")","v":0},{"$f":"IFERROR(GESTION!J100,\" \")","v":0},null,""]
[null,null,null,null,{"$f":"IFERROR(GESTION!H101,\" \")","v":0},{"$f":"IFERROR(GESTION!I101,\" \")","v":0},{"$f":"IFERROR(GESTION!J101,\" \")","v":0},null,""]
[null,null,null,null,{"$f":"IFERROR(GESTION!H102,\" \")","v":0},{"$f":"IFERROR(GESTION!I102,\" \")","v":0},{"$f":"IFERROR(GESTION!J102,\" \")","v":0},null,{"$f":"IFERROR(H102/G102,\"\")","v":""}]
[null,null,null,null,{"$f":"IFERROR(GESTION!H103,\" \")","v":0},{"$f":"IFERROR(GESTION!I103,\" \")","v":0},{"$f":"IFERROR(GESTION!J103,\" \")","v":0},null,""]
[null,null,null,null,{"$f":"IFERROR(GESTION!H104,\" \")","v":0},{"$f":"IFERROR(GESTION!I104,\" \")","v":0},{"$f":"IFERROR(GESTION!J104,\" \")","v":0},null,""]
[null,null,null,null,{"$f":"IFERROR(GESTION!H105,\" \")","v":0},{"$f":"IFERROR(GESTION!I105,\" \")","v":0},{"$f":"IFERROR(GESTION!J105,\" \")","v":0},null,""]
[null,null,"6.Integrar y optimizar los servicios administrativos de la Rama Judicial bajo un enfoque de transformación digital e innovación incluyendo los componentes financiero, administrativo, talento humano, entre otros",null,{"$f":"IFERROR(GESTION!H106,\" \")","v":0},{"$f":"IFERROR(GESTION!I106,\" \")","v":0},{"$f":"IFERROR(GESTION!J106,\" \")","v":0},null,""]
[null,null,null,null,{"$f":"IFERROR(GESTION!H107,\" \")","v":0},{"$f":"IFERROR(GESTION!I107,\" \")","v":0},{"$f":"IFERROR(GESTION!J107,\" \")","v":0},null,""]
[null,null,null,null,{"$f":"IFERROR(GESTION!H108,\" \")","v":0},{"$f":"IFERROR(GESTION!I108,\" \")","v":0},{"$f":"IFERROR(GESTION!J108,\" \")","v":0},null,""]
[null,null,null,null,{"$f":"IFERROR(GESTION!H109,\" \")","v":0},{"$f":"IFERROR(GESTION!I109,\" \")","v":0},{"$f":"IFERROR(GESTION!J109,\" \")","v":0},null,""]
[null,null,null,null,{"$f":"IFERROR(GESTION!H110,\" \")","v":0},{"$f":"IFERROR(GESTION!I110,\" \")","v":0},{"$f":"IFERROR(GESTION!J110,\" \")","v":0},null,""]
[null,null,null,null,{"$f":"IFERROR(GESTION!H111,\" \")","v":0},{"$f":"IFERROR(GESTION!I111,\" \")","v":0},{"$f":"IFERROR(GESTION!J111,\" \")","v":0},null,""]
[null,null,null,null,{"$f":"IFERROR(GESTION!H112,\" \")","v":0},{"$f":"IFERROR(GESTION!I112,\" \")","v":0},{"$f":"IFERROR(GESTION!J112,\" \")","v":0},null,""]
[null,null,null,null,{"$f":"IFERROR(GESTION!H113,\" \")","v":0},{"$f":"IFERROR(GESTION!I113,\" \")","v":0},{"$f":"IFERROR(GESTION!J113,\" \")","v":0},null,""]
[null,null,null,null,{"$f":"IFERROR(GESTION!H114,\" \")","v":0},{"$f":"IFERROR(GESTION!I114,\" \")","v":0},{"$f":"IFERROR(GESTION!J114,\" \")","v":0},null,""]
[null,null,null,null,{"$f":"IFERROR(GESTION!H115,\" \")","v":0},{"$f":"IFERROR(GESTION!I115,\" \")","v":0},{"$f":"IFERROR(GESTION!J115,\" \")","v":0},null,""]
["3. Confianza pública, transparencia y rendición de cuentas","Confianza pública, transparencia y rendición de cuentas: Aumentar la confianza pública en la justicia a través de la transparencia, la rendición de cuentas y la participación, incluyendo la información de justicia y la producción, gestión y acceso a las fuentes de derecho, el fortalecimiento del sistema de gestión de calidad y medio ambiente (SIGCMA) y el mejoramiento de la calidad y publicidad de la información. ","1. Incrementar la cantidad, la calidad y pertinencia de los datos sobre el funcionamiento del servicio de justicia bajo un modelo de gobierno de datos y un liderazgo unificado. ","4. Hacer un uso racional de los recursos naturales aplicando los principios y fases de la Economía Circular, para prevenir, mitigar y controlar los impactos ambientales.",{"$f":"IFERROR(GESTION!H116,\" \")","v":0},{"$f":"IFERROR(GESTION!I116,\" \")","v":0},{"$f":"IFERROR(GESTION!J116,\" \")","v":0},null,""]
[null,null,null,null,{"$f":"IFERROR(GESTION!H117,\" \")","v":0},{"$f":"IFERROR(GESTION!I117,\" \")","v":0},{"$f":"IFERROR(GESTION!J117,\" \")","v":0},null,""]
[null,null,null,null,{"$f":"IFERROR(GESTION!H118,\" \")","v":0},{"$f":"IFERROR(GESTION!I118,\" \")","v":0},{"$f":"IFERROR(GESTION!J118,\" \")","v":0},null,""]
[null,null,null,null,{"$f":"IFERROR(GESTION!H119,\" \")","v":0},{"$f":"IFERROR(GESTION!I119,\" \")","v":0},{"$f":"IFERROR(GESTION!J119,\" \")","v":0},null,""]
[null,null,null,null,{"$f":"IFERROR(GESTION!H120,\" \")","v":0},{"$f":"IFERROR(GESTION!I120,\" \")","v":0},{"$f":"IFERROR(GESTION!J120,\" \")","v":0},null,""]
[null,null,null,null,{"$f":"IFERROR(GESTION!H121,\" \")","v":0},{"$f":"IFERROR(GESTION!I121,\" \")","v":0},{"$f":"IFERROR(GESTION!J121,\" \")","v":0},null,""]
[null,null,null,null,{"$f":"IFERROR(GESTION!H122,\" \")","v":0},{"$f":"IFERROR(GESTION!I122,\" \")","v":0},{"$f":"IFERROR(GESTION!J122,\" \")","v":0},null,""]
[null,null,null,null,{"$f":"IFERROR(GESTION!H123,\" \")","v":0},{"$f":"IFERROR(GESTION!I123,\" \")","v":0},{"$f":"IFERROR(GESTION!J123,\" \")","v":0},null,""]
[null,null,null,null,{"$f":"IFERROR(GESTION!H124,\" \")","v":0},{"$f":"IFERROR(GESTION!I124,\" \")","v":0},{"$f":"IFERROR(GESTION!J124,\" \")","v":0},null,""]
[null,null,null,null,{"$f":"IFERROR(GESTION!H125,\" \")","v":0},{"$f":"IFERROR(GESTION!I125,\" \")","v":0},{"$f":"IFERROR(GESTION!J125,\" \")","v":0},null,""]
[null,null,"2. Consolidar la administración de la información entendida como todas las acciones rientadas a garantizar el acceso, consulta, uso y conservación de la información de justicia de manera ágil, flexible e inteligente, bajo un enfoque de innovación.",null,{"$f":"IFERROR(GESTION!H126,\" \")","v":0},{"$f":"IFERROR(GESTION!I126,\" \")","v":0},{"$f":"IFERROR(GESTION!J126,\" \")","v":0},null,""]
[null,null,null,null,{"$f":"IFERROR(GESTION!H127,\" \")","v":0},{"$f":"IFERROR(GESTION!I127,\" \")","v":0},{"$f":"IFERROR(GESTION!J127,\" \")","v":0},null,""]
[null,null,null,null,{"$f":"IFERROR(GESTION!H128,\" \")","v":0},{"$f":"IFERROR(GESTION!I128,\" \")","v":0},{"$f":"IFERROR(GESTION!J128,\" \")","v":0},null,""]
[null,null,null,null,{"$f":"IFERROR(GESTION!H129,\" \")","v":0},{"$f":"IFERROR(GESTION!I129,\" \")","v":0},{"$f":"IFERROR(GESTION!J129,\" \")","v":0},null,""]
[null,null,null,null,{"$f":"IFERROR(GESTION!H130,\" \")","v":0},{"$f":"IFERROR(GESTION!I130,\" \")","v":0},{"$f":"IFERROR(GESTION!J130,\" \")","v":0},null,""]
[null,null,null,null,{"$f":"IFERROR(GESTION!H131,\" \")","v":0},{"$f":"IFERROR(GESTION!I131,\" \")","v":0},{"$f":"IFERROR(GESTION!J131,\" \")","v":0},null,""]
[null,null,null,null,{"$f":"IFERROR(GESTION!H132,\" \")","v":0},{"$f":"IFERROR(GESTION!I132,\" \")","v":0},{"$f":"IFERROR(GESTION!J132,\" \")","v":0},null,""]
[null,null,null,null,{"$f":"IFERROR(GESTION!H133,\" \")","v":0},{"$f":"IFERROR(GESTION!I133,\" \")","v":0},{"$f":"IFERROR(GESTION!J133,\" \")","v":0},null,""]
[null,null,null,null,{"$f":"IFERROR(GESTION!H134,\" \")","v":0},{"$f":"IFERROR(GESTION!I134,\" \")","v":0},{"$f":"IFERROR(GESTION!J134,\" \")","v":0},null,{"$f":"IFERROR(H134/G134,\"\")","v":""}]
[null,null,null,null,{"$f":"IFERROR(GESTION!H135,\" \")","v":0},{"$f":"IFERROR(GESTION!I135,\" \")","v":0},{"$f":"IFERROR(GESTION!J135,\" \")","v":0},null,""]
[null,null,"3. Fortalecer el Sistema integrado de Gestión de la Rama, orientado a la implementación y certificación de las normas antisoborno.","1. Gestionar el desarrollo de las competencias, la toma de conciencia , la cultura  organizacional  y el compromiso de los  servidores judiciales, contratistas, practicantes y  judicantes de contribuir a generar valor público en la administración de justicia, en el marco de  cumplimiento de los requisitos  aplicables y el comportamiento ético.\n3. Fomentar la transparencia y la participación generando lineamientos y promoviendo la rendición de cuentas ,la consulta, reporte y planteamiento de inquietudes en relación con las decisiones y aspectos del SIGCMA.",{"$f":"IFERROR(GESTION!H136,\" \")","v":0},{"$f":"IFERROR(GESTION!I136,\" \")","v":0},{"$f":"IFERROR(GESTION!J136,\" \")","v":0},null,""]
[null,null,null,null,{"$f":"IFERROR(GESTION!H137,\" \")","v":0},{"$f":"IFERROR(GESTION!I137,\" \")","v":0},{"$f":"IFERROR(GESTION!J137,\" \")","v":0},null,""]
[null,null,null,null,{"$f":"IFERROR(GESTION!H138,\" \")","v":0},{"$f":"IFERROR(GESTION!I138,\" \")","v":0},{"$f":"IFERROR(GESTION!J138,\" \")","v":0},null,""]
[null,null,null,null,{"$f":"IFERROR(GESTION!H139,\" \")","v":0},{"$f":"IFERROR(GESTION!I139,\" \")","v":0},{"$f":"IFERROR(GESTION!J139,\" \")","v":0},null,""]
[null,null,null,null,{"$f":"IFERROR(GESTION!H140,\" \")","v":0},{"$f":"IFERROR(GESTION!I140,\" \")","v":0},{"$f":"IFERROR(GESTION!J140,\" \")","v":0},null,""]
[null,null,null,null,{"$f":"IFERROR(GESTION!H141,\" \")","v":0},{"$f":"IFERROR(GESTION!I141,\" \")","v":0},{"$f":"IFERROR(GESTION!J141,\" \")","v":0},null,""]
[null,null,null,null,{"$f":"IFERROR(GESTION!H142,\" \")","v":0},{"$f":"IFERROR(GESTION!I142,\" \")","v":0},{"$f":"IFERROR(GESTION!J142,\" \")","v":0},null,""]
[null,null,null,null,{"$f":"IFERROR(GESTION!H143,\" \")","v":0},{"$f":"IFERROR(GESTION!I143,\" \")","v":0},{"$f":"IFERROR(GESTION!J143,\" \")","v":0},null,""]
[null,null,null,null,{"$f":"IFERROR(GESTION!H144,\" \")","v":0},{"$f":"IFERROR(GESTION!I144,\" \")","v":0},{"$f":"IFERROR(GESTION!J144,\" \")","v":0},null,""]
[null,null,null,null,{"$f":"IFERROR(GESTION!H145,\" \")","v":0},{"$f":"IFERROR(GESTION!I145,\" \")","v":0},{"$f":"IFERROR(GESTION!J145,\" \")","v":0},null,""]
[null,null,"4. Aumentar la confianza, la cercanía y acceso a los servicios de la Rama Judicial a través, entre otros, de una comunicación clara y asertiva con la ciudadanía.","3. Fomentar la transparencia y la participación generando lineamientos y promoviendo la rendición de cuentas ,la consulta, reporte y planteamiento de inquietudes en relación con las decisiones y aspectos del SIGCMA.",{"$f":"IFERROR(GESTION!H146,\" \")","v":"Automatizar trámites y procedimientos a cargo de la Unidad de Asistencia Legal."},{"$f":"IFERROR(GESTION!I146,\" \")","v":"Entregable"},100,75,0.75,"En el presente trimeste no se materializó una dificiltad, pero sí es de anotar que, la matriz de procesos disciplinarios se alimenta y se usa según los proces que tengamos asignados para etapa de juzgamiento remitidos por la Unidad de Control Interno Disciplinario.","Durante el terce trimestre del 2024, Enel cuadro de control de los procesos disiciplinarios, conceptos jurídicos y derechos de petición que estan a cargo del director de la Unidad de Asistencia Legal, se continuó registrando y diligenciando de acuerdo a las solicitudes requeridas de la Unidad en el trismestre."]
[null,null,null,null,{"$f":"IFERROR(GESTION!H147,\" \")","v":"Automatizar trámites y procedimientos a cargo del Grupo de Sentencias."},{"$f":"IFERROR(GESTION!I147,\" \")","v":"Entregable"},100,40,0.4,"En el tercer trimestre, se han presentado las siguientes dificultades para el desarrollo del proyecto:\n\nLos documentos aportados para la fase de entrenamiento no se encuentran en formato OCR lo que dificultad en gran medida el entrenamiento de la herramienta del análisis de sentencias.\n\nDado el gran volumen de documentos con los que cuenta un expediente se hace dificil para la herramienta de inteligencia artificial distinguir en la étapa de entrenamiento las instancias de una sentencia, identificar que es un auto o una conciliación","En el tercer trimestre de 2024, se dió inicio a la fase 1 que corresponde a la fragmentación de los documentos de cuentas de cobro y extracción de las entidades para la elaboración del formato de acto administrativo de reconocimiento de pago de sentencias y conciliaciones. \nEn el mismo sentido se realizó el cargue en el bucket de AWS de los documentos de cuentas de cobro escaneados y pagados como insumo para el correspondiente entrenamiento del análisis de sentencias para la generación del acto administrativo correspondiente al reconocimiento de pago de la sentencia.\nAsí mismo a la fecha por parte del contratista NUVU se ha recibido a la fecha el diagrama de la arquitectura que tienen las fases 1 y 2, los documentos de historias de usuario los cuales se encuentran en revisión y ajustes y se han realizado en lo corrido del trimestre 15 sesiones, en las que se ha revisado el diseño UX de la herramienta, se han revisado los documentos de arquitectura de las fases I y II, se ha realizado la validación del plan de trabajo propuesto por NUVU, se han realizado validaciones y alternativas para el enrolamiento de usuarios externos al análisis de sentencias, se llevaron a cabo dos sesiones de levantamiento de información y aclaración de dudas y se han realizado reuniones de revisión y avance del proyecto."]
[null,null,null,null,{"$f":"IFERROR(GESTION!H148,\" \")","v":"Fortalecimiento de la gestión del Cobro Coactivo."},{"$f":"IFERROR(GESTION!I148,\" \")","v":"Meta cuantificable"},{"$f":"IFERROR(GESTION!J148,\" \")","v":36114},null,0]
[null,null,null,null,{"$f":"IFERROR(GESTION!H149,\" \")","v":"Realizar capacitaciones sobre la política de daño antijurídico (PDA) al plan de acción de la DEAJ, en cumplimiento de los lineamientos establecidos por la Agencia Nacional de Defensa Jurídica del Estado- ANDJE."},{"$f":"IFERROR(GESTION!I149,\" \")","v":"Entregable"},2,0.8,0.8,"Ninguna","El pasado 29 de agosto en la sede del Hotel DoubleTree by Hilton Avenida Carrera 60 No. 22-99, en el horario de 8:00 a.m. a 2:00 p.m tuvo lugar el Conversatorio para Jueces Administrativos y Penales: “La prevención del daño antijurídico como principio de la labor judicial”, actividad que tuvo dos modalidades de participación: presencial y virtual. Contó con la participación de 215 discentes de los cuales 155 fueron remotos y 60 fueron presenciales. Actualmente se está preparando la actividad academica que ya cuenta con la reserva del espacio físico en Bogotá Hotel Tequendama, con un presupuesto asignado de $150 millones y una población de hasta 70 discentes. La Actividad se desarrollará los días 31 de octubre y 1 de noviembre de 2024."]
[null,null,null,null,{"$f":"IFERROR(GESTION!H150,\" \")","v":"Ejecutar el presupuesto asignado a la vigencia para el pago de sentencias y conciliaciones"},{"$f":"IFERROR(GESTION!I150,\" \")","v":"Meta cuantificable"},{"$f":"IFERROR(GESTION!J150,\" \")","v":219585},157607,{"$f":"IFERROR(H150/G150,\"\")","v":0.71774939089646383},"Para el mes de septiembre de 2024, no fue asignado PAC para los rubros de Transferencias Corrientes CSF, con los cuales se atienden las obligaciones y el pago de las mismas, situación que frenó el avance en la ejecución del presupuesto de 2024.","Para el tercer trimestre de 2024, se comprometieron recursos por valor de $171.796.999.488,97, de los cuáles fueron obligados $162.425.246.273 y pagados $157.607.079.906, lo que se resume en una ejecución de los recursos del 79%. "]
[null,null,null,null,{"$f":"IFERROR(GESTION!H151,\" \")","v":"Cumplir con la meta de recaudo en valor fijada por la Dirección Ejecutiva de Administración Judicial."},{"$f":"IFERROR(GESTION!I151,\" \")","v":"Entregable"},{"$f":"IFERROR(GESTION!J151,\" \")","v":15312},13307,0.86905694879832807,null,"La meta de recaudo nacional para el 2024, es de $15.312.921.460. Con corte al 3er. trimestre, el recaudo acumulado es de $13.307.382.684, lo que se traduce en un cumplimiento en la meta de recaudo del 86,90%. El grado de avance a nivel nacional es óptimo, para este período del año. NOTA: Los valores de las columnas G y H de la fila 151, están expresados en miles de millones, dada la parametrización de las celdas de la matriz por parte del SIGCMA."]
[null,null,null,null,{"$f":"IFERROR(GESTION!H152,\" \")","v":"Cumplir con la meta mínima de procesos con recaudo fijada por la Dirección Ejecutiva de Administración Judicial."},{"$f":"IFERROR(GESTION!I152,\" \")","v":"Meta cuantificable"},{"$f":"IFERROR(GESTION!J152,\" \")","v":4470},3523,0.78814317673378076,null,"Para el 3er. trimestre de 2024, el grado de avance en la cantidad de procesos que registran recaudo, corresponde al 78,81%. Resultado satisfactorio."]
[null,null,null,null,{"$f":"IFERROR(GESTION!H153,\" \")","v":"Realizar búsquedas de datos y de bienes de los deudores en sistemas de información oficiales, con el propósito de persuadirlos para que paguen o celebren acuerdos de pago y determinar si hay lugar al decreto y práctica de medidas cautelares."},{"$f":"IFERROR(GESTION!I153,\" \")","v":"Entregable"},82937,80646,0.97237662322003449,null,"Al corte del tercer trimestre de 2024, se registran 82.937 procesos en estado activo, de los cuales, quedaron pendientes por realizarles búsqueda de bienes y de datos, a 2.291 procesos, correspondientes al 3% de la cartera total activa, resultado que es justificable, respecto de los procesos recién aperturados."]
[null,null,null,null,{"$f":"IFERROR(GESTION!H154,\" \")","v":"Hacer seguimiento a la gestión jurídica de los abogados ejecutores, con el fin de identificar que se encuentren en la etapa procesal que les corresponde, y aquellos que no, se les solicita impulsarlos en lo que corresponda."},{"$f":"IFERROR(GESTION!I154,\" \")","v":"Entregable"},82937,82894,0.99948153417654362,null,"Al corte del tercer trimestre de 2024, se registran 82.937 procesos activos, de los cuales, 43 quedaron pendientes de gestión, resultado que es justificable, respecto de los procesos recién aperturados"]
[null,null,null,null,{"$f":"IFERROR(GESTION!H155,\" \")","v":"Medir el nivel de satisfacción de la asesoría jurídica brindada por Asistencia Legal"},{"$f":"IFERROR(GESTION!I155,\" \")","v":"Meta cuantificable"},{"$f":"IFERROR(GESTION!J155,\" \")","v":3},null,0]
[null,null,"5. Prevenir fenómenos asociados con actos de corrupción en la Rama Judicial y reducir las experiencias de corrupción de usuarios y servidores judiciales.",null,{"$f":"IFERROR(GESTION!H156,\" \")","v":"Emitir conceptos jurídicos sobre temas de importancia jurídica para la Rama Judicial, en la oportunidad requerida"},{"$f":"IFERROR(GESTION!I156,\" \")","v":"Entregable"},{"$f":"IFERROR(GESTION!J156,\" \")","v":0},null,""]
[null,null,null,null,{"$f":"IFERROR(GESTION!H157,\" \")","v":"Atender de forma oportuna los procesos judiciales en contra de la Entidad"},{"$f":"IFERROR(GESTION!I157,\" \")","v":"Entregable"},100,99.9,{"$f":"IFERROR(H157/G157,\"\")","v":0.99900000000000011},"Ninguna","Durante el 3er trimestre de 2024 se han gestionado 828 contestaciones en término (99,9%), solo una contestada fuera de término (0,1%)"]
[null,null,null,null,{"$f":"IFERROR(GESTION!H158,\" \")","v":"Atender de forma oportuna los procesos judiciales de alto impacto en contra de la Entidad"},{"$f":"IFERROR(GESTION!I158,\" \")","v":"Entregable"},100,100,{"$f":"IFERROR(H158/G158,\"\")","v":1},"Ninguna","Procesos judiciales: atención oportuna en las contestaciones de demandas notificadas en contra de la entidad, según control que se realiza de manera permanente a este tema."]
[null,null,null,null,{"$f":"IFERROR(GESTION!H159,\" \")","v":"Plan de mejoramiento Sistema Único del Gestión e Información Litigiosa del Estado eKOGUI - ANDJE y Pasivo Contingente Litigioso"},{"$f":"IFERROR(GESTION!I159,\" \")","v":"Meta cuantificable"},{"$f":"IFERROR(GESTION!J159,\" \")","v":4},3,0.75,"Ninguna","No se han configurado hallazgos en relación con la implementación del aplicativo eKOGUI o con el pasivo contingente de los procesos judiciales a cargo de la División de Procesos de la Unidad de Asistencia Legal, razón por la cual no se han elaborado Planes de Mejoramiento ni se encuentran acciones de mejora abiertas, derivadas de auditorías internas o externas. Lo anterior de acuerdo al informe definitivo de auditoría del 1er semestre de 2024, radicado UA24-IL023"]
[null,null,null,null,{"$f":"IFERROR(GESTION!H160,\" \")","v":0},{"$f":"IFERROR(GESTION!I160,\" \")","v":0},{"$f":"IFERROR(GESTION!J160,\" \")","v":0},null,{"$f":"IFERROR(H160/G160,\"\")","v":""}]
[null,null,null,null,{"$f":"IFERROR(GESTION!H161,\" \")","v":0},{"$f":"IFERROR(GESTION!I161,\" \")","v":0},{"$f":"IFERROR(GESTION!J161,\" \")","v":0},null,""]
[null,null,null,null,{"$f":"IFERROR(GESTION!H162,\" \")","v":0},{"$f":"IFERROR(GESTION!I162,\" \")","v":0},{"$f":"IFERROR(GESTION!J162,\" \")","v":0},null,""]
[null,null,null,null,{"$f":"IFERROR(GESTION!H163,\" \")","v":0},{"$f":"IFERROR(GESTION!I163,\" \")","v":0},{"$f":"IFERROR(GESTION!J163,\" \")","v":0},null,""]
[null,null,null,null,{"$f":"IFERROR(GESTION!H164,\" \")","v":0},{"$f":"IFERROR(GESTION!I164,\" \")","v":0},{"$f":"IFERROR(GESTION!J164,\" \")","v":0},null,""]
[null,null,null,null,{"$f":"IFERROR(GESTION!H165,\" \")","v":0},{"$f":"IFERROR(GESTION!I165,\" \")","v":0},{"$f":"IFERROR(GESTION!J165,\" \")","v":0},null,""]
[null,null,"6. Promover la rendición de cuentas y la colaboración real con la ciudadanía como fundamento para diseñar acciones de mejoramiento del acceso a la justicia.",null,{"$f":"IFERROR(GESTION!H166,\" \")","v":0},{"$f":"IFERROR(GESTION!I166,\" \")","v":0},{"$f":"IFERROR(GESTION!J166,\" \")","v":0},null,""]
[null,null,null,null,{"$f":"IFERROR(GESTION!H167,\" \")","v":0},{"$f":"IFERROR(GESTION!I167,\" \")","v":0},{"$f":"IFERROR(GESTION!J167,\" \")","v":0},null,""]
[null,null,null,null,{"$f":"IFERROR(GESTION!H168,\" \")","v":0},{"$f":"IFERROR(GESTION!I168,\" \")","v":0},{"$f":"IFERROR(GESTION!J168,\" \")","v":0},null,""]
[null,null,null,null,{"$f":"IFERROR(GESTION!H169,\" \")","v":0},{"$f":"IFERROR(GESTION!I169,\" \")","v":0},{"$f":"IFERROR(GESTION!J169,\" \")","v":0},null,""]
[null,null,null,null,{"$f":"IFERROR(GESTION!H170,\" \")","v":0},{"$f":"IFERROR(GESTION!I170,\" \")","v":0},{"$f":"IFERROR(GESTION!J170,\" \")","v":0},null,""]
[null,null,null,null,{"$f":"IFERROR(GESTION!H171,\" \")","v":0},{"$f":"IFERROR(GESTION!I171,\" \")","v":0},{"$f":"IFERROR(GESTION!J171,\" \")","v":0},null,""]
[null,null,null,null,{"$f":"IFERROR(GESTION!H172,\" \")","v":0},{"$f":"IFERROR(GESTION!I172,\" \")","v":0},{"$f":"IFERROR(GESTION!J172,\" \")","v":0},null,""]
[null,null,null,null,{"$f":"IFERROR(GESTION!H173,\" \")","v":0},{"$f":"IFERROR(GESTION!I173,\" \")","v":0},{"$f":"IFERROR(GESTION!J173,\" \")","v":0},null,""]
[null,null,null,null,{"$f":"IFERROR(GESTION!H174,\" \")","v":0},{"$f":"IFERROR(GESTION!I174,\" \")","v":0},{"$f":"IFERROR(GESTION!J174,\" \")","v":0},null,""]
[null,null,null,null,{"$f":"IFERROR(GESTION!H175,\" \")","v":0},{"$f":"IFERROR(GESTION!I175,\" \")","v":0},{"$f":"IFERROR(GESTION!J175,\" \")","v":0},null,""]
[null,null,"7. Continuar la consolidación del SIGCMA, a través de los procesos de formación en modelos de gestión, logrando la implementación y ampliación de este en los esquemas certificados de manera gradual, teniendo en cuenta las capacidades de los diferentes despachos judiciales y dependencias de la Rama Judicial y articulando el enfoque de Arquitectura Empresarial para el desarrollo del PETD a través de la gestión del conocimiento para la gestión del cambio propendiendo por una cultura de la calidad, la transparencia, la rendición de cuentas, la anticorrupción y el antisoborno","1. Gestionar el desarrollo de las competencias, la toma de conciencia , la cultura  organizacional  y el compromiso de los  servidores judiciales, contratistas, practicantes y  judicantes de contribuir a generar valor público en la administración de justicia, en el marco de  cumplimiento de los requisitos  aplicables y el comportamiento ético.\n4. Hacer un uso racional de los recursos naturales aplicando los principios y fases de la Economía Circular, para prevenir, mitigar y controlar los impactos ambientales.",{"$f":"IFERROR(GESTION!H176,\" \")","v":0},{"$f":"IFERROR(GESTION!I176,\" \")","v":0},{"$f":"IFERROR(GESTION!J176,\" \")","v":0},null,""]
[null,null,null,null,{"$f":"IFERROR(GESTION!H177,\" \")","v":0},{"$f":"IFERROR(GESTION!I177,\" \")","v":0},{"$f":"IFERROR(GESTION!J177,\" \")","v":0},null,""]
[null,null,null,null,{"$f":"IFERROR(GESTION!H178,\" \")","v":0},{"$f":"IFERROR(GESTION!I178,\" \")","v":0},{"$f":"IFERROR(GESTION!J178,\" \")","v":0},null,""]
[null,null,null,null,{"$f":"IFERROR(GESTION!H179,\" \")","v":0},{"$f":"IFERROR(GESTION!I179,\" \")","v":0},{"$f":"IFERROR(GESTION!J179,\" \")","v":0},null,""]
[null,null,null,null,{"$f":"IFERROR(GESTION!H180,\" \")","v":0},{"$f":"IFERROR(GESTION!I180,\" \")","v":0},{"$f":"IFERROR(GESTION!J180,\" \")","v":0},null,""]
[null,null,null,null,{"$f":"IFERROR(GESTION!H181,\" \")","v":0},{"$f":"IFERROR(GESTION!I181,\" \")","v":0},{"$f":"IFERROR(GESTION!J181,\" \")","v":0},null,""]
[null,null,null,null,{"$f":"IFERROR(GESTION!H182,\" \")","v":0},{"$f":"IFERROR(GESTION!I182,\" \")","v":0},{"$f":"IFERROR(GESTION!J182,\" \")","v":0},null,""]
[null,null,null,null,{"$f":"IFERROR(GESTION!H183,\" \")","v":0},{"$f":"IFERROR(GESTION!I183,\" \")","v":0},{"$f":"IFERROR(GESTION!J183,\" \")","v":0},null,""]
[null,null,null,null,{"$f":"IFERROR(GESTION!H184,\" \")","v":0},{"$f":"IFERROR(GESTION!I184,\" \")","v":0},{"$f":"IFERROR(GESTION!J184,\" \")","v":0},null,""]
[null,null,null,null,{"$f":"IFERROR(GESTION!H185,\" \")","v":0},{"$f":"IFERROR(GESTION!I185,\" \")","v":0},{"$f":"IFERROR(GESTION!J185,\" \")","v":0},null,""]
["4. Talento Humano","Talento Humano: Fortalecer el talento humano en la Rama Judicial para que sea eficiente, capacitado y realice su labor en ambientes saludables y seguros. Ampliar la cobertura de la carrera judicial y mejorar la oferta de formación, que esté disponible para todos los servidores judiciales e impacte positivamente el servicio de justicia y responda a las necesidades reales del ejercicio de la función judicial.","1. Ampliar la cobertura de la carrera judicial optimizando los procesos de los concursos de méritos y propender por mitigar su litigiosidad.","1. Gestionar el desarrollo de las competencias, la toma de conciencia , la cultura  organizacional  y el compromiso de los  servidores judiciales, contratistas, practicantes y  judicantes de contribuir a generar valor público en la administración de justicia, en el marco de  cumplimiento de los requisitos  aplicables y el comportamiento ético.",{"$f":"IFERROR(GESTION!H186,\" \")","v":0},{"$f":"IFERROR(GESTION!I186,\" \")","v":0},{"$f":"IFERROR(GESTION!J186,\" \")","v":0},null,""]
[null,null,null,null,{"$f":"IFERROR(GESTION!H187,\" \")","v":0},{"$f":"IFERROR(GESTION!I187,\" \")","v":0},{"$f":"IFERROR(GESTION!J187,\" \")","v":0},null,""]
[null,null,null,null,{"$f":"IFERROR(GESTION!H188,\" \")","v":0},{"$f":"IFERROR(GESTION!I188,\" \")","v":0},{"$f":"IFERROR(GESTION!J188,\" \")","v":0},null,""]
[null,null,null,null,{"$f":"IFERROR(GESTION!H189,\" \")","v":0},{"$f":"IFERROR(GESTION!I189,\" \")","v":0},{"$f":"IFERROR(GESTION!J189,\" \")","v":0},null,""]
[null,null,null,null,{"$f":"IFERROR(GESTION!H190,\" \")","v":0},{"$f":"IFERROR(GESTION!I190,\" \")","v":0},{"$f":"IFERROR(GESTION!J190,\" \")","v":0},null,""]
[null,null,null,null,{"$f":"IFERROR(GESTION!H191,\" \")","v":0},{"$f":"IFERROR(GESTION!I191,\" \")","v":0},{"$f":"IFERROR(GESTION!J191,\" \")","v":0},null,""]
[null,null,null,null,{"$f":"IFERROR(GESTION!H192,\" \")","v":0},{"$f":"IFERROR(GESTION!I192,\" \")","v":0},{"$f":"IFERROR(GESTION!J192,\" \")","v":0},null,{"$f":"IFERROR(H192/G192,\"\")","v":""}]
[null,null,null,null,{"$f":"IFERROR(GESTION!H193,\" \")","v":0},{"$f":"IFERROR(GESTION!I193,\" \")","v":0},{"$f":"IFERROR(GESTION!J193,\" \")","v":0},null,""]
[null,null,null,null,{"$f":"IFERROR(GESTION!H194,\" \")","v":0},{"$f":"IFERROR(GESTION!I194,\" \")","v":0},{"$f":"IFERROR(GESTION!J194,\" \")","v":0},null,""]
[null,null,null,null,{"$f":"IFERROR(GESTION!H195,\" \")","v":0},{"$f":"IFERROR(GESTION!I195,\" \")","v":0},{"$f":"IFERROR(GESTION!J195,\" \")","v":0},null,""]
[null,null,"2. Impactar la función y servicios que presta la Rama Judicial, a través de una formación integral desde una visión de gestión del conocimiento, relacionada con los problemas de la justicia y los problemas de gestión de quienes administran los recursos de la justicia, y potenciando el uso de medios virtuales.",null,{"$f":"IFERROR(GESTION!H196,\" \")","v":0},{"$f":"IFERROR(GESTION!I196,\" \")","v":0},{"$f":"IFERROR(GESTION!J196,\" \")","v":0},null,""]
[null,null,null,null,{"$f":"IFERROR(GESTION!H197,\" \")","v":0},{"$f":"IFERROR(GESTION!I197,\" \")","v":0},{"$f":"IFERROR(GESTION!J197,\" \")","v":0},null,""]
[null,null,null,null,{"$f":"IFERROR(GESTION!H198,\" \")","v":0},{"$f":"IFERROR(GESTION!I198,\" \")","v":0},{"$f":"IFERROR(GESTION!J198,\" \")","v":0},null,""]
[null,null,null,null,{"$f":"IFERROR(GESTION!H199,\" \")","v":0},{"$f":"IFERROR(GESTION!I199,\" \")","v":0},{"$f":"IFERROR(GESTION!J199,\" \")","v":0},null,""]
[null,null,null,null,{"$f":"IFERROR(GESTION!H200,\" \")","v":0},{"$f":"IFERROR(GESTION!I200,\" \")","v":0},{"$f":"IFERROR(GESTION!J200,\" \")","v":0},null,""]
[null,null,null,null,{"$f":"IFERROR(GESTION!H201,\" \")","v":0},{"$f":"IFERROR(GESTION!I201,\" \")","v":0},{"$f":"IFERROR(GESTION!J201,\" \")","v":0},null,""]
[null,null,null,null,{"$f":"IFERROR(GESTION!H202,\" \")","v":0},{"$f":"IFERROR(GESTION!I202,\" \")","v":0},{"$f":"IFERROR(GESTION!J202,\" \")","v":0},null,""]
[null,null,null,null,{"$f":"IFERROR(GESTION!H203,\" \")","v":0},{"$f":"IFERROR(GESTION!I203,\" \")","v":0},{"$f":"IFERROR(GESTION!J203,\" \")","v":0},null,""]
[null,null,null,null,{"$f":"IFERROR(GESTION!H204,\" \")","v":0},{"$f":"IFERROR(GESTION!I204,\" \")","v":0},{"$f":"IFERROR(GESTION!J204,\" \")","v":0},null,""]
[null,null,null,null,{"$f":"IFERROR(GESTION!H205,\" \")","v":0},{"$f":"IFERROR(GESTION!I205,\" \")","v":0},{"$f":"IFERROR(GESTION!J205,\" \")","v":0},null,""]
[null,null,"3. Promover la incorporación de la perspectiva de género y el enfoque diferencial en los fallos judiciales y en la atención a los ciudadanos, la administración de la Rama Judicial, la administración de la carrera judicial y la elaboración de listas para altas Cortes. ",null,{"$f":"IFERROR(GESTION!H206,\" \")","v":0},{"$f":"IFERROR(GESTION!I206,\" \")","v":0},{"$f":"IFERROR(GESTION!J206,\" \")","v":0},null,""]
[null,null,null,null,{"$f":"IFERROR(GESTION!H207,\" \")","v":0},{"$f":"IFERROR(GESTION!I207,\" \")","v":0},{"$f":"IFERROR(GESTION!J207,\" \")","v":0},null,""]
[null,null,null,null,{"$f":"IFERROR(GESTION!H208,\" \")","v":0},{"$f":"IFERROR(GESTION!I208,\" \")","v":0},{"$f":"IFERROR(GESTION!J208,\" \")","v":0},null,""]
[null,null,null,null,{"$f":"IFERROR(GESTION!H209,\" \")","v":0},{"$f":"IFERROR(GESTION!I209,\" \")","v":0},{"$f":"IFERROR(GESTION!J209,\" \")","v":0},null,""]
[null,null,null,null,{"$f":"IFERROR(GESTION!H210,\" \")","v":0},{"$f":"IFERROR(GESTION!I210,\" \")","v":0},{"$f":"IFERROR(GESTION!J210,\" \")","v":0},null,""]
[null,null,null,null,{"$f":"IFERROR(GESTION!H211,\" \")","v":0},{"$f":"IFERROR(GESTION!I211,\" \")","v":0},{"$f":"IFERROR(GESTION!J211,\" \")","v":0},null,""]
[null,null,null,null,{"$f":"IFERROR(GESTION!H212,\" \")","v":0},{"$f":"IFERROR(GESTION!I212,\" \")","v":0},{"$f":"IFERROR(GESTION!J212,\" \")","v":0},null,""]
[null,null,null,null,{"$f":"IFERROR(GESTION!H213,\" \")","v":0},{"$f":"IFERROR(GESTION!I213,\" \")","v":0},{"$f":"IFERROR(GESTION!J213,\" \")","v":0},null,""]
[null,null,null,null,{"$f":"IFERROR(GESTION!H214,\" \")","v":0},{"$f":"IFERROR(GESTION!I214,\" \")","v":0},{"$f":"IFERROR(GESTION!J214,\" \")","v":0},null,""]
[null,null,null,null,{"$f":"IFERROR(GESTION!H215,\" \")","v":0},{"$f":"IFERROR(GESTION!I215,\" \")","v":0},{"$f":"IFERROR(GESTION!J215,\" \")","v":0},null,""]
[null,null,"4. Desarrollar en los servidores judiciales y demás grupos de valor relevantes las competencias necesarias para la efectividad de la transformación digital de modo que puedan, entre otros, utilizar con solvencia las herramientas digitales dispuestas para sus respectivas funciones. Además, fortalecer y actualizar los conocimientos del personal a cargo de la gestión de proyectos de tecnología.",null,{"$f":"IFERROR(GESTION!H216,\" \")","v":0},{"$f":"IFERROR(GESTION!I216,\" \")","v":0},{"$f":"IFERROR(GESTION!J216,\" \")","v":0},null,""]
[null,null,null,null,{"$f":"IFERROR(GESTION!H217,\" \")","v":0},{"$f":"IFERROR(GESTION!I217,\" \")","v":0},{"$f":"IFERROR(GESTION!J217,\" \")","v":0},null,""]
[null,null,null,null,{"$f":"IFERROR(GESTION!H218,\" \")","v":0},{"$f":"IFERROR(GESTION!I218,\" \")","v":0},{"$f":"IFERROR(GESTION!J218,\" \")","v":0},null,""]
[null,null,null,null,{"$f":"IFERROR(GESTION!H219,\" \")","v":0},{"$f":"IFERROR(GESTION!I219,\" \")","v":0},{"$f":"IFERROR(GESTION!J219,\" \")","v":0},null,""]
[null,null,null,null,{"$f":"IFERROR(GESTION!H220,\" \")","v":0},{"$f":"IFERROR(GESTION!I220,\" \")","v":0},{"$f":"IFERROR(GESTION!J220,\" \")","v":0},null,""]
[null,null,null,null,{"$f":"IFERROR(GESTION!H221,\" \")","v":0},{"$f":"IFERROR(GESTION!I221,\" \")","v":0},{"$f":"IFERROR(GESTION!J221,\" \")","v":0},null,""]
[null,null,null,null,{"$f":"IFERROR(GESTION!H222,\" \")","v":0},{"$f":"IFERROR(GESTION!I222,\" \")","v":0},{"$f":"IFERROR(GESTION!J222,\" \")","v":0},null,""]
[null,null,null,null,{"$f":"IFERROR(GESTION!H223,\" \")","v":0},{"$f":"IFERROR(GESTION!I223,\" \")","v":0},{"$f":"IFERROR(GESTION!J223,\" \")","v":0},null,""]
[null,null,null,null,{"$f":"IFERROR(GESTION!H224,\" \")","v":0},{"$f":"IFERROR(GESTION!I224,\" \")","v":0},{"$f":"IFERROR(GESTION!J224,\" \")","v":0},null,{"$f":"IFERROR(H224/G224,\"\")","v":""}]
[null,null,null,null,{"$f":"IFERROR(GESTION!H225,\" \")","v":0},{"$f":"IFERROR(GESTION!I225,\" \")","v":0},{"$f":"IFERROR(GESTION!J225,\" \")","v":0},null,""]
[null,null,"5. Promover el bienestar de todos los servidores judiciales a través de la implementación de un sistema que contemple los diferentes niveles de estrategias y acciones necesarios para mejorar el clima laboral, la salud física y mental y la calidad del tiempo de descanso.","5. Generar espacios de trabajo seguros y saludables que contribuyan a minimizar los  incidentes, accidentes y enfermedades laborales derivados de las condiciones y actos  inseguros y fomentar  el autocuidado, los  estilos de vida y el trabajo saludable en los servidores judiciales, contratistas, judicantes y practicantes",{"$f":"IFERROR(GESTION!H226,\" \")","v":0},{"$f":"IFERROR(GESTION!I226,\" \")","v":0},{"$f":"IFERROR(GESTION!J226,\" \")","v":0},null,""]
[null,null,null,null,{"$f":"IFERROR(GESTION!H227,\" \")","v":0},{"$f":"IFERROR(GESTION!I227,\" \")","v":0},{"$f":"IFERROR(GESTION!J227,\" \")","v":0},null,""]
[null,null,null,null,{"$f":"IFERROR(GESTION!H228,\" \")","v":0},{"$f":"IFERROR(GESTION!I228,\" \")","v":0},{"$f":"IFERROR(GESTION!J228,\" \")","v":0},null,""]
[null,null,null,null,{"$f":"IFERROR(GESTION!H229,\" \")","v":0},{"$f":"IFERROR(GESTION!I229,\" \")","v":0},{"$f":"IFERROR(GESTION!J229,\" \")","v":0},null,""]
[null,null,null,null,{"$f":"IFERROR(GESTION!H230,\" \")","v":0},{"$f":"IFERROR(GESTION!I230,\" \")","v":0},{"$f":"IFERROR(GESTION!J230,\" \")","v":0},null,""]
[null,null,null,null,{"$f":"IFERROR(GESTION!H231,\" \")","v":0},{"$f":"IFERROR(GESTION!I231,\" \")","v":0},{"$f":"IFERROR(GESTION!J231,\" \")","v":0},null,""]
[null,null,null,null,{"$f":"IFERROR(GESTION!H232,\" \")","v":0},{"$f":"IFERROR(GESTION!I232,\" \")","v":0},{"$f":"IFERROR(GESTION!J232,\" \")","v":0},null,""]
[null,null,null,null,{"$f":"IFERROR(GESTION!H233,\" \")","v":0},{"$f":"IFERROR(GESTION!I233,\" \")","v":0},{"$f":"IFERROR(GESTION!J233,\" \")","v":0},null,""]
[null,null,null,null,{"$f":"IFERROR(GESTION!H234,\" \")","v":0},{"$f":"IFERROR(GESTION!I234,\" \")","v":0},{"$f":"IFERROR(GESTION!J234,\" \")","v":0},null,""]
[null,null,null,null,{"$f":"IFERROR(GESTION!H235,\" \")","v":0},{"$f":"IFERROR(GESTION!I235,\" \")","v":0},{"$f":"IFERROR(GESTION!J235,\" \")","v":0},null,""]
["5. Gobernanza, planeación estratégica y capacidad de toma de decisiones","Gobernanza, planeación estratégica y capacidad de toma de decisiones: Fortalecer la gobernanza, la planeación estratégica y la capacidad de toma de decisiones de la Rama Judicial con base en la evidencia empírica y la articulación efectiva con las demás entidades, para que la perspectiva de género y el enfoque diferencial sean transversales en el presente plan. ","1. Implementar un nuevo modelo integrado para la planeación estratégica, el seguimiento y la medición del desempeño institucional.","2. Asegurar  el cumplimiento de los objetivos institucionales, la normatividad aplicable,  la mejora del SIGCMA y la satisfacción de los usuarios, revisando de  forma continua y sistemática la planificación de la gestión y fortaleciendo la administración de riesgos y sus controles.",{"$f":"IFERROR(GESTION!H236,\" \")","v":0},{"$f":"IFERROR(GESTION!I236,\" \")","v":0},{"$f":"IFERROR(GESTION!J236,\" \")","v":0},null,""]
[null,null,null,null,{"$f":"IFERROR(GESTION!H237,\" \")","v":0},{"$f":"IFERROR(GESTION!I237,\" \")","v":0},{"$f":"IFERROR(GESTION!J237,\" \")","v":0},null,""]
[null,null,null,null,{"$f":"IFERROR(GESTION!H238,\" \")","v":0},{"$f":"IFERROR(GESTION!I238,\" \")","v":0},{"$f":"IFERROR(GESTION!J238,\" \")","v":0},null,""]
[null,null,null,null,{"$f":"IFERROR(GESTION!H239,\" \")","v":0},{"$f":"IFERROR(GESTION!I239,\" \")","v":0},{"$f":"IFERROR(GESTION!J239,\" \")","v":0},null,""]
[null,null,null,null,{"$f":"IFERROR(GESTION!H240,\" \")","v":0},{"$f":"IFERROR(GESTION!I240,\" \")","v":0},{"$f":"IFERROR(GESTION!J240,\" \")","v":0},null,""]
[null,null,null,null,{"$f":"IFERROR(GESTION!H241,\" \")","v":0},{"$f":"IFERROR(GESTION!I241,\" \")","v":0},{"$f":"IFERROR(GESTION!J241,\" \")","v":0},null,""]
[null,null,null,null,{"$f":"IFERROR(GESTION!H242,\" \")","v":0},{"$f":"IFERROR(GESTION!I242,\" \")","v":0},{"$f":"IFERROR(GESTION!J242,\" \")","v":0},null,""]
[null,null,null,null,{"$f":"IFERROR(GESTION!H243,\" \")","v":0},{"$f":"IFERROR(GESTION!I243,\" \")","v":0},{"$f":"IFERROR(GESTION!J243,\" \")","v":0},null,""]
[null,null,null,null,{"$f":"IFERROR(GESTION!H244,\" \")","v":0},{"$f":"IFERROR(GESTION!I244,\" \")","v":0},{"$f":"IFERROR(GESTION!J244,\" \")","v":0},null,""]
[null,null,null,null,{"$f":"IFERROR(GESTION!H245,\" \")","v":0},{"$f":"IFERROR(GESTION!I245,\" \")","v":0},{"$f":"IFERROR(GESTION!J245,\" \")","v":0},null,""]
[null,null,"2. Definir e implementar el modelo optimizado de formulación, seguimiento y evaluación de la política pública judicial.",null,{"$f":"IFERROR(GESTION!H246,\" \")","v":0},{"$f":"IFERROR(GESTION!I246,\" \")","v":0},{"$f":"IFERROR(GESTION!J246,\" \")","v":0},null,""]
[null,null,null,null,{"$f":"IFERROR(GESTION!H247,\" \")","v":0},{"$f":"IFERROR(GESTION!I247,\" \")","v":0},{"$f":"IFERROR(GESTION!J247,\" \")","v":0},null,""]
[null,null,null,null,{"$f":"IFERROR(GESTION!H248,\" \")","v":0},{"$f":"IFERROR(GESTION!I248,\" \")","v":0},{"$f":"IFERROR(GESTION!J248,\" \")","v":0},null,""]
[null,null,null,null,{"$f":"IFERROR(GESTION!H249,\" \")","v":0},{"$f":"IFERROR(GESTION!I249,\" \")","v":0},{"$f":"IFERROR(GESTION!J249,\" \")","v":0},null,""]
[null,null,null,null,{"$f":"IFERROR(GESTION!H250,\" \")","v":0},{"$f":"IFERROR(GESTION!I250,\" \")","v":0},{"$f":"IFERROR(GESTION!J250,\" \")","v":0},null,""]
[null,null,null,null,{"$f":"IFERROR(GESTION!H251,\" \")","v":0},{"$f":"IFERROR(GESTION!I251,\" \")","v":0},{"$f":"IFERROR(GESTION!J251,\" \")","v":0},null,""]
[null,null,null,null,{"$f":"IFERROR(GESTION!H252,\" \")","v":0},{"$f":"IFERROR(GESTION!I252,\" \")","v":0},{"$f":"IFERROR(GESTION!J252,\" \")","v":0},null,""]
[null,null,null,null,{"$f":"IFERROR(GESTION!H253,\" \")","v":0},{"$f":"IFERROR(GESTION!I253,\" \")","v":0},{"$f":"IFERROR(GESTION!J253,\" \")","v":0},null,""]
[null,null,null,null,{"$f":"IFERROR(GESTION!H254,\" \")","v":0},{"$f":"IFERROR(GESTION!I254,\" \")","v":0},{"$f":"IFERROR(GESTION!J254,\" \")","v":0},null,""]
[null,null,null,null,{"$f":"IFERROR(GESTION!H255,\" \")","v":0},{"$f":"IFERROR(GESTION!I255,\" \")","v":0},{"$f":"IFERROR(GESTION!J255,\" \")","v":0},null,""]

{"sheet":"GESTION_SEG_2_TRIM","index":7,"n_rows":254,"n_cols":11,"rows_kept":254,"cut":false,"hidden":false,"merged":[[25,2,34,2],[25,3,34,3],[35,2,44,2],[35,3,44,3],[1,0,1,10],[2,0,2,3],[2,4,2,9],[2,10,4,10],[3,0,4,1],[3,2,4,2],[3,3,4,3],[3,4,3,9],[45,2,54,2],[45,3,54,3],[55,0,114,0],[55,1,114,1],[55,2,64,2],[55,3,114,3],[65,2,74,2],[75,2,84,2],[85,2,94,2],[95,2,104,2],[5,0,54,0],[5,1,54,1],[5,2,14,2],[5,3,14,3],[15,2,24,2],[15,3,24,3],[105,2,114,2],[115,0,183,0],[115,1,183,1],[115,2,124,2],[115,3,124,3],[125,2,134,2],[125,3,134,3],[135,2,144,2],[135,3,144,3],[145,2,153,2],[145,3,173,3],[154,2,163,2],[164,2,173,2],[174,2,183,2],[174,3,183,3],[204,2,213,2],[214,2,223,2],[224,2,233,2],[224,3,233,3],[234,0,253,0],[234,1,253,1],[234,2,243,2],[234,3,253,3],[244,2,253,2],[184,0,233,0],[184,1,233,1],[184,2,193,2],[184,3,223,3],[194,2,203,2]]}
[]
["CONSEJO SUPERIOR DE LA JUDICATURA \nUNIDADES MISIONALES DEL CONSEJO SUPERIOR DE LA JUDICATURA - \nDIRECCIÓN EJECUTIVA DE ADMINISTRACIÓN JUDICIAL - UNIDADES MISIONALES DE LA DEAJ\nDIRECCIONES SECCIONALES DE ADMINISTRACIÓN JUDICIAL - DEPENDENCIAS JUDICIALES CERTIFICADAS"]
["PLAN SECTORIAL DE DESARROLLO 2023-2026 - OBJETIVOS SIGCMA",null,null,null,null,null,null,null,null,null," ANÁLISIS RESULTADO"]
["OBJETIVO ESTRATÉGICO",null,"OBJETIVO ESPECÍFICO PSD","OBJETIVO ESPECÍFICO SIGCMA","MEDICIÓN DE LA GESTIÓN ANUAL"]
[null,null,null,null,"ACTIVIDADES ","INDIQUE SI ES ENTREGABLE O META CUANTIFICABLE","META ANUAL","AVANCE DE LA META ","NIVEL CUMPLIMIENTO","DIFICULTADES PARA LOGRAR LA META PROPUESTA"]
["1. Acceso e Infraestructura Física","Acceso e Infraestructura Física: Ampliar, en todo el territorio nacional, el acceso a una justicia efectiva, pronta, equitativa e incluyente, reduciendo el atraso y la congestión, de acuerdo con las necesidades de la demanda de justicia por jurisdicción y especialidad, y mejorando la articulación con la justicia restaurativa y terapéutica, y otros mecanismos de solución de conflictos y consolidando una infraestructura física óptima para el acceso a la justicia.","1. Ampliar el acceso a justicia para atender las necesidades jurídicas de los ciudadanos con un enfoque diferencial, de una manera pronta, reduciendo las inequidades y las brechas territoriales de acceso.","2. Asegurar  el cumplimiento de los objetivos institucionales, la normatividad aplicable,  la mejora del SIGCMA y la satisfacción de los usuarios, revisando de  forma continua y sistemática la planificación de la gestión y fortaleciendo la administración de riesgos y sus controles",null,{"$f":"IFERROR(GESTION!I6,\" \")","v":0},{"$f":"IFERROR(GESTION!J6,\" \")","v":0},null,{"$f":"IFERROR(H6/G6,\"\")","v":""}]
[null,null,null,null,{"$f":"IFERROR(GESTION!H7,\" \")","v":0},{"$f":"IFERROR(GESTION!I7,\" \")","v":0},{"$f":"IFERROR(GESTION!J7,\" \")","v":0},null,""]
[null,null,null,null,{"$f":"IFERROR(GESTION!H8,\" \")","v":0},{"$f":"IFERROR(GESTION!I8,\" \")","v":0},{"$f":"IFERROR(GESTION!J8,\" \")","v":0},null,""]
[null,null,null,null,{"$f":"IFERROR(GESTION!H9,\" \")","v":0},{"$f":"IFERROR(GESTION!I9,\" \")","v":0},{"$f":"IFERROR(GESTION!J9,\" \")","v":0},null,""]
[null,null,null,null,{"$f":"IFERROR(GESTION!H10,\" \")","v":0},{"$f":"IFERROR(GESTION!I10,\" \")","v":0},{"$f":"IFERROR(GESTION!J10,\" \")","v":0},null,""]
[null,null,null,null,{"$f":"IFERROR(GESTION!H11,\" \")","v":0},{"$f":"IFERROR(GESTION!I11,\" \")","v":0},{"$f":"IFERROR(GESTION!J11,\" \")","v":0},null,""]
[null,null,null,null,{"$f":"IFERROR(GESTION!H12,\" \")","v":0},{"$f":"IFERROR(GESTION!I12,\" \")","v":0},{"$f":"IFERROR(GESTION!J12,\" \")","v":0},null,""]
[null,null,null,null,{"$f":"IFERROR(GESTION!H13,\" \")","v":0},{"$f":"IFERROR(GESTION!I13,\" \")","v":0},{"$f":"IFERROR(GESTION!J13,\" \")","v":0},null,""]
[null,null,null,null,{"$f":"IFERROR(GESTION!H14,\" \")","v":0},{"$f":"IFERROR(GESTION!I14,\" \")","v":0},{"$f":"IFERROR(GESTION!J14,\" \")","v":0},null,""]
[null,null,null,null,{"$f":"IFERROR(GESTION!H15,\" \")","v":0},{"$f":"IFERROR(GESTION!I15,\" \")","v":0},{"$f":"IFERROR(GESTION!J15,\" \")","v":0},null,""]
[null,null,"2. Mejorar los tiempos de respuesta de la Rama Judicial y reducir el inventario de procesos, identificando los retos internos y promoviendo tanto acciones articuladas específicas para abordarlos como estrategias coordinadas para enfrentar las barreras que dependen de otras entidades.","2. Asegurar  el cumplimiento de los objetivos institucionales, la normatividad aplicable,  la mejora del SIGCMA y la satisfacción de los usuarios, revisando de  forma continua y sistemática la planificación de la gestión y fortaleciendo la administración de riesgos y sus controles",{"$f":"IFERROR(GESTION!H16,\" \")","v":0},{"$f":"IFERROR(GESTION!I16,\" \")","v":0},{"$f":"IFERROR(GESTION!J16,\" \")","v":0},null,""]
[null,null,null,null,{"$f":"IFERROR(GESTION!H17,\" \")","v":0},{"$f":"IFERROR(GESTION!I17,\" \")","v":0},{"$f":"IFERROR(GESTION!J17,\" \")","v":0},null,""]
[null,null,null,null,{"$f":"IFERROR(GESTION!H18,\" \")","v":0},{"$f":"IFERROR(GESTION!I18,\" \")","v":0},{"$f":"IFERROR(GESTION!J18,\" \")","v":0},null,""]
[null,null,null,null,{"$f":"IFERROR(GESTION!H19,\" \")","v":0},{"$f":"IFERROR(GESTION!I19,\" \")","v":0},{"$f":"IFERROR(GESTION!J19,\" \")","v":0},null,""]
[null,null,null,null,{"$f":"IFERROR(GESTION!H20,\" \")","v":0},{"$f":"IFERROR(GESTION!I20,\" \")","v":0},{"$f":"IFERROR(GESTION!J20,\" \")","v":0},null,""]
[null,null,null,null,{"$f":"IFERROR(GESTION!H21,\" \")","v":0},{"$f":"IFERROR(GESTION!I21,\" \")","v":0},{"$f":"IFERROR(GESTION!J21,\" \")","v":0},null,""]
[null,null,null,null,{"$f":"IFERROR(GESTION!H22,\" \")","v":0},{"$f":"IFERROR(GESTION!I22,\" \")","v":0},{"$f":"IFERROR(GESTION!J22,\" \")","v":0},null,""]
[null,null,null,null,{"$f":"IFERROR(GESTION!H23,\" \")","v":0},{"$f":"IFERROR(GESTION!I23,\" \")","v":0},{"$f":"IFERROR(GESTION!J23,\" \")","v":0},null,""]
[null,null,null,null,{"$f":"IFERROR(GESTION!H24,\" \")","v":0},{"$f":"IFERROR(GESTION!I24,\" \")","v":0},{"$f":"IFERROR(GESTION!J24,\" \")","v":0},null,""]
[null,null,null,null,{"$f":"IFERROR(GESTION!H25,\" \")","v":0},null,{"$f":"IFERROR(GESTION!J25,\" \")","v":0},null,""]
[null,null,"3. Coadyuvar en la garantía de la idoneidad en el ejercicio de la profesión jurídica de acuerdo con lo establecido en la Ley 1905 de 2018","2. Asegurar  el cumplimiento de los objetivos institucionales, la normatividad aplicable,  la mejora del SIGCMA y la satisfacción de los usuarios, revisando de  forma continua y sistemática la planificación de la gestión y fortaleciendo la administración de riesgos y sus controles",{"$f":"IFERROR(GESTION!H26,\" \")","v":0},{"$f":"IFERROR(GESTION!I26,\" \")","v":0},{"$f":"IFERROR(GESTION!J26,\" \")","v":0},null,""]
[null,null,null,null,{"$f":"IFERROR(GESTION!H27,\" \")","v":0},{"$f":"IFERROR(GESTION!I27,\" \")","v":0},{"$f":"IFERROR(GESTION!J27,\" \")","v":0},null,""]
[null,null,null,null,{"$f":"IFERROR(GESTION!H28,\" \")","v":0},{"$f":"IFERROR(GESTION!I28,\" \")","v":0},{"$f":"IFERROR(GESTION!J28,\" \")","v":0},null,""]
[null,null,null,null,{"$f":"IFERROR(GESTION!H29,\" \")","v":0},{"$f":"IFERROR(GESTION!I29,\" \")","v":0},{"$f":"IFERROR(GESTION!J29,\" \")","v":0},null,""]
[null,null,null,null,{"$f":"IFERROR(GESTION!H30,\" \")","v":0},{"$f":"IFERROR(GESTION!I30,\" \")","v":0},{"$f":"IFERROR(GESTION!J30,\" \")","v":0},null,""]
[null,null,null,null,{"$f":"IFERROR(GESTION!H31,\" \")","v":0},{"$f":"IFERROR(GESTION!I31,\" \")","v":0},{"$f":"IFERROR(GESTION!J31,\" \")","v":0},null,""]
[null,null,null,null,{"$f":"IFERROR(GESTION!H32,\" \")","v":0},{"$f":"IFERROR(GESTION!I32,\" \")","v":0},{"$f":"IFERROR(GESTION!J32,\" \")","v":0},null,""]
[null,null,null,null,{"$f":"IFERROR(GESTION!H33,\" \")","v":0},{"$f":"IFERROR(GESTION!I33,\" \")","v":0},{"$f":"IFERROR(GESTION!J33,\" \")","v":0},null,""]
[null,null,null,null,{"$f":"IFERROR(GESTION!H34,\" \")","v":0},{"$f":"IFERROR(GESTION!I34,\" \")","v":0},{"$f":"IFERROR(GESTION!J34,\" \")","v":0},null,""]
[null,null,null,null,{"$f":"IFERROR(GESTION!H35,\" \")","v":0},{"$f":"IFERROR(GESTION!I35,\" \")","v":0},{"$f":"IFERROR(GESTION!J35,\" \")","v":0},null,""]
[null,null,"4. Avanzar en la disposición de una infraestructura óptima para el acceso a la justicia en la Rama Judicial de modo que se fortalezca la presencia territorial, teniendo en cuenta las posibilidades que ofrece la transformación digital y las necesidades que se derivan de ella, y considerando tanto las necesidades de los usuarios como las de los servidores judiciales.","4. Hacer un uso racional de los recursos naturales aplicando los principios y fases de la Economía Circular, para prevenir, mitigar y controlar los impactos ambientales",{"$f":"IFERROR(GESTION!H36,\" \")","v":0},{"$f":"IFERROR(GESTION!I36,\" \")","v":0},{"$f":"IFERROR(GESTION!J36,\" \")","v":0},null,""]
[null,null,null,null,{"$f":"IFERROR(GESTION!H37,\" \")","v":0},{"$f":"IFERROR(GESTION!I37,\" \")","v":0},{"$f":"IFERROR(GESTION!J37,\" \")","v":0},null,""]
[null,null,null,null,{"$f":"IFERROR(GESTION!H38,\" \")","v":0},{"$f":"IFERROR(GESTION!I38,\" \")","v":0},{"$f":"IFERROR(GESTION!J38,\" \")","v":0},null,""]
[null,null,null,null,{"$f":"IFERROR(GESTION!H39,\" \")","v":0},{"$f":"IFERROR(GESTION!I39,\" \")","v":0},{"$f":"IFERROR(GESTION!J39,\" \")","v":0},null,""]
[null,null,null,null,{"$f":"IFERROR(GESTION!H40,\" \")","v":0},{"$f":"IFERROR(GESTION!I40,\" \")","v":0},{"$f":"IFERROR(GESTION!J40,\" \")","v":0},null,""]
[null,null,null,null,{"$f":"IFERROR(GESTION!H41,\" \")","v":0},{"$f":"IFERROR(GESTION!I41,\" \")","v":0},{"$f":"IFERROR(GESTION!J41,\" \")","v":0},null,""]
[null,null,null,null,{"$f":"IFERROR(GESTION!H42,\" \")","v":0},{"$f":"IFERROR(GESTION!I42,\" \")","v":0},{"$f":"IFERROR(GESTION!J42,\" \")","v":0},null,""]
[null,null,null,null,{"$f":"IFERROR(GESTION!H43,\" \")","v":0},{"$f":"IFERROR(GESTION!I43,\" \")","v":0},{"$f":"IFERROR(GESTION!J43,\" \")","v":0},null,""]
[null,null,null,null,{"$f":"IFERROR(GESTION!H44,\" \")","v":0},{"$f":"IFERROR(GESTION!I44,\" \")","v":0},{"$f":"IFERROR(GESTION!J44,\" \")","v":0},null,""]
[null,null,null,null,{"$f":"IFERROR(GESTION!H45,\" \")","v":0},{"$f":"IFERROR(GESTION!I45,\" \")","v":0},{"$f":"IFERROR(GESTION!J45,\" \")","v":0},null,""]
[null,null,"5. Impulsar el uso de mecanismos alternativos para la solución de conflictos y la ampliación de la justicia restaurativa y terapéutica y el robustecimiento de las alternativas al encarcelamiento","2. Asegurar  el cumplimiento de los objetivos institucionales, la normatividad aplicable,  la mejora del SIGCMA y la satisfacción de los usuarios, revisando de  forma continua y sistemática la planificación de la gestión y fortaleciendo la administración de riesgos y sus controles",{"$f":"IFERROR(GESTION!H46,\" \")","v":0},{"$f":"IFERROR(GESTION!I46,\" \")","v":0},{"$f":"IFERROR(GESTION!J46,\" \")","v":0},null,""]
[null,null,null,null,{"$f":"IFERROR(GESTION!H47,\" \")","v":0},{"$f":"IFERROR(GESTION!I47,\" \")","v":0},{"$f":"IFERROR(GESTION!J47,\" \")","v":0},null,""]
[null,null,null,null,{"$f":"IFERROR(GESTION!H48,\" \")","v":0},{"$f":"IFERROR(GESTION!I48,\" \")","v":0},{"$f":"IFERROR(GESTION!J48,\" \")","v":0},null,""]
[null,null,null,null,{"$f":"IFERROR(GESTION!H49,\" \")","v":0},{"$f":"IFERROR(GESTION!I49,\" \")","v":0},{"$f":"IFERROR(GESTION!J49,\" \")","v":0},null,""]
[null,null,null,null,{"$f":"IFERROR(GESTION!H50,\" \")","v":0},{"$f":"IFERROR(GESTION!I50,\" \")","v":0},{"$f":"IFERROR(GESTION!J50,\" \")","v":0},null,""]
[null,null,null,null,{"$f":"IFERROR(GESTION!H51,\" \")","v":0},{"$f":"IFERROR(GESTION!I51,\" \")","v":0},{"$f":"IFERROR(GESTION!J51,\" \")","v":0},null,""]
[null,null,null,null,{"$f":"IFERROR(GESTION!H52,\" \")","v":0},{"$f":"IFERROR(GESTION!I52,\" \")","v":0},{"$f":"IFERROR(GESTION!J52,\" \")","v":0},null,""]
[null,null,null,null,{"$f":"IFERROR(GESTION!H53,\" \")","v":0},{"$f":"IFERROR(GESTION!I53,\" \")","v":0},{"$f":"IFERROR(GESTION!J53,\" \")","v":0},null,""]
[null,null,null,null,{"$f":"IFERROR(GESTION!H54,\" \")","v":0},{"$f":"IFERROR(GESTION!I54,\" \")","v":0},{"$f":"IFERROR(GESTION!J54,\" \")","v":0},null,""]
[null,null,null,null,{"$f":"IFERROR(GESTION!H55,\" \")","v":0},{"$f":"IFERROR(GESTION!I55,\" \")","v":0},{"$f":"IFERROR(GESTION!J55,\" \")","v":0},null,""]
["2. Servicios digitales y de tecnología, innovación y análisis de la información.","Servicios digitales y de tecnología, innovación y análisis de la información: Consolidar una justicia integrada y soportada en servicios digitales y de tecnología, innovación y análisis de la información, con una cultura digital apropiada, segura y sensible a las realidades del territorio nacional. ","1. Ampliar el acceso a la justicia a través de la consolidación del uso de los servicios digitales que conforman el sistema único integrado de gestión judicial en todos los despachos judiciales y dependencias de apoyo y, específicamente, incluyendo el despliegue e implementación del Expediente Judicial Electrónico en todas las jurisdicciones y especialidades.","6. Proteger, preservar y administrar los activos de información  implementando acciones  para gestionar de forma adecuada los incidentes, proteger los datos personales y adoptar mecanismos  de ciberseguridad y aseguramiento de la  continuidad del negocio.",{"$f":"IFERROR(GESTION!H56,\" \")","v":0},{"$f":"IFERROR(GESTION!I56,\" \")","v":0},{"$f":"IFERROR(GESTION!J56,\" \")","v":0},null,""]
[null,null,null,null,{"$f":"IFERROR(GESTION!H57,\" \")","v":0},{"$f":"IFERROR(GESTION!I57,\" \")","v":0},{"$f":"IFERROR(GESTION!J57,\" \")","v":0},null,""]
[null,null,null,null,{"$f":"IFERROR(GESTION!H58,\" \")","v":0},{"$f":"IFERROR(GESTION!I58,\" \")","v":0},{"$f":"IFERROR(GESTION!J58,\" \")","v":0},null,""]
[null,null,null,null,{"$f":"IFERROR(GESTION!H59,\" \")","v":0},{"$f":"IFERROR(GESTION!I59,\" \")","v":0},{"$f":"IFERROR(GESTION!J59,\" \")","v":0},null,""]
[null,null,null,null,{"$f":"IFERROR(GESTION!H60,\" \")","v":0},{"$f":"IFERROR(GESTION!I60,\" \")","v":0},{"$f":"IFERROR(GESTION!J60,\" \")","v":0},null,""]
[null,null,null,null,{"$f":"IFERROR(GESTION!H61,\" \")","v":0},{"$f":"IFERROR(GESTION!I61,\" \")","v":0},{"$f":"IFERROR(GESTION!J61,\" \")","v":0},null,""]
[null,null,null,null,{"$f":"IFERROR(GESTION!H62,\" \")","v":0},{"$f":"IFERROR(GESTION!I62,\" \")","v":0},{"$f":"IFERROR(GESTION!J62,\" \")","v":0},null,""]
[null,null,null,null,{"$f":"IFERROR(GESTION!H63,\" \")","v":0},{"$f":"IFERROR(GESTION!I63,\" \")","v":0},{"$f":"IFERROR(GESTION!J63,\" \")","v":0},null,""]
[null,null,null,null,{"$f":"IFERROR(GESTION!H64,\" \")","v":0},{"$f":"IFERROR(GESTION!I64,\" \")","v":0},{"$f":"IFERROR(GESTION!J64,\" \")","v":0},null,""]
[null,null,null,null,{"$f":"IFERROR(GESTION!H65,\" \")","v":0},{"$f":"IFERROR(GESTION!I65,\" \")","v":0},{"$f":"IFERROR(GESTION!J65,\" \")","v":0},null,""]
[null,null,"2. Integrar y hacer compatibles todos los aplicativos de transición con SIUGJ, para que la migración de los expedientes judiciales a dicha plataforma sea real y no suponga afectaciones en la prestación del servicio de justicia.",null,{"$f":"IFERROR(GESTION!H66,\" \")","v":0},{"$f":"IFERROR(GESTION!I66,\" \")","v":0},{"$f":"IFERROR(GESTION!J66,\" \")","v":0},null,""]
[null,null,null,null,{"$f":"IFERROR(GESTION!H67,\" \")","v":0},{"$f":"IFERROR(GESTION!I67,\" \")","v":0},{"$f":"IFERROR(GESTION!J67,\" \")","v":0},null,""]
[null,null,null,null,{"$f":"IFERROR(GESTION!H68,\" \")","v":0},{"$f":"IFERROR(GESTION!I68,\" \")","v":0},{"$f":"IFERROR(GESTION!J68,\" \")","v":0},null,""]
[null,null,null,null,{"$f":"IFERROR(GESTION!H69,\" \")","v":0},{"$f":"IFERROR(GESTION!I69,\" \")","v":0},{"$f":"IFERROR(GESTION!J69,\" \")","v":0},null,""]
[null,null,null,null,{"$f":"IFERROR(GESTION!H70,\" \")","v":0},{"$f":"IFERROR(GESTION!I70,\" \")","v":0},{"$f":"IFERROR(GESTION!J70,\" \")","v":0},null,{"$f":"IFERROR(H70/G70,\"\")","v":""}]
[null,null,null,null,{"$f":"IFERROR(GESTION!H71,\" \")","v":0},{"$f":"IFERROR(GESTION!I71,\" \")","v":0},{"$f":"IFERROR(GESTION!J71,\" \")","v":0},null,""]
[null,null,null,null,{"$f":"IFERROR(GESTION!H72,\" \")","v":0},{"$f":"IFERROR(GESTION!I72,\" \")","v":0},{"$f":"IFERROR(GESTION!J72,\" \")","v":0},null,""]
[null,null,null,null,{"$f":"IFERROR(GESTION!H73,\" \")","v":0},{"$f":"IFERROR(GESTION!I73,\" \")","v":0},{"$f":"IFERROR(GESTION!J73,\" \")","v":0},null,""]
[null,null,null,null,{"$f":"IFERROR(GESTION!H74,\" \")","v":0},{"$f":"IFERROR(GESTION!I74,\" \")","v":0},{"$f":"IFERROR(GESTION!J74,\" \")","v":0},null,""]
[null,null,null,null,{"$f":"IFERROR(GESTION!H75,\" \")","v":0},{"$f":"IFERROR(GESTION!I75,\" \")","v":0},{"$f":"IFERROR(GESTION!J75,\" \")","v":0},null,""]
[null,null,"3. Fortalecer las capacidades institucionales, adecuar el modelo operativo y de servicio, bajo un enfoque de Arquitectura Empresarial y de fortalecimiento del acceso a la justicia.",null,{"$f":"IFERROR(GESTION!H76,\" \")","v":0},{"$f":"IFERROR(GESTION!I76,\" \")","v":0},{"$f":"IFERROR(GESTION!J76,\" \")","v":0},null,""]
[null,null,null,null,{"$f":"IFERROR(GESTION!H77,\" \")","v":0},{"$f":"IFERROR(GESTION!I77,\" \")","v":0},{"$f":"IFERROR(GESTION!J77,\" \")","v":0},null,""]
[null,null,null,null,{"$f":"IFERROR(GESTION!H78,\" \")","v":0},{"$f":"IFERROR(GESTION!I78,\" \")","v":0},{"$f":"IFERROR(GESTION!J78,\" \")","v":0},null,""]
[null,null,null,null,{"$f":"IFERROR(GESTION!H79,\" \")","v":0},{"$f":"IFERROR(GESTION!I79,\" \")","v":0},{"$f":"IFERROR(GESTION!J79,\" \")","v":0},null,""]
[null,null,null,null,{"$f":"IFERROR(GESTION!H80,\" \")","v":0},{"$f":"IFERROR(GESTION!I80,\" \")","v":0},{"$f":"IFERROR(GESTION!J80,\" \")","v":0},null,""]
[null,null,null,null,{"$f":"IFERROR(GESTION!H81,\" \")","v":0},{"$f":"IFERROR(GESTION!I81,\" \")","v":0},{"$f":"IFERROR(GESTION!J81,\" \")","v":0},null,""]
[null,null,null,null,{"$f":"IFERROR(GESTION!H82,\" \")","v":0},{"$f":"IFERROR(GESTION!I82,\" \")","v":0},{"$f":"IFERROR(GESTION!J82,\" \")","v":0},null,""]
[null,null,null,null,{"$f":"IFERROR(GESTION!H83,\" \")","v":0},{"$f":"IFERROR(GESTION!I83,\" \")","v":0},{"$f":"IFERROR(GESTION!J83,\" \")","v":0},null,""]
[null,null,null,null,{"$f":"IFERROR(GESTION!H84,\" \")","v":0},{"$f":"IFERROR(GESTION!I84,\" \")","v":0},{"$f":"IFERROR(GESTION!J84,\" \")","v":0},null,""]
[null,null,null,null,{"$f":"IFERROR(GESTION!H85,\" \")","v":0},{"$f":"IFERROR(GESTION!I85,\" \")","v":0},{"$f":"IFERROR(GESTION!J85,\" \")","v":0},null,""]
[null,null,"4.Consolidar la cultura y apropiación de la transformación digital en los servidores y usuarios de los servicios de la Rama Judicial y reducir brechas de acceso y conocimiento, incluyendo la oferta efectiva de información sobre el uso de las nuevas herramientas virtuales implementadas en las diferentes jurisdicciones, con especial énfasis en las zonas del país donde es evidente la brecha digital.",null,{"$f":"IFERROR(GESTION!H86,\" \")","v":0},{"$f":"IFERROR(GESTION!I86,\" \")","v":0},{"$f":"IFERROR(GESTION!J86,\" \")","v":0},null,""]
[null,null,null,null,{"$f":"IFERROR(GESTION!H87,\" \")","v":0},{"$f":"IFERROR(GESTION!I87,\" \")","v":0},{"$f":"IFERROR(GESTION!J87,\" \")","v":0},null,""]
[null,null,null,null,{"$f":"IFERROR(GESTION!H88,\" \")","v":0},{"$f":"IFERROR(GESTION!I88,\" \")","v":0},{"$f":"IFERROR(GESTION!J88,\" \")","v":0},null,""]
[null,null,null,null,{"$f":"IFERROR(GESTION!H89,\" \")","v":0},{"$f":"IFERROR(GESTION!I89,\" \")","v":0},{"$f":"IFERROR(GESTION!J89,\" \")","v":0},null,""]
[null,null,null,null,{"$f":"IFERROR(GESTION!H90,\" \")","v":0},{"$f":"IFERROR(GESTION!I90,\" \")","v":0},{"$f":"IFERROR(GESTION!J90,\" \")","v":0},null,""]
[null,null,null,null,{"$f":"IFERROR(GESTION!H91,\" \")","v":0},{"$f":"IFERROR(GESTION!I91,\" \")","v":0},{"$f":"IFERROR(GESTION!J91,\" \")","v":0},null,""]
[null,null,null,null,{"$f":"IFERROR(GESTION!H92,\" \")","v":0},{"$f":"IFERROR(GESTION!I92,\" \")","v":0},{"$f":"IFERROR(GESTION!J92,\" \")","v":0},null,""]
[null,null,null,null,{"$f":"IFERROR(GESTION!H93,\" \")","v":0},{"$f":"IFERROR(GESTION!I93,\" \")","v":0},{"$f":"IFERROR(GESTION!J93,\" \")","v":0},null,""]
[null,null,null,null,{"$f":"IFERROR(GESTION!H94,\" \")","v":0},{"$f":"IFERROR(GESTION!I94,\" \")","v":0},{"$f":"IFERROR(GESTION!J94,\" \")","v":0},null,""]
[null,null,null,null,{"$f":"IFERROR(GESTION!H95,\" \")","v":0},{"$f":"IFERROR(GESTION!I95,\" \")","v":0},{"$f":"IFERROR(GESTION!J95,\" \")","v":0},null,""]
[null,null,"5.Consolidar la infraestructura y los recursos necesarios para la implementación exitosa de la transformación digital, incluyendo la disposición de internet de calidad en el 100% de las sedes en la Rama Judicial y modernizar los servicios tecnológicos de soporte. ",null,{"$f":"IFERROR(GESTION!H96,\" \")","v":0},{"$f":"IFERROR(GESTION!I96,\" \")","v":0},{"$f":"IFERROR(GESTION!J96,\" \")","v":0},null,""]
[null,null,null,null,{"$f":"IFERROR(GESTION!H97,\" \")","v":0},{"$f":"IFERROR(GESTION!I97,\" \")","v":0},{"$f":"IFERROR(GESTION!J97,\" \")","v":0},null,""]
[null,null,null,null,{"$f":"IFERROR(GESTION!H98,\" \")","v":0},{"$f":"IFERROR(GESTION!I98,\" \")","v":0},{"$f":"IFERROR(GESTION!J98,\" \")","v":0},null,""]
[null,null,null,null,{"$f":"IFERROR(GESTION!H99,\" \")","v":0},{"$f":"IFERROR(GESTION!I99,\" \")","v":0},{"$f":"IFERROR(GESTION!J99,\" \")","v":0},null,""]
[null,null,null,null,{"$f":"IFERROR(GESTION!H100,\" \")","v":0},{"$f":"IFERROR(GESTION!I100,\" \")","v":0},{"$f":"IFERROR(GESTION!J100,\" \")","v":0},null,""]
[null,null,null,null,{"$f":"IFERROR(GESTION!H101,\" \")","v":0},{"$f":"IFERROR(GESTION!I101,\" \")","v":0},{"$f":"IFERROR(GESTION!J101,\" \")","v":0},null,""]
[null,null,null,null,{"$f":"IFERROR(GESTION!H102,\" \")","v":0},{"$f":"IFERROR(GESTION!I102,\" \")","v":0},{"$f":"IFERROR(GESTION!J102,\" \")","v":0},null,""]
[null,null,null,null,{"$f":"IFERROR(GESTION!H103,\" \")","v":0},{"$f":"IFERROR(GESTION!I103,\" \")","v":0},{"$f":"IFERROR(GESTION!J103,\" \")","v":0},null,""]
[null,null,null,null,{"$f":"IFERROR(GESTION!H104,\" \")","v":0},{"$f":"IFERROR(GESTION!I104,\" \")","v":0},{"$f":"IFERROR(GESTION!J104,\" \")","v":0},null,""]
[null,null,null,null,{"$f":"IFERROR(GESTION!H105,\" \")","v":0},{"$f":"IFERROR(GESTION!I105,\" \")","v":0},{"$f":"IFERROR(GESTION!J105,\" \")","v":0},null,""]
[null,null,"6.Integrar y optimizar los servicios administrativos de la Rama Judicial bajo un enfoque de transformación digital e innovación incluyendo los componentes financiero, administrativo, talento humano, entre otros",null,{"$f":"IFERROR(GESTION!H106,\" \")","v":0},{"$f":"IFERROR(GESTION!I106,\" \")","v":0},{"$f":"IFERROR(GESTION!J106,\" \")","v":0},null,""]
[null,null,null,null,{"$f":"IFERROR(GESTION!H107,\" \")","v":0},{"$f":"IFERROR(GESTION!I107,\" \")","v":0},{"$f":"IFERROR(GESTION!J107,\" \")","v":0},null,""]
[null,null,null,null,{"$f":"IFERROR(GESTION!H108,\" \")","v":0},{"$f":"IFERROR(GESTION!I108,\" \")","v":0},{"$f":"IFERROR(GESTION!J108,\" \")","v":0},null,""]
[null,null,null,null,{"$f":"IFERROR(GESTION!H109,\" \")","v":0},{"$f":"IFERROR(GESTION!I109,\" \")","v":0},{"$f":"IFERROR(GESTION!J109,\" \")","v":0},null,""]
[null,null,null,null,{"$f":"IFERROR(GESTION!H110,\" \")","v":0},{"$f":"IFERROR(GESTION!I110,\" \")","v":0},{"$f":"IFERROR(GESTION!J110,\" \")","v":0},null,""]
[null,null,null,null,{"$f":"IFERROR(GESTION!H111,\" \")","v":0},{"$f":"IFERROR(GESTION!I111,\" \")","v":0},{"$f":"IFERROR(GESTION!J111,\" \")","v":0},null,""]
[null,null,null,null,{"$f":"IFERROR(GESTION!H112,\" \")","v":0},{"$f":"IFERROR(GESTION!I112,\" \")","v":0},{"$f":"IFERROR(GESTION!J112,\" \")","v":0},null,""]
[null,null,null,null,{"$f":"IFERROR(GESTION!H113,\" \")","v":0},{"$f":"IFERROR(GESTION!I113,\" \")","v":0},{"$f":"IFERROR(GESTION!J113,\" \")","v":0},null,""]
[null,null,null,null,{"$f":"IFERROR(GESTION!H114,\" \")","v":0},{"$f":"IFERROR(GESTION!I114,\" \")","v":0},{"$f":"IFERROR(GESTION!J114,\" \")","v":0},null,""]
[null,null,null,null,{"$f":"IFERROR(GESTION!H115,\" \")","v":0},{"$f":"IFERROR(GESTION!I115,\" \")","v":0},{"$f":"IFERROR(GESTION!J115,\" \")","v":0},null,""]
["3. Confianza pública, transparencia y rendición de cuentas","Confianza pública, transparencia y rendición de cuentas: Aumentar la confianza pública en la justicia a través de la transparencia, la rendición de cuentas y la participación, incluyendo la información de justicia y la producción, gestión y acceso a las fuentes de derecho, el fortalecimiento del sistema de gestión de calidad y medio ambiente (SIGCMA) y el mejoramiento de la calidad y publicidad de la información. ","1. Incrementar la cantidad, la calidad y pertinencia de los datos sobre el funcionamiento del servicio de justicia bajo un modelo de gobierno de datos y un liderazgo unificado. ","4. Hacer un uso racional de los recursos naturales aplicando los principios y fases de la Economía Circular, para prevenir, mitigar y controlar los impactos ambientales.",{"$f":"IFERROR(GESTION!H116,\" \")","v":0},{"$f":"IFERROR(GESTION!I116,\" \")","v":0},{"$f":"IFERROR(GESTION!J116,\" \")","v":0},null,""]
[null,null,null,null,{"$f":"IFERROR(GESTION!H117,\" \")","v":0},{"$f":"IFERROR(GESTION!I117,\" \")","v":0},{"$f":"IFERROR(GESTION!J117,\" \")","v":0},null,""]
[null,null,null,null,{"$f":"IFERROR(GESTION!H118,\" \")","v":0},{"$f":"IFERROR(GESTION!I118,\" \")","v":0},{"$f":"IFERROR(GESTION!J118,\" \")","v":0},null,""]
[null,null,null,null,{"$f":"IFERROR(GESTION!H119,\" \")","v":0},{"$f":"IFERROR(GESTION!I119,\" \")","v":0},{"$f":"IFERROR(GESTION!J119,\" \")","v":0},null,""]
[null,null,null,null,{"$f":"IFERROR(GESTION!H120,\" \")","v":0},{"$f":"IFERROR(GESTION!I120,\" \")","v":0},{"$f":"IFERROR(GESTION!J120,\" \")","v":0},null,""]
[null,null,null,null,{"$f":"IFERROR(GESTION!H121,\" \")","v":0},{"$f":"IFERROR(GESTION!I121,\" \")","v":0},{"$f":"IFERROR(GESTION!J121,\" \")","v":0},null,""]
[null,null,null,null,{"$f":"IFERROR(GESTION!H122,\" \")","v":0},{"$f":"IFERROR(GESTION!I122,\" \")","v":0},{"$f":"IFERROR(GESTION!J122,\" \")","v":0},null,""]
[null,null,null,null,{"$f":"IFERROR(GESTION!H123,\" \")","v":0},{"$f":"IFERROR(GESTION!I123,\" \")","v":0},{"$f":"IFERROR(GESTION!J123,\" \")","v":0},null,""]
[null,null,null,null,{"$f":"IFERROR(GESTION!H124,\" \")","v":0},{"$f":"IFERROR(GESTION!I124,\" \")","v":0},{"$f":"IFERROR(GESTION!J124,\" \")","v":0},null,""]
[null,null,null,null,{"$f":"IFERROR(GESTION!H125,\" \")","v":0},{"$f":"IFERROR(GESTION!I125,\" \")","v":0},{"$f":"IFERROR(GESTION!J125,\" \")","v":0},null,""]
[null,null,"2. Consolidar la administración de la información entendida como todas las acciones rientadas a garantizar el acceso, consulta, uso y conservación de la información de justicia de manera ágil, flexible e inteligente, bajo un enfoque de innovación.",null,{"$f":"IFERROR(GESTION!H126,\" \")","v":0},{"$f":"IFERROR(GESTION!I126,\" \")","v":0},{"$f":"IFERROR(GESTION!J126,\" \")","v":0},null,""]
[null,null,null,null,{"$f":"IFERROR(GESTION!H127,\" \")","v":0},{"$f":"IFERROR(GESTION!I127,\" \")","v":0},{"$f":"IFERROR(GESTION!J127,\" \")","v":0},null,""]
[null,null,null,null,{"$f":"IFERROR(GESTION!H128,\" \")","v":0},{"$f":"IFERROR(GESTION!I128,\" \")","v":0},{"$f":"IFERROR(GESTION!J128,\" \")","v":0},null,""]
[null,null,null,null,{"$f":"IFERROR(GESTION!H129,\" \")","v":0},{"$f":"IFERROR(GESTION!I129,\" \")","v":0},{"$f":"IFERROR(GESTION!J129,\" \")","v":0},null,""]
[null,null,null,null,{"$f":"IFERROR(GESTION!H130,\" \")","v":0},{"$f":"IFERROR(GESTION!I130,\" \")","v":0},{"$f":"IFERROR(GESTION!J130,\" \")","v":0},null,""]
[null,null,null,null,{"$f":"IFERROR(GESTION!H131,\" \")","v":0},{"$f":"IFERROR(GESTION!I131,\" \")","v":0},{"$f":"IFERROR(GESTION!J131,\" \")","v":0},null,""]
[null,null,null,null,{"$f":"IFERROR(GESTION!H132,\" \")","v":0},{"$f":"IFERROR(GESTION!I132,\" \")","v":0},{"$f":"IFERROR(GESTION!J132,\" \")","v":0},null,""]
[null,null,null,null,{"$f":"IFERROR(GESTION!H133,\" \")","v":0},{"$f":"IFERROR(GESTION!I133,\" \")","v":0},{"$f":"IFERROR(GESTION!J133,\" \")","v":0},null,""]
[null,null,null,null,{"$f":"IFERROR(GESTION!H134,\" \")","v":0},{"$f":"IFERROR(GESTION!I134,\" \")","v":0},{"$f":"IFERROR(GESTION!J134,\" \")","v":0},null,{"$f":"IFERROR(H134/G134,\"\")","v":""}]
[null,null,null,null,{"$f":"IFERROR(GESTION!H135,\" \")","v":0},{"$f":"IFERROR(GESTION!I135,\" \")","v":0},{"$f":"IFERROR(GESTION!J135,\" \")","v":0},null,""]
[null,null,"3. Fortalecer el Sistema integrado de Gestión de la Rama, orientado a la implementación y certificación de las normas antisoborno.","1. Gestionar el desarrollo de las competencias, la toma de conciencia , la cultura  organizacional  y el compromiso de los  servidores judiciales, contratistas, practicantes y  judicantes de contribuir a generar valor público en la administración de justicia, en el marco de  cumplimiento de los requisitos  aplicables y el comportamiento ético.\n3. Fomentar la transparencia y la participación generando lineamientos y promoviendo la rendición de cuentas ,la consulta, reporte y planteamiento de inquietudes en relación con las decisiones y aspectos del SIGCMA.",{"$f":"IFERROR(GESTION!H136,\" \")","v":0},{"$f":"IFERROR(GESTION!I136,\" \")","v":0},{"$f":"IFERROR(GESTION!J136,\" \")","v":0},null,""]
[null,null,null,null,{"$f":"IFERROR(GESTION!H137,\" \")","v":0},{"$f":"IFERROR(GESTION!I137,\" \")","v":0},{"$f":"IFERROR(GESTION!J137,\" \")","v":0},null,""]
[null,null,null,null,{"$f":"IFERROR(GESTION!H138,\" \")","v":0},{"$f":"IFERROR(GESTION!I138,\" \")","v":0},{"$f":"IFERROR(GESTION!J138,\" \")","v":0},null,""]
[null,null,null,null,{"$f":"IFERROR(GESTION!H139,\" \")","v":0},{"$f":"IFERROR(GESTION!I139,\" \")","v":0},{"$f":"IFERROR(GESTION!J139,\" \")","v":0},null,""]
[null,null,null,null,{"$f":"IFERROR(GESTION!H140,\" \")","v":0},{"$f":"IFERROR(GESTION!I140,\" \")","v":0},{"$f":"IFERROR(GESTION!J140,\" \")","v":0},null,""]
[null,null,null,null,{"$f":"IFERROR(GESTION!H141,\" \")","v":0},{"$f":"IFERROR(GESTION!I141,\" \")","v":0},{"$f":"IFERROR(GESTION!J141,\" \")","v":0},null,""]
[null,null,null,null,{"$f":"IFERROR(GESTION!H142,\" \")","v":0},{"$f":"IFERROR(GESTION!I142,\" \")","v":0},{"$f":"IFERROR(GESTION!J142,\" \")","v":0},null,""]
[null,null,null,null,{"$f":"IFERROR(GESTION!H143,\" \")","v":0},{"$f":"IFERROR(GESTION!I143,\" \")","v":0},{"$f":"IFERROR(GESTION!J143,\" \")","v":0},null,""]
[null,null,null,null,{"$f":"IFERROR(GESTION!H144,\" \")","v":0},{"$f":"IFERROR(GESTION!I144,\" \")","v":0},{"$f":"IFERROR(GESTION!J144,\" \")","v":0},null,""]
[null,null,null,null,{"$f":"IFERROR(GESTION!H145,\" \")","v":0},{"$f":"IFERROR(GESTION!I145,\" \")","v":0},{"$f":"IFERROR(GESTION!J145,\" \")","v":0},null,""]
[null,null,"4. Aumentar la confianza, la cercanía y acceso a los servicios de la Rama Judicial a través, entre otros, de una comunicación clara y asertiva con la ciudadanía.","3. Fomentar la transparencia y la participación generando lineamientos y promoviendo la rendición de cuentas ,la consulta, reporte y planteamiento de inquietudes en relación con las decisiones y aspectos del SIGCMA.",{"$f":"IFERROR(GESTION!H146,\" \")","v":"Automatizar trámites y procedimientos a cargo de la Unidad de Asistencia Legal."},{"$f":"IFERROR(GESTION!I146,\" \")","v":"Entregable"},100,50,0.5]
[null,null,null,null,{"$f":"IFERROR(GESTION!H147,\" \")","v":"Automatizar trámites y procedimientos a cargo del Grupo de Sentencias."},{"$f":"IFERROR(GESTION!I147,\" \")","v":"Entregable"},100,15,0.15,null,"Durante el segundo trimestre de 2024, se desarrollaron 3 reuniones con la Unidad de Transformación Dígital y la empresa NUVU partner de AWS en Colombia, donde se realizó la revisión del proceso de análisis de sentencias que se pretenden automatizar,  por parte del Grupo de Sentencias, a su vez se determinó integrar al nuevo desarrollo de inteligencia artificial la consulta de los documentos de identidad con la Registraduría Nacional. Producto de esas reuniones se elaboraron los siguientes documentos: Propuesta Análisis de Sentencias con IA, Flujo Analisis Sentencias y PlanteamientoAnalisisDeSentencias_paraNUVU, lo anterior para estructurar y presentar el proyecto para aprobación. Finalmente en la reunión de fecha 28 de junio de 2024, la Ingeniera Johanna Pimiento dió el aval para seguir adelante con la primera fase de construcción e implementación del proyecto de análisis de sentencias en conjunto con NUVU y se acordó la presentación del plan de trabajo y seguimiento por medio de reuniones quincenales en conjunto con las Unidades de Transformación Digital y Asistencia Legal. "]
[null,null,null,null,{"$f":"IFERROR(GESTION!H149,\" \")","v":"Realizar capacitaciones sobre la política de daño antijurídico (PDA) al plan de acción de la DEAJ, en cumplimiento de los lineamientos establecidos por la Agencia Nacional de Defensa Jurídica del Estado- ANDJE."},"Meta cuantificable",2,0.8,0.4,"Ninguna","La meta para el 2024, es gestionar y realizar 2 capacitaciones en materia de Prevención del Daño Antijurídico. Se reporta avance sobre la gestión adelantada."]
[null,null,null,null,{"$f":"IFERROR(GESTION!H150,\" \")","v":"Ejecutar el presupuesto asignado a la vigencia para el pago de sentencias y conciliaciones"},{"$f":"IFERROR(GESTION!I150,\" \")","v":"Meta cuantificable"},{"$f":"IFERROR(GESTION!J150,\" \")","v":219585},111864,{"$f":"IFERROR(H149/G149,\"\")","v":0.50943370448801151},null,"Durante el primer semestre de 2024, se comprometieron recursos para el pago por valor de 111.864 millones de pesos que corresponde a una ejecución del 56% del total del presupuesto asignado para los rubros de sentencias y conciliaciones"]
[null,null,null,null,{"$f":"IFERROR(GESTION!H151,\" \")","v":"Cumplir con la meta de recaudo en valor fijada por la Dirección Ejecutiva de Administración Judicial."},{"$f":"IFERROR(GESTION!I151,\" \")","v":"Entregable"},{"$f":"IFERROR(GESTION!J151,\" \")","v":15312},8479,0.55374869383490077,null,"La meta de recaudo nacional para el 2024, es de $15.312.921.460. Con corte al 2do. trimestre, el recaudo acumulado es de $8.479.711.929, lo que se traduce en un cumplimiento en la meta de recaudo del 55,38%. El grado de avance a nivel nacional es óptimo, para este período del año. "]
[null,null,null,null,{"$f":"IFERROR(GESTION!H152,\" \")","v":"Cumplir con la meta mínima de procesos con recaudo fijada por la Dirección Ejecutiva de Administración Judicial."},{"$f":"IFERROR(GESTION!I152,\" \")","v":"Meta cuantificable"},{"$f":"IFERROR(GESTION!J152,\" \")","v":4470},2585,0.57829977628635343,null,"Para el 2do. trimestre de 2024, el grado de avance en la cantidad de procesos que registran recaudo, corresponde al 57,83%. Resultado satisfactorio."]
[null,null,null,null,{"$f":"IFERROR(GESTION!H153,\" \")","v":"Realizar búsquedas de datos y de bienes de los deudores en sistemas de información oficiales, con el propósito de persuadirlos para que paguen o celebren acuerdos de pago y determinar si hay lugar al decreto y práctica de medidas cautelares."},{"$f":"IFERROR(GESTION!I153,\" \")","v":"Entregable"},86127,83682,0.971611689714027,null,"Al corte del segundo trimestre de 2024, se registran 86.127 procesos en estado activo, de los cuales, quedaron pendientes por realizarles búsqueda de bienes y de datos, 2.445 procesos, correspondientes al 3%, resultado que es justificable, respecto de los procesos recién aperturados."]
[null,null,null,null,{"$f":"IFERROR(GESTION!H154,\" \")","v":"Hacer seguimiento a la gestión jurídica de los abogados ejecutores, con el fin de identificar que se encuentren en la etapa procesal que les corresponde, y aquellos que no, se les solicita impulsarlos en lo que corresponda."},{"$f":"IFERROR(GESTION!I154,\" \")","v":"Entregable"},86127,86119,0.99990711391317477,null,"Al corte del segundo trimestre de 2024, se registran 86.127 procesos activos, de los cuales solo 8, quedaron pendientes de gestión, resultado que es justificable, respecto de los procesos recién aperturados"]
[null,null,null,null,{"$f":"IFERROR(GESTION!H155,\" \")","v":"Medir el nivel de satisfacción de la asesoría jurídica brindada por Asistencia Legal"},{"$f":"IFERROR(GESTION!I155,\" \")","v":"Meta cuantificable"},{"$f":"IFERROR(GESTION!J155,\" \")","v":3},null,0]
[null,null,"5. Prevenir fenómenos asociados con actos de corrupción en la Rama Judicial y reducir las experiencias de corrupción de usuarios y servidores judiciales.",null,{"$f":"IFERROR(GESTION!H156,\" \")","v":"Emitir conceptos jurídicos sobre temas de importancia jurídica para la Rama Judicial, en la oportunidad requerida"},{"$f":"IFERROR(GESTION!I156,\" \")","v":"Entregable"},{"$f":"IFERROR(GESTION!J156,\" \")","v":0},null,""]
[null,null,null,null,{"$f":"IFERROR(GESTION!H157,\" \")","v":"Atender de forma oportuna los procesos judiciales en contra de la Entidad"},{"$f":"IFERROR(GESTION!I157,\" \")","v":"Entregable"},100,100,1,"Ninguna","Procesos judiciales: atención oportuna en las contestaciones de demandas notificadas en contra de la entidad, según control que se realiza de manera permanente a este tema."]
[null,null,null,null,{"$f":"IFERROR(GESTION!H158,\" \")","v":"Atender de forma oportuna los procesos judiciales de alto impacto en contra de la Entidad"},{"$f":"IFERROR(GESTION!I158,\" \")","v":"Entregable"},100,100,1,"Ninguna","Procesos judiciales: atención oportuna en las contestaciones de demandas notificadas en contra de la entidad, según control que se realiza de manera permanente a este tema."]
[null,null,null,null,{"$f":"IFERROR(GESTION!H159,\" \")","v":"Plan de mejoramiento Sistema Único del Gestión e Información Litigiosa del Estado eKOGUI - ANDJE y Pasivo Contingente Litigioso"},{"$f":"IFERROR(GESTION!I159,\" \")","v":"Meta cuantificable"},{"$f":"IFERROR(GESTION!J159,\" \")","v":4},2,0.5,"Ninguna","No se han configurado hallazgos en relación con la implementación del aplicativo eKOGUI o con el pasivo contingente de los procesos judiciales a cargo de la División de Procesos de la Unidad de Asistencia Legal, razón por la cual no se han elaborado Planes de Mejoramiento ni se encuentran acciones de mejora abiertas, derivadas de auditorías internas o externas."]
[null,null,null,null,{"$f":"IFERROR(GESTION!H160,\" \")","v":0},{"$f":"IFERROR(GESTION!I160,\" \")","v":0},{"$f":"IFERROR(GESTION!J160,\" \")","v":0},null,""]
[null,null,null,null,{"$f":"IFERROR(GESTION!H161,\" \")","v":0},{"$f":"IFERROR(GESTION!I161,\" \")","v":0},{"$f":"IFERROR(GESTION!J161,\" \")","v":0},null,""]
[null,null,null,null,{"$f":"IFERROR(GESTION!H162,\" \")","v":0},{"$f":"IFERROR(GESTION!I162,\" \")","v":0},{"$f":"IFERROR(GESTION!J162,\" \")","v":0},null,""]
[null,null,null,null,{"$f":"IFERROR(GESTION!H163,\" \")","v":0},{"$f":"IFERROR(GESTION!I163,\" \")","v":0},{"$f":"IFERROR(GESTION!J163,\" \")","v":0},null,""]
[null,null,null,null,{"$f":"IFERROR(GESTION!H164,\" \")","v":0},{"$f":"IFERROR(GESTION!I164,\" \")","v":0},{"$f":"IFERROR(GESTION!J164,\" \")","v":0},null,""]
[null,null,null,null,{"$f":"IFERROR(GESTION!H165,\" \")","v":0},{"$f":"IFERROR(GESTION!I165,\" \")","v":0},{"$f":"IFERROR(GESTION!J165,\" \")","v":0},null,""]
[null,null,"6. Promover la rendición de cuentas y la colaboración real con la ciudadanía como fundamento para diseñar acciones de mejoramiento del acceso a la justicia.",null,{"$f":"IFERROR(GESTION!H166,\" \")","v":0},{"$f":"IFERROR(GESTION!I166,\" \")","v":0},{"$f":"IFERROR(GESTION!J166,\" \")","v":0},null,""]
[null,null,null,null,{"$f":"IFERROR(GESTION!H167,\" \")","v":0},{"$f":"IFERROR(GESTION!I167,\" \")","v":0},{"$f":"IFERROR(GESTION!J167,\" \")","v":0},null,""]
[null,null,null,null,{"$f":"IFERROR(GESTION!H168,\" \")","v":0},{"$f":"IFERROR(GESTION!I168,\" \")","v":0},{"$f":"IFERROR(GESTION!J168,\" \")","v":0},null,""]
[null,null,null,null,{"$f":"IFERROR(GESTION!H169,\" \")","v":0},{"$f":"IFERROR(GESTION!I169,\" \")","v":0},{"$f":"IFERROR(GESTION!J169,\" \")","v":0},null,""]
[null,null,null,null,{"$f":"IFERROR(GESTION!H170,\" \")","v":0},{"$f":"IFERROR(GESTION!I170,\" \")","v":0},{"$f":"IFERROR(GESTION!J170,\" \")","v":0},null,""]
[null,null,null,null,{"$f":"IFERROR(GESTION!H171,\" \")","v":0},{"$f":"IFERROR(GESTION!I171,\" \")","v":0},{"$f":"IFERROR(GESTION!J171,\" \")","v":0},null,""]
[null,null,null,null,{"$f":"IFERROR(GESTION!H172,\" \")","v":0},{"$f":"IFERROR(GESTION!I172,\" \")","v":0},{"$f":"IFERROR(GESTION!J172,\" \")","v":0},null,""]
[null,null,null,null,{"$f":"IFERROR(GESTION!H173,\" \")","v":0},{"$f":"IFERROR(GESTION!I173,\" \")","v":0},{"$f":"IFERROR(GESTION!J173,\" \")","v":0},null,""]
[null,null,null,null,{"$f":"IFERROR(GESTION!H174,\" \")","v":0},{"$f":"IFERROR(GESTION!I174,\" \")","v":0},{"$f":"IFERROR(GESTION!J174,\" \")","v":0},null,""]
[null,null,null,null,{"$f":"IFERROR(GESTION!H175,\" \")","v":0},{"$f":"IFERROR(GESTION!I175,\" \")","v":0},{"$f":"IFERROR(GESTION!J175,\" \")","v":0},null,""]
[null,null,"7. Continuar la consolidación del SIGCMA, a través de los procesos de formación en modelos de gestión, logrando la implementación y ampliación de este en los esquemas certificados de manera gradual, teniendo en cuenta las capacidades de los diferentes despachos judiciales y dependencias de la Rama Judicial y articulando el enfoque de Arquitectura Empresarial para el desarrollo del PETD a través de la gestión del conocimiento para la gestión del cambio propendiendo por una cultura de la calidad, la transparencia, la rendición de cuentas, la anticorrupción y el antisoborno","1. Gestionar el desarrollo de las competencias, la toma de conciencia , la cultura  organizacional  y el compromiso de los  servidores judiciales, contratistas, practicantes y  judicantes de contribuir a generar valor público en la administración de justicia, en el marco de  cumplimiento de los requisitos  aplicables y el comportamiento ético.\n4. Hacer un uso racional de los recursos naturales aplicando los principios y fases de la Economía Circular, para prevenir, mitigar y controlar los impactos ambientales.",{"$f":"IFERROR(GESTION!H176,\" \")","v":0},{"$f":"IFERROR(GESTION!I176,\" \")","v":0},{"$f":"IFERROR(GESTION!J176,\" \")","v":0},null,""]
[null,null,null,null,{"$f":"IFERROR(GESTION!H177,\" \")","v":0},{"$f":"IFERROR(GESTION!I177,\" \")","v":0},{"$f":"IFERROR(GESTION!J177,\" \")","v":0},null,""]
[null,null,null,null,{"$f":"IFERROR(GESTION!H178,\" \")","v":0},{"$f":"IFERROR(GESTION!I178,\" \")","v":0},{"$f":"IFERROR(GESTION!J178,\" \")","v":0},null,""]
[null,null,null,null,{"$f":"IFERROR(GESTION!H179,\" \")","v":0},{"$f":"IFERROR(GESTION!I179,\" \")","v":0},{"$f":"IFERROR(GESTION!J179,\" \")","v":0},null,""]
[null,null,null,null,{"$f":"IFERROR(GESTION!H180,\" \")","v":0},{"$f":"IFERROR(GESTION!I180,\" \")","v":0},{"$f":"IFERROR(GESTION!J180,\" \")","v":0},null,""]
[null,null,null,null,{"$f":"IFERROR(GESTION!H181,\" \")","v":0},{"$f":"IFERROR(GESTION!I181,\" \")","v":0},{"$f":"IFERROR(GESTION!J181,\" \")","v":0},null,""]
[null,null,null,null,{"$f":"IFERROR(GESTION!H182,\" \")","v":0},{"$f":"IFERROR(GESTION!I182,\" \")","v":0},{"$f":"IFERROR(GESTION!J182,\" \")","v":0},null,""]
[null,null,null,null,{"$f":"IFERROR(GESTION!H183,\" \")","v":0},{"$f":"IFERROR(GESTION!I183,\" \")","v":0},{"$f":"IFERROR(GESTION!J183,\" \")","v":0},null,""]
[null,null,null,null,{"$f":"IFERROR(GESTION!H184,\" \")","v":0},{"$f":"IFERROR(GESTION!I184,\" \")","v":0},{"$f":"IFERROR(GESTION!J184,\" \")","v":0},null,""]
[null,null,null,null,{"$f":"IFERROR(GESTION!H185,\" \")","v":0},{"$f":"IFERROR(GESTION!I185,\" \")","v":0},{"$f":"IFERROR(GESTION!J185,\" \")","v":0},null,""]
["4. Talento Humano","Talento Humano: Fortalecer el talento humano en la Rama Judicial para que sea eficiente, capacitado y realice su labor en ambientes saludables y seguros. Ampliar la cobertura de la carrera judicial y mejorar la oferta de formación, que esté disponible para todos los servidores judiciales e impacte positivamente el servicio de justicia y responda a las necesidades reales del ejercicio de la función judicial.","1. Ampliar la cobertura de la carrera judicial optimizando los procesos de los concursos de méritos y propender por mitigar su litigiosidad.","1. Gestionar el desarrollo de las competencias, la toma de conciencia , la cultura  organizacional  y el compromiso de los  servidores judiciales, contratistas, practicantes y  judicantes de contribuir a generar valor público en la administración de justicia, en el marco de  cumplimiento de los requisitos  aplicables y el comportamiento ético.",{"$f":"IFERROR(GESTION!H186,\" \")","v":0},{"$f":"IFERROR(GESTION!I186,\" \")","v":0},{"$f":"IFERROR(GESTION!J186,\" \")","v":0},null,""]
[null,null,null,null,{"$f":"IFERROR(GESTION!H187,\" \")","v":0},{"$f":"IFERROR(GESTION!I187,\" \")","v":0},{"$f":"IFERROR(GESTION!J187,\" \")","v":0},null,""]
[null,null,null,null,{"$f":"IFERROR(GESTION!H188,\" \")","v":0},{"$f":"IFERROR(GESTION!I188,\" \")","v":0},{"$f":"IFERROR(GESTION!J188,\" \")","v":0},null,""]
[null,null,null,null,{"$f":"IFERROR(GESTION!H189,\" \")","v":0},{"$f":"IFERROR(GESTION!I189,\" \")","v":0},{"$f":"IFERROR(GESTION!J189,\" \")","v":0},null,""]
[null,null,null,null,{"$f":"IFERROR(GESTION!H190,\" \")","v":0},{"$f":"IFERROR(GESTION!I190,\" \")","v":0},{"$f":"IFERROR(GESTION!J190,\" \")","v":0},null,""]
[null,null,null,null,{"$f":"IFERROR(GESTION!H191,\" \")","v":0},{"$f":"IFERROR(GESTION!I191,\" \")","v":0},{"$f":"IFERROR(GESTION!J191,\" \")","v":0},null,""]
[null,null,null,null,{"$f":"IFERROR(GESTION!H192,\" \")","v":0},{"$f":"IFERROR(GESTION!I192,\" \")","v":0},{"$f":"IFERROR(GESTION!J192,\" \")","v":0},null,""]
[null,null,null,null,{"$f":"IFERROR(GESTION!H193,\" \")","v":0},{"$f":"IFERROR(GESTION!I193,\" \")","v":0},{"$f":"IFERROR(GESTION!J193,\" \")","v":0},null,""]
[null,null,null,null,{"$f":"IFERROR(GESTION!H194,\" \")","v":0},{"$f":"IFERROR(GESTION!I194,\" \")","v":0},{"$f":"IFERROR(GESTION!J194,\" \")","v":0},null,""]
[null,null,null,null,{"$f":"IFERROR(GESTION!H195,\" \")","v":0},{"$f":"IFERROR(GESTION!I195,\" \")","v":0},{"$f":"IFERROR(GESTION!J195,\" \")","v":0},null,""]
[null,null,"2. Impactar la función y servicios que presta la Rama Judicial, a través de una formación integral desde una visión de gestión del conocimiento, relacionada con los problemas de la justicia y los problemas de gestión de quienes administran los recursos de la justicia, y potenciando el uso de medios virtuales.",null,{"$f":"IFERROR(GESTION!H196,\" \")","v":0},{"$f":"IFERROR(GESTION!I196,\" \")","v":0},{"$f":"IFERROR(GESTION!J196,\" \")","v":0},null,""]
[null,null,null,null,{"$f":"IFERROR(GESTION!H197,\" \")","v":0},{"$f":"IFERROR(GESTION!I197,\" \")","v":0},{"$f":"IFERROR(GESTION!J197,\" \")","v":0},null,""]
[null,null,null,null,{"$f":"IFERROR(GESTION!H198,\" \")","v":0},{"$f":"IFERROR(GESTION!I198,\" \")","v":0},{"$f":"IFERROR(GESTION!J198,\" \")","v":0},null,{"$f":"IFERROR(H197/G197,\"\")","v":""}]
[null,null,null,null,{"$f":"IFERROR(GESTION!H199,\" \")","v":0},{"$f":"IFERROR(GESTION!I199,\" \")","v":0},{"$f":"IFERROR(GESTION!J199,\" \")","v":0},null,""]
[null,null,null,null,{"$f":"IFERROR(GESTION!H200,\" \")","v":0},{"$f":"IFERROR(GESTION!I200,\" \")","v":0},{"$f":"IFERROR(GESTION!J200,\" \")","v":0},null,""]
[null,null,null,null,{"$f":"IFERROR(GESTION!H201,\" \")","v":0},{"$f":"IFERROR(GESTION!I201,\" \")","v":0},{"$f":"IFERROR(GESTION!J201,\" \")","v":0},null,""]
[null,null,null,null,{"$f":"IFERROR(GESTION!H202,\" \")","v":0},{"$f":"IFERROR(GESTION!I202,\" \")","v":0},{"$f":"IFERROR(GESTION!J202,\" \")","v":0},null,""]
[null,null,null,null,{"$f":"IFERROR(GESTION!H203,\" \")","v":0},{"$f":"IFERROR(GESTION!I203,\" \")","v":0},{"$f":"IFERROR(GESTION!J203,\" \")","v":0},null,""]
[null,null,null,null,{"$f":"IFERROR(GESTION!H204,\" \")","v":0},{"$f":"IFERROR(GESTION!I204,\" \")","v":0},{"$f":"IFERROR(GESTION!J204,\" \")","v":0},null,""]
[null,null,null,null,{"$f":"IFERROR(GESTION!H205,\" \")","v":0},{"$f":"IFERROR(GESTION!I205,\" \")","v":0},{"$f":"IFERROR(GESTION!J205,\" \")","v":0},null,""]
[null,null,"3. Promover la incorporación de la perspectiva de género y el enfoque diferencial en los fallos judiciales y en la atención a los ciudadanos, la administración de la Rama Judicial, la administración de la carrera judicial y la elaboración de listas para altas Cortes. ",null,{"$f":"IFERROR(GESTION!H206,\" \")","v":0},{"$f":"IFERROR(GESTION!I206,\" \")","v":0},{"$f":"IFERROR(GESTION!J206,\" \")","v":0},null,""]
[null,null,null,null,{"$f":"IFERROR(GESTION!H207,\" \")","v":0},{"$f":"IFERROR(GESTION!I207,\" \")","v":0},{"$f":"IFERROR(GESTION!J207,\" \")","v":0},null,""]
[null,null,null,null,{"$f":"IFERROR(GESTION!H208,\" \")","v":0},{"$f":"IFERROR(GESTION!I208,\" \")","v":0},{"$f":"IFERROR(GESTION!J208,\" \")","v":0},null,""]
[null,null,null,null,{"$f":"IFERROR(GESTION!H209,\" \")","v":0},{"$f":"IFERROR(GESTION!I209,\" \")","v":0},{"$f":"IFERROR(GESTION!J209,\" \")","v":0},null,""]
[null,null,null,null,{"$f":"IFERROR(GESTION!H210,\" \")","v":0},{"$f":"IFERROR(GESTION!I210,\" \")","v":0},{"$f":"IFERROR(GESTION!J210,\" \")","v":0},null,""]
[null,null,null,null,{"$f":"IFERROR(GESTION!H211,\" \")","v":0},{"$f":"IFERROR(GESTION!I211,\" \")","v":0},{"$f":"IFERROR(GESTION!J211,\" \")","v":0},null,""]
[null,null,null,null,{"$f":"IFERROR(GESTION!H212,\" \")","v":0},{"$f":"IFERROR(GESTION!I212,\" \")","v":0},{"$f":"IFERROR(GESTION!J212,\" \")","v":0},null,""]
[null,null,null,null,{"$f":"IFERROR(GESTION!H213,\" \")","v":0},{"$f":"IFERROR(GESTION!I213,\" \")","v":0},{"$f":"IFERROR(GESTION!J213,\" \")","v":0},null,""]
[null,null,null,null,{"$f":"IFERROR(GESTION!H214,\" \")","v":0},{"$f":"IFERROR(GESTION!I214,\" \")","v":0},{"$f":"IFERROR(GESTION!J214,\" \")","v":0},null,""]
[null,null,null,null,{"$f":"IFERROR(GESTION!H215,\" \")","v":0},{"$f":"IFERROR(GESTION!I215,\" \")","v":0},{"$f":"IFERROR(GESTION!J215,\" \")","v":0},null,""]
[null,null,"4. Desarrollar en los servidores judiciales y demás grupos de valor relevantes las competencias necesarias para la efectividad de la transformación digital de modo que puedan, entre otros, utilizar con solvencia las herramientas digitales dispuestas para sus respectivas funciones. Además, fortalecer y actualizar los conocimientos del personal a cargo de la gestión de proyectos de tecnología.",null,{"$f":"IFERROR(GESTION!H216,\" \")","v":0},{"$f":"IFERROR(GESTION!I216,\" \")","v":0},{"$f":"IFERROR(GESTION!J216,\" \")","v":0},null,""]
[null,null,null,null,{"$f":"IFERROR(GESTION!H217,\" \")","v":0},{"$f":"IFERROR(GESTION!I217,\" \")","v":0},{"$f":"IFERROR(GESTION!J217,\" \")","v":0},null,""]
[null,null,null,null,{"$f":"IFERROR(GESTION!H218,\" \")","v":0},{"$f":"IFERROR(GESTION!I218,\" \")","v":0},{"$f":"IFERROR(GESTION!J218,\" \")","v":0},null,""]
[null,null,null,null,{"$f":"IFERROR(GESTION!H219,\" \")","v":0},{"$f":"IFERROR(GESTION!I219,\" \")","v":0},{"$f":"IFERROR(GESTION!J219,\" \")","v":0},null,""]
[null,null,null,null,{"$f":"IFERROR(GESTION!H220,\" \")","v":0},{"$f":"IFERROR(GESTION!I220,\" \")","v":0},{"$f":"IFERROR(GESTION!J220,\" \")","v":0},null,""]
[null,null,null,null,{"$f":"IFERROR(GESTION!H221,\" \")","v":0},{"$f":"IFERROR(GESTION!I221,\" \")","v":0},{"$f":"IFERROR(GESTION!J221,\" \")","v":0},null,""]
[null,null,null,null,{"$f":"IFERROR(GESTION!H222,\" \")","v":0},{"$f":"IFERROR(GESTION!I222,\" \")","v":0},{"$f":"IFERROR(GESTION!J222,\" \")","v":0},null,""]
[null,null,null,null,{"$f":"IFERROR(GESTION!H223,\" \")","v":0},{"$f":"IFERROR(GESTION!I223,\" \")","v":0},{"$f":"IFERROR(GESTION!J223,\" \")","v":0},null,""]
[null,null,null,null,{"$f":"IFERROR(GESTION!H224,\" \")","v":0},{"$f":"IFERROR(GESTION!I224,\" \")","v":0},{"$f":"IFERROR(GESTION!J224,\" \")","v":0},null,""]
[null,null,null,null,{"$f":"IFERROR(GESTION!H225,\" \")","v":0},{"$f":"IFERROR(GESTION!I225,\" \")","v":0},{"$f":"IFERROR(GESTION!J225,\" \")","v":0},null,""]
[null,null,"5. Promover el bienestar de todos los servidores judiciales a través de la implementación de un sistema que contemple los diferentes niveles de estrategias y acciones necesarios para mejorar el clima laboral, la salud física y mental y la calidad del tiempo de descanso.","5. Generar espacios de trabajo seguros y saludables que contribuyan a minimizar los  incidentes, accidentes y enfermedades laborales derivados de las condiciones y actos  inseguros y fomentar  el autocuidado, los  estilos de vida y el trabajo saludable en los servidores judiciales, contratistas, judicantes y practicantes",{"$f":"IFERROR(GESTION!H226,\" \")","v":0},{"$f":"IFERROR(GESTION!I226,\" \")","v":0},{"$f":"IFERROR(GESTION!J226,\" \")","v":0},null,""]
[null,null,null,null,{"$f":"IFERROR(GESTION!H227,\" \")","v":0},{"$f":"IFERROR(GESTION!I227,\" \")","v":0},{"$f":"IFERROR(GESTION!J227,\" \")","v":0},null,""]
[null,null,null,null,{"$f":"IFERROR(GESTION!H228,\" \")","v":0},{"$f":"IFERROR(GESTION!I228,\" \")","v":0},{"$f":"IFERROR(GESTION!J228,\" \")","v":0},null,""]
[null,null,null,null,{"$f":"IFERROR(GESTION!H229,\" \")","v":0},{"$f":"IFERROR(GESTION!I229,\" \")","v":0},{"$f":"IFERROR(GESTION!J229,\" \")","v":0},null,""]
[null,null,null,null,{"$f":"IFERROR(GESTION!H230,\" \")","v":0},{"$f":"IFERROR(GESTION!I230,\" \")","v":0},{"$f":"IFERROR(GESTION!J230,\" \")","v":0},null,""]
[null,null,null,null,{"$f":"IFERROR(GESTION!H231,\" \")","v":0},{"$f":"IFERROR(GESTION!I231,\" \")","v":0},{"$f":"IFERROR(GESTION!J231,\" \")","v":0},null,""]
[null,null,null,null,{"$f":"IFERROR(GESTION!H232,\" \")","v":0},{"$f":"IFERROR(GESTION!I232,\" \")","v":0},{"$f":"IFERROR(GESTION!J232,\" \")","v":0},null,""]
[null,null,null,null,{"$f":"IFERROR(GESTION!H233,\" \")","v":0},{"$f":"IFERROR(GESTION!I233,\" \")","v":0},{"$f":"IFERROR(GESTION!J233,\" \")","v":0},null,""]
[null,null,null,null,{"$f":"IFERROR(GESTION!H234,\" \")","v":0},{"$f":"IFERROR(GESTION!I234,\" \")","v":0},{"$f":"IFERROR(GESTION!J234,\" \")","v":0},null,""]
[null,null,null,null,{"$f":"IFERROR(GESTION!H235,\" \")","v":0},{"$f":"IFERROR(GESTION!I235,\" \")","v":0},{"$f":"IFERROR(GESTION!J235,\" \")","v":0},null,""]
["5. Gobernanza, planeación estratégica y capacidad de toma de decisiones","Gobernanza, planeación estratégica y capacidad de toma de decisiones: Fortalecer la gobernanza, la planeación estratégica y la capacidad de toma de decisiones de la Rama Judicial con base en la evidencia empírica y la articulación efectiva con las demás entidades, para que la perspectiva de género y el enfoque diferencial sean transversales en el presente plan. ","1. Implementar un nuevo modelo integrado para la planeación estratégica, el seguimiento y la medición del desempeño institucional.","2. Asegurar  el cumplimiento de los objetivos institucionales, la normatividad aplicable,  la mejora del SIGCMA y la satisfacción de los usuarios, revisando de  forma continua y sistemática la planificación de la gestión y fortaleciendo la administración de riesgos y sus controles.",{"$f":"IFERROR(GESTION!H236,\" \")","v":0},{"$f":"IFERROR(GESTION!I236,\" \")","v":0},{"$f":"IFERROR(GESTION!J236,\" \")","v":0},null,""]
[null,null,null,null,{"$f":"IFERROR(GESTION!H237,\" \")","v":0},{"$f":"IFERROR(GESTION!I237,\" \")","v":0},{"$f":"IFERROR(GESTION!J237,\" \")","v":0},null,""]
[null,null,null,null,{"$f":"IFERROR(GESTION!H238,\" \")","v":0},{"$f":"IFERROR(GESTION!I238,\" \")","v":0},{"$f":"IFERROR(GESTION!J238,\" \")","v":0},null,""]
[null,null,null,null,{"$f":"IFERROR(GESTION!H239,\" \")","v":0},{"$f":"IFERROR(GESTION!I239,\" \")","v":0},{"$f":"IFERROR(GESTION!J239,\" \")","v":0},null,""]
[null,null,null,null,{"$f":"IFERROR(GESTION!H240,\" \")","v":0},{"$f":"IFERROR(GESTION!I240,\" \")","v":0},{"$f":"IFERROR(GESTION!J240,\" \")","v":0},null,""]
[null,null,null,null,{"$f":"IFERROR(GESTION!H241,\" \")","v":0},{"$f":"IFERROR(GESTION!I241,\" \")","v":0},{"$f":"IFERROR(GESTION!J241,\" \")","v":0},null,""]
[null,null,null,null,{"$f":"IFERROR(GESTION!H242,\" \")","v":0},{"$f":"IFERROR(GESTION!I242,\" \")","v":0},{"$f":"IFERROR(GESTION!J242,\" \")","v":0},null,""]
[null,null,null,null,{"$f":"IFERROR(GESTION!H243,\" \")","v":0},{"$f":"IFERROR(GESTION!I243,\" \")","v":0},{"$f":"IFERROR(GESTION!J243,\" \")","v":0},null,""]
[null,null,null,null,{"$f":"IFERROR(GESTION!H244,\" \")","v":0},{"$f":"IFERROR(GESTION!I244,\" \")","v":0},{"$f":"IFERROR(GESTION!J244,\" \")","v":0},null,""]
[null,null,null,null,{"$f":"IFERROR(GESTION!H245,\" \")","v":0},{"$f":"IFERROR(GESTION!I245,\" \")","v":0},{"$f":"IFERROR(GESTION!J245,\" \")","v":0},null,""]
[null,null,"2. Definir e implementar el modelo optimizado de formulación, seguimiento y evaluación de la política pública judicial.",null,{"$f":"IFERROR(GESTION!H246,\" \")","v":0},{"$f":"IFERROR(GESTION!I246,\" \")","v":0},{"$f":"IFERROR(GESTION!J246,\" \")","v":0},null,""]
[null,null,null,null,{"$f":"IFERROR(GESTION!H247,\" \")","v":0},{"$f":"IFERROR(GESTION!I247,\" \")","v":0},{"$f":"IFERROR(GESTION!J247,\" \")","v":0},null,""]
[null,null,null,null,{"$f":"IFERROR(GESTION!H248,\" \")","v":0},{"$f":"IFERROR(GESTION!I248,\" \")","v":0},{"$f":"IFERROR(GESTION!J248,\" \")","v":0},null,""]
[null,null,null,null,{"$f":"IFERROR(GESTION!H249,\" \")","v":0},{"$f":"IFERROR(GESTION!I249,\" \")","v":0},{"$f":"IFERROR(GESTION!J249,\" \")","v":0},null,""]
[null,null,null,null,{"$f":"IFERROR(GESTION!H250,\" \")","v":0},{"$f":"IFERROR(GESTION!I250,\" \")","v":0},{"$f":"IFERROR(GESTION!J250,\" \")","v":0},null,""]
[null,null,null,null,{"$f":"IFERROR(GESTION!H251,\" \")","v":0},{"$f":"IFERROR(GESTION!I251,\" \")","v":0},{"$f":"IFERROR(GESTION!J251,\" \")","v":0},null,""]
[null,null,null,null,{"$f":"IFERROR(GESTION!H252,\" \")","v":0},{"$f":"IFERROR(GESTION!I252,\" \")","v":0},{"$f":"IFERROR(GESTION!J252,\" \")","v":0},null,""]
[null,null,null,null,{"$f":"IFERROR(GESTION!H253,\" \")","v":0},{"$f":"IFERROR(GESTION!I253,\" \")","v":0},{"$f":"IFERROR(GESTION!J253,\" \")","v":0},null,""]
[null,null,null,null,{"$f":"IFERROR(GESTION!H254,\" \")","v":0},{"$f":"IFERROR(GESTION!I254,\" \")","v":0},{"$f":"IFERROR(GESTION!J254,\" \")","v":0},null,""]
[null,null,null,null,{"$f":"IFERROR(GESTION!H255,\" \")","v":0},{"$f":"IFERROR(GESTION!I255,\" \")","v":0},{"$f":"IFERROR(GESTION!J255,\" \")","v":0},null,""]

{"sheet":"GESTION_SEG_1_TRIM","index":8,"n_rows":255,"n_cols":11,"rows_kept":255,"cut":false,"hidden":false,"merged":[[25,2,34,2],[25,3,34,3],[35,2,44,2],[35,3,44,3],[1,0,1,10],[2,0,2,3],[2,4,2,9],[2,10,4,10],[3,0,4,1],[3,2,4,2],[3,3,4,3],[3,4,3,9],[45,2,54,2],[45,3,54,3],[55,0,114,0],[55,1,114,1],[55,2,64,2],[55,3,114,3],[65,2,74,2],[75,2,84,2],[85,2,94,2],[95,2,104,2],[5,0,54,0],[5,1,54,1],[5,2,14,2],[5,3,14,3],[15,2,24,2],[15,3,24,3],[105,2,114,2],[115,0,184,0],[115,1,184,1],[115,2,124,2],[115,3,124,3],[125,2,134,2],[125,3,134,3],[135,2,144,2],[135,3,144,3],[145,2,154,2],[145,3,174,3],[155,2,164,2],[165,2,174,2],[175,2,184,2],[175,3,184,3],[205,2,214,2],[215,2,224,2],[225,2,234,2],[225,3,234,3],[235,0,254,0],[235,1,254,1],[235,2,244,2],[235,3,254,3],[245,2,254,2],[185,0,234,0],[185,1,234,1],[185,2,194,2],[185,3,224,3],[195,2,204,2]]}
[]
["CONSEJO SUPERIOR DE LA JUDICATURA \nUNIDADES MISIONALES DEL CONSEJO SUPERIOR DE LA JUDICATURA - \nDIRECCIÓN EJECUTIVA DE ADMINISTRACIÓN JUDICIAL - UNIDADES MISIONALES DE LA DEAJ\nDIRECCIONES SECCIONALES DE ADMINISTRACIÓN JUDICIAL - DEPENDENCIAS JUDICIALES CERTIFICADAS"]
["PLAN SECTORIAL DE DESARROLLO 2023-2026 - OBJETIVOS SIGCMA",null,null,null,null,null,null,null,null,null," ANÁLISIS RESULTADO"]
["OBJETIVO ESTRATÉGICO",null,"OBJETIVO ESPECÍFICO PSD","OBJETIVO ESPECÍFICO SIGCMA","MEDICIÓN DE LA GESTIÓN ANUAL"]
[null,null,null,null,"ACTIVIDADES ","INDIQUE SI ES ENTREGABLE O META CUANTIFICABLE","META ANUAL","AVANCE DE LA META ","NIVEL CUMPLIMIENTO","DIFICULTADES PARA LOGRAR LA META PROPUESTA"]
["1. Acceso e Infraestructura Física","Acceso e Infraestructura Física: Ampliar, en todo el territorio nacional, el acceso a una justicia efectiva, pronta, equitativa e incluyente, reduciendo el atraso y la congestión, de acuerdo con las necesidades de la demanda de justicia por jurisdicción y especialidad, y mejorando la articulación con la justicia restaurativa y terapéutica, y otros mecanismos de solución de conflictos y consolidando una infraestructura física óptima para el acceso a la justicia.","1. Ampliar el acceso a justicia para atender las necesidades jurídicas de los ciudadanos con un enfoque diferencial, de una manera pronta, reduciendo las inequidades y las brechas territoriales de acceso.","2. Asegurar  el cumplimiento de los objetivos institucionales, la normatividad aplicable,  la mejora del SIGCMA y la satisfacción de los usuarios, revisando de  forma continua y sistemática la planificación de la gestión y fortaleciendo la administración de riesgos y sus controles",{"$f":"IFERROR(GESTION!H6,\" \")","v":0},{"$f":"IFERROR(GESTION!I6,\" \")","v":0},{"$f":"IFERROR(GESTION!J6,\" \")","v":0},null,{"$f":"IFERROR(H6/G6,\"\")","v":""}]
[null,null,null,null,{"$f":"IFERROR(GESTION!H7,\" \")","v":0},{"$f":"IFERROR(GESTION!I7,\" \")","v":0},{"$f":"IFERROR(GESTION!J7,\" \")","v":0},null,""]
[null,null,null,null,{"$f":"IFERROR(GESTION!H8,\" \")","v":0},{"$f":"IFERROR(GESTION!I8,\" \")","v":0},{"$f":"IFERROR(GESTION!J8,\" \")","v":0},null,""]
[null,null,null,null,{"$f":"IFERROR(GESTION!H9,\" \")","v":0},{"$f":"IFERROR(GESTION!I9,\" \")","v":0},{"$f":"IFERROR(GESTION!J9,\" \")","v":0},null,""]
[null,null,null,null,{"$f":"IFERROR(GESTION!H10,\" \")","v":0},{"$f":"IFERROR(GESTION!I10,\" \")","v":0},{"$f":"IFERROR(GESTION!J10,\" \")","v":0},null,""]
[null,null,null,null,{"$f":"IFERROR(GESTION!H11,\" \")","v":0},{"$f":"IFERROR(GESTION!I11,\" \")","v":0},{"$f":"IFERROR(GESTION!J11,\" \")","v":0},null,""]
[null,null,null,null,{"$f":"IFERROR(GESTION!H12,\" \")","v":0},{"$f":"IFERROR(GESTION!I12,\" \")","v":0},{"$f":"IFERROR(GESTION!J12,\" \")","v":0},null,""]
[null,null,null,null,{"$f":"IFERROR(GESTION!H13,\" \")","v":0},{"$f":"IFERROR(GESTION!I13,\" \")","v":0},{"$f":"IFERROR(GESTION!J13,\" \")","v":0},null,""]
[null,null,null,null,{"$f":"IFERROR(GESTION!H14,\" \")","v":0},{"$f":"IFERROR(GESTION!I14,\" \")","v":0},{"$f":"IFERROR(GESTION!J14,\" \")","v":0},null,""]
[null,null,null,null,{"$f":"IFERROR(GESTION!H15,\" \")","v":0},{"$f":"IFERROR(GESTION!I15,\" \")","v":0},{"$f":"IFERROR(GESTION!J15,\" \")","v":0},null,""]
[null,null,"2. Mejorar los tiempos de respuesta de la Rama Judicial y reducir el inventario de procesos, identificando los retos internos y promoviendo tanto acciones articuladas específicas para abordarlos como estrategias coordinadas para enfrentar las barreras que dependen de otras entidades.","2. Asegurar  el cumplimiento de los objetivos institucionales, la normatividad aplicable,  la mejora del SIGCMA y la satisfacción de los usuarios, revisando de  forma continua y sistemática la planificación de la gestión y fortaleciendo la administración de riesgos y sus controles",{"$f":"IFERROR(GESTION!H16,\" \")","v":0},{"$f":"IFERROR(GESTION!I16,\" \")","v":0},{"$f":"IFERROR(GESTION!J16,\" \")","v":0},null,""]
[null,null,null,null,{"$f":"IFERROR(GESTION!H17,\" \")","v":0},{"$f":"IFERROR(GESTION!I17,\" \")","v":0},{"$f":"IFERROR(GESTION!J17,\" \")","v":0},null,""]
[null,null,null,null,{"$f":"IFERROR(GESTION!H18,\" \")","v":0},{"$f":"IFERROR(GESTION!I18,\" \")","v":0},{"$f":"IFERROR(GESTION!J18,\" \")","v":0},null,""]
[null,null,null,null,{"$f":"IFERROR(GESTION!H19,\" \")","v":0},{"$f":"IFERROR(GESTION!I19,\" \")","v":0},{"$f":"IFERROR(GESTION!J19,\" \")","v":0},null,""]
[null,null,null,null,{"$f":"IFERROR(GESTION!H20,\" \")","v":0},{"$f":"IFERROR(GESTION!I20,\" \")","v":0},{"$f":"IFERROR(GESTION!J20,\" \")","v":0},null,""]
[null,null,null,null,{"$f":"IFERROR(GESTION!H21,\" \")","v":0},{"$f":"IFERROR(GESTION!I21,\" \")","v":0},{"$f":"IFERROR(GESTION!J21,\" \")","v":0},null,""]
[null,null,null,null,{"$f":"IFERROR(GESTION!H22,\" \")","v":0},{"$f":"IFERROR(GESTION!I22,\" \")","v":0},{"$f":"IFERROR(GESTION!J22,\" \")","v":0},null,""]
[null,null,null,null,{"$f":"IFERROR(GESTION!H23,\" \")","v":0},{"$f":"IFERROR(GESTION!I23,\" \")","v":0},{"$f":"IFERROR(GESTION!J23,\" \")","v":0},null,""]
[null,null,null,null,{"$f":"IFERROR(GESTION!H24,\" \")","v":0},{"$f":"IFERROR(GESTION!I24,\" \")","v":0},{"$f":"IFERROR(GESTION!J24,\" \")","v":0},null,""]
[null,null,null,null,{"$f":"IFERROR(GESTION!H25,\" \")","v":0},{"$f":"IFERROR(GESTION!I25,\" \")","v":0},{"$f":"IFERROR(GESTION!J25,\" \")","v":0},null,""]
[null,null,"3. Coadyuvar en la garantía de la idoneidad en el ejercicio de la profesión jurídica de acuerdo con lo establecido en la Ley 1905 de 2018","2. Asegurar  el cumplimiento de los objetivos institucionales, la normatividad aplicable,  la mejora del SIGCMA y la satisfacción de los usuarios, revisando de  forma continua y sistemática la planificación de la gestión y fortaleciendo la administración de riesgos y sus controles",{"$f":"IFERROR(GESTION!H26,\" \")","v":0},{"$f":"IFERROR(GESTION!I26,\" \")","v":0},{"$f":"IFERROR(GESTION!J26,\" \")","v":0},null,""]
[null,null,null,null,{"$f":"IFERROR(GESTION!H27,\" \")","v":0},{"$f":"IFERROR(GESTION!I27,\" \")","v":0},{"$f":"IFERROR(GESTION!J27,\" \")","v":0},null,""]
[null,null,null,null,{"$f":"IFERROR(GESTION!H28,\" \")","v":0},{"$f":"IFERROR(GESTION!I28,\" \")","v":0},{"$f":"IFERROR(GESTION!J28,\" \")","v":0},null,""]
[null,null,null,null,{"$f":"IFERROR(GESTION!H29,\" \")","v":0},{"$f":"IFERROR(GESTION!I29,\" \")","v":0},{"$f":"IFERROR(GESTION!J29,\" \")","v":0},null,""]
[null,null,null,null,{"$f":"IFERROR(GESTION!H30,\" \")","v":0},{"$f":"IFERROR(GESTION!I30,\" \")","v":0},{"$f":"IFERROR(GESTION!J30,\" \")","v":0},null,""]
[null,null,null,null,{"$f":"IFERROR(GESTION!H31,\" \")","v":0},{"$f":"IFERROR(GESTION!I31,\" \")","v":0},{"$f":"IFERROR(GESTION!J31,\" \")","v":0},null,""]
[null,null,null,null,{"$f":"IFERROR(GESTION!H32,\" \")","v":0},{"$f":"IFERROR(GESTION!I32,\" \")","v":0},{"$f":"IFERROR(GESTION!J32,\" \")","v":0},null,""]
[null,null,null,null,{"$f":"IFERROR(GESTION!H33,\" \")","v":0},{"$f":"IFERROR(GESTION!I33,\" \")","v":0},{"$f":"IFERROR(GESTION!J33,\" \")","v":0},null,""]
[null,null,null,null,{"$f":"IFERROR(GESTION!H34,\" \")","v":0},{"$f":"IFERROR(GESTION!I34,\" \")","v":0},{"$f":"IFERROR(GESTION!J34,\" \")","v":0},null,""]
[null,null,null,null,{"$f":"IFERROR(GESTION!H35,\" \")","v":0},{"$f":"IFERROR(GESTION!I35,\" \")","v":0},{"$f":"IFERROR(GESTION!J35,\" \")","v":0},null,""]
[null,null,"4. Avanzar en la disposición de una infraestructura óptima para el acceso a la justicia en la Rama Judicial de modo que se fortalezca la presencia territorial, teniendo en cuenta las posibilidades que ofrece la transformación digital y las necesidades que se derivan de ella, y considerando tanto las necesidades de los usuarios como las de los servidores judiciales.","4. Hacer un uso racional de los recursos naturales aplicando los principios y fases de la Economía Circular, para prevenir, mitigar y controlar los impactos ambientales",{"$f":"IFERROR(GESTION!H36,\" \")","v":0},{"$f":"IFERROR(GESTION!I36,\" \")","v":0},{"$f":"IFERROR(GESTION!J36,\" \")","v":0},null,""]
[null,null,null,null,{"$f":"IFERROR(GESTION!H37,\" \")","v":0},{"$f":"IFERROR(GESTION!I37,\" \")","v":0},{"$f":"IFERROR(GESTION!J37,\" \")","v":0},null,""]
[null,null,null,null,{"$f":"IFERROR(GESTION!H38,\" \")","v":0},{"$f":"IFERROR(GESTION!I38,\" \")","v":0},{"$f":"IFERROR(GESTION!J38,\" \")","v":0},null,""]
[null,null,null,null,{"$f":"IFERROR(GESTION!H39,\" \")","v":0},{"$f":"IFERROR(GESTION!I39,\" \")","v":0},{"$f":"IFERROR(GESTION!J39,\" \")","v":0},null,""]
[null,null,null,null,{"$f":"IFERROR(GESTION!H40,\" \")","v":0},{"$f":"IFERROR(GESTION!I40,\" \")","v":0},{"$f":"IFERROR(GESTION!J40,\" \")","v":0},null,""]
[null,null,null,null,{"$f":"IFERROR(GESTION!H41,\" \")","v":0},{"$f":"IFERROR(GESTION!I41,\" \")","v":0},{"$f":"IFERROR(GESTION!J41,\" \")","v":0},null,""]
[null,null,null,null,{"$f":"IFERROR(GESTION!H42,\" \")","v":0},{"$f":"IFERROR(GESTION!I42,\" \")","v":0},{"$f":"IFERROR(GESTION!J42,\" \")","v":0},null,""]
[null,null,null,null,{"$f":"IFERROR(GESTION!H43,\" \")","v":0},{"$f":"IFERROR(GESTION!I43,\" \")","v":0},{"$f":"IFERROR(GESTION!J43,\" \")","v":0},null,""]
[null,null,null,null,{"$f":"IFERROR(GESTION!H44,\" \")","v":0},{"$f":"IFERROR(GESTION!I44,\" \")","v":0},{"$f":"IFERROR(GESTION!J44,\" \")","v":0},null,""]
[null,null,null,null,{"$f":"IFERROR(GESTION!H45,\" \")","v":0},{"$f":"IFERROR(GESTION!I45,\" \")","v":0},{"$f":"IFERROR(GESTION!J45,\" \")","v":0},null,""]
[null,null,"5. Impulsar el uso de mecanismos alternativos para la solución de conflictos y la ampliación de la justicia restaurativa y terapéutica y el robustecimiento de las alternativas al encarcelamiento","2. Asegurar  el cumplimiento de los objetivos institucionales, la normatividad aplicable,  la mejora del SIGCMA y la satisfacción de los usuarios, revisando de  forma continua y sistemática la planificación de la gestión y fortaleciendo la administración de riesgos y sus controles",{"$f":"IFERROR(GESTION!H46,\" \")","v":0},{"$f":"IFERROR(GESTION!I46,\" \")","v":0},{"$f":"IFERROR(GESTION!J46,\" \")","v":0},null,""]
[null,null,null,null,{"$f":"IFERROR(GESTION!H47,\" \")","v":0},{"$f":"IFERROR(GESTION!I47,\" \")","v":0},{"$f":"IFERROR(GESTION!J47,\" \")","v":0},null,""]
[null,null,null,null,{"$f":"IFERROR(GESTION!H48,\" \")","v":0},{"$f":"IFERROR(GESTION!I48,\" \")","v":0},{"$f":"IFERROR(GESTION!J48,\" \")","v":0},null,""]
[null,null,null,null,{"$f":"IFERROR(GESTION!H49,\" \")","v":0},{"$f":"IFERROR(GESTION!I49,\" \")","v":0},{"$f":"IFERROR(GESTION!J49,\" \")","v":0},null,""]
[null,null,null,null,{"$f":"IFERROR(GESTION!H50,\" \")","v":0},{"$f":"IFERROR(GESTION!I50,\" \")","v":0},{"$f":"IFERROR(GESTION!J50,\" \")","v":0},null,""]
[null,null,null,null,{"$f":"IFERROR(GESTION!H51,\" \")","v":0},{"$f":"IFERROR(GESTION!I51,\" \")","v":0},{"$f":"IFERROR(GESTION!J51,\" \")","v":0},null,""]
[null,null,null,null,{"$f":"IFERROR(GESTION!H52,\" \")","v":0},{"$f":"IFERROR(GESTION!I52,\" \")","v":0},{"$f":"IFERROR(GESTION!J52,\" \")","v":0},null,""]
[null,null,null,null,{"$f":"IFERROR(GESTION!H53,\" \")","v":0},{"$f":"IFERROR(GESTION!I53,\" \")","v":0},{"$f":"IFERROR(GESTION!J53,\" \")","v":0},null,""]
[null,null,null,null,{"$f":"IFERROR(GESTION!H54,\" \")","v":0},{"$f":"IFERROR(GESTION!I54,\" \")","v":0},{"$f":"IFERROR(GESTION!J54,\" \")","v":0},null,""]
[null,null,null,null,{"$f":"IFERROR(GESTION!H55,\" \")","v":0},{"$f":"IFERROR(GESTION!I55,\" \")","v":0},{"$f":"IFERROR(GESTION!J55,\" \")","v":0},null,""]
["2. Servicios digitales y de tecnología, innovación y análisis de la información.","Servicios digitales y de tecnología, innovación y análisis de la información: Consolidar una justicia integrada y soportada en servicios digitales y de tecnología, innovación y análisis de la información, con una cultura digital apropiada, segura y sensible a las realidades del territorio nacional. ","1. Ampliar el acceso a la justicia a través de la consolidación del uso de los servicios digitales que conforman el sistema único integrado de gestión judicial en todos los despachos judiciales y dependencias de apoyo y, específicamente, incluyendo el despliegue e implementación del Expediente Judicial Electrónico en todas las jurisdicciones y especialidades.","6. Proteger, preservar y administrar los activos de información  implementando acciones  para gestionar de forma adecuada los incidentes, proteger los datos personales y adoptar mecanismos  de ciberseguridad y aseguramiento de la  continuidad del negocio.",{"$f":"IFERROR(GESTION!H56,\" \")","v":0},{"$f":"IFERROR(GESTION!I56,\" \")","v":0},{"$f":"IFERROR(GESTION!J56,\" \")","v":0},null,""]
[null,null,null,null,{"$f":"IFERROR(GESTION!H57,\" \")","v":0},{"$f":"IFERROR(GESTION!I57,\" \")","v":0},{"$f":"IFERROR(GESTION!J57,\" \")","v":0},null,""]
[null,null,null,null,{"$f":"IFERROR(GESTION!H58,\" \")","v":0},{"$f":"IFERROR(GESTION!I58,\" \")","v":0},{"$f":"IFERROR(GESTION!J58,\" \")","v":0},null,""]
[null,null,null,null,{"$f":"IFERROR(GESTION!H59,\" \")","v":0},{"$f":"IFERROR(GESTION!I59,\" \")","v":0},{"$f":"IFERROR(GESTION!J59,\" \")","v":0},null,""]
[null,null,null,null,{"$f":"IFERROR(GESTION!H60,\" \")","v":0},{"$f":"IFERROR(GESTION!I60,\" \")","v":0},{"$f":"IFERROR(GESTION!J60,\" \")","v":0},null,""]
[null,null,null,null,{"$f":"IFERROR(GESTION!H61,\" \")","v":0},{"$f":"IFERROR(GESTION!I61,\" \")","v":0},{"$f":"IFERROR(GESTION!J61,\" \")","v":0},null,""]
[null,null,null,null,{"$f":"IFERROR(GESTION!H62,\" \")","v":0},{"$f":"IFERROR(GESTION!I62,\" \")","v":0},{"$f":"IFERROR(GESTION!J62,\" \")","v":0},null,""]
[null,null,null,null,{"$f":"IFERROR(GESTION!H63,\" \")","v":0},{"$f":"IFERROR(GESTION!I63,\" \")","v":0},{"$f":"IFERROR(GESTION!J63,\" \")","v":0},null,""]
[null,null,null,null,{"$f":"IFERROR(GESTION!H64,\" \")","v":0},{"$f":"IFERROR(GESTION!I64,\" \")","v":0},{"$f":"IFERROR(GESTION!J64,\" \")","v":0},null,""]
[null,null,null,null,{"$f":"IFERROR(GESTION!H65,\" \")","v":0},{"$f":"IFERROR(GESTION!I65,\" \")","v":0},{"$f":"IFERROR(GESTION!J65,\" \")","v":0},null,""]
[null,null,"2. Integrar y hacer compatibles todos los aplicativos de transición con SIUGJ, para que la migración de los expedientes judiciales a dicha plataforma sea real y no suponga afectaciones en la prestación del servicio de justicia.",null,{"$f":"IFERROR(GESTION!H66,\" \")","v":0},{"$f":"IFERROR(GESTION!I66,\" \")","v":0},{"$f":"IFERROR(GESTION!J66,\" \")","v":0},null,""]
[null,null,null,null,{"$f":"IFERROR(GESTION!H67,\" \")","v":0},{"$f":"IFERROR(GESTION!I67,\" \")","v":0},{"$f":"IFERROR(GESTION!J67,\" \")","v":0},null,""]
[null,null,null,null,{"$f":"IFERROR(GESTION!H68,\" \")","v":0},{"$f":"IFERROR(GESTION!I68,\" \")","v":0},{"$f":"IFERROR(GESTION!J68,\" \")","v":0},null,""]
[null,null,null,null,{"$f":"IFERROR(GESTION!H69,\" \")","v":0},{"$f":"IFERROR(GESTION!I69,\" \")","v":0},{"$f":"IFERROR(GESTION!J69,\" \")","v":0},null,""]
[null,null,null,null,{"$f":"IFERROR(GESTION!H70,\" \")","v":0},{"$f":"IFERROR(GESTION!I70,\" \")","v":0},{"$f":"IFERROR(GESTION!J70,\" \")","v":0},null,{"$f":"IFERROR(H70/G70,\"\")","v":""}]
[null,null,null,null,{"$f":"IFERROR(GESTION!H71,\" \")","v":0},{"$f":"IFERROR(GESTION!I71,\" \")","v":0},{"$f":"IFERROR(GESTION!J71,\" \")","v":0},null,""]
[null,null,null,null,{"$f":"IFERROR(GESTION!H72,\" \")","v":0},{"$f":"IFERROR(GESTION!I72,\" \")","v":0},{"$f":"IFERROR(GESTION!J72,\" \")","v":0},null,""]
[null,null,null,null,{"$f":"IFERROR(GESTION!H73,\" \")","v":0},{"$f":"IFERROR(GESTION!I73,\" \")","v":0},{"$f":"IFERROR(GESTION!J73,\" \")","v":0},null,""]
[null,null,null,null,{"$f":"IFERROR(GESTION!H74,\" \")","v":0},{"$f":"IFERROR(GESTION!I74,\" \")","v":0},{"$f":"IFERROR(GESTION!J74,\" \")","v":0},null,""]
[null,null,null,null,{"$f":"IFERROR(GESTION!H75,\" \")","v":0},{"$f":"IFERROR(GESTION!I75,\" \")","v":0},{"$f":"IFERROR(GESTION!J75,\" \")","v":0},null,""]
[null,null,"3. Fortalecer las capacidades institucionales, adecuar el modelo operativo y de servicio, bajo un enfoque de Arquitectura Empresarial y de fortalecimiento del acceso a la justicia.",null,{"$f":"IFERROR(GESTION!H76,\" \")","v":0},{"$f":"IFERROR(GESTION!I76,\" \")","v":0},{"$f":"IFERROR(GESTION!J76,\" \")","v":0},null,""]
[null,null,null,null,{"$f":"IFERROR(GESTION!H77,\" \")","v":0},{"$f":"IFERROR(GESTION!I77,\" \")","v":0},{"$f":"IFERROR(GESTION!J77,\" \")","v":0},null,""]
[null,null,null,null,{"$f":"IFERROR(GESTION!H78,\" \")","v":0},{"$f":"IFERROR(GESTION!I78,\" \")","v":0},{"$f":"IFERROR(GESTION!J78,\" \")","v":0},null,""]
[null,null,null,null,{"$f":"IFERROR(GESTION!H79,\" \")","v":0},{"$f":"IFERROR(GESTION!I79,\" \")","v":0},{"$f":"IFERROR(GESTION!J79,\" \")","v":0},null,""]
[null,null,null,null,{"$f":"IFERROR(GESTION!H80,\" \")","v":0},{"$f":"IFERROR(GESTION!I80,\" \")","v":0},{"$f":"IFERROR(GESTION!J80,\" \")","v":0},null,""]
[null,null,null,null,{"$f":"IFERROR(GESTION!H81,\" \")","v":0},{"$f":"IFERROR(GESTION!I81,\" \")","v":0},{"$f":"IFERROR(GESTION!J81,\" \")","v":0},null,""]
[null,null,null,null,{"$f":"IFERROR(GESTION!H82,\" \")","v":0},{"$f":"IFERROR(GESTION!I82,\" \")","v":0},{"$f":"IFERROR(GESTION!J82,\" \")","v":0},null,""]
[null,null,null,null,{"$f":"IFERROR(GESTION!H83,\" \")","v":0},{"$f":"IFERROR(GESTION!I83,\" \")","v":0},{"$f":"IFERROR(GESTION!J83,\" \")","v":0},null,""]
[null,null,null,null,{"$f":"IFERROR(GESTION!H84,\" \")","v":0},{"$f":"IFERROR(GESTION!I84,\" \")","v":0},{"$f":"IFERROR(GESTION!J84,\" \")","v":0},null,""]
[null,null,null,null,{"$f":"IFERROR(GESTION!H85,\" \")","v":0},{"$f":"IFERROR(GESTION!I85,\" \")","v":0},{"$f":"IFERROR(GESTION!J85,\" \")","v":0},null,""]
[null,null,"4.Consolidar la cultura y apropiación de la transformación digital en los servidores y usuarios de los servicios de la Rama Judicial y reducir brechas de acceso y conocimiento, incluyendo la oferta efectiva de información sobre el uso de las nuevas herramientas virtuales implementadas en las diferentes jurisdicciones, con especial énfasis en las zonas del país donde es evidente la brecha digital.",null,{"$f":"IFERROR(GESTION!H86,\" \")","v":0},{"$f":"IFERROR(GESTION!I86,\" \")","v":0},{"$f":"IFERROR(GESTION!J86,\" \")","v":0},null,""]
[null,null,null,null,{"$f":"IFERROR(GESTION!H87,\" \")","v":0},{"$f":"IFERROR(GESTION!I87,\" \")","v":0},{"$f":"IFERROR(GESTION!J87,\" \")","v":0},null,""]
[null,null,null,null,{"$f":"IFERROR(GESTION!H88,\" \")","v":0},{"$f":"IFERROR(GESTION!I88,\" \")","v":0},{"$f":"IFERROR(GESTION!J88,\" \")","v":0},null,""]
[null,null,null,null,{"$f":"IFERROR(GESTION!H89,\" \")","v":0},{"$f":"IFERROR(GESTION!I89,\" \")","v":0},{"$f":"IFERROR(GESTION!J89,\" \")","v":0},null,""]
[null,null,null,null,{"$f":"IFERROR(GESTION!H90,\" \")","v":0},{"$f":"IFERROR(GESTION!I90,\" \")","v":0},{"$f":"IFERROR(GESTION!J90,\" \")","v":0},null,""]
[null,null,null,null,{"$f":"IFERROR(GESTION!H91,\" \")","v":0},{"$f":"IFERROR(GESTION!I91,\" \")","v":0},{"$f":"IFERROR(GESTION!J91,\" \")","v":0},null,""]
[null,null,null,null,{"$f":"IFERROR(GESTION!H92,\" \")","v":0},{"$f":"IFERROR(GESTION!I92,\" \")","v":0},{"$f":"IFERROR(GESTION!J92,\" \")","v":0},null,""]
[null,null,null,null,{"$f":"IFERROR(GESTION!H93,\" \")","v":0},{"$f":"IFERROR(GESTION!I93,\" \")","v":0},{"$f":"IFERROR(GESTION!J93,\" \")","v":0},null,""]
[null,null,null,null,{"$f":"IFERROR(GESTION!H94,\" \")","v":0},{"$f":"IFERROR(GESTION!I94,\" \")","v":0},{"$f":"IFERROR(GESTION!J94,\" \")","v":0},null,""]
[null,null,null,null,{"$f":"IFERROR(GESTION!H95,\" \")","v":0},{"$f":"IFERROR(GESTION!I95,\" \")","v":0},{"$f":"IFERROR(GESTION!J95,\" \")","v":0},null,""]
[null,null,"5.Consolidar la infraestructura y los recursos necesarios para la implementación exitosa de la transformación digital, incluyendo la disposición de internet de calidad en el 100% de las sedes en la Rama Judicial y modernizar los servicios tecnológicos de soporte. ",null,{"$f":"IFERROR(GESTION!H96,\" \")","v":0},{"$f":"IFERROR(GESTION!I96,\" \")","v":0},{"$f":"IFERROR(GESTION!J96,\" \")","v":0},null,""]
[null,null,null,null,{"$f":"IFERROR(GESTION!H97,\" \")","v":0},{"$f":"IFERROR(GESTION!I97,\" \")","v":0},{"$f":"IFERROR(GESTION!J97,\" \")","v":0},null,""]
[null,null,null,null,{"$f":"IFERROR(GESTION!H98,\" \")","v":0},{"$f":"IFERROR(GESTION!I98,\" \")","v":0},{"$f":"IFERROR(GESTION!J98,\" \")","v":0},null,""]
[null,null,null,null,{"$f":"IFERROR(GESTION!H99,\" \")","v":0},{"$f":"IFERROR(GESTION!I99,\" \")","v":0},{"$f":"IFERROR(GESTION!J99,\" \")","v":0},null,""]
[null,null,null,null,{"$f":"IFERROR(GESTION!H100,\" \")","v":0},{"$f":"IFERROR(GESTION!I100,\" \")","v":0},{"$f":"IFERROR(GESTION!J100,\" \")","v":0},null,""]
[null,null,null,null,{"$f":"IFERROR(GESTION!H101,\" \")","v":0},{"$f":"IFERROR(GESTION!I101,\" \")","v":0},{"$f":"IFERROR(GESTION!J101,\" \")","v":0},null,""]
[null,null,null,null,{"$f":"IFERROR(GESTION!H102,\" \")","v":0},{"$f":"IFERROR(GESTION!I102,\" \")","v":0},{"$f":"IFERROR(GESTION!J102,\" \")","v":0},null,""]
[null,null,null,null,{"$f":"IFERROR(GESTION!H103,\" \")","v":0},{"$f":"IFERROR(GESTION!I103,\" \")","v":0},{"$f":"IFERROR(GESTION!J103,\" \")","v":0},null,""]
[null,null,null,null,{"$f":"IFERROR(GESTION!H104,\" \")","v":0},{"$f":"IFERROR(GESTION!I104,\" \")","v":0},{"$f":"IFERROR(GESTION!J104,\" \")","v":0},null,""]
[null,null,null,null,{"$f":"IFERROR(GESTION!H105,\" \")","v":0},{"$f":"IFERROR(GESTION!I105,\" \")","v":0},{"$f":"IFERROR(GESTION!J105,\" \")","v":0},null,""]
[null,null,"6.Integrar y optimizar los servicios administrativos de la Rama Judicial bajo un enfoque de transformación digital e innovación incluyendo los componentes financiero, administrativo, talento humano, entre otros",null,{"$f":"IFERROR(GESTION!H106,\" \")","v":0},{"$f":"IFERROR(GESTION!I106,\" \")","v":0},{"$f":"IFERROR(GESTION!J106,\" \")","v":0},null,""]
[null,null,null,null,{"$f":"IFERROR(GESTION!H107,\" \")","v":0},{"$f":"IFERROR(GESTION!I107,\" \")","v":0},{"$f":"IFERROR(GESTION!J107,\" \")","v":0},null,""]
[null,null,null,null,{"$f":"IFERROR(GESTION!H108,\" \")","v":0},{"$f":"IFERROR(GESTION!I108,\" \")","v":0},{"$f":"IFERROR(GESTION!J108,\" \")","v":0},null,""]
[null,null,null,null,{"$f":"IFERROR(GESTION!H109,\" \")","v":0},{"$f":"IFERROR(GESTION!I109,\" \")","v":0},{"$f":"IFERROR(GESTION!J109,\" \")","v":0},null,""]
[null,null,null,null,{"$f":"IFERROR(GESTION!H110,\" \")","v":0},{"$f":"IFERROR(GESTION!I110,\" \")","v":0},{"$f":"IFERROR(GESTION!J110,\" \")","v":0},null,""]
[null,null,null,null,{"$f":"IFERROR(GESTION!H111,\" \")","v":0},{"$f":"IFERROR(GESTION!I111,\" \")","v":0},{"$f":"IFERROR(GESTION!J111,\" \")","v":0},null,""]
[null,null,null,null,{"$f":"IFERROR(GESTION!H112,\" \")","v":0},{"$f":"IFERROR(GESTION!I112,\" \")","v":0},{"$f":"IFERROR(GESTION!J112,\" \")","v":0},null,""]
[null,null,null,null,{"$f":"IFERROR(GESTION!H113,\" \")","v":0},{"$f":"IFERROR(GESTION!I113,\" \")","v":0},{"$f":"IFERROR(GESTION!J113,\" \")","v":0},null,""]
[null,null,null,null,{"$f":"IFERROR(GESTION!H114,\" \")","v":0},{"$f":"IFERROR(GESTION!I114,\" \")","v":0},{"$f":"IFERROR(GESTION!J114,\" \")","v":0},null,""]
[null,null,null,null,{"$f":"IFERROR(GESTION!H115,\" \")","v":0},{"$f":"IFERROR(GESTION!I115,\" \")","v":0},{"$f":"IFERROR(GESTION!J115,\" \")","v":0},null,""]
["3. Confianza pública, transparencia y rendición de cuentas","Confianza pública, transparencia y rendición de cuentas: Aumentar la confianza pública en la justicia a través de la transparencia, la rendición de cuentas y la participación, incluyendo la información de justicia y la producción, gestión y acceso a las fuentes de derecho, el fortalecimiento del sistema de gestión de calidad y medio ambiente (SIGCMA) y el mejoramiento de la calidad y publicidad de la información. ","1. Incrementar la cantidad, la calidad y pertinencia de los datos sobre el funcionamiento del servicio de justicia bajo un modelo de gobierno de datos y un liderazgo unificado. ","4. Hacer un uso racional de los recursos naturales aplicando los principios y fases de la Economía Circular, para prevenir, mitigar y controlar los impactos ambientales.",{"$f":"IFERROR(GESTION!H116,\" \")","v":0},{"$f":"IFERROR(GESTION!I116,\" \")","v":0},{"$f":"IFERROR(GESTION!J116,\" \")","v":0},null,""]
[null,null,null,null,{"$f":"IFERROR(GESTION!H117,\" \")","v":0},{"$f":"IFERROR(GESTION!I117,\" \")","v":0},{"$f":"IFERROR(GESTION!J117,\" \")","v":0},null,""]
[null,null,null,null,{"$f":"IFERROR(GESTION!H118,\" \")","v":0},{"$f":"IFERROR(GESTION!I118,\" \")","v":0},{"$f":"IFERROR(GESTION!J118,\" \")","v":0},null,""]
[null,null,null,null,{"$f":"IFERROR(GESTION!H119,\" \")","v":0},{"$f":"IFERROR(GESTION!I119,\" \")","v":0},{"$f":"IFERROR(GESTION!J119,\" \")","v":0},null,""]
[null,null,null,null,{"$f":"IFERROR(GESTION!H120,\" \")","v":0},{"$f":"IFERROR(GESTION!I120,\" \")","v":0},{"$f":"IFERROR(GESTION!J120,\" \")","v":0},null,""]
[null,null,null,null,{"$f":"IFERROR(GESTION!H121,\" \")","v":0},{"$f":"IFERROR(GESTION!I121,\" \")","v":0},{"$f":"IFERROR(GESTION!J121,\" \")","v":0},null,""]
[null,null,null,null,{"$f":"IFERROR(GESTION!H122,\" \")","v":0},{"$f":"IFERROR(GESTION!I122,\" \")","v":0},{"$f":"IFERROR(GESTION!J122,\" \")","v":0},null,""]
[null,null,null,null,{"$f":"IFERROR(GESTION!H123,\" \")","v":0},{"$f":"IFERROR(GESTION!I123,\" \")","v":0},{"$f":"IFERROR(GESTION!J123,\" \")","v":0},null,""]
[null,null,null,null,{"$f":"IFERROR(GESTION!H124,\" \")","v":0},{"$f":"IFERROR(GESTION!I124,\" \")","v":0},{"$f":"IFERROR(GESTION!J124,\" \")","v":0},null,""]
[null,null,null,null,{"$f":"IFERROR(GESTION!H125,\" \")","v":0},{"$f":"IFERROR(GESTION!I125,\" \")","v":0},{"$f":"IFERROR(GESTION!J125,\" \")","v":0},null,""]
[null,null,"2. Consolidar la administración de la información entendida como todas las acciones rientadas a garantizar el acceso, consulta, uso y conservación de la información de justicia de manera ágil, flexible e inteligente, bajo un enfoque de innovación.",null,{"$f":"IFERROR(GESTION!H126,\" \")","v":0},{"$f":"IFERROR(GESTION!I126,\" \")","v":0},{"$f":"IFERROR(GESTION!J126,\" \")","v":0},null,""]
[null,null,null,null,{"$f":"IFERROR(GESTION!H127,\" \")","v":0},{"$f":"IFERROR(GESTION!I127,\" \")","v":0},{"$f":"IFERROR(GESTION!J127,\" \")","v":0},null,""]
[null,null,null,null,{"$f":"IFERROR(GESTION!H128,\" \")","v":0},{"$f":"IFERROR(GESTION!I128,\" \")","v":0},{"$f":"IFERROR(GESTION!J128,\" \")","v":0},null,""]
[null,null,null,null,{"$f":"IFERROR(GESTION!H129,\" \")","v":0},{"$f":"IFERROR(GESTION!I129,\" \")","v":0},{"$f":"IFERROR(GESTION!J129,\" \")","v":0},null,""]
[null,null,null,null,{"$f":"IFERROR(GESTION!H130,\" \")","v":0},{"$f":"IFERROR(GESTION!I130,\" \")","v":0},{"$f":"IFERROR(GESTION!J130,\" \")","v":0},null,""]
[null,null,null,null,{"$f":"IFERROR(GESTION!H131,\" \")","v":0},{"$f":"IFERROR(GESTION!I131,\" \")","v":0},{"$f":"IFERROR(GESTION!J131,\" \")","v":0},null,""]
[null,null,null,null,{"$f":"IFERROR(GESTION!H132,\" \")","v":0},{"$f":"IFERROR(GESTION!I132,\" \")","v":0},{"$f":"IFERROR(GESTION!J132,\" \")","v":0},null,""]
[null,null,null,null,{"$f":"IFERROR(GESTION!H133,\" \")","v":0},{"$f":"IFERROR(GESTION!I133,\" \")","v":0},{"$f":"IFERROR(GESTION!J133,\" \")","v":0},null,""]
[null,null,null,null,{"$f":"IFERROR(GESTION!H134,\" \")","v":0},{"$f":"IFERROR(GESTION!I134,\" \")","v":0},{"$f":"IFERROR(GESTION!J134,\" \")","v":0},null,{"$f":"IFERROR(H134/G134,\"\")","v":""}]
[null,null,null,null,{"$f":"IFERROR(GESTION!H135,\" \")","v":0},{"$f":"IFERROR(GESTION!I135,\" \")","v":0},{"$f":"IFERROR(GESTION!J135,\" \")","v":0},null,""]
[null,null,"3. Fortalecer el Sistema integrado de Gestión de la Rama, orientado a la implementación y certificación de las normas antisoborno.","1. Gestionar el desarrollo de las competencias, la toma de conciencia , la cultura  organizacional  y el compromiso de los  servidores judiciales, contratistas, practicantes y  judicantes de contribuir a generar valor público en la administración de justicia, en el marco de  cumplimiento de los requisitos  aplicables y el comportamiento ético.\n3. Fomentar la transparencia y la participación generando lineamientos y promoviendo la rendición de cuentas ,la consulta, reporte y planteamiento de inquietudes en relación con las decisiones y aspectos del SIGCMA.",{"$f":"IFERROR(GESTION!H136,\" \")","v":0},{"$f":"IFERROR(GESTION!I136,\" \")","v":0},{"$f":"IFERROR(GESTION!J136,\" \")","v":0},null,""]
[null,null,null,null,{"$f":"IFERROR(GESTION!H137,\" \")","v":0},{"$f":"IFERROR(GESTION!I137,\" \")","v":0},{"$f":"IFERROR(GESTION!J137,\" \")","v":0},null,""]
[null,null,null,null,{"$f":"IFERROR(GESTION!H138,\" \")","v":0},{"$f":"IFERROR(GESTION!I138,\" \")","v":0},{"$f":"IFERROR(GESTION!J138,\" \")","v":0},null,""]
[null,null,null,null,{"$f":"IFERROR(GESTION!H139,\" \")","v":0},{"$f":"IFERROR(GESTION!I139,\" \")","v":0},{"$f":"IFERROR(GESTION!J139,\" \")","v":0},null,""]
[null,null,null,null,{"$f":"IFERROR(GESTION!H140,\" \")","v":0},{"$f":"IFERROR(GESTION!I140,\" \")","v":0},{"$f":"IFERROR(GESTION!J140,\" \")","v":0},null,""]
[null,null,null,null,{"$f":"IFERROR(GESTION!H141,\" \")","v":0},{"$f":"IFERROR(GESTION!I141,\" \")","v":0},{"$f":"IFERROR(GESTION!J141,\" \")","v":0},null,""]
[null,null,null,null,{"$f":"IFERROR(GESTION!H142,\" \")","v":0},{"$f":"IFERROR(GESTION!I142,\" \")","v":0},{"$f":"IFERROR(GESTION!J142,\" \")","v":0},null,""]
[null,null,null,null,{"$f":"IFERROR(GESTION!H143,\" \")","v":0},{"$f":"IFERROR(GESTION!I143,\" \")","v":0},{"$f":"IFERROR(GESTION!J143,\" \")","v":0},null,""]
[null,null,null,null,{"$f":"IFERROR(GESTION!H144,\" \")","v":0},{"$f":"IFERROR(GESTION!I144,\" \")","v":0},{"$f":"IFERROR(GESTION!J144,\" \")","v":0},null,""]
[null,null,null,null,{"$f":"IFERROR(GESTION!H145,\" \")","v":0},{"$f":"IFERROR(GESTION!I145,\" \")","v":0},{"$f":"IFERROR(GESTION!J145,\" \")","v":0},null,""]
[null,null,"4. Aumentar la confianza, la cercanía y acceso a los servicios de la Rama Judicial a través, entre otros, de una comunicación clara y asertiva con la ciudadanía.","3. Fomentar la transparencia y la participación generando lineamientos y promoviendo la rendición de cuentas ,la consulta, reporte y planteamiento de inquietudes en relación con las decisiones y aspectos del SIGCMA.",{"$f":"IFERROR(GESTION!H146,\" \")","v":"Automatizar trámites y procedimientos a cargo de la Unidad de Asistencia Legal."},{"$f":"IFERROR(GESTION!I146,\" \")","v":"Entregable"},{"$f":"IFERROR(GESTION!J146,\" \")","v":0},null,"","Ninguna","Durante el primer trimestre del 2024, se desarrollo un cuadro de control de los procesos disiciplinarios, conceptos jurídicos y derechos de petición que estan a cargo del director de la Unidad de Asistencia Legal"]
[null,null,null,null,{"$f":"IFERROR(GESTION!H147,\" \")","v":"Automatizar trámites y procedimientos a cargo del Grupo de Sentencias."},{"$f":"IFERROR(GESTION!I147,\" \")","v":"Entregable"},100,5,0.05,null,"Durante el primer trimestre de 2024, se desarrollaron 6 reuniones con la Unidad de Transformación Dígital y la empresa BIG View partners de Microsoft, quienes presentaron una propuesta con un demo para la automatización y extracción de información para la elaboracion del acto administrativo del reconocimiento de pago de sentencias y conciliaciones. La propuesta en mención no colmó las expectativas del Grupo de Sentencias y de la Unidad de Transformación Digital, por lo que en la última reunión se decidió emprender la iniciativa con herramientas de Inteligencia Artificial de AWS, para lo cual se desarrolló una primera reunión con la empresa NUVU partner de AWS en Colombia y donde se expuso las ideas y las tareas que se pretenden automatizar por parte del Grupo de Sentencias"]
[null,null,null,null,{"$f":"IFERROR(GESTION!H148,\" \")","v":"Fortalecimiento de la gestión del Cobro Coactivo."},{"$f":"IFERROR(GESTION!I148,\" \")","v":"Meta cuantificable"},{"$f":"IFERROR(GESTION!J148,\" \")","v":36114},null,0]
[null,null,null,null,{"$f":"IFERROR(GESTION!H149,\" \")","v":"Realizar capacitaciones sobre la política de daño antijurídico (PDA) al plan de acción de la DEAJ, en cumplimiento de los lineamientos establecidos por la Agencia Nacional de Defensa Jurídica del Estado- ANDJE."},{"$f":"IFERROR(GESTION!I149,\" \")","v":"Entregable"},2,0,0,"Ninguna","25 enero de 2024: se radicó ante la EJRLB la solicitud de capacitaciones – Ciclo de videoconferencias Prevención del Daño Antijurídico - Radicado DEAJALO24-78 (adjunto).\n13 de febrero de 2024: se recibió la confirmación de la EJRLB en que se indica que mediante el Acuerdo PCSJA 23–12054 del 30 de marzo de 2023, el CSJ aprobó el Plan de Formación de la Rama Judicial para las vigencias 2023-2024. En este \norden, la EJRLB deberá ejecutar aquellas actividades autorizadas por la  Corporación y que están incorporadas en el mencionado Plan, el cual tiene previstas dos actividades referentes a la \nprevención del daño antijurídico - Radicado EJO24-177  (adjunto)."]
[null,null,null,null,{"$f":"IFERROR(GESTION!H150,\" \")","v":"Ejecutar el presupuesto asignado a la vigencia para el pago de sentencias y conciliaciones"},"Meta cuantificable",200000000,35946530,0.17973264999999999,null,"En el primer trimestre de 2024, la ejecución en las metas de pago correspondió a 35.946 millones de pesos que en porcentaje se traduce en un 18%. En el mes de marzo se pagaron sentencias y conciliaciones por valor de $18.609 millones que correspondió a un 51% de la ejecución del trimestre y que redundó en un INPANUT del porcentaje del 0,28%"]
[null,null,null,null,{"$f":"IFERROR(GESTION!H151,\" \")","v":"Cumplir con la meta de recaudo en valor fijada por la Dirección Ejecutiva de Administración Judicial."},"Meta cuantificable",15312921,3970966240,259.32127776274689,null,"La meta de recaudo para el 2024, es de 15.312.921.460, para el 1er. trimestre de se han recaudado 3.970.966.240, cumplimiento en la meta de recaudo es del 25,93%, el grado de avance que es óptimo para este período del año. "]
[null,null,null,null,{"$f":"IFERROR(GESTION!H152,\" \")","v":"Cumplir con la meta mínima de procesos con recaudo fijada por la Dirección Ejecutiva de Administración Judicial."},{"$f":"IFERROR(GESTION!I152,\" \")","v":"Meta cuantificable"},{"$f":"IFERROR(GESTION!J152,\" \")","v":4470},1595,0.35682326621923938,null,"Para el 1er. trimestre de 2024, el grado de avance en la cantidad de procesos que registran recaudo, corresponde al 35,68%, resultado satisfactorio."]
[null,null,null,null,{"$f":"IFERROR(GESTION!H153,\" \")","v":"Realizar búsquedas de datos y de bienes de los deudores en sistemas de información oficiales, con el propósito de persuadirlos para que paguen o celebren acuerdos de pago y determinar si hay lugar al decreto y práctica de medidas cautelares."},"Meta cuantificable",92259,64409,0.69813243152429572,"\\","YU7H"]
[null,null,null,null,{"$f":"IFERROR(GESTION!H154,\" \")","v":"Hacer seguimiento a la gestión jurídica de los abogados ejecutores, con el fin de identificar que se encuentren en la etapa procesal que les corresponde, y aquellos que no, se les solicita impulsarlos en lo que corresponda."},"Meta cuantificable",92259,92216,0.99953392080989389,null,"Al corte del primer trimestre de 2024, solo el 0,95% de los procesos, quedaron pendientes de gestión, resultado que es justificable, respecto de los procesos recién aperturados"]
[null,null,null,null,{"$f":"IFERROR(GESTION!H155,\" \")","v":"Medir el nivel de satisfacción de la asesoría jurídica brindada por Asistencia Legal"},{"$f":"IFERROR(GESTION!I155,\" \")","v":"Meta cuantificable"},{"$f":"IFERROR(GESTION!J155,\" \")","v":3},0,0,null,"Se esta trabajndo en la formulación de la consulta a las direntes unidades de CSJ y las DESAJ"]
[null,null,"5. Prevenir fenómenos asociados con actos de corrupción en la Rama Judicial y reducir las experiencias de corrupción de usuarios y servidores judiciales.",null,{"$f":"IFERROR(GESTION!H156,\" \")","v":"Emitir conceptos jurídicos sobre temas de importancia jurídica para la Rama Judicial, en la oportunidad requerida"},{"$f":"IFERROR(GESTION!I156,\" \")","v":"Entregable"},{"$f":"IFERROR(GESTION!J156,\" \")","v":0},null,"","Ninguna","Durante el primer trimestre de 2024, se han emitido diferentes concepto jurídicos a las unidades de la DEAJ"]
[null,null,null,null,{"$f":"IFERROR(GESTION!H157,\" \")","v":"Atender de forma oportuna los procesos judiciales en contra de la Entidad"},{"$f":"IFERROR(GESTION!I157,\" \")","v":"Entregable"},100,100,1,"Ninguna","Procesos judiciales: atención oportuna en las contestaciones de demandas notificadas en contra de la entidad, según control que se realiza de manera permanente a este tema."]
[null,null,null,null,{"$f":"IFERROR(GESTION!H158,\" \")","v":"Atender de forma oportuna los procesos judiciales de alto impacto en contra de la Entidad"},{"$f":"IFERROR(GESTION!I158,\" \")","v":"Entregable"},100,100,1,"Ninguna","Procesos judiciales: atención oportuna en las contestaciones de demandas notificadas en contra de la entidad, según control que se realiza de manera permanente a este tema."]
[null,null,null,null,{"$f":"IFERROR(GESTION!H159,\" \")","v":"Plan de mejoramiento Sistema Único del Gestión e Información Litigiosa del Estado eKOGUI - ANDJE y Pasivo Contingente Litigioso"},{"$f":"IFERROR(GESTION!I159,\" \")","v":"Meta cuantificable"},{"$f":"IFERROR(GESTION!J159,\" \")","v":4},1,0.25,"Ninguna","No se han configurado hallazgos en relación con la implementación del aplicativo eKOGUI o con el pasivo contingente de los procesos judiciales a cargo de la División de Procesos de la Unidad de Asistencia Legal, razón por la cual no se han elaborado Planes de Mejoramiento ni se encuentran acciones de mejora abiertas, derivadas de auditorías internas o externas."]
[null,null,null,null,{"$f":"IFERROR(GESTION!H160,\" \")","v":0},{"$f":"IFERROR(GESTION!I160,\" \")","v":0},{"$f":"IFERROR(GESTION!J160,\" \")","v":0},null,""]
[null,null,null,null,{"$f":"IFERROR(GESTION!H161,\" \")","v":0},{"$f":"IFERROR(GESTION!I161,\" \")","v":0},{"$f":"IFERROR(GESTION!J161,\" \")","v":0},null,""]
[null,null,null,null,{"$f":"IFERROR(GESTION!H162,\" \")","v":0},{"$f":"IFERROR(GESTION!I162,\" \")","v":0},{"$f":"IFERROR(GESTION!J162,\" \")","v":0},null,""]
[null,null,null,null,{"$f":"IFERROR(GESTION!H163,\" \")","v":0},{"$f":"IFERROR(GESTION!I163,\" \")","v":0},{"$f":"IFERROR(GESTION!J163,\" \")","v":0},null,""]
[null,null,null,null,{"$f":"IFERROR(GESTION!H164,\" \")","v":0},{"$f":"IFERROR(GESTION!I164,\" \")","v":0},{"$f":"IFERROR(GESTION!J164,\" \")","v":0},null,""]
[null,null,null,null,{"$f":"IFERROR(GESTION!H165,\" \")","v":0},{"$f":"IFERROR(GESTION!I165,\" \")","v":0},{"$f":"IFERROR(GESTION!J165,\" \")","v":0},null,""]
[null,null,"6. Promover la rendición de cuentas y la colaboración real con la ciudadanía como fundamento para diseñar acciones de mejoramiento del acceso a la justicia.",null,{"$f":"IFERROR(GESTION!H166,\" \")","v":0},{"$f":"IFERROR(GESTION!I166,\" \")","v":0},{"$f":"IFERROR(GESTION!J166,\" \")","v":0},null,""]
[null,null,null,null,{"$f":"IFERROR(GESTION!H167,\" \")","v":0},{"$f":"IFERROR(GESTION!I167,\" \")","v":0},{"$f":"IFERROR(GESTION!J167,\" \")","v":0},null,""]
[null,null,null,null,{"$f":"IFERROR(GESTION!H168,\" \")","v":0},{"$f":"IFERROR(GESTION!I168,\" \")","v":0},{"$f":"IFERROR(GESTION!J168,\" \")","v":0},null,""]
[null,null,null,null,{"$f":"IFERROR(GESTION!H169,\" \")","v":0},{"$f":"IFERROR(GESTION!I169,\" \")","v":0},{"$f":"IFERROR(GESTION!J169,\" \")","v":0},null,""]
[null,null,null,null,{"$f":"IFERROR(GESTION!H170,\" \")","v":0},{"$f":"IFERROR(GESTION!I170,\" \")","v":0},{"$f":"IFERROR(GESTION!J170,\" \")","v":0},null,""]
[null,null,null,null,{"$f":"IFERROR(GESTION!H171,\" \")","v":0},{"$f":"IFERROR(GESTION!I171,\" \")","v":0},{"$f":"IFERROR(GESTION!J171,\" \")","v":0},null,""]
[null,null,null,null,{"$f":"IFERROR(GESTION!H172,\" \")","v":0},{"$f":"IFERROR(GESTION!I172,\" \")","v":0},{"$f":"IFERROR(GESTION!J172,\" \")","v":0},null,""]
[null,null,null,null,{"$f":"IFERROR(GESTION!H173,\" \")","v":0},{"$f":"IFERROR(GESTION!I173,\" \")","v":0},{"$f":"IFERROR(GESTION!J173,\" \")","v":0},null,""]
[null,null,null,null,{"$f":"IFERROR(GESTION!H174,\" \")","v":0},{"$f":"IFERROR(GESTION!I174,\" \")","v":0},{"$f":"IFERROR(GESTION!J174,\" \")","v":0},null,""]
[null,null,null,null,{"$f":"IFERROR(GESTION!H175,\" \")","v":0},{"$f":"IFERROR(GESTION!I175,\" \")","v":0},{"$f":"IFERROR(GESTION!J175,\" \")","v":0},null,""]
[null,null,"7. Continuar la consolidación del SIGCMA, a través de los procesos de formación en modelos de gestión, logrando la implementación y ampliación de este en los esquemas certificados de manera gradual, teniendo en cuenta las capacidades de los diferentes despachos judiciales y dependencias de la Rama Judicial y articulando el enfoque de Arquitectura Empresarial para el desarrollo del PETD a través de la gestión del conocimiento para la gestión del cambio propendiendo por una cultura de la calidad, la transparencia, la rendición de cuentas, la anticorrupción y el antisoborno","1. Gestionar el desarrollo de las competencias, la toma de conciencia , la cultura  organizacional  y el compromiso de los  servidores judiciales, contratistas, practicantes y  judicantes de contribuir a generar valor público en la administración de justicia, en el marco de  cumplimiento de los requisitos  aplicables y el comportamiento ético.\n4. Hacer un uso racional de los recursos naturales aplicando los principios y fases de la Economía Circular, para prevenir, mitigar y controlar los impactos ambientales.",{"$f":"IFERROR(GESTION!H176,\" \")","v":0},{"$f":"IFERROR(GESTION!I176,\" \")","v":0},{"$f":"IFERROR(GESTION!J176,\" \")","v":0},null,""]
[null,null,null,null,{"$f":"IFERROR(GESTION!H177,\" \")","v":0},{"$f":"IFERROR(GESTION!I177,\" \")","v":0},{"$f":"IFERROR(GESTION!J177,\" \")","v":0},null,""]
[null,null,null,null,{"$f":"IFERROR(GESTION!H178,\" \")","v":0},{"$f":"IFERROR(GESTION!I178,\" \")","v":0},{"$f":"IFERROR(GESTION!J178,\" \")","v":0},null,""]
[null,null,null,null,{"$f":"IFERROR(GESTION!H179,\" \")","v":0},{"$f":"IFERROR(GESTION!I179,\" \")","v":0},{"$f":"IFERROR(GESTION!J179,\" \")","v":0},null,""]
[null,null,null,null,{"$f":"IFERROR(GESTION!H180,\" \")","v":0},{"$f":"IFERROR(GESTION!I180,\" \")","v":0},{"$f":"IFERROR(GESTION!J180,\" \")","v":0},null,""]
[null,null,null,null,{"$f":"IFERROR(GESTION!H181,\" \")","v":0},{"$f":"IFERROR(GESTION!I181,\" \")","v":0},{"$f":"IFERROR(GESTION!J181,\" \")","v":0},null,""]
[null,null,null,null,{"$f":"IFERROR(GESTION!H182,\" \")","v":0},{"$f":"IFERROR(GESTION!I182,\" \")","v":0},{"$f":"IFERROR(GESTION!J182,\" \")","v":0},null,""]
[null,null,null,null,{"$f":"IFERROR(GESTION!H183,\" \")","v":0},{"$f":"IFERROR(GESTION!I183,\" \")","v":0},{"$f":"IFERROR(GESTION!J183,\" \")","v":0},null,""]
[null,null,null,null,{"$f":"IFERROR(GESTION!H184,\" \")","v":0},{"$f":"IFERROR(GESTION!I184,\" \")","v":0},{"$f":"IFERROR(GESTION!J184,\" \")","v":0},null,""]
[null,null,null,null,{"$f":"IFERROR(GESTION!H185,\" \")","v":0},{"$f":"IFERROR(GESTION!I185,\" \")","v":0},{"$f":"IFERROR(GESTION!J185,\" \")","v":0},null,""]
["4. Talento Humano","Talento Humano: Fortalecer el talento humano en la Rama Judicial para que sea eficiente, capacitado y realice su labor en ambientes saludables y seguros. Ampliar la cobertura de la carrera judicial y mejorar la oferta de formación, que esté disponible para todos los servidores judiciales e impacte positivamente el servicio de justicia y responda a las necesidades reales del ejercicio de la función judicial.","1. Ampliar la cobertura de la carrera judicial optimizando los procesos de los concursos de méritos y propender por mitigar su litigiosidad.","1. Gestionar el desarrollo de las competencias, la toma de conciencia , la cultura  organizacional  y el compromiso de los  servidores judiciales, contratistas, practicantes y  judicantes de contribuir a generar valor público en la administración de justicia, en el marco de  cumplimiento de los requisitos  aplicables y el comportamiento ético.",{"$f":"IFERROR(GESTION!H186,\" \")","v":0},{"$f":"IFERROR(GESTION!I186,\" \")","v":0},{"$f":"IFERROR(GESTION!J186,\" \")","v":0},null,""]
[null,null,null,null,{"$f":"IFERROR(GESTION!H187,\" \")","v":0},{"$f":"IFERROR(GESTION!I187,\" \")","v":0},{"$f":"IFERROR(GESTION!J187,\" \")","v":0},null,""]
[null,null,null,null,{"$f":"IFERROR(GESTION!H188,\" \")","v":0},{"$f":"IFERROR(GESTION!I188,\" \")","v":0},{"$f":"IFERROR(GESTION!J188,\" \")","v":0},null,""]
[null,null,null,null,{"$f":"IFERROR(GESTION!H189,\" \")","v":0},{"$f":"IFERROR(GESTION!I189,\" \")","v":0},{"$f":"IFERROR(GESTION!J189,\" \")","v":0},null,""]
[null,null,null,null,{"$f":"IFERROR(GESTION!H190,\" \")","v":0},{"$f":"IFERROR(GESTION!I190,\" \")","v":0},{"$f":"IFERROR(GESTION!J190,\" \")","v":0},null,""]
[null,null,null,null,{"$f":"IFERROR(GESTION!H191,\" \")","v":0},{"$f":"IFERROR(GESTION!I191,\" \")","v":0},{"$f":"IFERROR(GESTION!J191,\" \")","v":0},null,""]
[null,null,null,null,{"$f":"IFERROR(GESTION!H192,\" \")","v":0},{"$f":"IFERROR(GESTION!I192,\" \")","v":0},{"$f":"IFERROR(GESTION!J192,\" \")","v":0},null,""]
[null,null,null,null,{"$f":"IFERROR(GESTION!H193,\" \")","v":0},{"$f":"IFERROR(GESTION!I193,\" \")","v":0},{"$f":"IFERROR(GESTION!J193,\" \")","v":0},null,""]
[null,null,null,null,{"$f":"IFERROR(GESTION!H194,\" \")","v":0},{"$f":"IFERROR(GESTION!I194,\" \")","v":0},{"$f":"IFERROR(GESTION!J194,\" \")","v":0},null,""]
[null,null,null,null,{"$f":"IFERROR(GESTION!H195,\" \")","v":0},{"$f":"IFERROR(GESTION!I195,\" \")","v":0},{"$f":"IFERROR(GESTION!J195,\" \")","v":0},null,""]
[null,null,"2. Impactar la función y servicios que presta la Rama Judicial, a través de una formación integral desde una visión de gestión del conocimiento, relacionada con los problemas de la justicia y los problemas de gestión de quienes administran los recursos de la justicia, y potenciando el uso de medios virtuales.",null,{"$f":"IFERROR(GESTION!H196,\" \")","v":0},{"$f":"IFERROR(GESTION!I196,\" \")","v":0},{"$f":"IFERROR(GESTION!J196,\" \")","v":0},null,""]
[null,null,null,null,{"$f":"IFERROR(GESTION!H197,\" \")","v":0},{"$f":"IFERROR(GESTION!I197,\" \")","v":0},{"$f":"IFERROR(GESTION!J197,\" \")","v":0},null,""]
[null,null,null,null,{"$f":"IFERROR(GESTION!H198,\" \")","v":0},{"$f":"IFERROR(GESTION!I198,\" \")","v":0},{"$f":"IFERROR(GESTION!J198,\" \")","v":0},null,{"$f":"IFERROR(H198/G198,\"\")","v":""}]
[null,null,null,null,{"$f":"IFERROR(GESTION!H199,\" \")","v":0},{"$f":"IFERROR(GESTION!I199,\" \")","v":0},{"$f":"IFERROR(GESTION!J199,\" \")","v":0},null,""]
[null,null,null,null,{"$f":"IFERROR(GESTION!H200,\" \")","v":0},{"$f":"IFERROR(GESTION!I200,\" \")","v":0},{"$f":"IFERROR(GESTION!J200,\" \")","v":0},null,""]
[null,null,null,null,{"$f":"IFERROR(GESTION!H201,\" \")","v":0},{"$f":"IFERROR(GESTION!I201,\" \")","v":0},{"$f":"IFERROR(GESTION!J201,\" \")","v":0},null,""]
[null,null,null,null,{"$f":"IFERROR(GESTION!H202,\" \")","v":0},{"$f":"IFERROR(GESTION!I202,\" \")","v":0},{"$f":"IFERROR(GESTION!J202,\" \")","v":0},null,""]
[null,null,null,null,{"$f":"IFERROR(GESTION!H203,\" \")","v":0},{"$f":"IFERROR(GESTION!I203,\" \")","v":0},{"$f":"IFERROR(GESTION!J203,\" \")","v":0},null,""]
[null,null,null,null,{"$f":"IFERROR(GESTION!H204,\" \")","v":0},{"$f":"IFERROR(GESTION!I204,\" \")","v":0},{"$f":"IFERROR(GESTION!J204,\" \")","v":0},null,""]
[null,null,null,null,{"$f":"IFERROR(GESTION!H205,\" \")","v":0},{"$f":"IFERROR(GESTION!I205,\" \")","v":0},{"$f":"IFERROR(GESTION!J205,\" \")","v":0},null,""]
[null,null,"3. Promover la incorporación de la perspectiva de género y el enfoque diferencial en los fallos judiciales y en la atención a los ciudadanos, la administración de la Rama Judicial, la administración de la carrera judicial y la elaboración de listas para altas Cortes. ",null,{"$f":"IFERROR(GESTION!H206,\" \")","v":0},{"$f":"IFERROR(GESTION!I206,\" \")","v":0},{"$f":"IFERROR(GESTION!J206,\" \")","v":0},null,""]
[null,null,null,null,{"$f":"IFERROR(GESTION!H207,\" \")","v":0},{"$f":"IFERROR(GESTION!I207,\" \")","v":0},{"$f":"IFERROR(GESTION!J207,\" \")","v":0},null,""]
[null,null,null,null,{"$f":"IFERROR(GESTION!H208,\" \")","v":0},{"$f":"IFERROR(GESTION!I208,\" \")","v":0},{"$f":"IFERROR(GESTION!J208,\" \")","v":0},null,""]
[null,null,null,null,{"$f":"IFERROR(GESTION!H209,\" \")","v":0},{"$f":"IFERROR(GESTION!I209,\" \")","v":0},{"$f":"IFERROR(GESTION!J209,\" \")","v":0},null,""]
[null,null,null,null,{"$f":"IFERROR(GESTION!H210,\" \")","v":0},{"$f":"IFERROR(GESTION!I210,\" \")","v":0},{"$f":"IFERROR(GESTION!J210,\" \")","v":0},null,""]
[null,null,null,null,{"$f":"IFERROR(GESTION!H211,\" \")","v":0},{"$f":"IFERROR(GESTION!I211,\" \")","v":0},{"$f":"IFERROR(GESTION!J211,\" \")","v":0},null,""]
[null,null,null,null,{"$f":"IFERROR(GESTION!H212,\" \")","v":0},{"$f":"IFERROR(GESTION!I212,\" \")","v":0},{"$f":"IFERROR(GESTION!J212,\" \")","v":0},null,""]
[null,null,null,null,{"$f":"IFERROR(GESTION!H213,\" \")","v":0},{"$f":"IFERROR(GESTION!I213,\" \")","v":0},{"$f":"IFERROR(GESTION!J213,\" \")","v":0},null,""]
[null,null,null,null,{"$f":"IFERROR(GESTION!H214,\" \")","v":0},{"$f":"IFERROR(GESTION!I214,\" \")","v":0},{"$f":"IFERROR(GESTION!J214,\" \")","v":0},null,""]
[null,null,null,null,{"$f":"IFERROR(GESTION!H215,\" \")","v":0},{"$f":"IFERROR(GESTION!I215,\" \")","v":0},{"$f":"IFERROR(GESTION!J215,\" \")","v":0},null,""]
[null,null,"4. Desarrollar en los servidores judiciales y demás grupos de valor relevantes las competencias necesarias para la efectividad de la transformación digital de modo que puedan, entre otros, utilizar con solvencia las herramientas digitales dispuestas para sus respectivas funciones. Además, fortalecer y actualizar los conocimientos del personal a cargo de la gestión de proyectos de tecnología.",null,{"$f":"IFERROR(GESTION!H216,\" \")","v":0},{"$f":"IFERROR(GESTION!I216,\" \")","v":0},{"$f":"IFERROR(GESTION!J216,\" \")","v":0},null,""]
[null,null,null,null,{"$f":"IFERROR(GESTION!H217,\" \")","v":0},{"$f":"IFERROR(GESTION!I217,\" \")","v":0},{"$f":"IFERROR(GESTION!J217,\" \")","v":0},null,""]
[null,null,null,null,{"$f":"IFERROR(GESTION!H218,\" \")","v":0},{"$f":"IFERROR(GESTION!I218,\" \")","v":0},{"$f":"IFERROR(GESTION!J218,\" \")","v":0},null,""]
[null,null,null,null,{"$f":"IFERROR(GESTION!H219,\" \")","v":0},{"$f":"IFERROR(GESTION!I219,\" \")","v":0},{"$f":"IFERROR(GESTION!J219,\" \")","v":0},null,""]
[null,null,null,null,{"$f":"IFERROR(GESTION!H220,\" \")","v":0},{"$f":"IFERROR(GESTION!I220,\" \")","v":0},{"$f":"IFERROR(GESTION!J220,\" \")","v":0},null,""]
[null,null,null,null,{"$f":"IFERROR(GESTION!H221,\" \")","v":0},{"$f":"IFERROR(GESTION!I221,\" \")","v":0},{"$f":"IFERROR(GESTION!J221,\" \")","v":0},null,""]
[null,null,null,null,{"$f":"IFERROR(GESTION!H222,\" \")","v":0},{"$f":"IFERROR(GESTION!I222,\" \")","v":0},{"$f":"IFERROR(GESTION!J222,\" \")","v":0},null,""]
[null,null,null,null,{"$f":"IFERROR(GESTION!H223,\" \")","v":0},{"$f":"IFERROR(GESTION!I223,\" \")","v":0},{"$f":"IFERROR(GESTION!J223,\" \")","v":0},null,""]
[null,null,null,null,{"$f":"IFERROR(GESTION!H224,\" \")","v":0},{"$f":"IFERROR(GESTION!I224,\" \")","v":0},{"$f":"IFERROR(GESTION!J224,\" \")","v":0},null,""]
[null,null,null,null,{"$f":"IFERROR(GESTION!H225,\" \")","v":0},{"$f":"IFERROR(GESTION!I225,\" \")","v":0},{"$f":"IFERROR(GESTION!J225,\" \")","v":0},null,""]
[null,null,"5. Promover el bienestar de todos los servidores judiciales a través de la implementación de un sistema que contemple los diferentes niveles de estrategias y acciones necesarios para mejorar el clima laboral, la salud física y mental y la calidad del tiempo de descanso.","5. Generar espacios de trabajo seguros y saludables que contribuyan a minimizar los  incidentes, accidentes y enfermedades laborales derivados de las condiciones y actos  inseguros y fomentar  el autocuidado, los  estilos de vida y el trabajo saludable en los servidores judiciales, contratistas, judicantes y practicantes",{"$f":"IFERROR(GESTION!H226,\" \")","v":0},{"$f":"IFERROR(GESTION!I226,\" \")","v":0},{"$f":"IFERROR(GESTION!J226,\" \")","v":0},null,""]
[null,null,null,null,{"$f":"IFERROR(GESTION!H227,\" \")","v":0},{"$f":"IFERROR(GESTION!I227,\" \")","v":0},{"$f":"IFERROR(GESTION!J227,\" \")","v":0},null,""]
[null,null,null,null,{"$f":"IFERROR(GESTION!H228,\" \")","v":0},{"$f":"IFERROR(GESTION!I228,\" \")","v":0},{"$f":"IFERROR(GESTION!J228,\" \")","v":0},null,""]
[null,null,null,null,{"$f":"IFERROR(GESTION!H229,\" \")","v":0},{"$f":"IFERROR(GESTION!I229,\" \")","v":0},{"$f":"IFERROR(GESTION!J229,\" \")","v":0},null,""]
[null,null,null,null,{"$f":"IFERROR(GESTION!H230,\" \")","v":0},{"$f":"IFERROR(GESTION!I230,\" \")","v":0},{"$f":"IFERROR(GESTION!J230,\" \")","v":0},null,""]
[null,null,null,null,{"$f":"IFERROR(GESTION!H231,\" \")","v":0},{"$f":"IFERROR(GESTION!I231,\" \")","v":0},{"$f":"IFERROR(GESTION!J231,\" \")","v":0},null,""]
[null,null,null,null,{"$f":"IFERROR(GESTION!H232,\" \")","v":0},{"$f":"IFERROR(GESTION!I232,\" \")","v":0},{"$f":"IFERROR(GESTION!J232,\" \")","v":0},null,""]
[null,null,null,null,{"$f":"IFERROR(GESTION!H233,\" \")","v":0},{"$f":"IFERROR(GESTION!I233,\" \")","v":0},{"$f":"IFERROR(GESTION!J233,\" \")","v":0},null,""]
[null,null,null,null,{"$f":"IFERROR(GESTION!H234,\" \")","v":0},{"$f":"IFERROR(GESTION!I234,\" \")","v":0},{"$f":"IFERROR(GESTION!J234,\" \")","v":0},null,""]
[null,null,null,null,{"$f":"IFERROR(GESTION!H235,\" \")","v":0},{"$f":"IFERROR(GESTION!I235,\" \")","v":0},{"$f":"IFERROR(GESTION!J235,\" \")","v":0},null,""]
["5. Gobernanza, planeación estratégica y capacidad de toma de decisiones","Gobernanza, planeación estratégica y capacidad de toma de decisiones: Fortalecer la gobernanza, la planeación estratégica y la capacidad de toma de decisiones de la Rama Judicial con base en la evidencia empírica y la articulación efectiva con las demás entidades, para que la perspectiva de género y el enfoque diferencial sean transversales en el presente plan. ","1. Implementar un nuevo modelo integrado para la planeación estratégica, el seguimiento y la medición del desempeño institucional.","2. Asegurar  el cumplimiento de los objetivos institucionales, la normatividad aplicable,  la mejora del SIGCMA y la satisfacción de los usuarios, revisando de  forma continua y sistemática la planificación de la gestión y fortaleciendo la administración de riesgos y sus controles.",{"$f":"IFERROR(GESTION!H236,\" \")","v":0},{"$f":"IFERROR(GESTION!I236,\" \")","v":0},{"$f":"IFERROR(GESTION!J236,\" \")","v":0},null,""]
[null,null,null,null,{"$f":"IFERROR(GESTION!H237,\" \")","v":0},{"$f":"IFERROR(GESTION!I237,\" \")","v":0},{"$f":"IFERROR(GESTION!J237,\" \")","v":0},null,""]
[null,null,null,null,{"$f":"IFERROR(GESTION!H238,\" \")","v":0},{"$f":"IFERROR(GESTION!I238,\" \")","v":0},{"$f":"IFERROR(GESTION!J238,\" \")","v":0},null,""]
[null,null,null,null,{"$f":"IFERROR(GESTION!H239,\" \")","v":0},{"$f":"IFERROR(GESTION!I239,\" \")","v":0},{"$f":"IFERROR(GESTION!J239,\" \")","v":0},null,""]
[null,null,null,null,{"$f":"IFERROR(GESTION!H240,\" \")","v":0},{"$f":"IFERROR(GESTION!I240,\" \")","v":0},{"$f":"IFERROR(GESTION!J240,\" \")","v":0},null,""]
[null,null,null,null,{"$f":"IFERROR(GESTION!H241,\" \")","v":0},{"$f":"IFERROR(GESTION!I241,\" \")","v":0},{"$f":"IFERROR(GESTION!J241,\" \")","v":0},null,""]
[null,null,null,null,{"$f":"IFERROR(GESTION!H242,\" \")","v":0},{"$f":"IFERROR(GESTION!I242,\" \")","v":0},{"$f":"IFERROR(GESTION!J242,\" \")","v":0},null,""]
[null,null,null,null,{"$f":"IFERROR(GESTION!H243,\" \")","v":0},{"$f":"IFERROR(GESTION!I243,\" \")","v":0},{"$f":"IFERROR(GESTION!J243,\" \")","v":0},null,""]
[null,null,null,null,{"$f":"IFERROR(GESTION!H244,\" \")","v":0},{"$f":"IFERROR(GESTION!I244,\" \")","v":0},{"$f":"IFERROR(GESTION!J244,\" \")","v":0},null,""]
[null,null,null,null,{"$f":"IFERROR(GESTION!H245,\" \")","v":0},{"$f":"IFERROR(GESTION!I245,\" \")","v":0},{"$f":"IFERROR(GESTION!J245,\" \")","v":0},null,""]
[null,null,"2. Definir e implementar el modelo optimizado de formulación, seguimiento y evaluación de la política pública judicial.",null,{"$f":"IFERROR(GESTION!H246,\" \")","v":0},{"$f":"IFERROR(GESTION!I246,\" \")","v":0},{"$f":"IFERROR(GESTION!J246,\" \")","v":0},null,""]
[null,null,null,null,{"$f":"IFERROR(GESTION!H247,\" \")","v":0},{"$f":"IFERROR(GESTION!I247,\" \")","v":0},{"$f":"IFERROR(GESTION!J247,\" \")","v":0},null,""]
[null,null,null,null,{"$f":"IFERROR(GESTION!H248,\" \")","v":0},{"$f":"IFERROR(GESTION!I248,\" \")","v":0},{"$f":"IFERROR(GESTION!J248,\" \")","v":0},null,""]
[null,null,null,null,{"$f":"IFERROR(GESTION!H249,\" \")","v":0},{"$f":"IFERROR(GESTION!I249,\" \")","v":0},{"$f":"IFERROR(GESTION!J249,\" \")","v":0},null,""]
[null,null,null,null,{"$f":"IFERROR(GESTION!H250,\" \")","v":0},{"$f":"IFERROR(GESTION!I250,\" \")","v":0},{"$f":"IFERROR(GESTION!J250,\" \")","v":0},null,""]
[null,null,null,null,{"$f":"IFERROR(GESTION!H251,\" \")","v":0},{"$f":"IFERROR(GESTION!I251,\" \")","v":0},{"$f":"IFERROR(GESTION!J251,\" \")","v":0},null,""]
[null,null,null,null,{"$f":"IFERROR(GESTION!H252,\" \")","v":0},{"$f":"IFERROR(GESTION!I252,\" \")","v":0},{"$f":"IFERROR(GESTION!J252,\" \")","v":0},null,""]
[null,null,null,null,{"$f":"IFERROR(GESTION!H253,\" \")","v":0},{"$f":"IFERROR(GESTION!I253,\" \")","v":0},{"$f":"IFERROR(GESTION!J253,\" \")","v":0},null,""]
[null,null,null,null,{"$f":"IFERROR(GESTION!H254,\" \")","v":0},{"$f":"IFERROR(GESTION!I254,\" \")","v":0},{"$f":"IFERROR(GESTION!J254,\" \")","v":0},null,""]
[null,null,null,null,{"$f":"IFERROR(GESTION!H255,\" \")","v":0},{"$f":"IFERROR(GESTION!I255,\" \")","v":0},{"$f":"IFERROR(GESTION!J255,\" \")","v":0},null,""]

{"sheet":"JURISDICCIONAL","index":9,"n_rows":29,"n_cols":16,"rows_kept":29,"cut":false,"hidden":true,"merged":[[1,2,1,13],[2,0,3,0],[2,1,3,1],[2,2,3,2],[2,3,3,3],[2,4,3,4],[2,5,2,7],[2,8,2,10],[2,11,3,11],[2,12,2,13],[2,14,2,15],[4,0,8,0],[4,1,8,1],[4,3,8,3],[9,0,14,0],[9,1,14,1],[9,3,14,3],[27,0,28,0],[27,1,28,1],[27,3,28,3],[15,0,21,0],[15,1,21,1],[15,3,21,3],[22,0,26,0],[22,1,26,1],[22,3,26,3]]}
[]
[null,null,"CONSEJO SUPERIOR DE LA JUDICATURA \nUNIDADES MISIONALES DEL CONSEJO SUPERIOR DE LA JUDICATURA - \nDIRECCIÓN EJECUTIVA DE ADMINISTRACIÓN JUDICIAL -UNIDADES MISIONALES DE LA DEAJ\nDIRECCIONES SECCIONALES DE ADMINISTRACIÓN JUDICIAL "]
["No. ","OBJETIVOS ESTRATEGICOS PLAN SECTORIAL DE DESARROLLO 2023-2026","OBJETIVOS ESPECIFICOS PLAN SECTORIAL DE DESARROLLO 2023-2026","OBJETIVOS DEL SIGCMA","DESCRIPCIÓN DE LA ACTIVIDAD (INVERSIÓN O DE GESTIÓN) ","MAPA DE PROCESO DEL SIGCMA (RELACIONE  EL PROCESO ESTRATÉGICO, MISIONAL, APOYO y EVALUACIÓN - MEJORA)",null,null,"MEDICIÓN DE LA GESTIÓN ",null,null,"RESPONSABLE POR PROYECTO O ACTIVIDAD","FECHA DEL PROYECTO/ACTIVIDAD",null,"ANÁLISIS DE RESULTADOS"]
[null,null,null,null,null,"NOMBRE DEL PROCESO","CENTRAL","SECCIONAL","ENTREGABLE","INDICADOR","DESCRIBIR EL INDICADOR",null,"INICIO \nDÍA/MES/AÑO","FIN\nDÍA/MES/AÑO","CUMPLIMIENTO DEL OBJETIVO (ACUMULADO DE LOS 4 TRIMESTRES)"," ANÁLISIS RESULTADO\nFINAL - ACUMULADO"]
[1,"Acceso a Infraestructura Física"," 1. Ampliar el acceso a justicia para atender las necesidades jurídicas de los \nciudadanos con un enfoque diferencial, de una manera pronta, reduciendo las \ninequidades y las brechas territoriales de acceso.","\n2. Asegurar  el cumplimiento de los objetivos institucionales, la normatividad aplicable,  la mejora del SIGCMA y la satisfacción de los usuarios, revisando de  forma continua y sistemática la planificación de la gestión y fortaleciendo la administración de riesgos y sus controles. (1,2,3 y 5)\n\n4. Hacer un uso racional de los recursos naturales aplicando los principios y fases de la Economía Circular, para prevenir, mitigar y controlar los impactos ambientales. (4)\n\n"]
[null,null,"2. Mejorar los tiempos de respuesta de la Rama Judicial y reducir el inventario de \nprocesos, identificando los retos internos y promoviendo tanto acciones articuladas\nespecíficas para abordarlos como estrategias coordinadas para enfrentar las \nbarreras que dependen de otras entidades."]
[null,null,"3. Coadyuvar en la garantía de la idoneidad en el ejercicio de la profesión jurídica de acuerdo con lo establecido en la Ley 1905 de 2018"]
[null,null,"4. Avanzar en la disposición de una infraestructura óptima para el acceso a la justicia en la Rama Judicial de modo que se fortalezca la presencia territorial, teniendo en cuenta las posibilidades que ofrece la transformación digital y las necesidades que se derivan de ella, y considerando tanto las necesidades de los usuarios como las de los servidores judiciales."]
[null,null,"5. Impulsar el uso de mecanismos alternativos para la solución de conflictos y la \nampliación de la justicia restaurativa y terapéutica y el robustecimiento de las alternativas al encarcelamiento"]
[2,"Servicios digitales y de tecnología, innovación y análisis de la información","1. Ampliar el acceso a la justicia a través de la consolidación del uso de los servicios \ndigitales que conforman el sistema único integrado de gestión judicial en todos los \ndespachos judiciales y dependencias de apoyo y, específicamente, incluyendo el \ndespliegue e implementación del Expediente Judicial Electrónico en todas las \njurisdicciones y especialidades.","6. Proteger, preservar y administrar los activos de información  implementando acciones  para gestionar de forma adecuada los incidentes  , proteger los datos personales y adoptar mecanismos  de ciberseguridad y aseguramiento de la  continuidad del negocio (1, 2, 3, 4, 5 y 6)"]
[null,null,"2. Integrar y hacer compatibles todos los aplicativos de transición con SIUGJ, para que la migración de los expedientes judiciales a dicha plataforma sea real y no suponga afectaciones en la prestación del servicio de justicia."]
[null,null,"\n3. Fortalecer las capacidades institucionales, adecuar el modelo operativo y de \nservicio, bajo un enfoque de Arquitectura Empresarial y de fortalecimiento del \nacceso a la justicia."]
[null,null,"\n4.Consolidar la cultura y apropiación de la transformación digital en los servidores y \nusuarios de los servicios de la Rama Judicial y reducir brechas de acceso y conocimiento, incluyendo la oferta efectiva de información sobre el uso de las nuevas herramientas virtuales implementadas en las diferentes jurisdicciones, con especial énfasis en las zonas del país donde es evidente la brecha digital."]
[null,null,"\n5.Consolidar la infraestructura y los recursos necesarios para la implementación exitosa de la transformación digital, incluyendo la disposición de internet de calidad en el 100% de las sedes en la Rama Judicial y modernizar los servicios tecnológicos de soporte. "]
[null,null,"\n6.Integrar y optimizar los servicios administrativos de la Rama Judicial bajo un enfoque de transformación digital e innovación incluyendo los componentes financiero, administrativo, talento humano, entre otros"]
[3,"Confianza pública, transparencia y rendición de cuentas","1. Incrementar la cantidad, la calidad y pertinencia de los datos sobre el funcionamiento del servicio de justicia bajo un modelo de gobierno de datos y un liderazgo unificado. \n","1. Gestionar el desarrollo de las competencias, la toma de conciencia , la cultura  organizacional  y el compromiso de los  servidores judiciales, contratistas, practicantes y  judicantes de contribuir a generar valor público en la administración de justicia, en el marco de  cumplimiento de los requisitos  aplicables y el comportamiento ético. (3 y 7)\n\n3. Fomentar la transparencia y la participación generando lineamientos y promoviendo la rendición de cuentas ,la consulta, reporte y planteamiento de inquietudes en relación con las decisiones y aspectos del SIGCMA. (3, 4, 5 y 6)\n\n4. Hacer un uso racional de los recursos naturales aplicando los principios y fases de la Economía Circular, para prevenir, mitigar y controlar los impactos ambientales. (1 y 7)\n"]
[null,null,"2. Consolidar la administración de la información entendida como todas las acciones \norientadas a garantizar el acceso, consulta, uso y conservación de la información \nde justicia de manera ágil, flexible e inteligente, bajo un enfoque de innovación."]
[null,null,"3. Fortalecer el Sistema integrado de Gestión de la Rama, orientado a la implementación y certificación de las normas antisoborno."]
[null,null,"4. Aumentar la confianza, la cercanía y acceso a los servicios de la Rama Judicial a \ntravés, entre otros, de una comunicación clara y asertiva con la ciudadanía."]
[null,null,"5. Prevenir fenómenos asociados con actos de corrupción en la Rama Judicial y \nreducir las experiencias de corrupción de usuarios y servidores judiciales."]
[null,null,"6. Promover la rendición de cuentas y la colaboración real con la ciudadanía como \nfundamento para diseñar acciones de mejoramiento del acceso a la justicia."]
[null,null,"7. Continuar la consolidación del SIGCMA, a través de los procesos de formación en \nmodelos de gestión, logrando la implementación y ampliación de este en los esquemas certificados de manera gradual, teniendo en cuenta las capacidades de los diferentes despachos judiciales y dependencias de la Rama Judicial y articulando el enfoque de Arquitectura Empresarial para el desarrollo del PETD a través de la gestión del conocimiento para la gestión del cambio propendiendo por una cultura de la calidad, la transparencia, la rendición de cuentas, la anticorrupción y el antisoborno"]
[4,"Talento Humano","1. Ampliar la cobertura de la carrera judicial optimizando los procesos de los concursos de méritos y propender por mitigar su litigiosidad.","1. Gestionar el desarrollo de las competencias, la toma de conciencia , la cultura  organizacional  y el compromiso de los  servidores judiciales, contratistas, practicantes y  judicantes de contribuir a generar valor público en la administración de justicia, en el marco de  cumplimiento de los requisitos  aplicables y el comportamiento ético. (1, 2, 3 y 4)\n\n5. Generar espacios de trabajo seguros y saludables que contribuyan a minimizar los  incidentes, accidentes y enfermedades laborales derivados de las condiciones y actos  inseguros y fomentar  el autocuidado, los  estilos de vida y el trabajo saludable en los servidores judiciales, contratistas, judicantes y practicantes. (5)\n"]
[null,null,"2. Impactar la función y servicios que presta la Rama Judicial, a través de una\nformación integral desde una visión de gestión del conocimiento, relacionada con \nlos problemas de la justicia y los problemas de gestión de quienes administran los \nrecursos de la justicia, y potenciando el uso de medios virtuales."]
[null,null,"3. Promover la incorporación de la perspectiva de género y el enfoque diferencial en \nlos fallos judiciales y en la atención a los ciudadanos, la administración de la Rama \nJudicial, la administración de la carrera judicial y la elaboración de listas para altas \nCortes. "]
[null,null,"4. Desarrollar en los servidores judiciales y demás grupos de valor relevantes las \ncompetencias necesarias para la efectividad de la transformación digital de modo \nque puedan, entre otros, utilizar con solvencia las herramientas digitales dispuestas \npara sus respectivas funciones. Además, fortalecer y actualizar los conocimientos \ndel personal a cargo de la gestión de proyectos de tecnología."]
[null,null,"5. Promover el bienestar de todos los servidores judiciales a través de la implementación de un sistema que contemple los diferentes niveles de estrategias y acciones necesarios para mejorar el clima laboral, la salud física y mental y la calidad del tiempo de descanso."]
[5,"Gobernanza, planeación estratégica y capacidad de toma de decisiones","1. Implementar un nuevo modelo integrado para la planeación estratégica, el \nseguimiento y la medición del desempeño institucional.","\n2. Asegurar  el cumplimiento de los objetivos institucionales, la normatividad aplicable,  la mejora del SIGCMA y la satisfacción de los usuarios, revisando de  forma continua y sistemática la planificación de la gestión y fortaleciendo la administración de riesgos y sus controles. (1 y 2)"]
[null,null,"2. Definir e implementar el modelo optimizado de formulación, seguimiento y \nevaluación de la política pública judicial."]