{"text_format":"1","workbook":"xlsx","n_sheets":12,"sheets":["PLAN DE ACCION CONSOLIDACION","INFO_ANÁLISIS DE CONTEXTO","INFO_ESTRATEGIAS","PLAN DE ACCION","GESTION","GESTION_SEG_1_TRIM","GESTION_SEG_2_TRIM","GESTION_SEG_3_TRIM","GESTION_SEG_4_TRIM","INVERSION","JURISDICCIONAL","JURISDICCIONAL_SEG_1_TRIM"],"not_rendered":{"charts":0,"images":6,"macros":1,"external_links":2,"defined_names":24,"comments":0,"pivot_tables":0},"unopened":[],"bounds":{"document_bytes":16777216,"sheet_cells":100000,"rows_first":2000,"rows_last":500,"rows_between":2000,"halvings":0,"cell_chars":16384,"cell_head_chars":4096},"cells_cut":0,"cells_raw":0,"read":"row_number_cap","date_system":"1900"}

{"sheet":"PLAN DE ACCION CONSOLIDACION","index":0,"n_rows":29,"n_cols":24,"rows_kept":29,"cut":false,"hidden":true,"merged":[[27,0,28,0],[27,1,28,1],[27,3,28,3],[15,0,21,0],[15,1,21,1],[15,3,21,3],[22,0,26,0],[22,1,26,1],[22,3,26,3],[2,22,2,23],[4,0,8,0],[4,1,8,1],[4,3,8,3],[9,0,14,0],[9,1,14,1],[9,3,14,3],[1,2,1,21],[2,0,3,0],[2,1,3,1],[2,2,3,2],[2,3,3,3],[2,4,3,4],[2,5,2,7],[2,8,2,10],[2,11,2,15],[2,16,2,18],[2,19,3,19],[2,20,2,21]]}
[]
[null,null,"CONSEJO SUPERIOR DE LA JUDICATURA \nUNIDADES MISIONALES DEL CONSEJO SUPERIOR DE LA JUDICATURA - \nDIRECCIÓN EJECUTIVA DE ADMINISTRACIÓN JUDICIAL -UNIDADES MISIONALES DE LA DEAJ\nDIRECCIONES SECCIONALES DE ADMINISTRACIÓN JUDICIAL "]
["No. ","OBJETIVOS ESTRATEGICOS PLAN SECTORIAL DE DESARROLLO 2023-2026","OBJETIVOS ESPECIFICOS PLAN SECTORIAL DE DESARROLLO 2023-2026","OBJETIVOS DEL SIGCMA","DESCRIPCIÓN DE LA ACTIVIDAD (INVERSIÓN O DE GESTIÓN) ","MAPA DE PROCESO DEL SIGCMA (RELACIONE  EL PROCESO ESTRATÉGICO, MISIONAL, APOYO y EVALUACIÓN - MEJORA)",null,null,"MEDICIÓN DE LA GESTIÓN ",null,null,"PROYECTOS DE INVERSIÓN DE ACUERDO CON LOS OBJETIVOS DEL PLAN SECTORIAL DE DESARROLLO",null,null,null,null,"MEDICIÓN (INVERSIÓN INDICADORES POAI- GESTIÓN INDICADORES",null,null,"RESPONSABLE POR PROYECTO O ACTIVIDAD","FECHA DEL PROYECTO/ACTIVIDAD",null,"ANÁLISIS DE RESULTADOS"]
[null,null,null,null,null,"NOMBRE DEL PROCESO","CENTRAL","SECCIONAL","ENTREGABLE","INDICADOR","DESCRIBIR EL INDICADOR","PROGRAMA DE INVERSIÓN","NOMBRE DEL PROYECTO DE INVERSIÓN ","CODIGO BPIN (PROYECTO)","CODIGO PRESUPUESTAL","ACTIVIDAD DE INVERSIÓN (POAI)","ENTREGABLE","INDICADOR","DESCRIBIR EL INDICADOR",null,"INICIO \nDÍA/MES/AÑO","FIN\nDÍA/MES/AÑO","CUMPLIMIENTO DEL OBJETIVO (ACUMULADO DE LOS 4 TRIMESTRES)"," ANÁLISIS RESULTADO\nFINAL - ACUMULADO"]
[1,"Acceso a Infraestructura Física"," 1. Ampliar el acceso a justicia para atender las necesidades jurídicas de los \nciudadanos con un enfoque diferencial, de una manera pronta, reduciendo las \ninequidades y las brechas territoriales de acceso.","2. Asegurar  el cumplimiento de los objetivos institucionales, la normatividad aplicable,  la mejora del SIGCMA y la satisfacción de los usuarios, revisando de  forma continua y sistemática la planificación de la gestión y fortaleciendo la administración de riesgos y sus controles. (1,2,3 y 5)\n\n4. Hacer un uso racional de los recursos naturales aplicando los principios y fases de la Economía Circular, para prevenir, mitigar y controlar los impactos ambientales. (4)\n\n"]
[null,null,"2. Mejorar los tiempos de respuesta de la Rama Judicial y reducir el inventario de \nprocesos, identificando los retos internos y promoviendo tanto acciones articuladas\nespecíficas para abordarlos como estrategias coordinadas para enfrentar las \nbarreras que dependen de otras entidades."]
[null,null,"3. Coadyuvar en la garantía de la idoneidad en el ejercicio de la profesión jurídica de acuerdo con lo establecido en la Ley 1905 de 2018"]
[null,null,"4. Avanzar en la disposición de una infraestructura óptima para el acceso a la justicia en la Rama Judicial de modo que se fortalezca la presencia territorial, teniendo en cuenta las posibilidades que ofrece la transformación digital y las necesidades que se derivan de ella, y considerando tanto las necesidades de los usuarios como las de los servidores judiciales."]
[null,null,"5. Impulsar el uso de mecanismos alternativos para la solución de conflictos y la \nampliación de la justicia restaurativa y terapéutica y el robustecimiento de las alternativas al encarcelamiento"]
[2,"Servicios digitales y de tecnología, innovación y análisis de la información","1. Ampliar el acceso a la justicia a través de la consolidación del uso de los servicios \ndigitales que conforman el sistema único integrado de gestión judicial en todos los \ndespachos judiciales y dependencias de apoyo y, específicamente, incluyendo el \ndespliegue e implementación del Expediente Judicial Electrónico en todas las \njurisdicciones y especialidades.","6. Proteger, preservar y administrar los activos de información  implementando acciones  para gestionar de forma adecuada los incidentes  , proteger los datos personales y adoptar mecanismos  de ciberseguridad y aseguramiento de la  continuidad del negocio (1, 2, 3, 4, 5 y 6)"]
[null,null,"2. Integrar y hacer compatibles todos los aplicativos de transición con SIUGJ, para que la migración de los expedientes judiciales a dicha plataforma sea real y no suponga afectaciones en la prestación del servicio de justicia."]
[null,null,"\n3. Fortalecer las capacidades institucionales, adecuar el modelo operativo y de \nservicio, bajo un enfoque de Arquitectura Empresarial y de fortalecimiento del \nacceso a la justicia."]
[null,null,"\n4.Consolidar la cultura y apropiación de la transformación digital en los servidores y \nusuarios de los servicios de la Rama Judicial y reducir brechas de acceso y conocimiento, incluyendo la oferta efectiva de información sobre el uso de las nuevas herramientas virtuales implementadas en las diferentes jurisdicciones, con especial énfasis en las zonas del país donde es evidente la brecha digital."]
[null,null,"\n5.Consolidar la infraestructura y los recursos necesarios para la implementación exitosa de la transformación digital, incluyendo la disposición de internet de calidad en el 100% de las sedes en la Rama Judicial y modernizar los servicios tecnológicos de soporte. "]
[null,null,"\n6.Integrar y optimizar los servicios administrativos de la Rama Judicial bajo un enfoque de transformación digital e innovación incluyendo los componentes financiero, administrativo, talento humano, entre otros"]
[3,"Confianza pública, transparencia y rendición de cuentas","1. Incrementar la cantidad, la calidad y pertinencia de los datos sobre el funcionamiento del servicio de justicia bajo un modelo de gobierno de datos y un liderazgo unificado. \n","1. Gestionar el desarrollo de las competencias, la toma de conciencia , la cultura  organizacional  y el compromiso de los  servidores judiciales, contratistas, practicantes y  judicantes de contribuir a generar valor público en la administración de justicia, en el marco de  cumplimiento de los requisitos  aplicables y el comportamiento ético. (3 y 7)\n\n3. Fomentar la transparencia y la participación generando lineamientos y promoviendo la rendición de cuentas ,la consulta, reporte y planteamiento de inquietudes en relación con las decisiones y aspectos del SIGCMA. (3, 4, 5 y 6)\n\n4. Hacer un uso racional de los recursos naturales aplicando los principios y fases de la Economía Circular, para prevenir, mitigar y controlar los impactos ambientales. (1 y 7)\n"]
[null,null,"2. Consolidar la administración de la información entendida como todas las acciones \norientadas a garantizar el acceso, consulta, uso y conservación de la información \nde justicia de manera ágil, flexible e inteligente, bajo un enfoque de innovación."]
[null,null,"3. Fortalecer el Sistema integrado de Gestión de la Rama, orientado a la implementación y certificación de las normas antisoborno."]
[null,null,"4. Aumentar la confianza, la cercanía y acceso a los servicios de la Rama Judicial a \ntravés, entre otros, de una comunicación clara y asertiva con la ciudadanía."]
[null,null,"5. Prevenir fenómenos asociados con actos de corrupción en la Rama Judicial y \nreducir las experiencias de corrupción de usuarios y servidores judiciales."]
[null,null,"6. Promover la rendición de cuentas y la colaboración real con la ciudadanía como \nfundamento para diseñar acciones de mejoramiento del acceso a la justicia."]
[null,null,"7. Continuar la consolidación del SIGCMA, a través de los procesos de formación en \nmodelos de gestión, logrando la implementación y ampliación de este en los esquemas certificados de manera gradual, teniendo en cuenta las capacidades de los diferentes despachos judiciales y dependencias de la Rama Judicial y articulando el enfoque de Arquitectura Empresarial para el desarrollo del PETD a través de la gestión del conocimiento para la gestión del cambio propendiendo por una cultura de la calidad, la transparencia, la rendición de cuentas, la anticorrupción y el antisoborno"]
[4,"Talento Humano","1. Ampliar la cobertura de la carrera judicial optimizando los procesos de los concursos de méritos y propender por mitigar su litigiosidad.","1. Gestionar el desarrollo de las competencias, la toma de conciencia , la cultura  organizacional  y el compromiso de los  servidores judiciales, contratistas, practicantes y  judicantes de contribuir a generar valor público en la administración de justicia, en el marco de  cumplimiento de los requisitos  aplicables y el comportamiento ético. (1, 2, 3 y 4)\n\n5. Generar espacios de trabajo seguros y saludables que contribuyan a minimizar los  incidentes, accidentes y enfermedades laborales derivados de las condiciones y actos  inseguros y fomentar  el autocuidado, los  estilos de vida y el trabajo saludable en los servidores judiciales, contratistas, judicantes y practicantes. (5)\n"]
[null,null,"2. Impactar la función y servicios que presta la Rama Judicial, a través de una\nformación integral desde una visión de gestión del conocimiento, relacionada con \nlos problemas de la justicia y los problemas de gestión de quienes administran los \nrecursos de la justicia, y potenciando el uso de medios virtuales."]
[null,null,"3. Promover la incorporación de la perspectiva de género y el enfoque diferencial en \nlos fallos judiciales y en la atención a los ciudadanos, la administración de la Rama \nJudicial, la administración de la carrera judicial y la elaboración de listas para altas \nCortes. "]
[null,null,"4. Desarrollar en los servidores judiciales y demás grupos de valor relevantes las \ncompetencias necesarias para la efectividad de la transformación digital de modo \nque puedan, entre otros, utilizar con solvencia las herramientas digitales dispuestas \npara sus respectivas funciones. Además, fortalecer y actualizar los conocimientos \ndel personal a cargo de la gestión de proyectos de tecnología."]
[null,null,"5. Promover el bienestar de todos los servidores judiciales a través de la implementación de un sistema que contemple los diferentes niveles de estrategias y acciones necesarios para mejorar el clima laboral, la salud física y mental y la calidad del tiempo de descanso."]
[5,"Gobernanza, planeación estratégica y capacidad de toma de decisiones","1. Implementar un nuevo modelo integrado para la planeación estratégica, el \nseguimiento y la medición del desempeño institucional.","\n2. Asegurar  el cumplimiento de los objetivos institucionales, la normatividad aplicable,  la mejora del SIGCMA y la satisfacción de los usuarios, revisando de  forma continua y sistemática la planificación de la gestión y fortaleciendo la administración de riesgos y sus controles. (1 y 2)"]
[null,null,"2. Definir e implementar el modelo optimizado de formulación, seguimiento y \nevaluación de la política pública judicial."]

{"sheet":"INFO_ANÁLISIS DE CONTEXTO","index":1,"n_rows":39,"n_cols":5,"rows_kept":39,"cut":false,"hidden":false,"merged":[[0,0,0,4],[22,0,22,4],[1,1,1,2],[3,1,3,4],[5,0,6,0],[5,1,5,2],[5,3,5,4],[6,1,6,2],[6,3,6,4],[20,0,21,0],[8,0,8,4],[11,0,12,0],[13,0,14,0],[15,0,16,0],[17,0,19,0],[32,0,33,0],[24,0,25,0],[26,0,27,0],[28,0,29,0],[30,0,31,0]]}
["ANÁLISIS DE CONTEXTO"]
["CONSEJO SECCIONAL/DIRECCIÓN SECCIONAL DE ADMINISTRACIÓN JUDICIAL Y/O DISTRITO JUDICIAL SEGÚN SEA EL CASO","CONSEJO SUPERIOR DE LA JUDICATURA",null,"PROCESO ","MEJORAMIENTO Y EVALUACIÓN DEL SIGCMA"]
[]
["DEPENDENCIA ADMINISTRATIVA O JUDICIAL CERTIFICADA ","UNIDAD DE AUDITORÍA"]
[]
["OBJETIVO DEL PROCESO","MAPA DE PROCESOS CONSEJO SUPERIOR DE LA JUDICATURA",null,"PROCESOS DEPENDENCIA JUDICIALES CERTIFICADAS"]
[null,"Evaluar en forma independiente el Sistema Institucional de Control Interno de la Rama Judicial, a través de la actividad de auditoría interna, proponiendo las recomendaciones para mantenerlo, perfeccionarlo y fortalecerlo continuamente.",null,"N/A"]
[]
["CONTEXTO EXTERNO "]
["FACTORES TEMÁTICOS","No.","AMENAZAS (Factores específicos) ","No. ","OPORTUNIDADES (Factores específicos) "]
["Político (cambios de gobierno, legislación, políticas públicas, regulación)",1,"Cambio de gobierno que puede traer consigo cambios en el modelo de Estado vigente, como por ejemplo la afectación al principio político de separación de poderes, que pueden limitar el adecuado y oportuno ejercicio del control interno y la actividad de auditoría.",1,"Decisiones políticas y políticas de gobierno en materia de gestión pública, presupuesto público, lucha contra la corrupción, etc., orientadas a mejorar la gestión estatal para el cumplimento de sus fines esenciales, que requieren mayor compromiso y disposición de la Rama Judicial en materia de control interno y auditoría."]
["Económicos y Financieros (disponibilidad de capital, liquidez, mercados financieros, desempleo, competencia)",2,"Efectos inflacionarios que afectan la economía nacional, repercutiendo en las finanzas del Estado, que pueden acarrear desfinanciación de la gestión judicial y todo lo que ella implica, incluido el ejercicio adecuado y oportuno del control interno y la actividad de auditoría.",2,"Inversiones en infraestructura física para el mantenimiento y mejoramiento de los diferentes bienes muebles e inmuebles de la Rama Judicial, que redundan en un beneficio para la Unidad de Auditoría y sus operaciones."]
[null,3,"Decisiones del Gobierno nacional en materia presupuestal que impacten el presupuesto que necesita la Rama Judicial para su funcionamiento, por ejemplo, recortes o reducciones presupuestales, etc., que afectan el adecuado y oportuno ejercicio del control interno y la actividad de auditoría."]
["Sociales y culturales (cultura, religión, demografía, responsabilidad social, orden público)",4,"Posiciones sindicales que puedan alterar el normal funcionamiento en la Rama Judicial para la prestación del servicio de justicia, incluidas las actividades de la Unidad de Auditoría en la operación del proceso gestión de control interno y auditoría.",3,"Empoderamiento de las cuestiones públicas de la Rama Judicial por parte de sus grupos de interés y de valor, así como mayor interés y participación de la ciudadanía en la vigilancia y control de la gestión Estatal, que requieren el compromiso y fortalecimiento de los órganos y procesos internos de vigilancia y control."]
[null,null,null,4,"Mayor demanda del servicio de administración de justicia dadas las nuevas dinámicas sociales que involucran la generación de conflictos entre particulares y entre estos y el Estado, que requieren la conveniencia, el compromiso y el fortalecimiento de los órganos y procesos internos de vigilancia y control en la prestación de un adecuado y oportuno servicio."]
["Tecnológicos (desarrollo digital, avances en tecnología, acceso a sistemas de información externos, gobierno en línea)",5,"Vulnerabilidad en la seguridad de los sistemas informáticos ante ataques cibernéticos que pueden afectar la Rama Judicial y la prestación del servicio de justicia, incluidas las actividades de la Unidad de Auditoría en la operación del proceso gestión de control interno y auditoría.",5,"Innovaciones y desarrollo en materia de tecnologías de la información y las comunicaciones aprovechables por parte de la Rama Judicial, que requieren el compromiso institucional en materia presupuestal, de cambio cultural y desarrollo o adquisición de competencias para su implementación, exigen que el ejercicio del control interno y la actividad de auditoría se pongan a la par de estas, conociendo la normatividad, los controles y prácticas."]
[null,null,null,6,"Los avances tecnológicos, incorporados en la gestión judicial y administrativa de la Rama Judicial, obligan a que el proceso gestión de control interno y auditoría avance, evolucione y se modernice al mismo ritmo; de tal forma que, permita lograr óptimos resultados al momento de su ejecución; llegando al punto de que este no abarque solo la documentación física sino también la digital, generando la necesidad en los auditores de conocer y manejar las herramientas TIC."]
["Legales y reglamentarios (estándares nacionales, internacionales, regulación)",6,"Actualización de la normatividad que cambien de fondo el contexto actual de la gestión pública y el control interno.",7,"La normatividad legal y reglamentaria en materia de control interno y auditoría busca en las entidades públicas el cumplimiento de sus obligaciones constitucionales y legales, así como la modernización de la administración pública y el mejoramiento de la capacidad de gestión de sus instituciones, de la cual no puede ser ajena la Rama Judicial. Adicionalmente, en dicha legislación están claramente definidas las funciones y responsabilidades de las oficinas de control interno y de los auditores, las que se cumplen, para el caso concreto, a través del proceso gestión de control interno y auditoría del SIGCMA."]
[null,null,null,8,"En tanto que la legislación expedida sea en pro de mejorar la gestión pública, de robustecer a la Rama Judicial y de combatir la corrupción, el ejercicio del control interno y la actividad de auditoría pueden resultar favorecidos, en el entendido de que estos requieren ser fortalecidos y mejorados constantemente."]
[null,null,null,9,"Oferta institucional y de centros de formación pública y privada para el desarrollo y el mejoramiento de las competencias y habilidades de los auditores internos, en aspectos técnicos, así como en materia de control interno, auditoría interna, gestión de riesgos, sistemas de gestión, uso y análisis de datos, lecto-escritura, entre otros."]
["Ambientales (emisiones y residuos, energía, catástrofes naturales, desarrollo sostenible)",null,null,10,"La normatividad en materia ambiental, de seguridad y salud en el trabajo, así como los aspectos relacionados con estos asuntos, incorporados en la Rama Judicial, hace que el proceso gestión de control interno y auditoría y sus operadores, sean a la vez sujetos obligados y cumplan el rol de evaluadores de estas."]
[null,null,null,11,"Dada la relevancia de las cuestiones ambientales y de seguridad y salud en el trabajo; a nivel organizacional, así mismo resulta trascendente evaluar la efectividad de las medidas implementadas para proteger a los trabajadores de los riesgos derivados de su actividad laboral, incluidos aspectos de salud pública, medioambientales y de gestión ambiental; por lo que requiere un proceso de gestión de control interno y auditoría preparado para afrontar estos temas de manera integral, técnica, objetiva y transparente."]
["CONTEXTO INTERNO "]
["FACTORES TEMÁTICOS","No.","DEBILIDADES (Factores específicos) ","No. ","FORTALEZAS(Factores específicos)"]
["Estratégicos (direccionamiento estratégico, planeación institucional, liderazgo, trabajo en equipo)",1,"Comunicación tardía de los resultados (informes) de las auditorías, seguimientos e informes de ley realizados.",1,"La formulación del Programa Anual de Auditoría de cada vigencia, con el que se realizan las actividades del proceso gestión de control interno y auditoría, se alinea con la planeación estratégica institucional, en el entendido de este que contribuye a logro de los objetivos estratégicos, la misión y visión de la Rama Judicial. Por su parte, la Unidad de Auditoría, como ejecutora del proceso, brinda soporte estratégico para la toma de decisiones del CSJ y la DEAJ, agregando valor de manera independiente, mediante la presentación de informes, el manejo de información estratégica y la generación de alertas ante cambios actuales o potenciales que puedan retardar el cumplimiento de los objetivos de la Rama Judicial, o generar riesgos fiscales, de corrupción u otros de gestión."]
[null,2,"Desfase o retraso en el cumplimiento de los cronogramas de las auditorías planificadas en el Programa Anual de Auditoría.",2,"La planeación del proceso gestión de control interno y auditoría es un aspecto que se profundiza y tecnifica para llegar a un planeamiento estratégico, en el que se identifican los riesgos de auditoría. En este sentido, el Programa Anual de Auditoría, tiene por objeto definir y establecer los lineamientos de la Unidad de Auditoría en cumplimiento de sus funciones, roles y responsabilidades, el Estatuto de Auditoría Interna y el Código de Ética de Auditor Interno, alineados con los objetivos estratégicos de la Rama Judicial y las expectativas de sus grupos de valor y de interés, así como de distintas partes interesadas."]
["Recursos financieros (presupuesto de funcionamiento, recursos de inversión",null,null,3,"Presupuesto para el pago del personal que opera el proceso gestión de control interno y auditoría, así como para el funcionamiento en general de la Unidad de Auditoría, asegurado en los gastos de funcionamiento de la Rama Judicial."]
[null,null,null,4,"Asignación de recursos para viáticos y gastos de viaje para los auditores de la Unidad de Auditoría, que operan el proceso gestión de control interno y auditoría."]
["Personal (competencia del personal, disponibilidad, suficiencia, seguridad y salud en el trabajo)",3,"Brecha en conocimientos técnicos sobre aspectos concretos que requieren formación previa, en materia de control interno, auditoría interna, gestión de riesgos, sistemas de gestión, uso y análisis de datos, redacción de informes y hallazgos de auditoría, gestión documental, responsabilidad fiscal, disciplinaria y penal.",5,"Para la operación del proceso gestión de control interno y auditoría, la Unidad de Auditoría cuenta con un equipo multidisciplinario de profesionales y técnicos, distribuido en el nivel central y seccional, lo que permite tener una mayor cobertura del territorio nacional donde opera la Rama Judicial."]
[null,4,"Exposición a riesgos laborales al ejercer las labores asignadas, por la naturalezas de sus desplazamientos y por posiciones prolongadas en sus puestos de trabajo del personal de la Unidad de Auditoría.",6,"El personal de la Unidad de Auditoría, que opera el proceso gestión de control interno, cuenta con la formación profesional, la experiencia y las competencias requeridas para desarrollar la actividad de auditoría interna, consistente en proporcionar servicios de aseguramiento o de evaluación objetiva del Sistema Institucional de Control Interno de la Rama Judicial, a través de auditorías y seguimientos; y el de asesoría y acompañamiento, brindando recomendaciones con enfoque preventivo para mejorar la gestión y las operaciones de le Entidad. "]
["Proceso (capacidad, diseño, ejecución, proveedores, entradas, salidas, gestión del conocimiento)",5,"Baja influencia en el compromiso de los líderes de procesos para motivar, ejecutar y ejercer acciones correctivas en las recomendaciones y oportunidades de mejora entregadas.",7,"El proceso gestión de control interno y auditoría, circunscrito a los procesos de evaluación y mejora del SIGCMA, que está alineado con los referentes internacionales en materia de auditoría y control interno; cuenta con los procedimientos, la documentación, los registros y demás instrumentos de auditoría, que garantizan la entrega de productos y servicios de calidad y la unidad de criterio en las evaluaciones y seguimientos y asesorías y acompañamientos que brinda"]
[null,null,null,8,"El proceso gestión de control interno y auditoría, a través del Estatuto de Auditoría Interna de la Rama Judicial, que es vinculante, tiene definido el propósito, la autoridad y la responsabilidad de la actividad de auditoría interna; además, tiene establecida la posición de la actividad de auditoría interna dentro de la Entidad; tiene la autorización para acceder a registros, personal y propiedades físicas relevantes para el desempeño de los compromisos; y tiene definido el alcance de las actividades de auditoría interna. Adicionalmente, por disposición legal, la auditoría interna está definida como una actividad independiente y objetiva de aseguramiento y consulta, concebida para agregar valor y mejorar las operaciones institucionales."]
["Tecnológicos ",6,"Bajo uso de herramientas de gestión en análisis de datos y minería de datos en el desarrollo de las actividades propias de la actividad de auditoría.",9,"Para la adecuada operación del proceso gestión de control interno y auditoría, la Unidad de Auditoría dispone de los equipos informáticos y las TIC requeridos, así como de herramientas ofimáticas y acceso a aplicaciones informáticas y sistemas de información que facilitan su ejecución."]
[null,null,null,10,"Las herramientas tecnológicas ayudan a cambiar la forma en que la Unidad de Auditoría opera el proceso gestión de control interno y auditoría, en la medida en que dichas herramientas permiten el desarrollo de nuevas capacidades; logrando funcionar con mayor eficiencia para evaluar de forma efectiva, por ejemplo, la gestión de riesgos y otras actividades institucionales, que permitan agregar valor.\n\nEn la medida en que la Rama Judicial adopte más y nuevos modelos o conceptos de gestión, por ejemplo, el de arquitectura empresarial, e integre nuevas aplicaciones y plataformas informáticas y digitales o sistemas de información, los auditores de la Unidad de Auditoría emplean nuevos enfoques, con miras a identificar y evaluar riesgos y controles establecidos como consecuencia de estos cambios."]
["Documentación (actualización, coherencia, aplicabilidad) ",7,"TRD del proceso y de la Unidad de Auditoría desactualizada, que no refleja la realidad actual de estos dos aspectos. Archivo de gestión digitalizado requiere mejor organización conforme la TRD.",11,"Procedimientos e información documentada que soporta la ejecución del proceso formalizados y actualizados."]
["Infraestructura física (suficiencia, comodidad)",null,null,12,"Infraestructura (oficinas, equipos, sistemas de telecomunicaciones, equipos de cómputo, etc.) adecuada para el cumplimiento de las funciones de la Unidad de Auditoría y el desarrollo del proceso."]
["Elementos de trabajo (papel, equipos, herramientas)",null,null,13,"Se cuenta de forma suficiente y oportuna con los elementos necesarios para la ejecución del proceso y las actividades de la Unidad de Auditoría."]
["Comunicación Interna (canales utilizados y su efectividad, flujo de la información necesaria para el desarrollo de las actividades)",null,null,14,"Las normas internacionales de auditoría, acogidas por la Unidad de Auditoría para el diseño y operación del proceso gestión de control interno y auditoría, indican que los auditores internos deben comunicar los resultados de los trabajos de auditoría, estableciendo que las comunicaciones deben incluir los objetivos, alcance y resultados, las conclusiones y las recomendaciones aplicables. Las comunicaciones deben ser precisas, objetivas, claras, concisas, constructivas, completas y oportunas.\n\nLa Unidad de Auditoría se comunica y comunica resultados a través de los distintos medios y canales disponibles en la Rama Judicial (escritos, reuniones, comités, etc.) ahora especialmente los dispuestos a través de las TIC.\n\nLa Unidad de Auditoría facilita la comunicación con los órganos externos de control, especialmente con la Contraloría General de la República; de igual forma, tiene establecidos canales de comunicación con el CSJ y con la DEAJ para recibir y transmitir información necesaria para el cumplimiento de su gestión."]
["Ambientales",null,null,15,"Uso racional de los recursos como la energía, agua y demás consumibles de la Unidad de Auditoria.\n\nUso adecuado de los bienes para la gestión del proceso, enfocado al mejoramiento del desempeño ambiental de la Rama Judicial."]

{"sheet":"INFO_ESTRATEGIAS","index":2,"n_rows":9,"n_cols":6,"rows_kept":9,"cut":false,"hidden":false,"merged":[[1,0,1,5],[2,0,3,0],[2,1,2,4],[0,1,0,4]]}
[null,"ESTRATEGIAS"]
["ESTRATEGIAS DOFA"]
["ESTRATEGIA/ACCIÓN/ PROYECTO","GESTIONA ",null,null,null,"DOCUMENTADA EN "]
[null,"A","O","D","F"]
["Gestionar procesos de inducción, reinducción y formación de los auditores en materia de control interno, auditoría y evaluación de la gestión del riesgo y todas aquellas materias asociadas al ejercicio auditor",null,9,3,null,"Plan de acción"]
["Asesorar a los líderes de procesos en la formulación adecuada, rigurosa y con enfoque estratégico de las acciones de mejora producto de las auditorías internas y externas. Facilitar el seguimiento al cumplimiento y eficacia del plan de mejoramiento institucional. Emitir informes con alertas de los factores que pongan en riesgo la eficacia y cumplimiento del plan de mejoramiento institucional. Realizar análisis comparados de la evolución del plan de mejoramiento institucional, verificando la disminución o aumento de hallazgos e incidencias año tras año y la evolución de cumplimiento del plan de mejoramiento institucional. Desplegar, en general, las acciones tendientes a promover entre las áreas responsables la formulación de acciones eficaces y el cumplimiento oportuno de las mismas.",null,7,5,2,"Plan de acción"]
["Participar en mesas de trabajo de la ANDJE-DEAJ en el proceso de mejora del Sistema Único de Gestión e Información Litigiosa del Estado Colombiano (eKogui) y realizar actividades de acompañamiento al cargue y actualización del eKogui.",5,"5, 6",null,"9, 10, 12","Plan de acción"]
["Fomentar la cultura del control y autoevaluación, a través de actividades de sensibilización en materia de control interno y, roles y responsabilidades de las líneas de defensa, dirigidas a los servidores judiciales.","1, 2, 3, 6","3, 4, 5, 6",null,"1, 2, 5, 6, 7, 8","Plan de acción "]
[null,null,null,null," "]

{"sheet":"PLAN DE ACCION","index":3,"n_rows":1047890,"n_cols":11,"rows_kept":4500,"cut":true,"hidden":true,"merged":[[2,1,3,1],[4,1,5,1],[2,0,3,0],[4,0,5,0],[2,2,3,2],[4,2,5,2]],"bounds":{"rows_first":2000,"rows_last":500,"rows_between":2000,"halvings":0},"read":"row_number_cap"}
[]
[]
[]
[]
[]
[]
[]
[]
[]
[]
[]
[]
[]
[]
[]
[]
[]
[]
[]
[]
[]
[]
[]
[]
[]
[]
[]
[]
[]
[]
[]
[]
[]
[]
[]
[]
[]
[]
[]
[]
[]
[]
[]
[]
[]
[]
[]
[]
[]
[]
[]
[]
[]
[]
[]
[]
[]
[]
[]
[]
[]
[]
[]
[]
[]
[]
[]
[]
[]
[]
[]
[]
[]
[]
[]
[]
[]
[]
[]
[]
[]
[]
[]
[]
[]
[]
[]
[]
[]
[]
[]
[]
[]
[]
[]
[]
[]
[]
[]
[]
[]
[]
[]
[]
[]
[]
[]
[]
[]
[]
[]
[]
[]
[]
[]
[]
[]
[]
[]
[]
[]
[]
[]
[]
[]
[]
[]
[]
[]
[]
[]
[]
[]
[]
[]
[]
[]
[]
[]
[]
[]
[]
[]
[]
[]
[]
[]
[]
[]
[]
[]
[]
[]
[]
[]
[]
[]
[]
[]
[]
[]
[]
[]
[]
[]
[]
[]
[]
[]
[]
[]
[]
[]
[]
[]
[]
[]
[]
[]
[]
[]
[]
[]
[]
[]
[]
[]
[]
[]
[]
[]
[]
[]
[]
[]
[]
[]
[]
[]
[]
[]
[]
[]
[]
[]
[]
[]
[]
[]
[]
[]
[]
[]
[]
[]
[]
[]
[]
[]
[]
[]
[]
[]
[]
[]
[]
[]
[]
[]
[]
[]
[]
[]
[]
[]
[]
[]
[]
[]
[]
[]
[]
[]
[]
[]
[]
[]
[]
[]
[]
[]
[]
[]
[]
[]
[]
[]
[]
[]
[]
[]
[]
[]
[]
[]
[]
[]
[]
[]
[]
[]
[]
[]
[]
[]
[]
[]
[]
[]
[]
[]
[]
[]
[]
[]
[]
[]
[]
[]
[]
[]
[]
[]
[]
[]
[]
[]
[]
[]
[]
[]
[]
[]
[]
[]
[]
[]
[]
[]
[]
[]
[]
[]
[]
[]
[]
[]
[]
[]
[]
[]
[]
[]
[]
[]
[]
[]
[]
[]
[]
[]
[]
[]
[]
[]
[]
[]
[]
[]
[]
[]
[]
[]
[]
[]
[]
[]
[]
[]
[]
[]
[]
[]
[]
[]
[]
[]
[]
[]
[]
[]
[]
[]
[]
[]
[]
[]
[]
[]
[]
[]
[]
[]
[]
[]
[]
[]
[]
[]
[]
[]
[]
[]
[]
[]
[]
[]
[]
[]
[]
[]
[]
[]
[]
[]
[]
[]
[]
[]
[]
[]
[]
[]
[]
[]
[]
[]
[]
[]
[]
[]
[]
[]
[]
[]
[]
[]
[]
[]
[]
[]
[]
[]
[]
[]
[]
[]
[]
[]
[]
[]
[]
[]
[]
[]
[]
[]
[]
[]
[]
[]
[]
[]
[]
[]
[]
[]
[]
[]
[]
[]
[]
[]
[]
[]
[]
[]
[]
[]
[]
[]
[]
[]
[]
[]
[]
[]
[]
[]
[]
[]
[]
[]
[]
[]
[]
[]
[]
[]
[]
[]
[]
[]
[]
[]
[]
[]
[]
[]
[]
[]
[]
[]
[]
[]
[]
[]
[]
[]
[]
[]
[]
[]
[]
[]
[]
[]
[]
[]
[]
[]
[]
[]
[]
[]
[]
[]
[]
[]
[]
[]
[]
[]
[]
[]
[]
[]
[]
[]
[]
[]
[]
[]
[]
[]
[]
[]
[]
[]
[]
[]
[]
[]
[]
[]
[]
[]
[]
[]
[]
[]
[]
[]
[]
[]
[]
[]
[]
[]
[]
[]
[]
[]
[]
[]
[]
[]
[]
[]
[]
[]
[]
[]
[]
[]
[]
[]
[]
[]
[]
[]
[]
[]
[]
[]
[]
[]
[]
[]
[]
[]
[]
[]
[]
[]
[]
[]
[]
[]
[]
[]
[]
[]
[]
[]
[]
[]
[]
[]
[]
[]
[]
[]
[]
[]
[]
[]
[]
[]
[]
[]
[]
[]
[]
[]
[]
[]
[]
[]
[]
[]
[]
[]
[]
[]
[]
[]
[]
[]
[]
[]
[]
[]
[]
[]
[]
[]
[]
[]
[]
[]
[]
[]
[]
[]
[]
[]
[]
[]
[]
[]
[]
[]
[]
[]
[]
[]
[]
[]
[]
[]
[]
[]
[]
[]
[]
[]
[]
[]
[]
[]
[]
[]
[]
[]
[]
[]
[]
[]
[]
[]
[]
[]
[]
[]
[]
[]
[]
[]
[]
[]
[]
[]
[]
[]
[]
[]
[]
[]
[]
[]
[]
[]
[]
[]
[]
[]
[]
[]
[]
[]
[]
[]
[]
[]
[]
[]
[]
[]
[]
[]
[]
[]
[]
[]
[]
[]
[]
[]
[]
[]
[]
[]
[]
[]
[]
[]
[]
[]
[]
[]
[]
[]
[]
[]
[]
[]
[]
[]
[]
[]
[]
[]
[]
[]
[]
[]
[]
[]
[]
[]
[]
[]
[]
[]
[]
[]
[]
[]
[]
[]
[]
[]
[]
[]
[]
[]
[]
[]
[]
[]
[]
[]
[]
[]
[]
[]
[]
[]
[]
[]
[]
[]
[]
[]
[]
[]
[]
[]
[]
[]
[]
[]
[]
[]
[]
[]
[]
[]
[]
[]
[]
[]
[]
[]
[]
[]
[]
[]
[]
[]
[]
[]
[]
[]
[]
[]
[]
[]
[]
[]
[]
[]
[]
[]
[]
[]
[]
[]
[]
[]
[]
[]
[]
[]
[]
[]
[]
[]
[]
[]
[]
[]
[]
[]
[]
[]
[]
[]
[]
[]
[]
[]
[]
[]
[]
[]
[]
[]
[]
[]
[]
[]
[]
[]
[]
[]
[]
[]
[]
[]
[]
[]
[]
[]
[]
[]
[]
[]
[]
[]
[]
[]
[]
[]
[]
[]
[]
[]
[]
[]
[]
[]
[]
[]
[]
[]
[]
[]
[]
[]
[]
[]
[]
[]
[]
[]
[]
[]
[]
[]
[]
[]
[]
[]
[]
[]
[]
[]
[]
[]
[]
[]
[]
[]
[]
[]
[]
[]
[]
[]
[]
[]
[]
[]
[]
[]
[]
[]
[]
[]
[]
[]
[]
[]
[]
[]
[]
[]
[]
[]
[]
[]
[]
[]
[]
[]
[]
[]
[]
[]
[]
[]
[]
[]
[]
[]
[]
[]
[]
[]
[]
[]
[]
[]
[]
[]
[]
[]
[]
[]
[]
[]
[]
[]
[]
[]
[]
[]
[]
[]
[]
[]
[]
[]
[]
[]
[]
[]
[]
[]
[]
[]
[]
[]
[]
[]
[]
[]
[]
[]
[]
[]
[]
[]
[]
[]
[]
[]
[]
[]
[]
[]
[]
[]
[]
[]
[]
[]
[]
[]
[]
[]
[]
[]
[]
[]
[]
[]
[]
[]
[]
[]
[]
[]
[]
[]
[]
[]
[]
[]
[]
[]
[]
[]
[]
[]
[]
[]
[]
[]
[]
[]
[]
[]
[]
[]
[]
[]
[]
[]
[]
[]
[]
[]
[]
[]
[]
[]
[]
[]
[]
[]
[]
[]
[]
[]
[]
[]
[]
[]
[]
[]
[]
[]
[]
[]
[]
[]
[]
[]
[]
[]
[]
[]
[]
[]
[]
[]
[]
[]
[]
[]
[]
[]
[]
[]
[]
[]
[]
[]
[]
[]
[]
[]
[]
[]
[]
[]
[]
[]
[]
[]
[]
[]
[]
[]
[]
[]
[]
[]
[]
[]
[]
[]
[]
[]
[]
[]
[]
[]
[]
[]
[]
[]
[]
[]
[]
[]
[]
[]
[]
[]
[]
[]
[]
[]
[]
[]
[]
[]
[]
[]
[]
[]
[]
[]
[]
[]
[]
[]
[]
[]
[]
[]
[]
[]
[]
[]
[]
[]
[]
[]
[]
[]
[]
[]
[]
[]
[]
[]
[]
[]
[]
[]
[]
[]
[]
[]
[]
[]
[]
[]
[]
[]
[]
[]
[]
[]
[]
[]
[]
[]
[]
[]
[]
[]
[]
[]
[]
[]
[]
[]
[]
[]
[]
[]
[]
[]
[]
[]
[]
[]
[]
[]
[]
[]
[]
[]
[]
[]
[]
[]
[]
[]
[]
[]
[]
[]
[]
[]
[]
[]
[]
[]
[]
[]
[]
[]
[]
[]
[]
[]
[]
[]
[]
[]
[]
[]
[]
[]
[]
[]
[]
[]
[]
[]
[]
[]
[]
[]
[]
[]
[]
[]
[]
[]
[]
[]
[]
[]
[]
[]
[]
[]
[]
[]
[]
[]
[]
[]
[]
[]
[]
[]
[]
[]
[]
[]
[]
[]
[]
[]
[]
[]
[]
[]
[]
[]
[]
[]
[]
[]
[]
[]
[]
[]
[]
[]
[]
[]
[]
[]
[]
[]
[]
[]
[]
[]
[]
[]
[]
[]
[]
[]
[]
[]
[]
[]
[]
[]
[]
[]
[]
[]
[]
[]
[]
[]
[]
[]
[]
[]
[]
[]
[]
[]
[]
[]
[]
[]
[]
[]
[]
[]
[]
[]
[]
[]
[]
[]
[]
[]
[]
[]
[]
[]
[]
[]
[]
[]
[]
[]
[]
[]
[]
[]
[]
[]
[]
[]
[]
[]
[]
[]
[]
[]
[]
[]
[]
[]
[]
[]
[]
[]
[]
[]
[]
[]
[]
[]
[]
[]
[]
[]
[]
[]
[]
[]
[]
[]
[]
[]
[]
[]
[]
[]
[]
[]
[]
[]
[]
[]
[]
[]
[]
[]
[]
[]
[]
[]
[]
[]
[]
[]
[]
[]
[]
[]
[]
[]
[]
[]
[]
[]
[]
[]
[]
[]
[]
[]
[]
[]
[]
[]
[]
[]
[]
[]
[]
[]
[]
[]
[]
[]
[]
[]
[]
[]
[]
[]
[]
[]
[]
[]
[]
[]
[]
[]
[]
[]
[]
[]
[]
[]
[]
[]
[]
[]
[]
[]
[]
[]
[]
[]
[]
[]
[]
[]
[]
[]
[]
[]
[]
[]
[]
[]
[]
[]
[]
[]
[]
[]
[]
[]
[]
[]
[]
[]
[]
[]
[]
[]
[]
[]
[]
[]
[]
[]
[]
[]
[]
[]
[]
[]
[]
[]
[]
[]
[]
[]
[]
[]
[]
[]
[]
[]
[]
[]
[]
[]
[]
[]
[]
[]
[]
[]
[]
[]
[]
[]
[]
[]
[]
[]
[]
[]
[]
[]
[]
[]
[]
[]
[]
[]
[]
[]
[]
[]
[]
[]
[]
[]
[]
[]
[]
[]
[]
[]
[]
[]
[]
[]
[]
[]
[]
[]
[]
[]
[]
[]
[]
[]
[]
[]
[]
[]
[]
[]
[]
[]
[]
[]
[]
[]
[]
[]
[]
[]
[]
[]
[]
[]
[]
[]
[]
[]
[]
[]
[]
[]
[]
[]
[]
[]
[]
[]
[]
[]
[]
[]
[]
[]
[]
[]
[]
[]
[]
[]
[]
[]
[]
[]
[]
[]
[]
[]
[]
[]
[]
[]
[]
[]
[]
[]
[]
[]
[]
[]
[]
[]
[]
[]
[]
[]
[]
[]
[]
[]
[]
[]
[]
[]
[]
[]
[]
[]
[]
[]
[]
[]
[]
[]
[]
[]
[]
[]
[]
[]
[]
[]
[]
[]
[]
[]
[]
[]
[]
[]
[]
[]
[]
[]
[]
[]
[]
[]
[]
[]
[]
[]
[]
[]
[]
[]
[]
[]
[]
[]
[]
[]
[]
[]
[]
[]
[]
[]
[]
[]
[]
[]
[]
[]
[]
[]
[]
[]
[]
[]
[]
[]
[]
[]
[]
[]
[]
[]
[]
[]
[]
[]
[]
[]
[]
[]
[]
[]
[]
[]
[]
[]
[]
[]
[]
[]
[]
[]
[]
[]
[]
[]
[]
[]
[]
[]
[]
[]
[]
[]
[]
[]
[]
[]
[]
[]
[]
[]
[]
[]
[]
[]
[]
[]
[]
[]
[]
[]
[]
[]
[]
[]
[]
[]
[]
[]
[]
[]
[]
[]
[]
[]
[]
[]
[]
[]
[]
[]
[]
[]
[]
[]
[]
[]
[]
[]
[]
[]
[]
[]
[]
[]
[]
[]
[]
[]
[]
[]
[]
[]
[]
[]
[]
[]
[]
[]
[]
[]
[]
[]
[]
[]
[]
[]
[]
[]
[]
[]
[]
[]
[]
[]
[]
[]
[]
[]
[]
[]
[]
[]
[]
[]
[]
[]
[]
[]
[]
[]
[]
[]
[]
[]
[]
[]
[]
[]
[]
[]
[]
[]
[]
[]
[]
[]
[]
[]
[]
[]
[]
[]
[]
[]
[]
[]
[]
[]
[]
[]
[]
[]
[]
[]
[]
[]
[]
[]
[]
[]
[]
[]
[]
[]
[]
[]
[]
[]
[]
[]
[]
[]
[]
[]
[]
[]
[]
[]
[]
[]
[]
[]
[]
[]
[]
[]
[]
[]
[]
[]
[]
[]
[]
[]
[]
[]
[]
[]
[]
[]
[]
[]
[]
[]
[]
[]
[]
[]
[]
[]
[]
[]
[]
[]
[]
[]
[]
[]
[]
[]
[]
[]
[]
[]
[]
[]
[]
[]
[]
[]
[]
[]
[]
[]
[]
[]
[]
[]
[]
[]
[]
[]
[]
[]
[]
[]
[]
[]
[]
[]
[]
[]
[]
[]
[]
[]
[]
[]
[]
[]
[]
[]
[]
[]
[]
[]
[]
[]
[]
[]
[]
[]
[]
[]
[]
[]
[]
[]
[]
[]
[]
[]
[]
[]
[]
[]
[]
[]
[]
[]
[]
[]
[]
[]
[]
[]
[]
[]
[]
[]
[]
[]
[]
[]
[]
[]
[]
[]
[]
[]
[]
[]
[]
[]
[]
[]
[]
[]
[]
[]
[]
[]
[]
[]
[]
[]
[]
[]
[]
[]
[]
[]
[]
[]
[]
[]
[]
[]
[]
[]
[]
[]
[]
[]
[]
[]
[]
[]
[]
[]
[]
[]
[]
[]
[]
[]
[]
[]
[]
[]
[]
[]
[]
[]
[]
[]
[]
[]
[]
[]
[]
[]
[]
[]
[]
[]
[]
[]
[]
[]
[]
[]
[]
[]
[]
[]
[]
[]
[]
[]
[]
[]
[]
[]
[]
[]
[]
[]
[]
[]
[]
[]
[]
[]
[]
[]
[]
[]
[]
[]
[]
[]
[]
[]
[]
[]
[]
[]
[]
[]
[]
[]
[]
[]
[]
[]
[]
[]
[]
[]
[]
[]
[]
[]
[]
[]
[]
[]
[]
[]
[]
[]
[]
[]
[]
[]
[]
[]
[]
[]
[]
[]
[]
[]
[]
[]
[]
[]
[]
[]
[]
[]
[]
[]
[]
[]
[]
[]
[]
[]
[]
[]
[]
[]
[]
[]
[]
[]
[]
[]
[]
[]
[]
[]
[]
[]
[]
[]
[]
[]
[]
[]
[]
[]
[]
[]
[]
[]
[]
[]
[]
[]
[]
[]
[]
[]
[]
[]
[]
[]
[]
[]
[]
[]
[]
[]
[]
[]
[]
[]
[]
[]
[]
[]
[]
[]
[]
[]
[]
[]
[]
[]
[]
[]
[]
[]
[]
[]
[]
[]
[]
[]
[]
[]
[]
[]
[]
[]
[]
[]
[]
[]
[]
[]
[]
[]
[]
[]
[]
[]
[]
[]
[]
[]
[]
[]
[]
[]
[]
[]
[]
[]
[]
[]
[]
[]
[]
[]
[]
[]
[]
[]
[]
[]
[]
[]
[]
[]
[]
[]
[]
[]
[]
[]
[]
[]
[]
[]
[]
[]
[]
[]
[]
[]
[]
[]
[]
[]
[]
[]
[]
[]
[]
[]
[]
[]
[]
[]
[]
[]
[]
[]
[]
[]
[]
[]
[]
[]
[]
[]
[]
[]
[]
[]
[]
[]
[]
[]
[]
[]
[]
[]
[]
[]
[]
[]
[]
[]
[]
[]
[]
[]
[]
[]
[]
[]
[]
[]
[]
[]
[]
[]
[]
[]
[]
[]
[]
[]
[]
[]
[]
[]
[]
[]
[]
[]
[]
[]
[]
[]
[]
[]
[]
[]
[]
[]
[]
[]
[]
[]
[]
[]
[]
[]
[]
[]
[]
[]
[]
[]
[]
[]
[]
[]
[]
[]
[]
[]
[]
[]
[]
[]
[]
[]
[]
[]
[]
[]
[]
[]
[]
[]
[]
[]
[]
[]
[]
[]
[]
[]
[]
[]
[]
[]
[]
[]
[]
[]
[]
[]
[]
[]
[]
[]
[]
[]
[]
[]
[]
[]
[]
[]
[]
[]
[]
[]
[]
[]
[]
[]
[]
[]
[]
[]
[]
[]
[]
[]
[]
[]
[]
[]
[]
[]
[]
[]
[]
[]
[]
[]
[]
[]
[]
[]
[]
[]
[]
[]
[]
[]
[]
[]
[]
[]
[]
[]
[]
[]
[]
[]
[]
[]
[]
[]
[]
[]
[]
[]
[]
[]
[]
[]
[]
[]
[]
[]
[]
[]
[]
[]
[]
[]
[]
[]
[]
[]
[]
[]
[]
[]
[]
[]
[]
[]
[]
[]
[]
[]
[]
[]
[]
[]
[]
[]
[]
[]
[]
[]
[]
[]
[]
[]
[]
[]
[]
[]
[]
[]
[]
[]
[]
[]
[]
[]
[]
[]
[]
[]
[]
[]
[]
[]
[]
[]
[]
[]
[]
[]
[]
[]
[]
[]
[]
[]
[]
[]
[]
[]
[]
[]
[]
[]
[]
[]
[]
[]
[]
[]
[]
[]
[]
[]
[]
[]
[]
[]
[]
[]
[]
[]
[]
[]
[]
[]
[]
[]
[]
[]
[]
[]
[]
[]
[]
[]
[]
[]
[]
[]
[]
[]
[]
[]
[]
[]
[]
[]
[]
[]
[]
[]
[]
[]
[]
[]
[]
[]
[]
[]
[]
[]
[]
[]
[]
[]
[]
[]
[]
[]
[]
[]
[]
[]
[]
[]
[]
[]
[]
[]
[]
[]
[]
[]
[]
[]
[]
[]
[]
[]
[]
[]
[]
[]
[]
[]
[]
[]
[]
[]
[]
[]
[]
[]
[]
[]
[]
[]
[]
[]
[]
[]
[]
[]
[]
[]
[]
[]
[]
[]
[]
[]
[]
[]
[]
[]
[]
[]
[]
[]
[]
[]
[]
[]
[]
[]
[]
[]
[]
[]
[]
[]
[]
[]
[]
[]
[]
[]
[]
[]
[]
[]
[]
[]
[]
[]
[]
[]
[]
[]
[]
[]
[]
[]
[]
[]
[]
[]
[]
[]
[]
[]
[]
[]
[]
[]
[]
[]
[]
[]
[]
[]
[]
[]
[]
[]
[]
[]
[]
[]
[]
[]
[]
[]
[]
[]
[]
[]
[]
[]
[]
[]
[]
[]
[]
[]
[]
[]
[]
[]
[]
[]
[]
[]
[]
[]
[]
[]
[]
[]
[]
[]
[]
[]
[]
[]
[]
[]
[]
[]
[]
[]
[]
[]
[]
[]
[]
[]
[]
[]
[]
[]
[]
[]
[]
[]
[]
[]
[]
[]
[]
[]
[]
[]
[]
[]
[]
[]
[]
[]
[]
[]
[]
[]
[]
[]
[]
[]
[]
[]
[]
[]
[]
[]
[]
[]
[]
[]
[]
[]
[]
[]
[]
[]
[]
[]
[]
[]
[]
[]
[]
[]
[]
[]
[]
[]
[]
[]
[]
[]
[]
[]
[]
[]
[]
[]
[]
[]
[]
[]
[]
[]
[]
[]
[]
[]
[]
[]
[]
[]
[]
[]
[]
[]
[]
[]
[]
[]
[]
[]
[]
[]
[]
[]
[]
[]
[]
[]
[]
[]
[]
[]
[]
[]
[]
[]
[]
[]
[]
[]
[]
[]
[]
[]
[]
[]
[]
[]
[]
[]
[]
[]
[]
[]
[]
[]
[]
[]
[]
[]
[]
[]
[]
[]
[]
[]
[]
[]
[]
[]
[]
[]
[]
[]
[]
[]
[]
[]
[]
[]
[]
[]
[]
[]
[]
[]
[]
[]
[]
[]
[]
[]
[]
[]
[]
[]
[]
[]
[]
[]
[]
[]
[]
[]
[]
[]
[]
[]
[]
[]
[]
[]
[]
[]
[]
[]
[]
[]
[]
[]
[]
[]
[]
[]
[]
[]
[]
[]
[]
[]
[]
[]
[]
[]
[]
[]
[]
[]
[]
[]
[]
[]
[]
[]
[]
[]
[]
[]
[]
[]
[]
[]
[]
[]
[]
[]
[]
[]
[]
[]
[]
[]
[]
[]
[]
[]
[]
[]
[]
[]
[]
[]
[]
[]
[]
[]
[]
[]
[]
[]
[]
[]
[]
[]
[]
[]
[]
[]
[]
[]
[]
[]
[]
[]
[]
[]
[]
[]
[]
[]
[]
[]
[]
[]
[]
[]
[]
[]
[]
[]
[]
[]
[]
[]
[]
[]
[]
[]
[]
[]
[]
[]
[]
[]
[]
[]
[]
[]
[]
[]
[]
[]
[]
[]
[]
[]
[]
[]
[]
[]
[]
[]
[]
[]
[]
[]
[]
[]
[]
[]
[]
[]
[]
[]
[]
[]
[]
[]
[]
[]
[]
[]
[]
[]
[]
[]
[]
[]
[]
[]
[]
[]
[]
[]
[]
[]
[]
[]
[]
[]
[]
[]
[]
[]
[]
[]
[]
[]
[]
[]
[]
[]
[]
[]
[]
[]
[]
[]
[]
[]
[]
[]
[]
[]
[]
[]
[]
[]
[]
[]
[]
[]
[]
[]
[]
[]
[]
[]
[]
[]
[]
[]
[]
[]
[]
[]
[]
[]
[]
[]
[]
[]
[]
[]
[]
[]
[]
[]
[]
[]
[]
[]
[]
[]
[]
[]
[]
[]
[]
[]
[]
[]
[]
[]
[]
[]
[]
[]
[]
[]
[]
[]
[]
[]
[]
[]
[]
[]
[]
[]
[]
[]
[]
[]
[]
[]
[]
[]
[]
[]
[]
[]
[]
[]
[]
[]
[]
[]
[]
[]
[]
[]
[]
[]
[]
[]
[]
[]
[]
[]
[]
[]
[]
[]
[]
[]
[]
[]
[]
[]
[]
[]
[]
[]
[]
[]
[]
[]
[]
[]
[]
[]
[]
[]
[]
[]
[]
[]
[]
[]
[]
[]
[]
[]
[]
[]
[]
[]
[]
[]
[]
[]
[]
[]
[]
[]
[]
[]
[]
[]
[]
[]
[]
[]
[]
[]
[]
[]
[]
[]
[]
[]
[]
[]
[]
[]
[]
[]
[]
[]
[]
[]
[]
[]
[]
[]
[]
[]
[]
[]
[]
[]
[]
[]
[]
[]
[]
[]
[]
[]
[]
[]
[]
[]
[]
[]
[]
[]
[]
[]
[]
[]
[]
[]
[]
[]
[]
[]
[]
[]
[]
[]
[]
[]
[]
[]
[]
[]
[]
[]
[]
[]
[]
[]
[]
[]
[]
[]
[]
[]
[]
[]
[]
[]
[]
[]
[]
[]
[]
[]
[]
[]
[]
[]
[]
[]
[]
[]
[]
[]
[]
[]
[]
[]
[]
[]
[]
[]
[]
[]
[]
[]
[]
[]
[]
[]
[]
[]
[]
[]
[]
[]
[]
[]
[]
[]
[]
[]
[]
[]
[]
[]
[]
[]
[]
[]
[]
[]
[]
[]
[]
[]
[]
[]
[]
[]
[]
[]
[]
[]
[]
[]
[]
[]
[]
[]
[]
[]
[]
[]
[]
[]
[]
[]
[]
[]
[]
[]
[]
[]
[]
[]
[]
[]
[]
[]
[]
[]
[]
[]
[]
[]
[]
[]
[]
[]
[]
[]
[]
[]
[]
[]
[]
[]
[]
[]
[]
[]
[]
[]
[]
[]
[]
[]
[]
[]
[]
[]
[]
[]
[]
[]
[]
[]
[]
[]
[]
[]
[]
[]
[]
[]
[]
[]
[]
[]
[]
[]
[]
[]
[]
[]
[]
[]
[]
[]
[]
[]
[]
[]
[]
[]
[]
[]
[]
[]
[]
[]
[]
[]
[]
[]
[]
[]
[]
[]
[]
[]
[]
[]
[]
[]
[]
[]
[]
[]
[]
[]
[]
[]
[]
[]
[]
[]
[]
[]
[]
[]
[]
[]
[]
[]
[]
[]
[]
[]
[]
[]
[]
[]
[]
[]
[]
[]
[]
[]
[]
[]
[]
[]
[]
[]
[]
[]
[]
[]
[]
[]
[]
[]
[]
[]
[]
[]
[]
[]
[]
[]
[]
[]
[]
[]
[]
[]
[]
[]
[]
[]
[]
[]
[]
[]
[]
[]
[]
[]
[]
[]
[]
[]
[]
[]
[]
[]
[]
[]
[]
[]
[]
[]
[]
[]
[]
[]
[]
[]
[]
[]
[]
[]
[]
[]
[]
[]
[]
[]
[]
[]
[]
[]
[]
[]
[]
[]
[]
[]
[]
[]
[]
[]
[]
[]
[]
[]
[]
[]
[]
[]
[]
[]
[]
[]
[]
[]
[]
[]
[]
[]
[]
[]
[]
[]
[]
[]
[]
[]
[]
[]
[]
[]
[]
[]
[]
[]
[]
[]
[]
[]
[]
[]
[]
[]
[]
[]
[]
[]
[]
[]
[]
[]
[]
[]
[]
[]
[]
[]
[]
[]
[]
[]
[]
[]
[]
[]
[]
[]
[]
[]
[]
[]
[]
[]
[]
[]
[]
[]
[]
[]
[]
[]
[]
[]
[]
[]
[]
[]
[]
[]
[]
[]
[]
[]
[]
[]
[]
[]
[]
[]
[]
[]
[]
[]
[]
[]
[]
[]
[]
[]
[]
[]
[]
[]
[]
[]
[]
[]
[]
[]
[]
[]
[]
[]
[]
[]
[]
[]
[]
[]
[]
[]
[]
[]
[]
[]
[]
[]
[]
[]
[]
[]
[]
[]
[]
[]
[]
[]
[]
[]
[]
[]
[]
[]
[]
[]
[]
[]
[]
[]
[]
[]
[]
[]
[]
[]
[]
[]
[]
[]
[]
[]
[]
[]
[]
[]
[]
[]
[]
[]
[]
[]
[]
[]
[]
[]
[]
[]
[]
[]
[]
[]
[]
[]
[]
[]
[]
[]
[]
[]
[]
[]
[]
[]
[]
[]
[]
[]
[]
[]
[]
[]
[]
[]
[]
[]
[]
[]
[]
[]
[]
[]
[]
[]
[]
[]
[]
[]
[]
[]
[]
[]
[]
[]
[]
[]
[]
[]
[]
[]
[]
[]
[]
[]
[]
[]
[]
[]
[]
[]
[]
[]
[]
[]
[]
[]
[]
[]
[]
[]
[]
[]
[]
[]
[]
[]
[]
[]
[]
[]
[]
[]
[]
[]
[]
[]
[]
[]
[]
[]
[]
[]
[]
[]
[]
[]
[]
[]
[]
[]
[]
[]
[]
[]
[]
[]
[]
[]
[]
[]
[]
[]
[]
[]
[]
[]
[]
[]
[]
[]
[]
[]
[]
[]
[]
[]
[]
[]
[]
[]
[]
[]
[]
[]
[]
[]
[]
[]
[]
[]
[]
[]
[]
[]
[]
[]
[]
[]
[]
[]
[]
[]
[]
[]
[]
[]
[]
[]
[]
[]
[]
[]
[]
[]
[]
[]
[]
[]
[]
[]
[]
[]
[]
[]
[]
[]
[]
[]
[]
[]
[]
[]
[]
[]
[]
[]
[]
[]
[]
[]
[]
[]
[]
[]
[]
[]
[]
[]
[]
[]
[]
[]
[]
[]
[]
[]
[]
[]
[]
[]
[]
[]
[]
[]
[]
[]
[]
[]
[]
[]
[]
[]
[]
[]
[]
[]
[]
[]
[]
[]
[]
[]
[]
[]
[]
[]
[]
[]
[]
[]
[]
[]
[]
[]
[]
[]
[]
[]
[]
[]
[]
[]
[]
[]
[]
[]
[]
[]
[]
[]
[]
[]
[]
[]
[]
[]
[]
[]
[]
[]
[]
[]
[]
[]
[]
[]
[]
[]
[]
[]
[]
[]
[]
[]
[]
[]
[]
[]
[]
[]
[]
[]
[]
[]
[]
[]
[]
[]
[]
[]
[]
[]
[]
[]
[]
[]
[]
[]
[]
[]
[]
[]
[]
[]
[]
[]
[]
[]
[]
[]
[]
[]
[]
[]
[]
[]
[]
[]
[]
[]
[]
[]
[]
[]
[]
[]
[]
[]
[]
[]
[]
[]
[]
[]
[]
[]
[]
[]
[]
[]
[]
[]
[]
[]
[]
[]
[]
[]
[]
[]
[]
[]
[]
[]
[]
[]
[]
[]
[]
[]
[]
[]
[]
[]
[]
[]
[]
[]
[]
[]
[]
[]
[]
[]
[]
[]
[]
[]
[]
[]
[]
[]
[]
[]
[]
[]
[]
[]
[]
[]
[]
[]
[]
[]
[]
[]
[]
[]
[]
[]
[]
[]
[]
[]
[]
[]
[]
[]
[]
[]
[]
[]
[]
[]
[]
[]
[]
[]
[]
[]
[]
[]
[]
[]
[]
[]
[]
["Admin - Planeación Estratégica","Estratégicos","Central","Gestión","ANÁLISIS RESULTADO\nTRIMESTRE",null,"Estratégicos","Misionales","Apoyo","Evaluación y Mejora","Transversal_todos_procesos"]
["Admin - Comunicación Institucional","Misionales","Seccional","Producto",null,"Entregable","Admin - Planeación Estratégica","Admin - Reordenamiento Judicial","Admin - Gestión Documental","Admin - Gestión de Control Interno y Auditoría","Transversal_todos_procesos"]
["Admin - Gestión para la Integración de Listas de Altas Cortes","Apoyo",null,null,null,"Meta cuantificable","Admin - Comunicación Institucional","Admin - Modernización de la Gestión Judicial","Admin - Gestión Tecnológica","Admin - Mejoramiento del Sistema Integrado de Gestión y Control de la Calidad y del Medio Ambiente"]
["Admin - Reordenamiento Judicial","Evaluación_y_Mejora",null,null,null,null,"Admin - Gestión para la Integración de Listas de Altas Cortes","Admin - Mejoramiento de la Infraestructura Física","Admin - Gestión de la Información Estadística","Juris - Gestión de Mejoramiento del SIGCMA"]
["Admin - Modernización de la Gestión Judicial","Transversal_todos_procesos",null,null,null,null,"Juris - Gestión de Planeación Estratégica","Admin - Administración de la Carrera Judicial","Admin - Gestión Humana"]
["Admin - Mejoramiento de la Infraestructura Física",null,null,null,null,null,"Juris - Gestión de Comunicación Institucional","Admin - Gestión de la Formación Judicial","Admin - Gestión de Seguridad y Salud en el Trabajo"]
["Admin - Administración de la Carrera Judicial",null,null,null,null,null,null,"Admin - Gestión de la Información Judicial","Admin - Asistencia Legal"]
["Admin - Gestión de la Formación Judicial",null,null,null,null,null,null,"Admin - Registro y Control de Abogados y Auxiliares de la Justicia","Admin - Administración de la Seguridad"]
["Admin - Gestión de la Información Judicial",null,null,null,null,null,null,"Juris - Gestión de Acciones Constitucionales","Admin - Gestión Administrativa"]
["Admin - Registro y Control de Abogados y Auxiliares de la Justicia",null,null,null,null,null,null,"Juris - Gestión Proceso Ordinario","Admin - Compras Públicas"]
["Admin - Gestión Documental",null,null,null,null,null,null,null,"Admin - Gestión Financiera y Presupuestal"]
["Admin - Gestión Tecnológica",null,null,null,null,null,null,null,"Juris - Atención al Usuario"]
["Admin - Gestión de la Información Estadística",null,null,null,null,null,null,null,"Juris - Gestión de Servicios Judiciales"]
["Admin - Gestión Humana",null,null,null,null,null,null,null,"Juris - Gestión de Servicios Administrativos"]
["Admin - Gestión de Seguridad y Salud en el Trabajo"]
["Admin - Asistencia Legal"]
["Admin - Administración de la Seguridad"]
["Admin - Gestión Administrativa"]
["Admin - Compras Públicas"]
["Admin - Gestión Financiera y Presupuestal"]
["Admin - Gestión de Control Interno y Auditoría"]
["Admin - Mejoramiento del Sistema Integrado de Gestión y Control de la Calidad y del Medio Ambiente"]
["Juris - Gestión de Planeación Estratégica"]
["Juris - Gestión de Comunicación Institucional"]
["Juris - Gestión de Acciones Constitucionales"]
["Juris - Gestión Proceso Ordinario"]
["Juris - Atención al Usuario"]
["Juris - Gestión de Servicios Judiciales"]
["Juris - Gestión de Servicios Administrativos"]
["Juris - Gestión de Mejoramiento del SIGCMA"]

{"sheet":"GESTION","index":4,"n_rows":167,"n_cols":20,"rows_kept":167,"cut":false,"hidden":false,"merged":[[0,0,0,18],[0,19,0,28],[1,0,1,3],[2,0,3,1],[2,2,3,2],[2,3,3,3],[2,4,2,6],[2,7,2,17],[1,4,1,17],[1,18,3,18],[19,3,23,3],[24,2,28,2],[24,3,28,3],[4,1,28,1],[4,3,8,3],[9,2,13,2],[9,3,13,3],[14,2,18,2],[14,3,18,3],[4,2,8,2],[4,0,28,0],[29,2,33,2],[34,2,38,2],[39,2,43,2],[44,2,48,2],[19,2,23,2],[49,2,53,2],[54,2,58,2],[29,3,58,3],[29,1,58,1],[29,0,58,0],[74,3,112,3],[113,2,130,2],[113,3,130,3],[59,2,63,2],[59,3,63,3],[64,2,68,2],[69,2,73,2],[69,3,73,3],[64,3,68,3],[59,1,130,1],[59,0,130,0],[131,2,135,2],[136,2,140,2],[141,2,145,2],[131,0,155,0],[74,2,78,2],[79,2,97,2],[98,2,112,2],[146,2,150,2],[161,2,165,2],[156,3,165,3],[156,1,165,1],[156,0,165,0],[131,3,150,3],[151,2,155,2],[151,3,155,3],[131,1,155,1],[156,2,160,2]]}
["CONSEJO SUPERIOR DE LA JUDICATURA \nUNIDADES MISIONALES DEL CONSEJO SUPERIOR DE LA JUDICATURA - \nDIRECCIÓN EJECUTIVA DE ADMINISTRACIÓN JUDICIAL - UNIDADES MISIONALES DE LA DEAJ\nDIRECCIONES SECCIONALES DE ADMINISTRACIÓN JUDICIAL - DEPENDENCIAS JUDICIALES CERTIFICADAS",null,null,null,null,null,null,null,null,null,null,null,null,null,null,null,null,null,null,"GENERADOR DE SEGUIMIENTOS TRIMESTRALES"]
["PLAN SECTORIAL DE DESARROLLO 2023-2026 - OBJETIVOS SIGCMA",null,null,null,"PLAN DE ACCIÓN Y SEGUIMIENTO A LA GESTIÓN INSTITUCIONAL (DE ACUERDO CON LA FUNCIÓN MISIONAL ASIGNADA )",null,null,null,null,null,null,null,null,null,null,null,null,null," ANÁLISIS RESULTADO"]
["OBJETIVO ESTRATÉGICO",null,"OBJETIVO ESPECÍFICO PSD","OBJETIVO ESPECÍFICO SIGCMA","MAPA PROCESO SIGCMA",null,null,"MEDICIÓN DE LA GESTIÓN ANUAL"]
[null,null,null,null,"NOMBRE MACRO PROCESO SIGCMA","PROCESO SIGCMA","NIVEL ","ACTIVIDADES ","INDIQUE SI ES ENTREGABLE O META CUANTIFICABLE","META ANUAL","UNIDAD DE MEDIDA","RESPONSABLE DEL PROCESO ","MEDIO O MECANISMO A TRAVÉS DEL CUAL SE HACE EL SEGUIMIENTO\n(Producto y/o servicio principal)","INICIO \nDÍA/MES/AÑO","FIN\nDÍA/MES/AÑO","AVANCE DE LA META ","NIVEL CUMPLIMIENTO","DIFICULTADES PARA LOGRAR LA META PROPUESTA"]
["1. Acceso e Infraestructura Física","Acceso e Infraestructura Física: Ampliar, en todo el territorio nacional, el acceso a una justicia efectiva, pronta, equitativa e incluyente, reduciendo el atraso y la congestión, de acuerdo con las necesidades de la demanda de justicia por jurisdicción y especialidad, y mejorando la articulación con la justicia restaurativa y terapéutica, y otros mecanismos de solución de conflictos y consolidando una infraestructura física óptima para el acceso a la justicia.","1. Ampliar el acceso a justicia para atender las necesidades jurídicas de los ciudadanos con un enfoque diferencial, de una manera pronta, reduciendo las inequidades y las brechas territoriales de acceso.","2. Asegurar el cumplimiento de los objetivos institucionales, la normatividad aplicable, la mejora del SIGCMA y la satisfacción de los usuarios, revisando de forma continua y sistemática la planificación de la gestión y fortaleciendo la administración de riesgos y sus controles",null,null,null,null,null,null,null,null,null,null,null,{"$f":"IFERROR(MAX(#REF!,#REF!,#REF!,#REF!),\" \")","v":" "},{"$f":"IFERROR(P5/J5,\"\")","v":""},{"$f":"IFERROR(_xlfn.CONCAT(\"Trimestre 1\",CHAR(10),#REF!,CHAR(10),\"Trimestre 2\",CHAR(10),#REF!,CHAR(10),\"Trimestre 3\",CHAR(10),#REF!,CHAR(10),\"Trimestre 4\",CHAR(10),#REF!),\" \")","v":" "},{"$f":"IFERROR(_xlfn.CONCAT(\"Trimestre 1\",CHAR(10),#REF!,CHAR(10),\"Trimestre 2\",CHAR(10),#REF!,CHAR(10),\"Trimestre 3\",CHAR(10),#REF!,CHAR(10),\"Trimestre 4\",CHAR(10),#REF!),\" \")","v":" "}]
[null,null,null,null,null,null,null,null,null,null,null,null,null,null,null,{"$f":"IFERROR(MAX(#REF!,#REF!,#REF!,#REF!),\" \")","v":" "},"",{"$f":"IFERROR(_xlfn.CONCAT(\"Trimestre 1\",CHAR(10),#REF!,CHAR(10),\"Trimestre 2\",CHAR(10),#REF!,CHAR(10),\"Trimestre 3\",CHAR(10),#REF!,CHAR(10),\"Trimestre 4\",CHAR(10),#REF!),\" \")","v":" "},{"$f":"IFERROR(_xlfn.CONCAT(\"Trimestre 1\",CHAR(10),#REF!,CHAR(10),\"Trimestre 2\",CHAR(10),#REF!,CHAR(10),\"Trimestre 3\",CHAR(10),#REF!,CHAR(10),\"Trimestre 4\",CHAR(10),#REF!),\" \")","v":" "}]
[null,null,null,null,null,null,null,null,null,null,null,null,null,null,null,{"$f":"IFERROR(MAX(#REF!,#REF!,#REF!,#REF!),\" \")","v":" "},"",{"$f":"IFERROR(_xlfn.CONCAT(\"Trimestre 1\",CHAR(10),#REF!,CHAR(10),\"Trimestre 2\",CHAR(10),#REF!,CHAR(10),\"Trimestre 3\",CHAR(10),#REF!,CHAR(10),\"Trimestre 4\",CHAR(10),#REF!),\" \")","v":" "},{"$f":"IFERROR(_xlfn.CONCAT(\"Trimestre 1\",CHAR(10),#REF!,CHAR(10),\"Trimestre 2\",CHAR(10),#REF!,CHAR(10),\"Trimestre 3\",CHAR(10),#REF!,CHAR(10),\"Trimestre 4\",CHAR(10),#REF!),\" \")","v":" "}]
[null,null,null,null,null,null,null,null,null,null,null,null,null,null,null,{"$f":"IFERROR(MAX(#REF!,#REF!,#REF!,#REF!),\" \")","v":" "},"",{"$f":"IFERROR(_xlfn.CONCAT(\"Trimestre 1\",CHAR(10),#REF!,CHAR(10),\"Trimestre 2\",CHAR(10),#REF!,CHAR(10),\"Trimestre 3\",CHAR(10),#REF!,CHAR(10),\"Trimestre 4\",CHAR(10),#REF!),\" \")","v":" "},{"$f":"IFERROR(_xlfn.CONCAT(\"Trimestre 1\",CHAR(10),#REF!,CHAR(10),\"Trimestre 2\",CHAR(10),#REF!,CHAR(10),\"Trimestre 3\",CHAR(10),#REF!,CHAR(10),\"Trimestre 4\",CHAR(10),#REF!),\" \")","v":" "}]
[null,null,null,null,null,null,null,null,null,null,null,null,null,null,null,{"$f":"IFERROR(MAX(#REF!,#REF!,#REF!,#REF!),\" \")","v":" "},"",{"$f":"IFERROR(_xlfn.CONCAT(\"Trimestre 1\",CHAR(10),#REF!,CHAR(10),\"Trimestre 2\",CHAR(10),#REF!,CHAR(10),\"Trimestre 3\",CHAR(10),#REF!,CHAR(10),\"Trimestre 4\",CHAR(10),#REF!),\" \")","v":" "},{"$f":"IFERROR(_xlfn.CONCAT(\"Trimestre 1\",CHAR(10),#REF!,CHAR(10),\"Trimestre 2\",CHAR(10),#REF!,CHAR(10),\"Trimestre 3\",CHAR(10),#REF!,CHAR(10),\"Trimestre 4\",CHAR(10),#REF!),\" \")","v":" "}]
[null,null,"2. Mejorar los tiempos de respuesta de la Rama Judicial y reducir el inventario de procesos, identificando los retos internos y promoviendo tanto acciones articuladas específicas para abordarlos como estrategias coordinadas para enfrentar las barreras que dependen de otras entidades.","2. Asegurar el cumplimiento de los objetivos institucionales, la normatividad aplicable, la mejora del SIGCMA y la satisfacción de los usuarios, revisando de forma continua y sistemática la planificación de la gestión y fortaleciendo la administración de riesgos y sus controles",null,null,null,null,null,null,null,null,null,null,null,{"$f":"IFERROR(MAX(#REF!,#REF!,#REF!,#REF!),\" \")","v":" "},"",{"$f":"IFERROR(_xlfn.CONCAT(\"Trimestre 1\",CHAR(10),#REF!,CHAR(10),\"Trimestre 2\",CHAR(10),#REF!,CHAR(10),\"Trimestre 3\",CHAR(10),#REF!,CHAR(10),\"Trimestre 4\",CHAR(10),#REF!),\" \")","v":" "},{"$f":"IFERROR(_xlfn.CONCAT(\"Trimestre 1\",CHAR(10),#REF!,CHAR(10),\"Trimestre 2\",CHAR(10),#REF!,CHAR(10),\"Trimestre 3\",CHAR(10),#REF!,CHAR(10),\"Trimestre 4\",CHAR(10),#REF!),\" \")","v":" "}]
[null,null,null,null,null,null,null,null,null,null,null,null,null,null,null,{"$f":"IFERROR(MAX(#REF!,#REF!,#REF!,#REF!),\" \")","v":" "},"",{"$f":"IFERROR(_xlfn.CONCAT(\"Trimestre 1\",CHAR(10),#REF!,CHAR(10),\"Trimestre 2\",CHAR(10),#REF!,CHAR(10),\"Trimestre 3\",CHAR(10),#REF!,CHAR(10),\"Trimestre 4\",CHAR(10),#REF!),\" \")","v":" "},{"$f":"IFERROR(_xlfn.CONCAT(\"Trimestre 1\",CHAR(10),#REF!,CHAR(10),\"Trimestre 2\",CHAR(10),#REF!,CHAR(10),\"Trimestre 3\",CHAR(10),#REF!,CHAR(10),\"Trimestre 4\",CHAR(10),#REF!),\" \")","v":" "}]
[null,null,null,null,null,null,null,null,null,null,null,null,null,null,null,{"$f":"IFERROR(MAX(#REF!,#REF!,#REF!,#REF!),\" \")","v":" "},"",{"$f":"IFERROR(_xlfn.CONCAT(\"Trimestre 1\",CHAR(10),#REF!,CHAR(10),\"Trimestre 2\",CHAR(10),#REF!,CHAR(10),\"Trimestre 3\",CHAR(10),#REF!,CHAR(10),\"Trimestre 4\",CHAR(10),#REF!),\" \")","v":" "},{"$f":"IFERROR(_xlfn.CONCAT(\"Trimestre 1\",CHAR(10),#REF!,CHAR(10),\"Trimestre 2\",CHAR(10),#REF!,CHAR(10),\"Trimestre 3\",CHAR(10),#REF!,CHAR(10),\"Trimestre 4\",CHAR(10),#REF!),\" \")","v":" "}]
[null,null,null,null,null,null,null,null,null,null,null,null,null,null,null,{"$f":"IFERROR(MAX(#REF!,#REF!,#REF!,#REF!),\" \")","v":" "},"",{"$f":"IFERROR(_xlfn.CONCAT(\"Trimestre 1\",CHAR(10),#REF!,CHAR(10),\"Trimestre 2\",CHAR(10),#REF!,CHAR(10),\"Trimestre 3\",CHAR(10),#REF!,CHAR(10),\"Trimestre 4\",CHAR(10),#REF!),\" \")","v":" "},{"$f":"IFERROR(_xlfn.CONCAT(\"Trimestre 1\",CHAR(10),#REF!,CHAR(10),\"Trimestre 2\",CHAR(10),#REF!,CHAR(10),\"Trimestre 3\",CHAR(10),#REF!,CHAR(10),\"Trimestre 4\",CHAR(10),#REF!),\" \")","v":" "}]
[null,null,null,null,null,null,null,null,null,null,null,null,null,null,null,{"$f":"IFERROR(MAX(#REF!,#REF!,#REF!,#REF!),\" \")","v":" "},"",{"$f":"IFERROR(_xlfn.CONCAT(\"Trimestre 1\",CHAR(10),#REF!,CHAR(10),\"Trimestre 2\",CHAR(10),#REF!,CHAR(10),\"Trimestre 3\",CHAR(10),#REF!,CHAR(10),\"Trimestre 4\",CHAR(10),#REF!),\" \")","v":" "},{"$f":"IFERROR(_xlfn.CONCAT(\"Trimestre 1\",CHAR(10),#REF!,CHAR(10),\"Trimestre 2\",CHAR(10),#REF!,CHAR(10),\"Trimestre 3\",CHAR(10),#REF!,CHAR(10),\"Trimestre 4\",CHAR(10),#REF!),\" \")","v":" "}]
[null,null,"3. Coadyuvar en la garantía de la idoneidad en el ejercicio de la profesión jurídica de acuerdo con lo establecido en la Ley 1905 de 2018","2. Asegurar el cumplimiento de los objetivos institucionales, la normatividad aplicable, la mejora del SIGCMA y la satisfacción de los usuarios, revisando de forma continua y sistemática la planificación de la gestión y fortaleciendo la administración de riesgos y sus controles",null,null,null,null,null,null,null,null,null,null,null,{"$f":"IFERROR(MAX(#REF!,#REF!,#REF!,#REF!),\" \")","v":" "},"",{"$f":"IFERROR(_xlfn.CONCAT(\"Trimestre 1\",CHAR(10),#REF!,CHAR(10),\"Trimestre 2\",CHAR(10),#REF!,CHAR(10),\"Trimestre 3\",CHAR(10),#REF!,CHAR(10),\"Trimestre 4\",CHAR(10),#REF!),\" \")","v":" "},{"$f":"IFERROR(_xlfn.CONCAT(\"Trimestre 1\",CHAR(10),#REF!,CHAR(10),\"Trimestre 2\",CHAR(10),#REF!,CHAR(10),\"Trimestre 3\",CHAR(10),#REF!,CHAR(10),\"Trimestre 4\",CHAR(10),#REF!),\" \")","v":" "}]
[null,null,null,null,null,null,null,null,null,null,null,null,null,null,null,{"$f":"IFERROR(MAX(#REF!,#REF!,#REF!,#REF!),\" \")","v":" "},"",{"$f":"IFERROR(_xlfn.CONCAT(\"Trimestre 1\",CHAR(10),#REF!,CHAR(10),\"Trimestre 2\",CHAR(10),#REF!,CHAR(10),\"Trimestre 3\",CHAR(10),#REF!,CHAR(10),\"Trimestre 4\",CHAR(10),#REF!),\" \")","v":" "},{"$f":"IFERROR(_xlfn.CONCAT(\"Trimestre 1\",CHAR(10),#REF!,CHAR(10),\"Trimestre 2\",CHAR(10),#REF!,CHAR(10),\"Trimestre 3\",CHAR(10),#REF!,CHAR(10),\"Trimestre 4\",CHAR(10),#REF!),\" \")","v":" "}]
[null,null,null,null,null,null,null,null,null,null,null,null,null,null,null,{"$f":"IFERROR(MAX(#REF!,#REF!,#REF!,#REF!),\" \")","v":" "},"",{"$f":"IFERROR(_xlfn.CONCAT(\"Trimestre 1\",CHAR(10),#REF!,CHAR(10),\"Trimestre 2\",CHAR(10),#REF!,CHAR(10),\"Trimestre 3\",CHAR(10),#REF!,CHAR(10),\"Trimestre 4\",CHAR(10),#REF!),\" \")","v":" "},{"$f":"IFERROR(_xlfn.CONCAT(\"Trimestre 1\",CHAR(10),#REF!,CHAR(10),\"Trimestre 2\",CHAR(10),#REF!,CHAR(10),\"Trimestre 3\",CHAR(10),#REF!,CHAR(10),\"Trimestre 4\",CHAR(10),#REF!),\" \")","v":" "}]
[null,null,null,null,null,null,null,null,null,null,null,null,null,null,null,{"$f":"IFERROR(MAX(#REF!,#REF!,#REF!,#REF!),\" \")","v":" "},"",{"$f":"IFERROR(_xlfn.CONCAT(\"Trimestre 1\",CHAR(10),#REF!,CHAR(10),\"Trimestre 2\",CHAR(10),#REF!,CHAR(10),\"Trimestre 3\",CHAR(10),#REF!,CHAR(10),\"Trimestre 4\",CHAR(10),#REF!),\" \")","v":" "},{"$f":"IFERROR(_xlfn.CONCAT(\"Trimestre 1\",CHAR(10),#REF!,CHAR(10),\"Trimestre 2\",CHAR(10),#REF!,CHAR(10),\"Trimestre 3\",CHAR(10),#REF!,CHAR(10),\"Trimestre 4\",CHAR(10),#REF!),\" \")","v":" "}]
[null,null,null,null,null,null,null,null,null,null,null,null,null,null,null,{"$f":"IFERROR(MAX(#REF!,#REF!,#REF!,#REF!),\" \")","v":" "},"",{"$f":"IFERROR(_xlfn.CONCAT(\"Trimestre 1\",CHAR(10),#REF!,CHAR(10),\"Trimestre 2\",CHAR(10),#REF!,CHAR(10),\"Trimestre 3\",CHAR(10),#REF!,CHAR(10),\"Trimestre 4\",CHAR(10),#REF!),\" \")","v":" "},{"$f":"IFERROR(_xlfn.CONCAT(\"Trimestre 1\",CHAR(10),#REF!,CHAR(10),\"Trimestre 2\",CHAR(10),#REF!,CHAR(10),\"Trimestre 3\",CHAR(10),#REF!,CHAR(10),\"Trimestre 4\",CHAR(10),#REF!),\" \")","v":" "}]
[null,null,"4. Avanzar en la disposición de una infraestructura óptima para el acceso a la justicia en la Rama Judicial de modo que se fortalezca la presencia territorial, teniendo en cuenta las posibilidades que ofrece la transformación digital y las necesidades que se derivan de ella, y considerando tanto las necesidades de los usuarios como las de los servidores judiciales.","4. Hacer un uso racional de los recursos naturales aplicando los principios y fases de la Economía Circular, para prevenir, mitigar y controlar los impactos ambientales",null,null,null,null,null,null,null,null,null,null,null,{"$f":"IFERROR(MAX(#REF!,#REF!,#REF!,#REF!),\" \")","v":" "},"",{"$f":"IFERROR(_xlfn.CONCAT(\"Trimestre 1\",CHAR(10),#REF!,CHAR(10),\"Trimestre 2\",CHAR(10),#REF!,CHAR(10),\"Trimestre 3\",CHAR(10),#REF!,CHAR(10),\"Trimestre 4\",CHAR(10),#REF!),\" \")","v":" "},{"$f":"IFERROR(_xlfn.CONCAT(\"Trimestre 1\",CHAR(10),#REF!,CHAR(10),\"Trimestre 2\",CHAR(10),#REF!,CHAR(10),\"Trimestre 3\",CHAR(10),#REF!,CHAR(10),\"Trimestre 4\",CHAR(10),#REF!),\" \")","v":" "}]
[null,null,null,null,null,null,null,null,null,null,null,null,null,null,null,{"$f":"IFERROR(MAX(#REF!,#REF!,#REF!,#REF!),\" \")","v":" "},"",{"$f":"IFERROR(_xlfn.CONCAT(\"Trimestre 1\",CHAR(10),#REF!,CHAR(10),\"Trimestre 2\",CHAR(10),#REF!,CHAR(10),\"Trimestre 3\",CHAR(10),#REF!,CHAR(10),\"Trimestre 4\",CHAR(10),#REF!),\" \")","v":" "},{"$f":"IFERROR(_xlfn.CONCAT(\"Trimestre 1\",CHAR(10),#REF!,CHAR(10),\"Trimestre 2\",CHAR(10),#REF!,CHAR(10),\"Trimestre 3\",CHAR(10),#REF!,CHAR(10),\"Trimestre 4\",CHAR(10),#REF!),\" \")","v":" "}]
[null,null,null,null,null,null,null,null,null,null,null,null,null,null,null,{"$f":"IFERROR(MAX(#REF!,#REF!,#REF!,#REF!),\" \")","v":" "},"",{"$f":"IFERROR(_xlfn.CONCAT(\"Trimestre 1\",CHAR(10),#REF!,CHAR(10),\"Trimestre 2\",CHAR(10),#REF!,CHAR(10),\"Trimestre 3\",CHAR(10),#REF!,CHAR(10),\"Trimestre 4\",CHAR(10),#REF!),\" \")","v":" "},{"$f":"IFERROR(_xlfn.CONCAT(\"Trimestre 1\",CHAR(10),#REF!,CHAR(10),\"Trimestre 2\",CHAR(10),#REF!,CHAR(10),\"Trimestre 3\",CHAR(10),#REF!,CHAR(10),\"Trimestre 4\",CHAR(10),#REF!),\" \")","v":" "}]
[null,null,null,null,null,null,null,null,null,null,null,null,null,null,null,{"$f":"IFERROR(MAX(#REF!,#REF!,#REF!,#REF!),\" \")","v":" "},"",{"$f":"IFERROR(_xlfn.CONCAT(\"Trimestre 1\",CHAR(10),#REF!,CHAR(10),\"Trimestre 2\",CHAR(10),#REF!,CHAR(10),\"Trimestre 3\",CHAR(10),#REF!,CHAR(10),\"Trimestre 4\",CHAR(10),#REF!),\" \")","v":" "},{"$f":"IFERROR(_xlfn.CONCAT(\"Trimestre 1\",CHAR(10),#REF!,CHAR(10),\"Trimestre 2\",CHAR(10),#REF!,CHAR(10),\"Trimestre 3\",CHAR(10),#REF!,CHAR(10),\"Trimestre 4\",CHAR(10),#REF!),\" \")","v":" "}]
[null,null,null,null,null,null,null,null,null,null,null,null,null,null,null,{"$f":"IFERROR(MAX(#REF!,#REF!,#REF!,#REF!),\" \")","v":" "},"",{"$f":"IFERROR(_xlfn.CONCAT(\"Trimestre 1\",CHAR(10),#REF!,CHAR(10),\"Trimestre 2\",CHAR(10),#REF!,CHAR(10),\"Trimestre 3\",CHAR(10),#REF!,CHAR(10),\"Trimestre 4\",CHAR(10),#REF!),\" \")","v":" "},{"$f":"IFERROR(_xlfn.CONCAT(\"Trimestre 1\",CHAR(10),#REF!,CHAR(10),\"Trimestre 2\",CHAR(10),#REF!,CHAR(10),\"Trimestre 3\",CHAR(10),#REF!,CHAR(10),\"Trimestre 4\",CHAR(10),#REF!),\" \")","v":" "}]
[null,null,"5. Impulsar el uso de mecanismos alternativos para la solución de conflictos y la ampliación de la justicia restaurativa y terapéutica y el robustecimiento de las alternativas al encarcelamiento","2. Asegurar el cumplimiento de los objetivos institucionales, la normatividad aplicable, la mejora del SIGCMA y la satisfacción de los usuarios, revisando de forma continua y sistemática la planificación de la gestión y fortaleciendo la administración de riesgos y sus controles",null,null,null,null,null,null,null,null,null,null,null,{"$f":"IFERROR(MAX(#REF!,#REF!,#REF!,#REF!),\" \")","v":" "},"",{"$f":"IFERROR(_xlfn.CONCAT(\"Trimestre 1\",CHAR(10),#REF!,CHAR(10),\"Trimestre 2\",CHAR(10),#REF!,CHAR(10),\"Trimestre 3\",CHAR(10),#REF!,CHAR(10),\"Trimestre 4\",CHAR(10),#REF!),\" \")","v":" "},{"$f":"IFERROR(_xlfn.CONCAT(\"Trimestre 1\",CHAR(10),#REF!,CHAR(10),\"Trimestre 2\",CHAR(10),#REF!,CHAR(10),\"Trimestre 3\",CHAR(10),#REF!,CHAR(10),\"Trimestre 4\",CHAR(10),#REF!),\" \")","v":" "}]
[null,null,null,null,null,null,null,null,null,null,null,null,null,null,null,{"$f":"IFERROR(MAX(#REF!,#REF!,#REF!,#REF!),\" \")","v":" "},"",{"$f":"IFERROR(_xlfn.CONCAT(\"Trimestre 1\",CHAR(10),#REF!,CHAR(10),\"Trimestre 2\",CHAR(10),#REF!,CHAR(10),\"Trimestre 3\",CHAR(10),#REF!,CHAR(10),\"Trimestre 4\",CHAR(10),#REF!),\" \")","v":" "},{"$f":"IFERROR(_xlfn.CONCAT(\"Trimestre 1\",CHAR(10),#REF!,CHAR(10),\"Trimestre 2\",CHAR(10),#REF!,CHAR(10),\"Trimestre 3\",CHAR(10),#REF!,CHAR(10),\"Trimestre 4\",CHAR(10),#REF!),\" \")","v":" "}]
[null,null,null,null,null,null,null,null,null,null,null,null,null,null,null,{"$f":"IFERROR(MAX(#REF!,#REF!,#REF!,#REF!),\" \")","v":" "},"",{"$f":"IFERROR(_xlfn.CONCAT(\"Trimestre 1\",CHAR(10),#REF!,CHAR(10),\"Trimestre 2\",CHAR(10),#REF!,CHAR(10),\"Trimestre 3\",CHAR(10),#REF!,CHAR(10),\"Trimestre 4\",CHAR(10),#REF!),\" \")","v":" "},{"$f":"IFERROR(_xlfn.CONCAT(\"Trimestre 1\",CHAR(10),#REF!,CHAR(10),\"Trimestre 2\",CHAR(10),#REF!,CHAR(10),\"Trimestre 3\",CHAR(10),#REF!,CHAR(10),\"Trimestre 4\",CHAR(10),#REF!),\" \")","v":" "}]
[null,null,null,null,null,null,null,null,null,null,null,null,null,null,null,{"$f":"IFERROR(MAX(#REF!,#REF!,#REF!,#REF!),\" \")","v":" "},"",{"$f":"IFERROR(_xlfn.CONCAT(\"Trimestre 1\",CHAR(10),#REF!,CHAR(10),\"Trimestre 2\",CHAR(10),#REF!,CHAR(10),\"Trimestre 3\",CHAR(10),#REF!,CHAR(10),\"Trimestre 4\",CHAR(10),#REF!),\" \")","v":" "},{"$f":"IFERROR(_xlfn.CONCAT(\"Trimestre 1\",CHAR(10),#REF!,CHAR(10),\"Trimestre 2\",CHAR(10),#REF!,CHAR(10),\"Trimestre 3\",CHAR(10),#REF!,CHAR(10),\"Trimestre 4\",CHAR(10),#REF!),\" \")","v":" "}]
[null,null,null,null,null,null,null,null,null,null,null,null,null,null,null,{"$f":"IFERROR(MAX(#REF!,#REF!,#REF!,#REF!),\" \")","v":" "},"",{"$f":"IFERROR(_xlfn.CONCAT(\"Trimestre 1\",CHAR(10),#REF!,CHAR(10),\"Trimestre 2\",CHAR(10),#REF!,CHAR(10),\"Trimestre 3\",CHAR(10),#REF!,CHAR(10),\"Trimestre 4\",CHAR(10),#REF!),\" \")","v":" "},{"$f":"IFERROR(_xlfn.CONCAT(\"Trimestre 1\",CHAR(10),#REF!,CHAR(10),\"Trimestre 2\",CHAR(10),#REF!,CHAR(10),\"Trimestre 3\",CHAR(10),#REF!,CHAR(10),\"Trimestre 4\",CHAR(10),#REF!),\" \")","v":" "}]
["2. Servicios digitales y de tecnología, innovación y análisis de la información.","Servicios digitales y de tecnología, innovación y análisis de la información: Consolidar una justicia integrada y soportada en servicios digitales y de tecnología, innovación y análisis de la información, con una cultura digital apropiada, segura y sensible a las realidades del territorio nacional. ","1. Ampliar el acceso a la justicia a través de la consolidación del uso de los servicios digitales que conforman el sistema único integrado de gestión judicial en todos los despachos judiciales y dependencias de apoyo y, específicamente, incluyendo el despliegue e implementación del Expediente Judicial Electrónico en todas las jurisdicciones y especialidades.","6. Proteger, preservar y administrar los activos de información implementando acciones para gestionar de forma adecuada los incidentes, proteger los datos personales y adoptar mecanismos de ciberseguridad y aseguramiento de la continuidad del negocio.",null,null,null,null,null,null,null,null,null,null,null,{"$f":"IFERROR(MAX(#REF!,#REF!,#REF!,#REF!),\" \")","v":" "},"",{"$f":"IFERROR(_xlfn.CONCAT(\"Trimestre 1\",CHAR(10),#REF!,CHAR(10),\"Trimestre 2\",CHAR(10),#REF!,CHAR(10),\"Trimestre 3\",CHAR(10),#REF!,CHAR(10),\"Trimestre 4\",CHAR(10),#REF!),\" \")","v":" "},{"$f":"IFERROR(_xlfn.CONCAT(\"Trimestre 1\",CHAR(10),#REF!,CHAR(10),\"Trimestre 2\",CHAR(10),#REF!,CHAR(10),\"Trimestre 3\",CHAR(10),#REF!,CHAR(10),\"Trimestre 4\",CHAR(10),#REF!),\" \")","v":" "}]
[null,null,null,null,null,null,null,null,null,null,null,null,null,null,null,{"$f":"IFERROR(MAX(#REF!,#REF!,#REF!,#REF!),\" \")","v":" "},"",{"$f":"IFERROR(_xlfn.CONCAT(\"Trimestre 1\",CHAR(10),#REF!,CHAR(10),\"Trimestre 2\",CHAR(10),#REF!,CHAR(10),\"Trimestre 3\",CHAR(10),#REF!,CHAR(10),\"Trimestre 4\",CHAR(10),#REF!),\" \")","v":" "},{"$f":"IFERROR(_xlfn.CONCAT(\"Trimestre 1\",CHAR(10),#REF!,CHAR(10),\"Trimestre 2\",CHAR(10),#REF!,CHAR(10),\"Trimestre 3\",CHAR(10),#REF!,CHAR(10),\"Trimestre 4\",CHAR(10),#REF!),\" \")","v":" "}]
[null,null,null,null,null,null,null,null,null,null,null,null,null,null,null,{"$f":"IFERROR(MAX(#REF!,#REF!,#REF!,#REF!),\" \")","v":" "},"",{"$f":"IFERROR(_xlfn.CONCAT(\"Trimestre 1\",CHAR(10),#REF!,CHAR(10),\"Trimestre 2\",CHAR(10),#REF!,CHAR(10),\"Trimestre 3\",CHAR(10),#REF!,CHAR(10),\"Trimestre 4\",CHAR(10),#REF!),\" \")","v":" "},{"$f":"IFERROR(_xlfn.CONCAT(\"Trimestre 1\",CHAR(10),#REF!,CHAR(10),\"Trimestre 2\",CHAR(10),#REF!,CHAR(10),\"Trimestre 3\",CHAR(10),#REF!,CHAR(10),\"Trimestre 4\",CHAR(10),#REF!),\" \")","v":" "}]
[null,null,null,null,null,null,null,null,null,null,null,null,null,null,null,{"$f":"IFERROR(MAX(#REF!,#REF!,#REF!,#REF!),\" \")","v":" "},"",{"$f":"IFERROR(_xlfn.CONCAT(\"Trimestre 1\",CHAR(10),#REF!,CHAR(10),\"Trimestre 2\",CHAR(10),#REF!,CHAR(10),\"Trimestre 3\",CHAR(10),#REF!,CHAR(10),\"Trimestre 4\",CHAR(10),#REF!),\" \")","v":" "},{"$f":"IFERROR(_xlfn.CONCAT(\"Trimestre 1\",CHAR(10),#REF!,CHAR(10),\"Trimestre 2\",CHAR(10),#REF!,CHAR(10),\"Trimestre 3\",CHAR(10),#REF!,CHAR(10),\"Trimestre 4\",CHAR(10),#REF!),\" \")","v":" "}]
[null,null,null,null,null,null,null,null,null,null,null,null,null,null,null,{"$f":"IFERROR(MAX(#REF!,#REF!,#REF!,#REF!),\" \")","v":" "},"",{"$f":"IFERROR(_xlfn.CONCAT(\"Trimestre 1\",CHAR(10),#REF!,CHAR(10),\"Trimestre 2\",CHAR(10),#REF!,CHAR(10),\"Trimestre 3\",CHAR(10),#REF!,CHAR(10),\"Trimestre 4\",CHAR(10),#REF!),\" \")","v":" "},{"$f":"IFERROR(_xlfn.CONCAT(\"Trimestre 1\",CHAR(10),#REF!,CHAR(10),\"Trimestre 2\",CHAR(10),#REF!,CHAR(10),\"Trimestre 3\",CHAR(10),#REF!,CHAR(10),\"Trimestre 4\",CHAR(10),#REF!),\" \")","v":" "}]
[null,null,"2. Integrar y hacer compatibles todos los aplicativos de transición con SIUGJ, para que la migración de los expedientes judiciales a dicha plataforma sea real y no suponga afectaciones en la prestación del servicio de justicia.",null,null,null,null,null,null,null,null,null,null,null,null,{"$f":"IFERROR(MAX(#REF!,#REF!,#REF!,#REF!),\" \")","v":" "},"",{"$f":"IFERROR(_xlfn.CONCAT(\"Trimestre 1\",CHAR(10),#REF!,CHAR(10),\"Trimestre 2\",CHAR(10),#REF!,CHAR(10),\"Trimestre 3\",CHAR(10),#REF!,CHAR(10),\"Trimestre 4\",CHAR(10),#REF!),\" \")","v":" "},{"$f":"IFERROR(_xlfn.CONCAT(\"Trimestre 1\",CHAR(10),#REF!,CHAR(10),\"Trimestre 2\",CHAR(10),#REF!,CHAR(10),\"Trimestre 3\",CHAR(10),#REF!,CHAR(10),\"Trimestre 4\",CHAR(10),#REF!),\" \")","v":" "}]
[null,null,null,null,null,null,null,null,null,null,null,null,null,null,null,{"$f":"IFERROR(MAX(#REF!,#REF!,#REF!,#REF!),\" \")","v":" "},"",{"$f":"IFERROR(_xlfn.CONCAT(\"Trimestre 1\",CHAR(10),#REF!,CHAR(10),\"Trimestre 2\",CHAR(10),#REF!,CHAR(10),\"Trimestre 3\",CHAR(10),#REF!,CHAR(10),\"Trimestre 4\",CHAR(10),#REF!),\" \")","v":" "},{"$f":"IFERROR(_xlfn.CONCAT(\"Trimestre 1\",CHAR(10),#REF!,CHAR(10),\"Trimestre 2\",CHAR(10),#REF!,CHAR(10),\"Trimestre 3\",CHAR(10),#REF!,CHAR(10),\"Trimestre 4\",CHAR(10),#REF!),\" \")","v":" "}]
[null,null,null,null,null,null,null,null,null,null,null,null,null,null,null,{"$f":"IFERROR(MAX(#REF!,#REF!,#REF!,#REF!),\" \")","v":" "},{"$f":"IFERROR(P37/J37,\"\")","v":""},{"$f":"IFERROR(_xlfn.CONCAT(\"Trimestre 1\",CHAR(10),#REF!,CHAR(10),\"Trimestre 2\",CHAR(10),#REF!,CHAR(10),\"Trimestre 3\",CHAR(10),#REF!,CHAR(10),\"Trimestre 4\",CHAR(10),#REF!),\" \")","v":" "},{"$f":"IFERROR(_xlfn.CONCAT(\"Trimestre 1\",CHAR(10),#REF!,CHAR(10),\"Trimestre 2\",CHAR(10),#REF!,CHAR(10),\"Trimestre 3\",CHAR(10),#REF!,CHAR(10),\"Trimestre 4\",CHAR(10),#REF!),\" \")","v":" "}]
[null,null,null,null,null,null,null,null,null,null,null,null,null,null,null,{"$f":"IFERROR(MAX(#REF!,#REF!,#REF!,#REF!),\" \")","v":" "},"",{"$f":"IFERROR(_xlfn.CONCAT(\"Trimestre 1\",CHAR(10),#REF!,CHAR(10),\"Trimestre 2\",CHAR(10),#REF!,CHAR(10),\"Trimestre 3\",CHAR(10),#REF!,CHAR(10),\"Trimestre 4\",CHAR(10),#REF!),\" \")","v":" "},{"$f":"IFERROR(_xlfn.CONCAT(\"Trimestre 1\",CHAR(10),#REF!,CHAR(10),\"Trimestre 2\",CHAR(10),#REF!,CHAR(10),\"Trimestre 3\",CHAR(10),#REF!,CHAR(10),\"Trimestre 4\",CHAR(10),#REF!),\" \")","v":" "}]
[null,null,null,null,null,null,null,null,null,null,null,null,null,null,null,{"$f":"IFERROR(MAX(#REF!,#REF!,#REF!,#REF!),\" \")","v":" "},"",{"$f":"IFERROR(_xlfn.CONCAT(\"Trimestre 1\",CHAR(10),#REF!,CHAR(10),\"Trimestre 2\",CHAR(10),#REF!,CHAR(10),\"Trimestre 3\",CHAR(10),#REF!,CHAR(10),\"Trimestre 4\",CHAR(10),#REF!),\" \")","v":" "},{"$f":"IFERROR(_xlfn.CONCAT(\"Trimestre 1\",CHAR(10),#REF!,CHAR(10),\"Trimestre 2\",CHAR(10),#REF!,CHAR(10),\"Trimestre 3\",CHAR(10),#REF!,CHAR(10),\"Trimestre 4\",CHAR(10),#REF!),\" \")","v":" "}]
[null,null,"3. Fortalecer las capacidades institucionales, adecuar el modelo operativo y de servicio, bajo un enfoque de Arquitectura Empresarial y de fortalecimiento del acceso a la justicia.",null,null,null,null,null,null,null,null,null,null,null,null,{"$f":"IFERROR(MAX(#REF!,#REF!,#REF!,#REF!),\" \")","v":" "},"",{"$f":"IFERROR(_xlfn.CONCAT(\"Trimestre 1\",CHAR(10),#REF!,CHAR(10),\"Trimestre 2\",CHAR(10),#REF!,CHAR(10),\"Trimestre 3\",CHAR(10),#REF!,CHAR(10),\"Trimestre 4\",CHAR(10),#REF!),\" \")","v":" "},{"$f":"IFERROR(_xlfn.CONCAT(\"Trimestre 1\",CHAR(10),#REF!,CHAR(10),\"Trimestre 2\",CHAR(10),#REF!,CHAR(10),\"Trimestre 3\",CHAR(10),#REF!,CHAR(10),\"Trimestre 4\",CHAR(10),#REF!),\" \")","v":" "}]
[null,null,null,null,null,null,null,null,null,null,null,null,null,null,null,{"$f":"IFERROR(MAX(#REF!,#REF!,#REF!,#REF!),\" \")","v":" "},"",{"$f":"IFERROR(_xlfn.CONCAT(\"Trimestre 1\",CHAR(10),#REF!,CHAR(10),\"Trimestre 2\",CHAR(10),#REF!,CHAR(10),\"Trimestre 3\",CHAR(10),#REF!,CHAR(10),\"Trimestre 4\",CHAR(10),#REF!),\" \")","v":" "},{"$f":"IFERROR(_xlfn.CONCAT(\"Trimestre 1\",CHAR(10),#REF!,CHAR(10),\"Trimestre 2\",CHAR(10),#REF!,CHAR(10),\"Trimestre 3\",CHAR(10),#REF!,CHAR(10),\"Trimestre 4\",CHAR(10),#REF!),\" \")","v":" "}]
[null,null,null,null,null,null,null,null,null,null,null,null,null,null,null,{"$f":"IFERROR(MAX(#REF!,#REF!,#REF!,#REF!),\" \")","v":" "},"",{"$f":"IFERROR(_xlfn.CONCAT(\"Trimestre 1\",CHAR(10),#REF!,CHAR(10),\"Trimestre 2\",CHAR(10),#REF!,CHAR(10),\"Trimestre 3\",CHAR(10),#REF!,CHAR(10),\"Trimestre 4\",CHAR(10),#REF!),\" \")","v":" "},{"$f":"IFERROR(_xlfn.CONCAT(\"Trimestre 1\",CHAR(10),#REF!,CHAR(10),\"Trimestre 2\",CHAR(10),#REF!,CHAR(10),\"Trimestre 3\",CHAR(10),#REF!,CHAR(10),\"Trimestre 4\",CHAR(10),#REF!),\" \")","v":" "}]
[null,null,null,null,null,null,null,null,null,null,null,null,null,null,null,{"$f":"IFERROR(MAX(#REF!,#REF!,#REF!,#REF!),\" \")","v":" "},"",{"$f":"IFERROR(_xlfn.CONCAT(\"Trimestre 1\",CHAR(10),#REF!,CHAR(10),\"Trimestre 2\",CHAR(10),#REF!,CHAR(10),\"Trimestre 3\",CHAR(10),#REF!,CHAR(10),\"Trimestre 4\",CHAR(10),#REF!),\" \")","v":" "},{"$f":"IFERROR(_xlfn.CONCAT(\"Trimestre 1\",CHAR(10),#REF!,CHAR(10),\"Trimestre 2\",CHAR(10),#REF!,CHAR(10),\"Trimestre 3\",CHAR(10),#REF!,CHAR(10),\"Trimestre 4\",CHAR(10),#REF!),\" \")","v":" "}]
[null,null,null,null,null,null,null,null,null,null,null,null,null,null,null,{"$f":"IFERROR(MAX(#REF!,#REF!,#REF!,#REF!),\" \")","v":" "},"",{"$f":"IFERROR(_xlfn.CONCAT(\"Trimestre 1\",CHAR(10),#REF!,CHAR(10),\"Trimestre 2\",CHAR(10),#REF!,CHAR(10),\"Trimestre 3\",CHAR(10),#REF!,CHAR(10),\"Trimestre 4\",CHAR(10),#REF!),\" \")","v":" "},{"$f":"IFERROR(_xlfn.CONCAT(\"Trimestre 1\",CHAR(10),#REF!,CHAR(10),\"Trimestre 2\",CHAR(10),#REF!,CHAR(10),\"Trimestre 3\",CHAR(10),#REF!,CHAR(10),\"Trimestre 4\",CHAR(10),#REF!),\" \")","v":" "}]
[null,null,"4. Consolidar la cultura y apropiación de la transformación digital en los servidores y usuarios de los servicios de la Rama Judicial y reducir brechas de acceso y conocimiento, incluyendo la oferta efectiva de información sobre el uso de las nuevas herramientas virtuales implementadas en las diferentes jurisdicciones, con especial énfasis en las zonas del país donde es evidente la brecha digital.",null,null,null,null,null,null,null,null,null,null,null,null,{"$f":"IFERROR(MAX(#REF!,#REF!,#REF!,#REF!),\" \")","v":" "},"",{"$f":"IFERROR(_xlfn.CONCAT(\"Trimestre 1\",CHAR(10),#REF!,CHAR(10),\"Trimestre 2\",CHAR(10),#REF!,CHAR(10),\"Trimestre 3\",CHAR(10),#REF!,CHAR(10),\"Trimestre 4\",CHAR(10),#REF!),\" \")","v":" "},{"$f":"IFERROR(_xlfn.CONCAT(\"Trimestre 1\",CHAR(10),#REF!,CHAR(10),\"Trimestre 2\",CHAR(10),#REF!,CHAR(10),\"Trimestre 3\",CHAR(10),#REF!,CHAR(10),\"Trimestre 4\",CHAR(10),#REF!),\" \")","v":" "}]
[null,null,null,null,null,null,null,null,null,null,null,null,null,null,null,{"$f":"IFERROR(MAX(#REF!,#REF!,#REF!,#REF!),\" \")","v":" "},"",{"$f":"IFERROR(_xlfn.CONCAT(\"Trimestre 1\",CHAR(10),#REF!,CHAR(10),\"Trimestre 2\",CHAR(10),#REF!,CHAR(10),\"Trimestre 3\",CHAR(10),#REF!,CHAR(10),\"Trimestre 4\",CHAR(10),#REF!),\" \")","v":" "},{"$f":"IFERROR(_xlfn.CONCAT(\"Trimestre 1\",CHAR(10),#REF!,CHAR(10),\"Trimestre 2\",CHAR(10),#REF!,CHAR(10),\"Trimestre 3\",CHAR(10),#REF!,CHAR(10),\"Trimestre 4\",CHAR(10),#REF!),\" \")","v":" "}]
[null,null,null,null,null,null,null,null,null,null,null,null,null,null,null,{"$f":"IFERROR(MAX(#REF!,#REF!,#REF!,#REF!),\" \")","v":" "},"",{"$f":"IFERROR(_xlfn.CONCAT(\"Trimestre 1\",CHAR(10),#REF!,CHAR(10),\"Trimestre 2\",CHAR(10),#REF!,CHAR(10),\"Trimestre 3\",CHAR(10),#REF!,CHAR(10),\"Trimestre 4\",CHAR(10),#REF!),\" \")","v":" "},{"$f":"IFERROR(_xlfn.CONCAT(\"Trimestre 1\",CHAR(10),#REF!,CHAR(10),\"Trimestre 2\",CHAR(10),#REF!,CHAR(10),\"Trimestre 3\",CHAR(10),#REF!,CHAR(10),\"Trimestre 4\",CHAR(10),#REF!),\" \")","v":" "}]
[null,null,null,null,null,null,null,null,null,null,null,null,null,null,null,{"$f":"IFERROR(MAX(#REF!,#REF!,#REF!,#REF!),\" \")","v":" "},"",{"$f":"IFERROR(_xlfn.CONCAT(\"Trimestre 1\",CHAR(10),#REF!,CHAR(10),\"Trimestre 2\",CHAR(10),#REF!,CHAR(10),\"Trimestre 3\",CHAR(10),#REF!,CHAR(10),\"Trimestre 4\",CHAR(10),#REF!),\" \")","v":" "},{"$f":"IFERROR(_xlfn.CONCAT(\"Trimestre 1\",CHAR(10),#REF!,CHAR(10),\"Trimestre 2\",CHAR(10),#REF!,CHAR(10),\"Trimestre 3\",CHAR(10),#REF!,CHAR(10),\"Trimestre 4\",CHAR(10),#REF!),\" \")","v":" "}]
[null,null,null,null,null,null,null,null,null,null,null,null,null,null,null,{"$f":"IFERROR(MAX(#REF!,#REF!,#REF!,#REF!),\" \")","v":" "},"",{"$f":"IFERROR(_xlfn.CONCAT(\"Trimestre 1\",CHAR(10),#REF!,CHAR(10),\"Trimestre 2\",CHAR(10),#REF!,CHAR(10),\"Trimestre 3\",CHAR(10),#REF!,CHAR(10),\"Trimestre 4\",CHAR(10),#REF!),\" \")","v":" "},{"$f":"IFERROR(_xlfn.CONCAT(\"Trimestre 1\",CHAR(10),#REF!,CHAR(10),\"Trimestre 2\",CHAR(10),#REF!,CHAR(10),\"Trimestre 3\",CHAR(10),#REF!,CHAR(10),\"Trimestre 4\",CHAR(10),#REF!),\" \")","v":" "}]
[null,null,"5. Consolidar la infraestructura y los recursos necesarios para la implementación exitosa de la transformación digital, incluyendo la disposición de internet de calidad en el 100% de las sedes en la Rama Judicial y modernizar los servicios tecnológicos de soporte. ",null,null,null,null,null,null,null,null,null,null,null,null,{"$f":"IFERROR(MAX(#REF!,#REF!,#REF!,#REF!),\" \")","v":" "},"",{"$f":"IFERROR(_xlfn.CONCAT(\"Trimestre 1\",CHAR(10),#REF!,CHAR(10),\"Trimestre 2\",CHAR(10),#REF!,CHAR(10),\"Trimestre 3\",CHAR(10),#REF!,CHAR(10),\"Trimestre 4\",CHAR(10),#REF!),\" \")","v":" "},{"$f":"IFERROR(_xlfn.CONCAT(\"Trimestre 1\",CHAR(10),#REF!,CHAR(10),\"Trimestre 2\",CHAR(10),#REF!,CHAR(10),\"Trimestre 3\",CHAR(10),#REF!,CHAR(10),\"Trimestre 4\",CHAR(10),#REF!),\" \")","v":" "}]
[null,null,null,null,null,null,null,null,null,null,null,null,null,null,null,{"$f":"IFERROR(MAX(#REF!,#REF!,#REF!,#REF!),\" \")","v":" "},"",{"$f":"IFERROR(_xlfn.CONCAT(\"Trimestre 1\",CHAR(10),#REF!,CHAR(10),\"Trimestre 2\",CHAR(10),#REF!,CHAR(10),\"Trimestre 3\",CHAR(10),#REF!,CHAR(10),\"Trimestre 4\",CHAR(10),#REF!),\" \")","v":" "},{"$f":"IFERROR(_xlfn.CONCAT(\"Trimestre 1\",CHAR(10),#REF!,CHAR(10),\"Trimestre 2\",CHAR(10),#REF!,CHAR(10),\"Trimestre 3\",CHAR(10),#REF!,CHAR(10),\"Trimestre 4\",CHAR(10),#REF!),\" \")","v":" "}]
[null,null,null,null,null,null,null,null,null,null,null,null,null,null,null,{"$f":"IFERROR(MAX(#REF!,#REF!,#REF!,#REF!),\" \")","v":" "},"",{"$f":"IFERROR(_xlfn.CONCAT(\"Trimestre 1\",CHAR(10),#REF!,CHAR(10),\"Trimestre 2\",CHAR(10),#REF!,CHAR(10),\"Trimestre 3\",CHAR(10),#REF!,CHAR(10),\"Trimestre 4\",CHAR(10),#REF!),\" \")","v":" "},{"$f":"IFERROR(_xlfn.CONCAT(\"Trimestre 1\",CHAR(10),#REF!,CHAR(10),\"Trimestre 2\",CHAR(10),#REF!,CHAR(10),\"Trimestre 3\",CHAR(10),#REF!,CHAR(10),\"Trimestre 4\",CHAR(10),#REF!),\" \")","v":" "}]
[null,null,null,null,null,null,null,null,null,null,null,null,null,null,null,{"$f":"IFERROR(MAX(#REF!,#REF!,#REF!,#REF!),\" \")","v":" "},"",{"$f":"IFERROR(_xlfn.CONCAT(\"Trimestre 1\",CHAR(10),#REF!,CHAR(10),\"Trimestre 2\",CHAR(10),#REF!,CHAR(10),\"Trimestre 3\",CHAR(10),#REF!,CHAR(10),\"Trimestre 4\",CHAR(10),#REF!),\" \")","v":" "},{"$f":"IFERROR(_xlfn.CONCAT(\"Trimestre 1\",CHAR(10),#REF!,CHAR(10),\"Trimestre 2\",CHAR(10),#REF!,CHAR(10),\"Trimestre 3\",CHAR(10),#REF!,CHAR(10),\"Trimestre 4\",CHAR(10),#REF!),\" \")","v":" "}]
[null,null,null,null,null,null,null,null,null,null,null,null,null,null,null,{"$f":"IFERROR(MAX(#REF!,#REF!,#REF!,#REF!),\" \")","v":" "},"",{"$f":"IFERROR(_xlfn.CONCAT(\"Trimestre 1\",CHAR(10),#REF!,CHAR(10),\"Trimestre 2\",CHAR(10),#REF!,CHAR(10),\"Trimestre 3\",CHAR(10),#REF!,CHAR(10),\"Trimestre 4\",CHAR(10),#REF!),\" \")","v":" "},{"$f":"IFERROR(_xlfn.CONCAT(\"Trimestre 1\",CHAR(10),#REF!,CHAR(10),\"Trimestre 2\",CHAR(10),#REF!,CHAR(10),\"Trimestre 3\",CHAR(10),#REF!,CHAR(10),\"Trimestre 4\",CHAR(10),#REF!),\" \")","v":" "}]
[null,null,"6. Integrar y optimizar los servicios administrativos de la Rama Judicial bajo un enfoque de transformación digital e innovación incluyendo los componentes financiero, administrativo, talento humano, entre otros",null,null,null,null,null,null,null,null,null,null,null,null,{"$f":"IFERROR(MAX(#REF!,#REF!,#REF!,#REF!),\" \")","v":" "},"",{"$f":"IFERROR(_xlfn.CONCAT(\"Trimestre 1\",CHAR(10),#REF!,CHAR(10),\"Trimestre 2\",CHAR(10),#REF!,CHAR(10),\"Trimestre 3\",CHAR(10),#REF!,CHAR(10),\"Trimestre 4\",CHAR(10),#REF!),\" \")","v":" "},{"$f":"IFERROR(_xlfn.CONCAT(\"Trimestre 1\",CHAR(10),#REF!,CHAR(10),\"Trimestre 2\",CHAR(10),#REF!,CHAR(10),\"Trimestre 3\",CHAR(10),#REF!,CHAR(10),\"Trimestre 4\",CHAR(10),#REF!),\" \")","v":" "}]
[null,null,null,null,null,null,null,null,null,null,null,null,null,null,null,{"$f":"IFERROR(MAX(#REF!,#REF!,#REF!,#REF!),\" \")","v":" "},"",{"$f":"IFERROR(_xlfn.CONCAT(\"Trimestre 1\",CHAR(10),#REF!,CHAR(10),\"Trimestre 2\",CHAR(10),#REF!,CHAR(10),\"Trimestre 3\",CHAR(10),#REF!,CHAR(10),\"Trimestre 4\",CHAR(10),#REF!),\" \")","v":" "},{"$f":"IFERROR(_xlfn.CONCAT(\"Trimestre 1\",CHAR(10),#REF!,CHAR(10),\"Trimestre 2\",CHAR(10),#REF!,CHAR(10),\"Trimestre 3\",CHAR(10),#REF!,CHAR(10),\"Trimestre 4\",CHAR(10),#REF!),\" \")","v":" "}]
[null,null,null,null,null,null,null,null,null,null,null,null,null,null,null,{"$f":"IFERROR(MAX(#REF!,#REF!,#REF!,#REF!),\" \")","v":" "},"",{"$f":"IFERROR(_xlfn.CONCAT(\"Trimestre 1\",CHAR(10),#REF!,CHAR(10),\"Trimestre 2\",CHAR(10),#REF!,CHAR(10),\"Trimestre 3\",CHAR(10),#REF!,CHAR(10),\"Trimestre 4\",CHAR(10),#REF!),\" \")","v":" "},{"$f":"IFERROR(_xlfn.CONCAT(\"Trimestre 1\",CHAR(10),#REF!,CHAR(10),\"Trimestre 2\",CHAR(10),#REF!,CHAR(10),\"Trimestre 3\",CHAR(10),#REF!,CHAR(10),\"Trimestre 4\",CHAR(10),#REF!),\" \")","v":" "}]
[null,null,null,null,null,null,null,null,null,null,null,null,null,null,null,{"$f":"IFERROR(MAX(#REF!,#REF!,#REF!,#REF!),\" \")","v":" "},"",{"$f":"IFERROR(_xlfn.CONCAT(\"Trimestre 1\",CHAR(10),#REF!,CHAR(10),\"Trimestre 2\",CHAR(10),#REF!,CHAR(10),\"Trimestre 3\",CHAR(10),#REF!,CHAR(10),\"Trimestre 4\",CHAR(10),#REF!),\" \")","v":" "},{"$f":"IFERROR(_xlfn.CONCAT(\"Trimestre 1\",CHAR(10),#REF!,CHAR(10),\"Trimestre 2\",CHAR(10),#REF!,CHAR(10),\"Trimestre 3\",CHAR(10),#REF!,CHAR(10),\"Trimestre 4\",CHAR(10),#REF!),\" \")","v":" "}]
[null,null,null,null,null,null,null,null,null,null,null,null,null,null,null,{"$f":"IFERROR(MAX(#REF!,#REF!,#REF!,#REF!),\" \")","v":" "},"",{"$f":"IFERROR(_xlfn.CONCAT(\"Trimestre 1\",CHAR(10),#REF!,CHAR(10),\"Trimestre 2\",CHAR(10),#REF!,CHAR(10),\"Trimestre 3\",CHAR(10),#REF!,CHAR(10),\"Trimestre 4\",CHAR(10),#REF!),\" \")","v":" "},{"$f":"IFERROR(_xlfn.CONCAT(\"Trimestre 1\",CHAR(10),#REF!,CHAR(10),\"Trimestre 2\",CHAR(10),#REF!,CHAR(10),\"Trimestre 3\",CHAR(10),#REF!,CHAR(10),\"Trimestre 4\",CHAR(10),#REF!),\" \")","v":" "}]
["3. Confianza pública, transparencia y rendición de cuentas","Confianza pública, transparencia y rendición de cuentas: Aumentar la confianza pública en la justicia a través de la transparencia, la rendición de cuentas y la participación, incluyendo la información de justicia y la producción, gestión y acceso a las fuentes de derecho, el fortalecimiento del sistema de gestión de calidad y medio ambiente (SIGCMA) y el mejoramiento de la calidad y publicidad de la información. ","1. Incrementar la cantidad, la calidad y pertinencia de los datos sobre el funcionamiento del servicio de justicia bajo un modelo de gobierno de datos y un liderazgo unificado. ","4. Hacer un uso racional de los recursos naturales aplicando los principios y fases de la Economía Circular, para prevenir, mitigar y controlar los impactos ambientales.",null,null,null,null,null,null,null,null,null,null,null,{"$f":"IFERROR(MAX(#REF!,#REF!,#REF!,#REF!),\" \")","v":" "},"",{"$f":"IFERROR(_xlfn.CONCAT(\"Trimestre 1\",CHAR(10),#REF!,CHAR(10),\"Trimestre 2\",CHAR(10),#REF!,CHAR(10),\"Trimestre 3\",CHAR(10),#REF!,CHAR(10),\"Trimestre 4\",CHAR(10),#REF!),\" \")","v":" "},{"$f":"IFERROR(_xlfn.CONCAT(\"Trimestre 1\",CHAR(10),#REF!,CHAR(10),\"Trimestre 2\",CHAR(10),#REF!,CHAR(10),\"Trimestre 3\",CHAR(10),#REF!,CHAR(10),\"Trimestre 4\",CHAR(10),#REF!),\" \")","v":" "}]
[null,null,null,null,null,null,null,null,null,null,null,null,null,null,null,{"$f":"IFERROR(MAX(#REF!,#REF!,#REF!,#REF!),\" \")","v":" "},"",{"$f":"IFERROR(_xlfn.CONCAT(\"Trimestre 1\",CHAR(10),#REF!,CHAR(10),\"Trimestre 2\",CHAR(10),#REF!,CHAR(10),\"Trimestre 3\",CHAR(10),#REF!,CHAR(10),\"Trimestre 4\",CHAR(10),#REF!),\" \")","v":" "},{"$f":"IFERROR(_xlfn.CONCAT(\"Trimestre 1\",CHAR(10),#REF!,CHAR(10),\"Trimestre 2\",CHAR(10),#REF!,CHAR(10),\"Trimestre 3\",CHAR(10),#REF!,CHAR(10),\"Trimestre 4\",CHAR(10),#REF!),\" \")","v":" "}]
[null,null,null,null,null,null,null,null,null,null,null,null,null,null,null,{"$f":"IFERROR(MAX(#REF!,#REF!,#REF!,#REF!),\" \")","v":" "},"",{"$f":"IFERROR(_xlfn.CONCAT(\"Trimestre 1\",CHAR(10),#REF!,CHAR(10),\"Trimestre 2\",CHAR(10),#REF!,CHAR(10),\"Trimestre 3\",CHAR(10),#REF!,CHAR(10),\"Trimestre 4\",CHAR(10),#REF!),\" \")","v":" "},{"$f":"IFERROR(_xlfn.CONCAT(\"Trimestre 1\",CHAR(10),#REF!,CHAR(10),\"Trimestre 2\",CHAR(10),#REF!,CHAR(10),\"Trimestre 3\",CHAR(10),#REF!,CHAR(10),\"Trimestre 4\",CHAR(10),#REF!),\" \")","v":" "}]
[null,null,null,null,null,null,null,null,null,null,null,null,null,null,null,{"$f":"IFERROR(MAX(#REF!,#REF!,#REF!,#REF!),\" \")","v":" "},"",{"$f":"IFERROR(_xlfn.CONCAT(\"Trimestre 1\",CHAR(10),#REF!,CHAR(10),\"Trimestre 2\",CHAR(10),#REF!,CHAR(10),\"Trimestre 3\",CHAR(10),#REF!,CHAR(10),\"Trimestre 4\",CHAR(10),#REF!),\" \")","v":" "},{"$f":"IFERROR(_xlfn.CONCAT(\"Trimestre 1\",CHAR(10),#REF!,CHAR(10),\"Trimestre 2\",CHAR(10),#REF!,CHAR(10),\"Trimestre 3\",CHAR(10),#REF!,CHAR(10),\"Trimestre 4\",CHAR(10),#REF!),\" \")","v":" "}]
[null,null,null,null,null,null,null,null,null,null,null,null,null,null,null,{"$f":"IFERROR(MAX(#REF!,#REF!,#REF!,#REF!),\" \")","v":" "},"",{"$f":"IFERROR(_xlfn.CONCAT(\"Trimestre 1\",CHAR(10),#REF!,CHAR(10),\"Trimestre 2\",CHAR(10),#REF!,CHAR(10),\"Trimestre 3\",CHAR(10),#REF!,CHAR(10),\"Trimestre 4\",CHAR(10),#REF!),\" \")","v":" "},{"$f":"IFERROR(_xlfn.CONCAT(\"Trimestre 1\",CHAR(10),#REF!,CHAR(10),\"Trimestre 2\",CHAR(10),#REF!,CHAR(10),\"Trimestre 3\",CHAR(10),#REF!,CHAR(10),\"Trimestre 4\",CHAR(10),#REF!),\" \")","v":" "}]
[null,null,"2. Consolidar la administración de la información entendida como todas las acciones orientadas a garantizar el acceso, consulta, uso y conservación de la información de justicia de manera ágil, flexible e inteligente, bajo un enfoque de innovación.",null,null,null,null,null,null,null,null,null,null,null,null,{"$f":"IFERROR(MAX(#REF!,#REF!,#REF!,#REF!),\" \")","v":" "},"",{"$f":"IFERROR(_xlfn.CONCAT(\"Trimestre 1\",CHAR(10),#REF!,CHAR(10),\"Trimestre 2\",CHAR(10),#REF!,CHAR(10),\"Trimestre 3\",CHAR(10),#REF!,CHAR(10),\"Trimestre 4\",CHAR(10),#REF!),\" \")","v":" "},{"$f":"IFERROR(_xlfn.CONCAT(\"Trimestre 1\",CHAR(10),#REF!,CHAR(10),\"Trimestre 2\",CHAR(10),#REF!,CHAR(10),\"Trimestre 3\",CHAR(10),#REF!,CHAR(10),\"Trimestre 4\",CHAR(10),#REF!),\" \")","v":" "}]
[null,null,null,null,null,null,null,null,null,null,null,null,null,null,null,{"$f":"IFERROR(MAX(#REF!,#REF!,#REF!,#REF!),\" \")","v":" "},"",{"$f":"IFERROR(_xlfn.CONCAT(\"Trimestre 1\",CHAR(10),#REF!,CHAR(10),\"Trimestre 2\",CHAR(10),#REF!,CHAR(10),\"Trimestre 3\",CHAR(10),#REF!,CHAR(10),\"Trimestre 4\",CHAR(10),#REF!),\" \")","v":" "},{"$f":"IFERROR(_xlfn.CONCAT(\"Trimestre 1\",CHAR(10),#REF!,CHAR(10),\"Trimestre 2\",CHAR(10),#REF!,CHAR(10),\"Trimestre 3\",CHAR(10),#REF!,CHAR(10),\"Trimestre 4\",CHAR(10),#REF!),\" \")","v":" "}]
[null,null,null,null,null,null,null,null,null,null,null,null,null,null,null,{"$f":"IFERROR(MAX(#REF!,#REF!,#REF!,#REF!),\" \")","v":" "},"",{"$f":"IFERROR(_xlfn.CONCAT(\"Trimestre 1\",CHAR(10),#REF!,CHAR(10),\"Trimestre 2\",CHAR(10),#REF!,CHAR(10),\"Trimestre 3\",CHAR(10),#REF!,CHAR(10),\"Trimestre 4\",CHAR(10),#REF!),\" \")","v":" "},{"$f":"IFERROR(_xlfn.CONCAT(\"Trimestre 1\",CHAR(10),#REF!,CHAR(10),\"Trimestre 2\",CHAR(10),#REF!,CHAR(10),\"Trimestre 3\",CHAR(10),#REF!,CHAR(10),\"Trimestre 4\",CHAR(10),#REF!),\" \")","v":" "}]
[null,null,null,null,null,null,null,null,null,null,null,null,null,null,null,{"$f":"IFERROR(MAX(#REF!,#REF!,#REF!,#REF!),\" \")","v":" "},"",{"$f":"IFERROR(_xlfn.CONCAT(\"Trimestre 1\",CHAR(10),#REF!,CHAR(10),\"Trimestre 2\",CHAR(10),#REF!,CHAR(10),\"Trimestre 3\",CHAR(10),#REF!,CHAR(10),\"Trimestre 4\",CHAR(10),#REF!),\" \")","v":" "},{"$f":"IFERROR(_xlfn.CONCAT(\"Trimestre 1\",CHAR(10),#REF!,CHAR(10),\"Trimestre 2\",CHAR(10),#REF!,CHAR(10),\"Trimestre 3\",CHAR(10),#REF!,CHAR(10),\"Trimestre 4\",CHAR(10),#REF!),\" \")","v":" "}]
[null,null,null,null,null,null,null,null,null,null,null,null,null,null,null,{"$f":"IFERROR(MAX(#REF!,#REF!,#REF!,#REF!),\" \")","v":" "},{"$f":"IFERROR(P69/J69,\"\")","v":""},{"$f":"IFERROR(_xlfn.CONCAT(\"Trimestre 1\",CHAR(10),#REF!,CHAR(10),\"Trimestre 2\",CHAR(10),#REF!,CHAR(10),\"Trimestre 3\",CHAR(10),#REF!,CHAR(10),\"Trimestre 4\",CHAR(10),#REF!),\" \")","v":" "},{"$f":"IFERROR(_xlfn.CONCAT(\"Trimestre 1\",CHAR(10),#REF!,CHAR(10),\"Trimestre 2\",CHAR(10),#REF!,CHAR(10),\"Trimestre 3\",CHAR(10),#REF!,CHAR(10),\"Trimestre 4\",CHAR(10),#REF!),\" \")","v":" "}]
[null,null,"3. Fortalecer el Sistema integrado de Gestión de la Rama, orientado a la implementación y certificación de las normas antisoborno.","1. Gestionar el desarrollo de las competencias, la toma de conciencia , la cultura organizacional y el compromiso de los servidores judiciales, contratistas, practicantes y judicantes de contribuir a generar valor público en la administración de justicia, en el marco de cumplimiento de los requisitos aplicables y el comportamiento ético.\n3. Fomentar la transparencia y la participación generando lineamientos y promoviendo la rendición de cuentas ,la consulta, reporte y planteamiento de inquietudes en relación con las decisiones y aspectos del SIGCMA.",null,null,null,null,null,null,null,null,null,null,null,{"$f":"IFERROR(MAX(#REF!,#REF!,#REF!,#REF!),\" \")","v":" "},"",{"$f":"IFERROR(_xlfn.CONCAT(\"Trimestre 1\",CHAR(10),#REF!,CHAR(10),\"Trimestre 2\",CHAR(10),#REF!,CHAR(10),\"Trimestre 3\",CHAR(10),#REF!,CHAR(10),\"Trimestre 4\",CHAR(10),#REF!),\" \")","v":" "},{"$f":"IFERROR(_xlfn.CONCAT(\"Trimestre 1\",CHAR(10),#REF!,CHAR(10),\"Trimestre 2\",CHAR(10),#REF!,CHAR(10),\"Trimestre 3\",CHAR(10),#REF!,CHAR(10),\"Trimestre 4\",CHAR(10),#REF!),\" \")","v":" "}]
[null,null,null,null,null,null,null,null,null,null,null,null,null,null,null,{"$f":"IFERROR(MAX(#REF!,#REF!,#REF!,#REF!),\" \")","v":" "},"",{"$f":"IFERROR(_xlfn.CONCAT(\"Trimestre 1\",CHAR(10),#REF!,CHAR(10),\"Trimestre 2\",CHAR(10),#REF!,CHAR(10),\"Trimestre 3\",CHAR(10),#REF!,CHAR(10),\"Trimestre 4\",CHAR(10),#REF!),\" \")","v":" "},{"$f":"IFERROR(_xlfn.CONCAT(\"Trimestre 1\",CHAR(10),#REF!,CHAR(10),\"Trimestre 2\",CHAR(10),#REF!,CHAR(10),\"Trimestre 3\",CHAR(10),#REF!,CHAR(10),\"Trimestre 4\",CHAR(10),#REF!),\" \")","v":" "}]
[null,null,null,null,null,null,null,null,null,null,null,null,null,null,null,{"$f":"IFERROR(MAX(#REF!,#REF!,#REF!,#REF!),\" \")","v":" "},"",{"$f":"IFERROR(_xlfn.CONCAT(\"Trimestre 1\",CHAR(10),#REF!,CHAR(10),\"Trimestre 2\",CHAR(10),#REF!,CHAR(10),\"Trimestre 3\",CHAR(10),#REF!,CHAR(10),\"Trimestre 4\",CHAR(10),#REF!),\" \")","v":" "},{"$f":"IFERROR(_xlfn.CONCAT(\"Trimestre 1\",CHAR(10),#REF!,CHAR(10),\"Trimestre 2\",CHAR(10),#REF!,CHAR(10),\"Trimestre 3\",CHAR(10),#REF!,CHAR(10),\"Trimestre 4\",CHAR(10),#REF!),\" \")","v":" "}]
[null,null,null,null,null,null,null,null,null,null,null,null,null,null,null,{"$f":"IFERROR(MAX(#REF!,#REF!,#REF!,#REF!),\" \")","v":" "},"",{"$f":"IFERROR(_xlfn.CONCAT(\"Trimestre 1\",CHAR(10),#REF!,CHAR(10),\"Trimestre 2\",CHAR(10),#REF!,CHAR(10),\"Trimestre 3\",CHAR(10),#REF!,CHAR(10),\"Trimestre 4\",CHAR(10),#REF!),\" \")","v":" "},{"$f":"IFERROR(_xlfn.CONCAT(\"Trimestre 1\",CHAR(10),#REF!,CHAR(10),\"Trimestre 2\",CHAR(10),#REF!,CHAR(10),\"Trimestre 3\",CHAR(10),#REF!,CHAR(10),\"Trimestre 4\",CHAR(10),#REF!),\" \")","v":" "}]
[null,null,null,null,null,null,null,null,null,null,null,null,null,null,null,{"$f":"IFERROR(MAX(#REF!,#REF!,#REF!,#REF!),\" \")","v":" "},"",{"$f":"IFERROR(_xlfn.CONCAT(\"Trimestre 1\",CHAR(10),#REF!,CHAR(10),\"Trimestre 2\",CHAR(10),#REF!,CHAR(10),\"Trimestre 3\",CHAR(10),#REF!,CHAR(10),\"Trimestre 4\",CHAR(10),#REF!),\" \")","v":" "},{"$f":"IFERROR(_xlfn.CONCAT(\"Trimestre 1\",CHAR(10),#REF!,CHAR(10),\"Trimestre 2\",CHAR(10),#REF!,CHAR(10),\"Trimestre 3\",CHAR(10),#REF!,CHAR(10),\"Trimestre 4\",CHAR(10),#REF!),\" \")","v":" "}]
[null,null,"4. Aumentar la confianza, la cercanía y acceso a los servicios de la Rama Judicial a través, entre otros, de una comunicación clara y asertiva con la ciudadanía.","3. Fomentar la transparencia y la participación generando lineamientos y promoviendo la rendición de cuentas ,la consulta, reporte y planteamiento de inquietudes en relación con las decisiones y aspectos del SIGCMA.","Evaluación_y_Mejora","Admin - Gestión de Control Interno y Auditoría","Central","Auditoría a la funcionalidad de Efinómina, en relación con sus resultados en la liquidación y pago de nómina y los módulos adicionales previstos en su desarrollo.","Meta cuantificable",1,"No. Informes","Directora Unidad de Auditoría","Informes","2023-01-01","2023-04-30",{"$f":"IFERROR(MAX(GESTION_SEG_1_TRIM!H75,GESTION_SEG_2_TRIM!H75,GESTION_SEG_3_TRIM!H75,GESTION_SEG_4_TRIM!H75),\" \")","v":0.75},0.75,{"$f":"IFERROR(_xlfn.CONCAT(\"Trimestre 1\",CHAR(10),GESTION_SEG_1_TRIM!J75,CHAR(10),\"Trimestre 2\",CHAR(10),GESTION_SEG_2_TRIM!J75,CHAR(10),\"Trimestre 3\",CHAR(10),GESTION_SEG_3_TRIM!J75,CHAR(10),\"Trimestre 4\",CHAR(10),GESTION_SEG_4_TRIM!J75),\" \")","v":"Trimestre 1\nComplejidad del asunto auditado y dificultades con el suministro de la información requerida.\nTrimestre 2\n\nTrimestre 3\n\nTrimestre 4\n"},{"$f":"IFERROR(_xlfn.CONCAT(\"Trimestre 1\",CHAR(10),GESTION_SEG_1_TRIM!K75,CHAR(10),\"Trimestre 2\",CHAR(10),GESTION_SEG_2_TRIM!K75,CHAR(10),\"Trimestre 3\",CHAR(10),GESTION_SEG_3_TRIM!K75,CHAR(10),\"Trimestre 4\",CHAR(10),GESTION_SEG_4_TRIM!K75),\" \")","v":"Trimestre 1\nLa auditoría comprende tres fases: Planeación, Ejecución e Informe, a la fecha de corte se encuentra en elaboración del informe.\nTrimestre 2\n\nTrimestre 3\n\nTrimestre 4\n"}]
[null,null,null,null,"Evaluación_y_Mejora","Admin - Gestión de Control Interno y Auditoría","Central","Auditoría a la gestión de los bienes muebles en comodato, incluyendo el seguimiento a la gestión de comparendos y pago de multas impuestas por infracción a las normas de tránsito.","Meta cuantificable",1,"No. Informes","Directora Unidad de Auditoría","Informes","2023-05-02","2023-07-31",{"$f":"IFERROR(MAX(GESTION_SEG_1_TRIM!H76,GESTION_SEG_2_TRIM!H76,GESTION_SEG_3_TRIM!H76,GESTION_SEG_4_TRIM!H76),\" \")","v":0},0,{"$f":"IFERROR(_xlfn.CONCAT(\"Trimestre 1\",CHAR(10),GESTION_SEG_1_TRIM!J76,CHAR(10),\"Trimestre 2\",CHAR(10),GESTION_SEG_2_TRIM!J76,CHAR(10),\"Trimestre 3\",CHAR(10),GESTION_SEG_3_TRIM!J76,CHAR(10),\"Trimestre 4\",CHAR(10),GESTION_SEG_4_TRIM!J76),\" \")","v":"Trimestre 1\n\nTrimestre 2\n\nTrimestre 3\n\nTrimestre 4\n"},{"$f":"IFERROR(_xlfn.CONCAT(\"Trimestre 1\",CHAR(10),GESTION_SEG_1_TRIM!K76,CHAR(10),\"Trimestre 2\",CHAR(10),GESTION_SEG_2_TRIM!K76,CHAR(10),\"Trimestre 3\",CHAR(10),GESTION_SEG_3_TRIM!K76,CHAR(10),\"Trimestre 4\",CHAR(10),GESTION_SEG_4_TRIM!K76),\" \")","v":"Trimestre 1\nAuditoría programada para iniciar el mes de mayo. \nTrimestre 2\n\nTrimestre 3\n\nTrimestre 4\n"}]
[null,null,null,null,"Evaluación_y_Mejora","Admin - Gestión de Control Interno y Auditoría","Central","Evaluación a los resultados de los contratos de digitalización.","Meta cuantificable",1,"No. Informes","Directora Unidad de Auditoría","Informes","2023-07-01","2023-10-31",{"$f":"IFERROR(MAX(GESTION_SEG_1_TRIM!H77,GESTION_SEG_2_TRIM!H77,GESTION_SEG_3_TRIM!H77,GESTION_SEG_4_TRIM!H77),\" \")","v":0},0,{"$f":"IFERROR(_xlfn.CONCAT(\"Trimestre 1\",CHAR(10),GESTION_SEG_1_TRIM!J77,CHAR(10),\"Trimestre 2\",CHAR(10),GESTION_SEG_2_TRIM!J77,CHAR(10),\"Trimestre 3\",CHAR(10),GESTION_SEG_3_TRIM!J77,CHAR(10),\"Trimestre 4\",CHAR(10),GESTION_SEG_4_TRIM!J77),\" \")","v":"Trimestre 1\n\nTrimestre 2\n\nTrimestre 3\n\nTrimestre 4\n"},{"$f":"IFERROR(_xlfn.CONCAT(\"Trimestre 1\",CHAR(10),GESTION_SEG_1_TRIM!K77,CHAR(10),\"Trimestre 2\",CHAR(10),GESTION_SEG_2_TRIM!K77,CHAR(10),\"Trimestre 3\",CHAR(10),GESTION_SEG_3_TRIM!K77,CHAR(10),\"Trimestre 4\",CHAR(10),GESTION_SEG_4_TRIM!K77),\" \")","v":"Trimestre 1\nAuditoría programada para iniciar el mes de julio. \nTrimestre 2\n\nTrimestre 3\n\nTrimestre 4\n"}]
[null,null,null,null,"Evaluación_y_Mejora","Admin - Gestión de Control Interno y Auditoría","Central","Auditoría a la gestión de almacén e inventarios, que incluye análisis del software SICOF.","Meta cuantificable",1,"No. Informes","Directora Unidad de Auditoría","Informes","2023-10-01","2023-12-31",{"$f":"IFERROR(MAX(GESTION_SEG_1_TRIM!H78,GESTION_SEG_2_TRIM!H78,GESTION_SEG_3_TRIM!H78,GESTION_SEG_4_TRIM!H78),\" \")","v":0},0,{"$f":"IFERROR(_xlfn.CONCAT(\"Trimestre 1\",CHAR(10),GESTION_SEG_1_TRIM!J78,CHAR(10),\"Trimestre 2\",CHAR(10),GESTION_SEG_2_TRIM!J78,CHAR(10),\"Trimestre 3\",CHAR(10),GESTION_SEG_3_TRIM!J78,CHAR(10),\"Trimestre 4\",CHAR(10),GESTION_SEG_4_TRIM!J78),\" \")","v":"Trimestre 1\n\nTrimestre 2\n\nTrimestre 3\n\nTrimestre 4\n"},{"$f":"IFERROR(_xlfn.CONCAT(\"Trimestre 1\",CHAR(10),GESTION_SEG_1_TRIM!K78,CHAR(10),\"Trimestre 2\",CHAR(10),GESTION_SEG_2_TRIM!K78,CHAR(10),\"Trimestre 3\",CHAR(10),GESTION_SEG_3_TRIM!K78,CHAR(10),\"Trimestre 4\",CHAR(10),GESTION_SEG_4_TRIM!K78),\" \")","v":"Trimestre 1\nAuditoría programada para iniciar el mes de octubre. \nTrimestre 2\n\nTrimestre 3\n\nTrimestre 4\n"}]
[null,null,null,null,"Evaluación_y_Mejora","Admin - Gestión de Control Interno y Auditoría","Central","Auditoría a las obras de mejoramiento y mantenimiento de la infraestructura física.","Meta cuantificable",100,"%","Directora Unidad de Auditoría","Informes","2023-01-01","2023-12-31",{"$f":"IFERROR(MAX(GESTION_SEG_1_TRIM!H79,GESTION_SEG_2_TRIM!H79,GESTION_SEG_3_TRIM!H79,GESTION_SEG_4_TRIM!H79),\" \")","v":25},0.25,{"$f":"IFERROR(_xlfn.CONCAT(\"Trimestre 1\",CHAR(10),GESTION_SEG_1_TRIM!J79,CHAR(10),\"Trimestre 2\",CHAR(10),GESTION_SEG_2_TRIM!J79,CHAR(10),\"Trimestre 3\",CHAR(10),GESTION_SEG_3_TRIM!J79,CHAR(10),\"Trimestre 4\",CHAR(10),GESTION_SEG_4_TRIM!J79),\" \")","v":"Trimestre 1\nIncapacidad por condiciones de salud del auditor líder.\nTrimestre 2\n\nTrimestre 3\n\nTrimestre 4\n"},{"$f":"IFERROR(_xlfn.CONCAT(\"Trimestre 1\",CHAR(10),GESTION_SEG_1_TRIM!K79,CHAR(10),\"Trimestre 2\",CHAR(10),GESTION_SEG_2_TRIM!K79,CHAR(10),\"Trimestre 3\",CHAR(10),GESTION_SEG_3_TRIM!K79,CHAR(10),\"Trimestre 4\",CHAR(10),GESTION_SEG_4_TRIM!K79),\" \")","v":"Trimestre 1\nLa auditoría comprende tres fases: Planeación, Ejecución e Informe, a la fecha de corte se encuentra en elaboración del informe de la auditoría realizada a los contratos de la DEAJ y las DSAJ de Bogotá y Tunja.\nTrimestre 2\n\nTrimestre 3\n\nTrimestre 4\n"}]
[null,null,"5. Prevenir fenómenos asociados con actos de corrupción en la Rama Judicial y reducir las experiencias de corrupción de usuarios y servidores judiciales.",null,"Evaluación_y_Mejora","Admin - Gestión de Control Interno y Auditoría","Central","Auditoría al contrato 162 de 2022, cuyo objeto es \"Contratar los servicios especializados para el acompañamiento, implementación, diseño, ejecución, seguimiento y gestión de las estrategias de gestión del cambio y comunicaciones en la Rama Judicial, para que apoye, facilite y coadyuve a conseguir la implementación exitosa de los procesos de transformación digital y las comunicaciones, su uso, apropiación y adaptación de los proyectos e iniciativas que compone el PETD\".","Meta cuantificable",1,"No. Informes","Directora Unidad de Auditoría","Informes","2023-05-02","2023-07-31",{"$f":"IFERROR(MAX(GESTION_SEG_1_TRIM!H80,GESTION_SEG_2_TRIM!H80,GESTION_SEG_3_TRIM!H80,GESTION_SEG_4_TRIM!H80),\" \")","v":0},0,{"$f":"IFERROR(_xlfn.CONCAT(\"Trimestre 1\",CHAR(10),GESTION_SEG_1_TRIM!J80,CHAR(10),\"Trimestre 2\",CHAR(10),GESTION_SEG_2_TRIM!J80,CHAR(10),\"Trimestre 3\",CHAR(10),GESTION_SEG_3_TRIM!J80,CHAR(10),\"Trimestre 4\",CHAR(10),GESTION_SEG_4_TRIM!J80),\" \")","v":"Trimestre 1\n\nTrimestre 2\n\nTrimestre 3\n\nTrimestre 4\n"},{"$f":"IFERROR(_xlfn.CONCAT(\"Trimestre 1\",CHAR(10),GESTION_SEG_1_TRIM!K80,CHAR(10),\"Trimestre 2\",CHAR(10),GESTION_SEG_2_TRIM!K80,CHAR(10),\"Trimestre 3\",CHAR(10),GESTION_SEG_3_TRIM!K80,CHAR(10),\"Trimestre 4\",CHAR(10),GESTION_SEG_4_TRIM!K80),\" \")","v":"Trimestre 1\nAuditoría programada para iniciar el mes de mayo. \nTrimestre 2\n\nTrimestre 3\n\nTrimestre 4\n"}]
[null,null,null,null,"Evaluación_y_Mejora","Admin - Gestión de Control Interno y Auditoría","Central","Auditoría al Contrato 131 de 2021, cuyo objeto es \"Prestar los servicios para la definición diseño e implementación del portal web de la Rama judicial\".","Meta cuantificable",1,"No. Informes","Directora Unidad de Auditoría","Informes","2023-03-01","2023-07-31",{"$f":"IFERROR(MAX(GESTION_SEG_1_TRIM!H81,GESTION_SEG_2_TRIM!H81,GESTION_SEG_3_TRIM!H81,GESTION_SEG_4_TRIM!H81),\" \")","v":0},0,{"$f":"IFERROR(_xlfn.CONCAT(\"Trimestre 1\",CHAR(10),GESTION_SEG_1_TRIM!J81,CHAR(10),\"Trimestre 2\",CHAR(10),GESTION_SEG_2_TRIM!J81,CHAR(10),\"Trimestre 3\",CHAR(10),GESTION_SEG_3_TRIM!J81,CHAR(10),\"Trimestre 4\",CHAR(10),GESTION_SEG_4_TRIM!J81),\" \")","v":"Trimestre 1\n\nTrimestre 2\n\nTrimestre 3\n\nTrimestre 4\n"},{"$f":"IFERROR(_xlfn.CONCAT(\"Trimestre 1\",CHAR(10),GESTION_SEG_1_TRIM!K81,CHAR(10),\"Trimestre 2\",CHAR(10),GESTION_SEG_2_TRIM!K81,CHAR(10),\"Trimestre 3\",CHAR(10),GESTION_SEG_3_TRIM!K81,CHAR(10),\"Trimestre 4\",CHAR(10),GESTION_SEG_4_TRIM!K81),\" \")","v":"Trimestre 1\nAuditoría programada para iniciar el mes de abril. \nTrimestre 2\n\nTrimestre 3\n\nTrimestre 4\n"}]
[null,null,null,null,"Evaluación_y_Mejora","Admin - Gestión de Control Interno y Auditoría","Central","Auditoría técnica al Contrato 212 de 2021, que tiene por objeto \"Prestar los servicios especializados para realizar el análisis, diseño, desarrollo e implementación de aplicaciones de analítica de datos, chatbots, asistentes virtuales, bots y plataforma de recuperación de información jurisprudencial, relatorías y contenidos jurídicos, para el mejoramiento del servicio y acceso a la justicia\".","Meta cuantificable",1,"No. Informes","Directora Unidad de Auditoría","Informes","2023-08-01","2023-12-31",{"$f":"IFERROR(MAX(GESTION_SEG_1_TRIM!H82,GESTION_SEG_2_TRIM!H82,GESTION_SEG_3_TRIM!H82,GESTION_SEG_4_TRIM!H82),\" \")","v":0},0,{"$f":"IFERROR(_xlfn.CONCAT(\"Trimestre 1\",CHAR(10),GESTION_SEG_1_TRIM!J82,CHAR(10),\"Trimestre 2\",CHAR(10),GESTION_SEG_2_TRIM!J82,CHAR(10),\"Trimestre 3\",CHAR(10),GESTION_SEG_3_TRIM!J82,CHAR(10),\"Trimestre 4\",CHAR(10),GESTION_SEG_4_TRIM!J82),\" \")","v":"Trimestre 1\n\nTrimestre 2\n\nTrimestre 3\n\nTrimestre 4\n"},{"$f":"IFERROR(_xlfn.CONCAT(\"Trimestre 1\",CHAR(10),GESTION_SEG_1_TRIM!K82,CHAR(10),\"Trimestre 2\",CHAR(10),GESTION_SEG_2_TRIM!K82,CHAR(10),\"Trimestre 3\",CHAR(10),GESTION_SEG_3_TRIM!K82,CHAR(10),\"Trimestre 4\",CHAR(10),GESTION_SEG_4_TRIM!K82),\" \")","v":"Trimestre 1\nAuditoría programada para iniciar el mes de agosto. \nTrimestre 2\n\nTrimestre 3\n\nTrimestre 4\n"}]
[null,null,null,null,"Evaluación_y_Mejora","Admin - Gestión de Control Interno y Auditoría","Central","Auditoría al avance en la ejecución del Contrato 194 de 2020 cuyo objeto es la “prestación del servicio de fábrica de software para la Rama Judicial, que incluya desarrollos, mantenimiento y soporte de aplicativos de la entidad”.","Meta cuantificable",1,"No. Informes","Directora Unidad de Auditoría","Informes","2023-01-01","2023-02-28",null,null,{"$f":"IFERROR(_xlfn.CONCAT(\"Trimestre 1\",CHAR(10),GESTION_SEG_1_TRIM!J83,CHAR(10),\"Trimestre 2\",CHAR(10),GESTION_SEG_2_TRIM!J83,CHAR(10),\"Trimestre 3\",CHAR(10),GESTION_SEG_3_TRIM!J83,CHAR(10),\"Trimestre 4\",CHAR(10),GESTION_SEG_4_TRIM!J83),\" \")","v":"Trimestre 1\nAuditoría en ejecución, aplazada en la vigencia 2022, para el 2023.\nTrimestre 2\n\nTrimestre 3\n\nTrimestre 4\n"},{"$f":"IFERROR(_xlfn.CONCAT(\"Trimestre 1\",CHAR(10),GESTION_SEG_1_TRIM!K83,CHAR(10),\"Trimestre 2\",CHAR(10),GESTION_SEG_2_TRIM!K83,CHAR(10),\"Trimestre 3\",CHAR(10),GESTION_SEG_3_TRIM!K83,CHAR(10),\"Trimestre 4\",CHAR(10),GESTION_SEG_4_TRIM!K83),\" \")","v":"Trimestre 1\nInforme preliminar presentado.\nTrimestre 2\n\nTrimestre 3\n\nTrimestre 4\n"}]
[null,null,null,null,"Evaluación_y_Mejora","Admin - Gestión de Control Interno y Auditoría","Central","Auditoría a obras de infraestructura en ejecución.","Meta cuantificable",4,"No. Informes","Directora Unidad de Auditoría","Informes","2023-01-01","2023-12-31",{"$f":"IFERROR(MAX(GESTION_SEG_1_TRIM!H84,GESTION_SEG_2_TRIM!H83,GESTION_SEG_3_TRIM!H83,GESTION_SEG_4_TRIM!H83),\" \")","v":1},0.25,{"$f":"IFERROR(_xlfn.CONCAT(\"Trimestre 1\",CHAR(10),GESTION_SEG_1_TRIM!J84,CHAR(10),\"Trimestre 2\",CHAR(10),GESTION_SEG_2_TRIM!J84,CHAR(10),\"Trimestre 3\",CHAR(10),GESTION_SEG_3_TRIM!J84,CHAR(10),\"Trimestre 4\",CHAR(10),GESTION_SEG_4_TRIM!J84),\" \")","v":"Trimestre 1\nNinguna.\nTrimestre 2\n\nTrimestre 3\n\nTrimestre 4\n"},{"$f":"IFERROR(_xlfn.CONCAT(\"Trimestre 1\",CHAR(10),GESTION_SEG_1_TRIM!K84,CHAR(10),\"Trimestre 2\",CHAR(10),GESTION_SEG_2_TRIM!K84,CHAR(10),\"Trimestre 3\",CHAR(10),GESTION_SEG_3_TRIM!K84,CHAR(10),\"Trimestre 4\",CHAR(10),GESTION_SEG_4_TRIM!K84),\" \")","v":"Trimestre 1\nLa auditoría comprende tres fases: Planeación, Ejecución e Informe, a la fecha de corte se encuentra en ejecución elaboración del primer informe.\nTrimestre 2\n\nTrimestre 3\n\nTrimestre 4\n"}]
[null,null,null,null,"Evaluación_y_Mejora","Admin - Gestión de Control Interno y Auditoría","Central","Auditoría a los contratos de prestación de servicios profesionales y de apoyo a la gestión celebrados en las Direcciones Seccionales.","Meta cuantificable",1,"No. Informes","Directora Unidad de Auditoría","Informes","2023-03-01","2023-05-31",{"$f":"IFERROR(MAX(GESTION_SEG_1_TRIM!H85,GESTION_SEG_2_TRIM!H84,GESTION_SEG_3_TRIM!H84,GESTION_SEG_4_TRIM!H84),\" \")","v":0},0,{"$f":"IFERROR(_xlfn.CONCAT(\"Trimestre 1\",CHAR(10),GESTION_SEG_1_TRIM!J85,CHAR(10),\"Trimestre 2\",CHAR(10),GESTION_SEG_2_TRIM!J85,CHAR(10),\"Trimestre 3\",CHAR(10),GESTION_SEG_3_TRIM!J85,CHAR(10),\"Trimestre 4\",CHAR(10),GESTION_SEG_4_TRIM!J85),\" \")","v":"Trimestre 1\n\nTrimestre 2\n\nTrimestre 3\n\nTrimestre 4\n"},{"$f":"IFERROR(_xlfn.CONCAT(\"Trimestre 1\",CHAR(10),GESTION_SEG_1_TRIM!K85,CHAR(10),\"Trimestre 2\",CHAR(10),GESTION_SEG_2_TRIM!K85,CHAR(10),\"Trimestre 3\",CHAR(10),GESTION_SEG_3_TRIM!K85,CHAR(10),\"Trimestre 4\",CHAR(10),GESTION_SEG_4_TRIM!K85),\" \")","v":"Trimestre 1\nAuditoría programada para iniciar el mes de abril. \nTrimestre 2\n\nTrimestre 3\n\nTrimestre 4\n"}]
[null,null,null,null,"Evaluación_y_Mejora","Admin - Gestión de Control Interno y Auditoría","Central","Auditoría a la gestión de la Coordinación Administrativa de Riohacha.","Meta cuantificable",1,"No. Informes","Directora Unidad de Auditoría","Informes",null,null,{"$f":"IFERROR(MAX(GESTION_SEG_1_TRIM!H86,GESTION_SEG_2_TRIM!H85,GESTION_SEG_3_TRIM!H85,GESTION_SEG_4_TRIM!H85),\" \")","v":0},0,{"$f":"IFERROR(_xlfn.CONCAT(\"Trimestre 1\",CHAR(10),GESTION_SEG_1_TRIM!J86,CHAR(10),\"Trimestre 2\",CHAR(10),GESTION_SEG_2_TRIM!J86,CHAR(10),\"Trimestre 3\",CHAR(10),GESTION_SEG_3_TRIM!J86,CHAR(10),\"Trimestre 4\",CHAR(10),GESTION_SEG_4_TRIM!J86),\" \")","v":"Trimestre 1\n\nTrimestre 2\n\nTrimestre 3\n\nTrimestre 4\n"},{"$f":"IFERROR(_xlfn.CONCAT(\"Trimestre 1\",CHAR(10),GESTION_SEG_1_TRIM!K86,CHAR(10),\"Trimestre 2\",CHAR(10),GESTION_SEG_2_TRIM!K86,CHAR(10),\"Trimestre 3\",CHAR(10),GESTION_SEG_3_TRIM!K86,CHAR(10),\"Trimestre 4\",CHAR(10),GESTION_SEG_4_TRIM!K86),\" \")","v":"Trimestre 1\nLa auditoría comprende tres fases: Planeación, Ejecución e Informe, a la fecha de corte se encuentra en ejecución.\nTrimestre 2\n\nTrimestre 3\n\nTrimestre 4\n"}]
[null,null,null,null,"Evaluación_y_Mejora","Admin - Gestión de Control Interno y Auditoría","Central","Auditoría a la gestión de la Coordinación Administrativa de Arauca.","Meta cuantificable",1,"No. Informes","Directora Unidad de Auditoría","Informes","2023-02-01","2023-02-28",{"$f":"IFERROR(MAX(GESTION_SEG_1_TRIM!H87,GESTION_SEG_2_TRIM!H86,GESTION_SEG_3_TRIM!H86,GESTION_SEG_4_TRIM!H86),\" \")","v":0},0,{"$f":"IFERROR(_xlfn.CONCAT(\"Trimestre 1\",CHAR(10),GESTION_SEG_1_TRIM!J87,CHAR(10),\"Trimestre 2\",CHAR(10),GESTION_SEG_2_TRIM!J87,CHAR(10),\"Trimestre 3\",CHAR(10),GESTION_SEG_3_TRIM!J87,CHAR(10),\"Trimestre 4\",CHAR(10),GESTION_SEG_4_TRIM!J87),\" \")","v":"Trimestre 1\n\nTrimestre 2\n\nTrimestre 3\n\nTrimestre 4\n"},{"$f":"IFERROR(_xlfn.CONCAT(\"Trimestre 1\",CHAR(10),GESTION_SEG_1_TRIM!K87,CHAR(10),\"Trimestre 2\",CHAR(10),GESTION_SEG_2_TRIM!K87,CHAR(10),\"Trimestre 3\",CHAR(10),GESTION_SEG_3_TRIM!K87,CHAR(10),\"Trimestre 4\",CHAR(10),GESTION_SEG_4_TRIM!K87),\" \")","v":"Trimestre 1\nAuditoría programada para iniciar el mes de abril. \nTrimestre 2\n\nTrimestre 3\n\nTrimestre 4\n"}]
[null,null,null,null,"Evaluación_y_Mejora","Admin - Gestión de Control Interno y Auditoría","Central","Auditoría a la gestión de la Coordinación Administrativa de Florencia.","Meta cuantificable",1,"No. Informes","Directora Unidad de Auditoría","Informes","2023-04-01","2023-04-30",{"$f":"IFERROR(MAX(GESTION_SEG_1_TRIM!H88,GESTION_SEG_2_TRIM!H87,GESTION_SEG_3_TRIM!H87,GESTION_SEG_4_TRIM!H87),\" \")","v":0},0,{"$f":"IFERROR(_xlfn.CONCAT(\"Trimestre 1\",CHAR(10),GESTION_SEG_1_TRIM!J88,CHAR(10),\"Trimestre 2\",CHAR(10),GESTION_SEG_2_TRIM!J88,CHAR(10),\"Trimestre 3\",CHAR(10),GESTION_SEG_3_TRIM!J88,CHAR(10),\"Trimestre 4\",CHAR(10),GESTION_SEG_4_TRIM!J88),\" \")","v":"Trimestre 1\n\nTrimestre 2\n\nTrimestre 3\n\nTrimestre 4\n"},{"$f":"IFERROR(_xlfn.CONCAT(\"Trimestre 1\",CHAR(10),GESTION_SEG_1_TRIM!K88,CHAR(10),\"Trimestre 2\",CHAR(10),GESTION_SEG_2_TRIM!K88,CHAR(10),\"Trimestre 3\",CHAR(10),GESTION_SEG_3_TRIM!K88,CHAR(10),\"Trimestre 4\",CHAR(10),GESTION_SEG_4_TRIM!K88),\" \")","v":"Trimestre 1\nAuditoría programada para iniciar el mes de mayo. \nTrimestre 2\n\nTrimestre 3\n\nTrimestre 4\n"}]
[null,null,null,null,"Evaluación_y_Mejora","Admin - Gestión de Control Interno y Auditoría","Central","Auditoría a la gestión de la Coordinación Administrativa de Quibdó.","Meta cuantificable",1,"No. Informes","Directora Unidad de Auditoría","Informes","2023-06-01","2023-06-30",{"$f":"IFERROR(MAX(GESTION_SEG_1_TRIM!H89,GESTION_SEG_2_TRIM!H88,GESTION_SEG_3_TRIM!H88,GESTION_SEG_4_TRIM!H88),\" \")","v":0},0,{"$f":"IFERROR(_xlfn.CONCAT(\"Trimestre 1\",CHAR(10),GESTION_SEG_1_TRIM!J89,CHAR(10),\"Trimestre 2\",CHAR(10),GESTION_SEG_2_TRIM!J89,CHAR(10),\"Trimestre 3\",CHAR(10),GESTION_SEG_3_TRIM!J89,CHAR(10),\"Trimestre 4\",CHAR(10),GESTION_SEG_4_TRIM!J89),\" \")","v":"Trimestre 1\n\nTrimestre 2\n\nTrimestre 3\n\nTrimestre 4\n"},{"$f":"IFERROR(_xlfn.CONCAT(\"Trimestre 1\",CHAR(10),GESTION_SEG_1_TRIM!K89,CHAR(10),\"Trimestre 2\",CHAR(10),GESTION_SEG_2_TRIM!K89,CHAR(10),\"Trimestre 3\",CHAR(10),GESTION_SEG_3_TRIM!K89,CHAR(10),\"Trimestre 4\",CHAR(10),GESTION_SEG_4_TRIM!K89),\" \")","v":"Trimestre 1\nAuditoría programada para iniciar el mes de junio. \nTrimestre 2\n\nTrimestre 3\n\nTrimestre 4\n"}]
[null,null,null,null,"Evaluación_y_Mejora","Admin - Gestión de Control Interno y Auditoría","Central","Auditoría a la gestión de la Coordinación Administrativa de San Andrés.","Meta cuantificable",1,"No. Informes","Directora Unidad de Auditoría","Informes","2023-08-01","2023-08-31",{"$f":"IFERROR(MAX(GESTION_SEG_1_TRIM!H90,GESTION_SEG_2_TRIM!H89,GESTION_SEG_3_TRIM!H89,GESTION_SEG_4_TRIM!H89),\" \")","v":0},0,{"$f":"IFERROR(_xlfn.CONCAT(\"Trimestre 1\",CHAR(10),GESTION_SEG_1_TRIM!J90,CHAR(10),\"Trimestre 2\",CHAR(10),GESTION_SEG_2_TRIM!J90,CHAR(10),\"Trimestre 3\",CHAR(10),GESTION_SEG_3_TRIM!J90,CHAR(10),\"Trimestre 4\",CHAR(10),GESTION_SEG_4_TRIM!J90),\" \")","v":"Trimestre 1\n\nTrimestre 2\n\nTrimestre 3\n\nTrimestre 4\n"},{"$f":"IFERROR(_xlfn.CONCAT(\"Trimestre 1\",CHAR(10),GESTION_SEG_1_TRIM!K90,CHAR(10),\"Trimestre 2\",CHAR(10),GESTION_SEG_2_TRIM!K90,CHAR(10),\"Trimestre 3\",CHAR(10),GESTION_SEG_3_TRIM!K90,CHAR(10),\"Trimestre 4\",CHAR(10),GESTION_SEG_4_TRIM!K90),\" \")","v":"Trimestre 1\nAuditoría programada para iniciar el mes de julio. \nTrimestre 2\n\nTrimestre 3\n\nTrimestre 4\n"}]
[null,null,null,null,"Evaluación_y_Mejora","Admin - Gestión de Control Interno y Auditoría","Central","Seguimiento a la gestión del plan integral de manejo de residuos sólidos.","Meta cuantificable",1,"No. Informes","Directora Unidad de Auditoría","Informes","2023-01-01","2023-03-31",{"$f":"IFERROR(MAX(GESTION_SEG_1_TRIM!H91,GESTION_SEG_2_TRIM!H90,GESTION_SEG_3_TRIM!H90,GESTION_SEG_4_TRIM!H90),\" \")","v":0},0,{"$f":"IFERROR(_xlfn.CONCAT(\"Trimestre 1\",CHAR(10),GESTION_SEG_1_TRIM!J91,CHAR(10),\"Trimestre 2\",CHAR(10),GESTION_SEG_2_TRIM!J91,CHAR(10),\"Trimestre 3\",CHAR(10),GESTION_SEG_3_TRIM!J91,CHAR(10),\"Trimestre 4\",CHAR(10),GESTION_SEG_4_TRIM!J91),\" \")","v":"Trimestre 1\n\nTrimestre 2\n\nTrimestre 3\n\nTrimestre 4\n"},{"$f":"IFERROR(_xlfn.CONCAT(\"Trimestre 1\",CHAR(10),GESTION_SEG_1_TRIM!K91,CHAR(10),\"Trimestre 2\",CHAR(10),GESTION_SEG_2_TRIM!K91,CHAR(10),\"Trimestre 3\",CHAR(10),GESTION_SEG_3_TRIM!K91,CHAR(10),\"Trimestre 4\",CHAR(10),GESTION_SEG_4_TRIM!K91),\" \")","v":"Trimestre 1\nAuditoría programada para iniciar el mes de enero, no obstante fue aplazado su inicio para el segundo trimestre.\nTrimestre 2\n\nTrimestre 3\n\nTrimestre 4\n"}]
[null,null,null,null,"Evaluación_y_Mejora","Admin - Gestión de Control Interno y Auditoría","Central","Seguimiento a la gestión de cartera por concepto de recobro de incapacidades y licencias.","Meta cuantificable",1,"No. Informes","Directora Unidad de Auditoría","Informes","2023-04-01","2023-06-30",{"$f":"IFERROR(MAX(GESTION_SEG_1_TRIM!H92,GESTION_SEG_2_TRIM!H91,GESTION_SEG_3_TRIM!H91,GESTION_SEG_4_TRIM!H91),\" \")","v":0},0,{"$f":"IFERROR(_xlfn.CONCAT(\"Trimestre 1\",CHAR(10),GESTION_SEG_1_TRIM!J92,CHAR(10),\"Trimestre 2\",CHAR(10),GESTION_SEG_2_TRIM!J92,CHAR(10),\"Trimestre 3\",CHAR(10),GESTION_SEG_3_TRIM!J92,CHAR(10),\"Trimestre 4\",CHAR(10),GESTION_SEG_4_TRIM!J92),\" \")","v":"Trimestre 1\n\nTrimestre 2\n\nTrimestre 3\n\nTrimestre 4\n"},{"$f":"IFERROR(_xlfn.CONCAT(\"Trimestre 1\",CHAR(10),GESTION_SEG_1_TRIM!K92,CHAR(10),\"Trimestre 2\",CHAR(10),GESTION_SEG_2_TRIM!K92,CHAR(10),\"Trimestre 3\",CHAR(10),GESTION_SEG_3_TRIM!K92,CHAR(10),\"Trimestre 4\",CHAR(10),GESTION_SEG_4_TRIM!K92),\" \")","v":"Trimestre 1\nAuditoría programada para iniciar el mes de abril. \nTrimestre 2\n\nTrimestre 3\n\nTrimestre 4\n"}]
[null,null,null,null,"Evaluación_y_Mejora","Admin - Gestión de Control Interno y Auditoría","Central","Seguimiento al proceso de contratación de la digitalización de expedientes a nivel nacional, corte a diciembre 31 de 2022.","Meta cuantificable",1,"No. Informes","Directora Unidad de Auditoría","Informes","2023-01-01","2023-02-28",null,null,{"$f":"IFERROR(_xlfn.CONCAT(\"Trimestre 1\",CHAR(10),GESTION_SEG_1_TRIM!J93,CHAR(10),\"Trimestre 2\",CHAR(10),GESTION_SEG_2_TRIM!J93,CHAR(10),\"Trimestre 3\",CHAR(10),GESTION_SEG_3_TRIM!J93,CHAR(10),\"Trimestre 4\",CHAR(10),GESTION_SEG_4_TRIM!J93),\" \")","v":"Trimestre 1\nNinguna.\nTrimestre 2\n\nTrimestre 3\n\nTrimestre 4\n"},{"$f":"IFERROR(_xlfn.CONCAT(\"Trimestre 1\",CHAR(10),GESTION_SEG_1_TRIM!K93,CHAR(10),\"Trimestre 2\",CHAR(10),GESTION_SEG_2_TRIM!K93,CHAR(10),\"Trimestre 3\",CHAR(10),GESTION_SEG_3_TRIM!K93,CHAR(10),\"Trimestre 4\",CHAR(10),GESTION_SEG_4_TRIM!K93),\" \")","v":"Trimestre 1\nInforme definitivo liberado.\nTrimestre 2\n\nTrimestre 3\n\nTrimestre 4\n"}]
[null,null,null,null,"Evaluación_y_Mejora","Admin - Gestión de Control Interno y Auditoría","Central","Auditorías que sobre asuntos de manejo de títulos o depósitos judiciales surjan producto de solicitudes específicas.","Meta cuantificable",100,"%","Directora Unidad de Auditoría","Informes","2023-01-01","2023-12-31",{"$f":"IFERROR(MAX(GESTION_SEG_1_TRIM!H93,GESTION_SEG_2_TRIM!H92,GESTION_SEG_3_TRIM!H92,GESTION_SEG_4_TRIM!H92),\" \")","v":1},0.01,{"$f":"IFERROR(_xlfn.CONCAT(\"Trimestre 1\",CHAR(10),GESTION_SEG_1_TRIM!J94,CHAR(10),\"Trimestre 2\",CHAR(10),GESTION_SEG_2_TRIM!J94,CHAR(10),\"Trimestre 3\",CHAR(10),GESTION_SEG_3_TRIM!J94,CHAR(10),\"Trimestre 4\",CHAR(10),GESTION_SEG_4_TRIM!J94),\" \")","v":"Trimestre 1\nNinguna.\nTrimestre 2\n\nTrimestre 3\n\nTrimestre 4\n"},{"$f":"IFERROR(_xlfn.CONCAT(\"Trimestre 1\",CHAR(10),GESTION_SEG_1_TRIM!K94,CHAR(10),\"Trimestre 2\",CHAR(10),GESTION_SEG_2_TRIM!K94,CHAR(10),\"Trimestre 3\",CHAR(10),GESTION_SEG_3_TRIM!K94,CHAR(10),\"Trimestre 4\",CHAR(10),GESTION_SEG_4_TRIM!K94),\" \")","v":"Trimestre 1\nA la fecha de corte se ha atendido la solicitud de auditoría especial presentada.\nTrimestre 2\n\nTrimestre 3\n\nTrimestre 4\n"}]
[null,null,null,null,"Evaluación_y_Mejora","Admin - Gestión de Control Interno y Auditoría","Central","Auditorías que sobre asuntos de reparto de procesos judiciales específicos que surjan producto de solicitudes particulares.","Meta cuantificable",100,"%","Directora Unidad de Auditoría","Informes","2023-01-01","2023-06-30",{"$f":"IFERROR(MAX(GESTION_SEG_1_TRIM!H94,GESTION_SEG_2_TRIM!H93,GESTION_SEG_3_TRIM!H93,GESTION_SEG_4_TRIM!H93),\" \")","v":100},1,{"$f":"IFERROR(_xlfn.CONCAT(\"Trimestre 1\",CHAR(10),GESTION_SEG_1_TRIM!J95,CHAR(10),\"Trimestre 2\",CHAR(10),GESTION_SEG_2_TRIM!J95,CHAR(10),\"Trimestre 3\",CHAR(10),GESTION_SEG_3_TRIM!J95,CHAR(10),\"Trimestre 4\",CHAR(10),GESTION_SEG_4_TRIM!J95),\" \")","v":"Trimestre 1\nNinguna.\nTrimestre 2\n\nTrimestre 3\n\nTrimestre 4\n"},{"$f":"IFERROR(_xlfn.CONCAT(\"Trimestre 1\",CHAR(10),GESTION_SEG_1_TRIM!K95,CHAR(10),\"Trimestre 2\",CHAR(10),GESTION_SEG_2_TRIM!K95,CHAR(10),\"Trimestre 3\",CHAR(10),GESTION_SEG_3_TRIM!K95,CHAR(10),\"Trimestre 4\",CHAR(10),GESTION_SEG_4_TRIM!K95),\" \")","v":"Trimestre 1\nA la fecha de corte se ha atendido la solicitud de auditoría especial presentada.\nTrimestre 2\n\nTrimestre 3\n\nTrimestre 4\n"}]
[null,null,null,null,"Evaluación_y_Mejora","Admin - Gestión de Control Interno y Auditoría","Central","Auditorías que sobre otros asuntos, actividades o procesos surjan producto de solicitudes específicas.","Meta cuantificable",100,"%","Directora Unidad de Auditoría","Informes","2023-01-01","2023-12-31",{"$f":"IFERROR(MAX(GESTION_SEG_1_TRIM!H95,GESTION_SEG_2_TRIM!H94,GESTION_SEG_3_TRIM!H94,GESTION_SEG_4_TRIM!H94),\" \")","v":100},1,{"$f":"IFERROR(_xlfn.CONCAT(\"Trimestre 1\",CHAR(10),GESTION_SEG_1_TRIM!J96,CHAR(10),\"Trimestre 2\",CHAR(10),GESTION_SEG_2_TRIM!J96,CHAR(10),\"Trimestre 3\",CHAR(10),GESTION_SEG_3_TRIM!J96,CHAR(10),\"Trimestre 4\",CHAR(10),GESTION_SEG_4_TRIM!J96),\" \")","v":"Trimestre 1\n\nTrimestre 2\n\nTrimestre 3\n\nTrimestre 4\n"},{"$f":"IFERROR(_xlfn.CONCAT(\"Trimestre 1\",CHAR(10),GESTION_SEG_1_TRIM!K96,CHAR(10),\"Trimestre 2\",CHAR(10),GESTION_SEG_2_TRIM!K96,CHAR(10),\"Trimestre 3\",CHAR(10),GESTION_SEG_3_TRIM!K96,CHAR(10),\"Trimestre 4\",CHAR(10),GESTION_SEG_4_TRIM!K96),\" \")","v":"Trimestre 1\nA la fecha de corte no se ha recibido ninguna solicitud de auditoría especial.\nTrimestre 2\n\nTrimestre 3\n\nTrimestre 4\n"}]
[null,null,null,null,"Evaluación_y_Mejora","Admin - Gestión de Control Interno y Auditoría","Central","Informe de gestión anual de la Unidad de Auditoría (Art. 105 Ley 270/1996).","Meta cuantificable",1,"No. Informes","Directora Unidad de Auditoría","Informes","2023-01-01","2023-01-31",{"$f":"IFERROR(MAX(GESTION_SEG_1_TRIM!H96,GESTION_SEG_2_TRIM!H95,GESTION_SEG_3_TRIM!H95,GESTION_SEG_4_TRIM!H95),\" \")","v":0},0,{"$f":"IFERROR(_xlfn.CONCAT(\"Trimestre 1\",CHAR(10),GESTION_SEG_1_TRIM!J97,CHAR(10),\"Trimestre 2\",CHAR(10),GESTION_SEG_2_TRIM!J97,CHAR(10),\"Trimestre 3\",CHAR(10),GESTION_SEG_3_TRIM!J97,CHAR(10),\"Trimestre 4\",CHAR(10),GESTION_SEG_4_TRIM!J97),\" \")","v":"Trimestre 1\nNinguna.\nTrimestre 2\n\nTrimestre 3\n\nTrimestre 4\n"},{"$f":"IFERROR(_xlfn.CONCAT(\"Trimestre 1\",CHAR(10),GESTION_SEG_1_TRIM!K97,CHAR(10),\"Trimestre 2\",CHAR(10),GESTION_SEG_2_TRIM!K97,CHAR(10),\"Trimestre 3\",CHAR(10),GESTION_SEG_3_TRIM!K97,CHAR(10),\"Trimestre 4\",CHAR(10),GESTION_SEG_4_TRIM!K97),\" \")","v":"Trimestre 1\nInforme liberado.\nTrimestre 2\n\nTrimestre 3\n\nTrimestre 4\n"}]
[null,null,null,null,"Evaluación_y_Mejora","Admin - Gestión de Control Interno y Auditoría","Central","Informe de seguimiento a las medidas de austeridad en el gasto público (Art. 2.8.4.8.2 Decreto 1068/2015).","Meta cuantificable",4,"No. Informes","Directora Unidad de Auditoría","Informes","2023-01-01","2023-10-31",{"$f":"IFERROR(MAX(GESTION_SEG_1_TRIM!H97,GESTION_SEG_2_TRIM!H96,GESTION_SEG_3_TRIM!H96,GESTION_SEG_4_TRIM!H96),\" \")","v":1},0.25,{"$f":"IFERROR(_xlfn.CONCAT(\"Trimestre 1\",CHAR(10),GESTION_SEG_1_TRIM!J98,CHAR(10),\"Trimestre 2\",CHAR(10),GESTION_SEG_2_TRIM!J98,CHAR(10),\"Trimestre 3\",CHAR(10),GESTION_SEG_3_TRIM!J98,CHAR(10),\"Trimestre 4\",CHAR(10),GESTION_SEG_4_TRIM!J98),\" \")","v":"Trimestre 1\nNinguna.\nTrimestre 2\n\nTrimestre 3\n\nTrimestre 4\n"},{"$f":"IFERROR(_xlfn.CONCAT(\"Trimestre 1\",CHAR(10),GESTION_SEG_1_TRIM!K98,CHAR(10),\"Trimestre 2\",CHAR(10),GESTION_SEG_2_TRIM!K98,CHAR(10),\"Trimestre 3\",CHAR(10),GESTION_SEG_3_TRIM!K98,CHAR(10),\"Trimestre 4\",CHAR(10),GESTION_SEG_4_TRIM!K98),\" \")","v":"Trimestre 1\nA la fecha de corte se ha elaborado el informe del cuarto trimestre de la vigencia 2022.\nTrimestre 2\n\nTrimestre 3\n\nTrimestre 4\n"}]
[null,null,"6. Promover la rendición de cuentas y la colaboración real con la ciudadanía como fundamento para diseñar acciones de mejoramiento del acceso a la justicia.",null,"Evaluación_y_Mejora","Admin - Gestión de Control Interno y Auditoría","Central","Informe de seguimiento al Plan Anticorrupción y de Atención al Ciudadano (Art. 2.1.4.6 Decreto 1081/2015).","Meta cuantificable",3,"No. Informes","Directora Unidad de Auditoría","Informes","2023-01-01","2023-09-30",{"$f":"IFERROR(MAX(GESTION_SEG_1_TRIM!H98,GESTION_SEG_2_TRIM!H97,GESTION_SEG_3_TRIM!H97,GESTION_SEG_4_TRIM!H97),\" \")","v":1},0.33333333333333331,{"$f":"IFERROR(_xlfn.CONCAT(\"Trimestre 1\",CHAR(10),GESTION_SEG_1_TRIM!J99,CHAR(10),\"Trimestre 2\",CHAR(10),GESTION_SEG_2_TRIM!J99,CHAR(10),\"Trimestre 3\",CHAR(10),GESTION_SEG_3_TRIM!J99,CHAR(10),\"Trimestre 4\",CHAR(10),GESTION_SEG_4_TRIM!J99),\" \")","v":"Trimestre 1\nNinguna.\nTrimestre 2\n\nTrimestre 3\n\nTrimestre 4\n"},{"$f":"IFERROR(_xlfn.CONCAT(\"Trimestre 1\",CHAR(10),GESTION_SEG_1_TRIM!K99,CHAR(10),\"Trimestre 2\",CHAR(10),GESTION_SEG_2_TRIM!K99,CHAR(10),\"Trimestre 3\",CHAR(10),GESTION_SEG_3_TRIM!K99,CHAR(10),\"Trimestre 4\",CHAR(10),GESTION_SEG_4_TRIM!K99),\" \")","v":"Trimestre 1\nA la fecha de corte se ha elaborado el informe del tercer cuatrimestre de la vigencia 2022.\nTrimestre 2\n\nTrimestre 3\n\nTrimestre 4\n"}]
[null,null,null,null,"Evaluación_y_Mejora","Admin - Gestión de Control Interno y Auditoría","Central","Informe de vigilancia a la atención de quejas, sugerencias y reclamos (Art. 76 Ley 1474/2011).","Meta cuantificable",2,"No. Informes","Directora Unidad de Auditoría","Informes","2023-02-01","2023-02-28",{"$f":"IFERROR(MAX(GESTION_SEG_1_TRIM!H99,GESTION_SEG_2_TRIM!H98,GESTION_SEG_3_TRIM!H98,GESTION_SEG_4_TRIM!H98),\" \")","v":1},0.5,{"$f":"IFERROR(_xlfn.CONCAT(\"Trimestre 1\",CHAR(10),GESTION_SEG_1_TRIM!J100,CHAR(10),\"Trimestre 2\",CHAR(10),GESTION_SEG_2_TRIM!J100,CHAR(10),\"Trimestre 3\",CHAR(10),GESTION_SEG_3_TRIM!J100,CHAR(10),\"Trimestre 4\",CHAR(10),GESTION_SEG_4_TRIM!J100),\" \")","v":"Trimestre 1\nNinguna.\nTrimestre 2\n\nTrimestre 3\n\nTrimestre 4\n"},{"$f":"IFERROR(_xlfn.CONCAT(\"Trimestre 1\",CHAR(10),GESTION_SEG_1_TRIM!K100,CHAR(10),\"Trimestre 2\",CHAR(10),GESTION_SEG_2_TRIM!K100,CHAR(10),\"Trimestre 3\",CHAR(10),GESTION_SEG_3_TRIM!K100,CHAR(10),\"Trimestre 4\",CHAR(10),GESTION_SEG_4_TRIM!K100),\" \")","v":"Trimestre 1\nInforme en ejecución.\nTrimestre 2\n\nTrimestre 3\n\nTrimestre 4\n"}]
[null,null,null,null,"Evaluación_y_Mejora","Admin - Gestión de Control Interno y Auditoría","Central","Informe de seguimiento a la implementación del Sistema Único de Gestión e Información de la Actividad Litigiosa del Estado (eKOGUI 2.0) (Art. 2.2.3.4.1.14 Decreto 1069/2015).","Meta cuantificable",2,"No. Informes","Directora Unidad de Auditoría","Informes","2023-03-01","2023-09-30",{"$f":"IFERROR(MAX(GESTION_SEG_1_TRIM!H100,GESTION_SEG_2_TRIM!H99,GESTION_SEG_3_TRIM!H99,GESTION_SEG_4_TRIM!H99),\" \")","v":0.75},0.375,{"$f":"IFERROR(_xlfn.CONCAT(\"Trimestre 1\",CHAR(10),GESTION_SEG_1_TRIM!J101,CHAR(10),\"Trimestre 2\",CHAR(10),GESTION_SEG_2_TRIM!J101,CHAR(10),\"Trimestre 3\",CHAR(10),GESTION_SEG_3_TRIM!J101,CHAR(10),\"Trimestre 4\",CHAR(10),GESTION_SEG_4_TRIM!J101),\" \")","v":"Trimestre 1\nNinguna.\nTrimestre 2\n\nTrimestre 3\n\nTrimestre 4\n"},{"$f":"IFERROR(_xlfn.CONCAT(\"Trimestre 1\",CHAR(10),GESTION_SEG_1_TRIM!K101,CHAR(10),\"Trimestre 2\",CHAR(10),GESTION_SEG_2_TRIM!K101,CHAR(10),\"Trimestre 3\",CHAR(10),GESTION_SEG_3_TRIM!K101,CHAR(10),\"Trimestre 4\",CHAR(10),GESTION_SEG_4_TRIM!K101),\" \")","v":"Trimestre 1\nEn elaboración informe del segundo semestre de 2022.\nTrimestre 2\n\nTrimestre 3\n\nTrimestre 4\n"}]
[null,null,null,null,"Evaluación_y_Mejora","Admin - Gestión de Control Interno y Auditoría","Central","Formulario Único Reporte de Avances de la Gestión (FURAG II) - Vigencia 2022 (Art. 2.2.23.3 Decreto 1083/2015).","Meta cuantificable",1,"No. Informes","Directora Unidad de Auditoría","Informes","2023-02-01","2023-03-31",{"$f":"IFERROR(MAX(GESTION_SEG_1_TRIM!H101,GESTION_SEG_2_TRIM!H100,GESTION_SEG_3_TRIM!H100,GESTION_SEG_4_TRIM!H100),\" \")","v":1},1,{"$f":"IFERROR(_xlfn.CONCAT(\"Trimestre 1\",CHAR(10),GESTION_SEG_1_TRIM!J102,CHAR(10),\"Trimestre 2\",CHAR(10),GESTION_SEG_2_TRIM!J102,CHAR(10),\"Trimestre 3\",CHAR(10),GESTION_SEG_3_TRIM!J102,CHAR(10),\"Trimestre 4\",CHAR(10),GESTION_SEG_4_TRIM!J102),\" \")","v":"Trimestre 1\n\nTrimestre 2\n\nTrimestre 3\n\nTrimestre 4\n"},{"$f":"IFERROR(_xlfn.CONCAT(\"Trimestre 1\",CHAR(10),GESTION_SEG_1_TRIM!K102,CHAR(10),\"Trimestre 2\",CHAR(10),GESTION_SEG_2_TRIM!K102,CHAR(10),\"Trimestre 3\",CHAR(10),GESTION_SEG_3_TRIM!K102,CHAR(10),\"Trimestre 4\",CHAR(10),GESTION_SEG_4_TRIM!K102),\" \")","v":"Trimestre 1\nA la fecha de corte el DAFP tiene anunciado que habilitará el aplicativo en el segundo trimestre de 2023.\nTrimestre 2\n\nTrimestre 3\n\nTrimestre 4\n"}]
[null,null,null,null,"Evaluación_y_Mejora","Admin - Gestión de Control Interno y Auditoría","Central","Informe de auditaje a los estados financieros consolidados a 31/12/2022 (Art. 80.8 Ley 270/1996).","Meta cuantificable",1,"No. Informes","Directora Unidad de Auditoría","Informes","2023-02-01","2023-03-31",{"$f":"IFERROR(MAX(GESTION_SEG_1_TRIM!H102,GESTION_SEG_2_TRIM!H101,GESTION_SEG_3_TRIM!H101,GESTION_SEG_4_TRIM!H101),\" \")","v":0},0,{"$f":"IFERROR(_xlfn.CONCAT(\"Trimestre 1\",CHAR(10),GESTION_SEG_1_TRIM!J103,CHAR(10),\"Trimestre 2\",CHAR(10),GESTION_SEG_2_TRIM!J103,CHAR(10),\"Trimestre 3\",CHAR(10),GESTION_SEG_3_TRIM!J103,CHAR(10),\"Trimestre 4\",CHAR(10),GESTION_SEG_4_TRIM!J103),\" \")","v":"Trimestre 1\nNinguna.\nTrimestre 2\n\nTrimestre 3\n\nTrimestre 4\n"},{"$f":"IFERROR(_xlfn.CONCAT(\"Trimestre 1\",CHAR(10),GESTION_SEG_1_TRIM!K103,CHAR(10),\"Trimestre 2\",CHAR(10),GESTION_SEG_2_TRIM!K103,CHAR(10),\"Trimestre 3\",CHAR(10),GESTION_SEG_3_TRIM!K103,CHAR(10),\"Trimestre 4\",CHAR(10),GESTION_SEG_4_TRIM!K103),\" \")","v":"Trimestre 1\nInforme liberado.\nTrimestre 2\n\nTrimestre 3\n\nTrimestre 4\n"}]
[null,null,null,null,"Evaluación_y_Mejora","Admin - Gestión de Control Interno y Auditoría","Central","Informe anual de Evaluación del Control Interno Contable con corte a 31/12/2022 (Art. 3 Resolución 193/2016 CGN).","Meta cuantificable",1,"No. Informes","Directora Unidad de Auditoría","Informes","2023-02-01","2023-03-31",{"$f":"IFERROR(MAX(GESTION_SEG_1_TRIM!H103,GESTION_SEG_2_TRIM!H102,GESTION_SEG_3_TRIM!H102,GESTION_SEG_4_TRIM!H102),\" \")","v":1},1,{"$f":"IFERROR(_xlfn.CONCAT(\"Trimestre 1\",CHAR(10),GESTION_SEG_1_TRIM!J104,CHAR(10),\"Trimestre 2\",CHAR(10),GESTION_SEG_2_TRIM!J104,CHAR(10),\"Trimestre 3\",CHAR(10),GESTION_SEG_3_TRIM!J104,CHAR(10),\"Trimestre 4\",CHAR(10),GESTION_SEG_4_TRIM!J104),\" \")","v":"Trimestre 1\nNinguna.\nTrimestre 2\n\nTrimestre 3\n\nTrimestre 4\n"},{"$f":"IFERROR(_xlfn.CONCAT(\"Trimestre 1\",CHAR(10),GESTION_SEG_1_TRIM!K104,CHAR(10),\"Trimestre 2\",CHAR(10),GESTION_SEG_2_TRIM!K104,CHAR(10),\"Trimestre 3\",CHAR(10),GESTION_SEG_3_TRIM!K104,CHAR(10),\"Trimestre 4\",CHAR(10),GESTION_SEG_4_TRIM!K104),\" \")","v":"Trimestre 1\nInforme liberado.\nTrimestre 2\n\nTrimestre 3\n\nTrimestre 4\n"}]
[null,null,null,null,"Evaluación_y_Mejora","Admin - Gestión de Control Interno y Auditoría","Central","Informe de seguimiento a la ejecución presupuestal y planes de inversión a 31/12/2022.","Meta cuantificable",1,"No. Informes","Directora Unidad de Auditoría","Informes","2023-02-01","2023-03-31",{"$f":"IFERROR(MAX(GESTION_SEG_1_TRIM!H104,GESTION_SEG_2_TRIM!H103,GESTION_SEG_3_TRIM!H103,GESTION_SEG_4_TRIM!H103),\" \")","v":1},1,{"$f":"IFERROR(_xlfn.CONCAT(\"Trimestre 1\",CHAR(10),GESTION_SEG_1_TRIM!J105,CHAR(10),\"Trimestre 2\",CHAR(10),GESTION_SEG_2_TRIM!J105,CHAR(10),\"Trimestre 3\",CHAR(10),GESTION_SEG_3_TRIM!J105,CHAR(10),\"Trimestre 4\",CHAR(10),GESTION_SEG_4_TRIM!J105),\" \")","v":"Trimestre 1\nNinguna.\nTrimestre 2\n\nTrimestre 3\n\nTrimestre 4\n"},{"$f":"IFERROR(_xlfn.CONCAT(\"Trimestre 1\",CHAR(10),GESTION_SEG_1_TRIM!K105,CHAR(10),\"Trimestre 2\",CHAR(10),GESTION_SEG_2_TRIM!K105,CHAR(10),\"Trimestre 3\",CHAR(10),GESTION_SEG_3_TRIM!K105,CHAR(10),\"Trimestre 4\",CHAR(10),GESTION_SEG_4_TRIM!K105),\" \")","v":"Trimestre 1\nInforme en elaboración.\nTrimestre 2\n\nTrimestre 3\n\nTrimestre 4\n"}]
[null,null,null,null,"Evaluación_y_Mejora","Admin - Gestión de Control Interno y Auditoría","Central","Informe de verificación, recomendaciones, seguimiento y resultados sobre el cumplimiento de las normas en materia de derecho de autor sobre software, vigencia 2022 (Circular 12/2007 UAE-DNDA).","Meta cuantificable",1,"No. Informes","Directora Unidad de Auditoría","Informes","2023-03-01","2023-04-30",{"$f":"IFERROR(MAX(GESTION_SEG_1_TRIM!H105,GESTION_SEG_2_TRIM!H104,GESTION_SEG_3_TRIM!H104,GESTION_SEG_4_TRIM!H104),\" \")","v":0.75},0.75,{"$f":"IFERROR(_xlfn.CONCAT(\"Trimestre 1\",CHAR(10),GESTION_SEG_1_TRIM!J106,CHAR(10),\"Trimestre 2\",CHAR(10),GESTION_SEG_2_TRIM!J106,CHAR(10),\"Trimestre 3\",CHAR(10),GESTION_SEG_3_TRIM!J106,CHAR(10),\"Trimestre 4\",CHAR(10),GESTION_SEG_4_TRIM!J106),\" \")","v":"Trimestre 1\nNinguna.\nTrimestre 2\n\nTrimestre 3\n\nTrimestre 4\n"},{"$f":"IFERROR(_xlfn.CONCAT(\"Trimestre 1\",CHAR(10),GESTION_SEG_1_TRIM!K106,CHAR(10),\"Trimestre 2\",CHAR(10),GESTION_SEG_2_TRIM!K106,CHAR(10),\"Trimestre 3\",CHAR(10),GESTION_SEG_3_TRIM!K106,CHAR(10),\"Trimestre 4\",CHAR(10),GESTION_SEG_4_TRIM!K106),\" \")","v":"Trimestre 1\nInforme liberado.\nTrimestre 2\n\nTrimestre 3\n\nTrimestre 4\n"}]
[null,null,null,null,"Evaluación_y_Mejora","Admin - Gestión de Control Interno y Auditoría","Central","Informe de evaluación independiente del estado del sistema de control interno (Art. 14 Ley 87/1993).","Meta cuantificable",2,"No. Informes","Directora Unidad de Auditoría","Informes","2023-01-01","2023-07-31",{"$f":"IFERROR(MAX(GESTION_SEG_1_TRIM!H106,GESTION_SEG_2_TRIM!H105,GESTION_SEG_3_TRIM!H105,GESTION_SEG_4_TRIM!H105),\" \")","v":1},0.5,{"$f":"IFERROR(_xlfn.CONCAT(\"Trimestre 1\",CHAR(10),GESTION_SEG_1_TRIM!J107,CHAR(10),\"Trimestre 2\",CHAR(10),GESTION_SEG_2_TRIM!J107,CHAR(10),\"Trimestre 3\",CHAR(10),GESTION_SEG_3_TRIM!J107,CHAR(10),\"Trimestre 4\",CHAR(10),GESTION_SEG_4_TRIM!J107),\" \")","v":"Trimestre 1\nNinguna.\nTrimestre 2\n\nTrimestre 3\n\nTrimestre 4\n"},{"$f":"IFERROR(_xlfn.CONCAT(\"Trimestre 1\",CHAR(10),GESTION_SEG_1_TRIM!K107,CHAR(10),\"Trimestre 2\",CHAR(10),GESTION_SEG_2_TRIM!K107,CHAR(10),\"Trimestre 3\",CHAR(10),GESTION_SEG_3_TRIM!K107,CHAR(10),\"Trimestre 4\",CHAR(10),GESTION_SEG_4_TRIM!K107),\" \")","v":"Trimestre 1\nPresentado el informe correspondiente al segundo semestre de 2022.\nTrimestre 2\n\nTrimestre 3\n\nTrimestre 4\n"}]
[null,null,null,null,"Evaluación_y_Mejora","Admin - Gestión de Control Interno y Auditoría","Central","Informe de Seguimiento a las acciones de repetición ordenadas por el Comité de Conciliaciones de la DEAJ, vigencia 2022.","Meta cuantificable",1,"No. Informes","Directora Unidad de Auditoría","Informes","2023-12-01","2023-12-31",{"$f":"IFERROR(MAX(GESTION_SEG_1_TRIM!H107,GESTION_SEG_2_TRIM!H106,GESTION_SEG_3_TRIM!H106,GESTION_SEG_4_TRIM!H106),\" \")","v":1},1,{"$f":"IFERROR(_xlfn.CONCAT(\"Trimestre 1\",CHAR(10),GESTION_SEG_1_TRIM!J108,CHAR(10),\"Trimestre 2\",CHAR(10),GESTION_SEG_2_TRIM!J108,CHAR(10),\"Trimestre 3\",CHAR(10),GESTION_SEG_3_TRIM!J108,CHAR(10),\"Trimestre 4\",CHAR(10),GESTION_SEG_4_TRIM!J108),\" \")","v":"Trimestre 1\n\nTrimestre 2\n\nTrimestre 3\n\nTrimestre 4\n"},{"$f":"IFERROR(_xlfn.CONCAT(\"Trimestre 1\",CHAR(10),GESTION_SEG_1_TRIM!K108,CHAR(10),\"Trimestre 2\",CHAR(10),GESTION_SEG_2_TRIM!K108,CHAR(10),\"Trimestre 3\",CHAR(10),GESTION_SEG_3_TRIM!K108,CHAR(10),\"Trimestre 4\",CHAR(10),GESTION_SEG_4_TRIM!K108),\" \")","v":"Trimestre 1\nProgramada para presentarse en el mes de diciembre.\nTrimestre 2\n\nTrimestre 3\n\nTrimestre 4\n"}]
[null,null,null,null,"Evaluación_y_Mejora","Admin - Gestión de Control Interno y Auditoría","Central","Informe de evaluación sobre el cumplimiento de las políticas de operación y seguridad de la información del SIIF Nación (Circular 040/2015 Min. Hacienda).","Meta cuantificable",1,"No. Informes","Directora Unidad de Auditoría","Informes","2023-10-01","2023-10-31",{"$f":"IFERROR(MAX(GESTION_SEG_1_TRIM!H108,GESTION_SEG_2_TRIM!H107,GESTION_SEG_3_TRIM!H107,GESTION_SEG_4_TRIM!H107),\" \")","v":0},0,{"$f":"IFERROR(_xlfn.CONCAT(\"Trimestre 1\",CHAR(10),GESTION_SEG_1_TRIM!J109,CHAR(10),\"Trimestre 2\",CHAR(10),GESTION_SEG_2_TRIM!J109,CHAR(10),\"Trimestre 3\",CHAR(10),GESTION_SEG_3_TRIM!J109,CHAR(10),\"Trimestre 4\",CHAR(10),GESTION_SEG_4_TRIM!J109),\" \")","v":"Trimestre 1\n\nTrimestre 2\n\nTrimestre 3\n\nTrimestre 4\n"},{"$f":"IFERROR(_xlfn.CONCAT(\"Trimestre 1\",CHAR(10),GESTION_SEG_1_TRIM!K109,CHAR(10),\"Trimestre 2\",CHAR(10),GESTION_SEG_2_TRIM!K109,CHAR(10),\"Trimestre 3\",CHAR(10),GESTION_SEG_3_TRIM!K109,CHAR(10),\"Trimestre 4\",CHAR(10),GESTION_SEG_4_TRIM!K109),\" \")","v":"Trimestre 1\nProgramada para presentar en el mes de octubre.\nTrimestre 2\n\nTrimestre 3\n\nTrimestre 4\n"}]
[null,null,null,null,"Evaluación_y_Mejora","Admin - Gestión de Control Interno y Auditoría","Central","Informe de Seguimiento Planes de Mejoramiento suscritos con la CGR.","Meta cuantificable",2,"No. Informes","Directora Unidad de Auditoría","Informes","2023-01-01","2023-08-31",{"$f":"IFERROR(MAX(GESTION_SEG_1_TRIM!H109,GESTION_SEG_2_TRIM!H108,GESTION_SEG_3_TRIM!H108,GESTION_SEG_4_TRIM!H108),\" \")","v":0},0,{"$f":"IFERROR(_xlfn.CONCAT(\"Trimestre 1\",CHAR(10),GESTION_SEG_1_TRIM!J110,CHAR(10),\"Trimestre 2\",CHAR(10),GESTION_SEG_2_TRIM!J110,CHAR(10),\"Trimestre 3\",CHAR(10),GESTION_SEG_3_TRIM!J110,CHAR(10),\"Trimestre 4\",CHAR(10),GESTION_SEG_4_TRIM!J110),\" \")","v":"Trimestre 1\nNinguna.\nTrimestre 2\n\nTrimestre 3\n\nTrimestre 4\n"},{"$f":"IFERROR(_xlfn.CONCAT(\"Trimestre 1\",CHAR(10),GESTION_SEG_1_TRIM!K110,CHAR(10),\"Trimestre 2\",CHAR(10),GESTION_SEG_2_TRIM!K110,CHAR(10),\"Trimestre 3\",CHAR(10),GESTION_SEG_3_TRIM!K110,CHAR(10),\"Trimestre 4\",CHAR(10),GESTION_SEG_4_TRIM!K110),\" \")","v":"Trimestre 1\nPresentado el informe correspondiente al segundo semestre de 2022.\nTrimestre 2\n\nTrimestre 3\n\nTrimestre 4\n"}]
[null,null,null,null,"Evaluación_y_Mejora","Admin - Gestión de Control Interno y Auditoría","Central","Informe de Seguimiento Planes de Mejoramiento suscritos con la Unidad de Auditoría.","Meta cuantificable",2,"No. Informes","Directora Unidad de Auditoría","Informes","2023-01-01","2023-08-31",{"$f":"IFERROR(MAX(GESTION_SEG_1_TRIM!H110,GESTION_SEG_2_TRIM!H109,GESTION_SEG_3_TRIM!H109,GESTION_SEG_4_TRIM!H109),\" \")","v":1},0.5,{"$f":"IFERROR(_xlfn.CONCAT(\"Trimestre 1\",CHAR(10),GESTION_SEG_1_TRIM!J111,CHAR(10),\"Trimestre 2\",CHAR(10),GESTION_SEG_2_TRIM!J111,CHAR(10),\"Trimestre 3\",CHAR(10),GESTION_SEG_3_TRIM!J111,CHAR(10),\"Trimestre 4\",CHAR(10),GESTION_SEG_4_TRIM!J111),\" \")","v":"Trimestre 1\nNinguna.\nTrimestre 2\n\nTrimestre 3\n\nTrimestre 4\n"},{"$f":"IFERROR(_xlfn.CONCAT(\"Trimestre 1\",CHAR(10),GESTION_SEG_1_TRIM!K111,CHAR(10),\"Trimestre 2\",CHAR(10),GESTION_SEG_2_TRIM!K111,CHAR(10),\"Trimestre 3\",CHAR(10),GESTION_SEG_3_TRIM!K111,CHAR(10),\"Trimestre 4\",CHAR(10),GESTION_SEG_4_TRIM!K111),\" \")","v":"Trimestre 1\nActividad en ejecución.\nTrimestre 2\n\nTrimestre 3\n\nTrimestre 4\n"}]
[null,null,null,null,"Evaluación_y_Mejora","Admin - Gestión de Control Interno y Auditoría","Central","Arqueos periódicos y sorpresivos a las operaciones que se realicen a través de caja menor (Art. 2.8.5.12 Decreto 1068/2015).","Meta cuantificable",100,"%","Directora Unidad de Auditoría","Informes","2023-01-01","2023-12-31",{"$f":"IFERROR(MAX(GESTION_SEG_1_TRIM!H112,GESTION_SEG_2_TRIM!H111,GESTION_SEG_3_TRIM!H111,GESTION_SEG_4_TRIM!H111),\" \")","v":0},0,{"$f":"IFERROR(_xlfn.CONCAT(\"Trimestre 1\",CHAR(10),GESTION_SEG_1_TRIM!J112,CHAR(10),\"Trimestre 2\",CHAR(10),GESTION_SEG_2_TRIM!J112,CHAR(10),\"Trimestre 3\",CHAR(10),GESTION_SEG_3_TRIM!J112,CHAR(10),\"Trimestre 4\",CHAR(10),GESTION_SEG_4_TRIM!J112),\" \")","v":"Trimestre 1\n\nTrimestre 2\n\nTrimestre 3\n\nTrimestre 4\n"},{"$f":"IFERROR(_xlfn.CONCAT(\"Trimestre 1\",CHAR(10),GESTION_SEG_1_TRIM!K112,CHAR(10),\"Trimestre 2\",CHAR(10),GESTION_SEG_2_TRIM!K112,CHAR(10),\"Trimestre 3\",CHAR(10),GESTION_SEG_3_TRIM!K112,CHAR(10),\"Trimestre 4\",CHAR(10),GESTION_SEG_4_TRIM!K112),\" \")","v":"Trimestre 1\nLa actividad se hace de forma aleatoria en cualquier mes del año.\nTrimestre 2\n\nTrimestre 3\n\nTrimestre 4\n"}]
[null,null,null,null,"Evaluación_y_Mejora","Admin - Gestión de Control Interno y Auditoría","Central","Informe de verificación y evaluación de la aplicación de los mecanismos de participación ciudadana en las audiencias públicas de rendición de cuentas del CSJ, DEAJ, CSeJ y DSAJ, vigencia 2022 (Art. 11 Acuerdo PCSJA20-11478).","Meta cuantificable",1,"No. Informes","Directora Unidad de Auditoría","Informes","2023-04-01","2023-04-30",{"$f":"IFERROR(MAX(GESTION_SEG_1_TRIM!H113,GESTION_SEG_2_TRIM!H112,GESTION_SEG_3_TRIM!H112,GESTION_SEG_4_TRIM!H112),\" \")","v":0},0,{"$f":"IFERROR(_xlfn.CONCAT(\"Trimestre 1\",CHAR(10),GESTION_SEG_1_TRIM!J113,CHAR(10),\"Trimestre 2\",CHAR(10),GESTION_SEG_2_TRIM!J113,CHAR(10),\"Trimestre 3\",CHAR(10),GESTION_SEG_3_TRIM!J113,CHAR(10),\"Trimestre 4\",CHAR(10),GESTION_SEG_4_TRIM!J113),\" \")","v":"Trimestre 1\n\nTrimestre 2\n\nTrimestre 3\n\nTrimestre 4\n"},{"$f":"IFERROR(_xlfn.CONCAT(\"Trimestre 1\",CHAR(10),GESTION_SEG_1_TRIM!K113,CHAR(10),\"Trimestre 2\",CHAR(10),GESTION_SEG_2_TRIM!K113,CHAR(10),\"Trimestre 3\",CHAR(10),GESTION_SEG_3_TRIM!K113,CHAR(10),\"Trimestre 4\",CHAR(10),GESTION_SEG_4_TRIM!K113),\" \")","v":"Trimestre 1\nLa audiencia de rendición de cuentas del CSJ y la DEAJ se realiza en el mes de abril.\nTrimestre 2\n\nTrimestre 3\n\nTrimestre 4\n"}]
[null,null,"7. Continuar la consolidación del SIGCMA, a través de los procesos de formación en modelos de gestión, logrando la implementación y ampliación de este en los esquemas certificados de manera gradual, teniendo en cuenta las capacidades de los diferentes despachos judiciales y dependencias de la Rama Judicial y articulando el enfoque de Arquitectura Empresarial para el desarrollo del PETD a través de la gestión del conocimiento para la gestión del cambio propendiendo por una cultura de la calidad, la transparencia, la rendición de cuentas, la anticorrupción y el antisoborno","1. Gestionar el desarrollo de las competencias, la toma de conciencia , la cultura organizacional y el compromiso de los servidores judiciales, contratistas, practicantes y judicantes de contribuir a generar valor público en la administración de justicia, en el marco de cumplimiento de los requisitos aplicables y el comportamiento ético.\n4. Hacer un uso racional de los recursos naturales aplicando los principios y fases de la Economía Circular, para prevenir, mitigar y controlar los impactos ambientales.","Evaluación_y_Mejora","Admin - Gestión de Control Interno y Auditoría","Central","Verificar que los controles establecidos en los diferentes procesos, procedimientos, políticas de operación, entre otros elementos del Sistema de Control Interno, se cumplan, que existan responsables, adecuados mecanismos de seguimiento, segregación de funciones, entre otros aspectos que garanticen de forma razonable el cumplimiento de los objetivos y metas institucionales.","Meta cuantificable",100,"%","Directora Unidad de Auditoría","Actuaciones Documentadas","2023-01-01","2023-12-31",{"$f":"IFERROR(MAX(GESTION_SEG_1_TRIM!H114,GESTION_SEG_2_TRIM!H113,GESTION_SEG_3_TRIM!H113,GESTION_SEG_4_TRIM!H113),\" \")","v":25},0.25,{"$f":"IFERROR(_xlfn.CONCAT(\"Trimestre 1\",CHAR(10),GESTION_SEG_1_TRIM!J114,CHAR(10),\"Trimestre 2\",CHAR(10),GESTION_SEG_2_TRIM!J114,CHAR(10),\"Trimestre 3\",CHAR(10),GESTION_SEG_3_TRIM!J114,CHAR(10),\"Trimestre 4\",CHAR(10),GESTION_SEG_4_TRIM!J114),\" \")","v":"Trimestre 1\nNinguna.\nTrimestre 2\n\nTrimestre 3\n\nTrimestre 4\n"},{"$f":"IFERROR(_xlfn.CONCAT(\"Trimestre 1\",CHAR(10),GESTION_SEG_1_TRIM!K114,CHAR(10),\"Trimestre 2\",CHAR(10),GESTION_SEG_2_TRIM!K114,CHAR(10),\"Trimestre 3\",CHAR(10),GESTION_SEG_3_TRIM!K114,CHAR(10),\"Trimestre 4\",CHAR(10),GESTION_SEG_4_TRIM!K114),\" \")","v":"Trimestre 1\nActividades en el marco del rol enfoque a la prevención que se atienden por demanda, se cuantifican como No. de actuaciones atendidas/No. de actuaciones solicitadas.\nTrimestre 2\n\nTrimestre 3\n\nTrimestre 4\n"}]
[null,null,null,null,"Evaluación_y_Mejora","Admin - Gestión de Control Interno y Auditoría","Central","Generar alertas y recomendaciones que puedan llegar a prevenir y mitigar riesgos fiscales, de corrupción y en general riesgos de gestión, asociados a los procesos, programas o proyectos que desarrolla la Rama Judicial.","Meta cuantificable",100,"%","Directora Unidad de Auditoría","Actuaciones Documentadas","2023-01-01","2023-12-31",{"$f":"IFERROR(MAX(GESTION_SEG_1_TRIM!H115,GESTION_SEG_2_TRIM!H114,GESTION_SEG_3_TRIM!H114,GESTION_SEG_4_TRIM!H114),\" \")","v":25},0.25,{"$f":"IFERROR(_xlfn.CONCAT(\"Trimestre 1\",CHAR(10),GESTION_SEG_1_TRIM!J115,CHAR(10),\"Trimestre 2\",CHAR(10),GESTION_SEG_2_TRIM!J115,CHAR(10),\"Trimestre 3\",CHAR(10),GESTION_SEG_3_TRIM!J115,CHAR(10),\"Trimestre 4\",CHAR(10),GESTION_SEG_4_TRIM!J115),\" \")","v":"Trimestre 1\nNinguna.\nTrimestre 2\n\nTrimestre 3\n\nTrimestre 4\n"},{"$f":"IFERROR(_xlfn.CONCAT(\"Trimestre 1\",CHAR(10),GESTION_SEG_1_TRIM!K115,CHAR(10),\"Trimestre 2\",CHAR(10),GESTION_SEG_2_TRIM!K115,CHAR(10),\"Trimestre 3\",CHAR(10),GESTION_SEG_3_TRIM!K115,CHAR(10),\"Trimestre 4\",CHAR(10),GESTION_SEG_4_TRIM!K115),\" \")","v":"Trimestre 1\nActividades en el marco del rol enfoque a la prevención que se atienden por demanda, se cuantifican como No. de actuaciones atendidas/No. de actuaciones solicitadas.\nTrimestre 2\n\nTrimestre 3\n\nTrimestre 4\n"}]
[null,null,null,null,"Evaluación_y_Mejora","Admin - Gestión de Control Interno y Auditoría","Central","Presentar informes y recomendaciones al Comité Institucional de Coordinación de Control Interno y a los Subcomités Seccionales de Coordinación del Sistema de Control Interno, sobre la ejecución del Programa Anual de Auditoría y acciones de mejora.","Meta cuantificable",1,"No. Informes","Directora Unidad de Auditoría","Informes","2023-01-01","2023-12-31",{"$f":"IFERROR(MAX(GESTION_SEG_1_TRIM!H116,GESTION_SEG_2_TRIM!H115,GESTION_SEG_3_TRIM!H115,GESTION_SEG_4_TRIM!H115),\" \")","v":1},1,{"$f":"IFERROR(_xlfn.CONCAT(\"Trimestre 1\",CHAR(10),GESTION_SEG_1_TRIM!J116,CHAR(10),\"Trimestre 2\",CHAR(10),GESTION_SEG_2_TRIM!J116,CHAR(10),\"Trimestre 3\",CHAR(10),GESTION_SEG_3_TRIM!J116,CHAR(10),\"Trimestre 4\",CHAR(10),GESTION_SEG_4_TRIM!J116),\" \")","v":"Trimestre 1\nNinguna.\nTrimestre 2\n\nTrimestre 3\n\nTrimestre 4\n"},{"$f":"IFERROR(_xlfn.CONCAT(\"Trimestre 1\",CHAR(10),GESTION_SEG_1_TRIM!K116,CHAR(10),\"Trimestre 2\",CHAR(10),GESTION_SEG_2_TRIM!K116,CHAR(10),\"Trimestre 3\",CHAR(10),GESTION_SEG_3_TRIM!K116,CHAR(10),\"Trimestre 4\",CHAR(10),GESTION_SEG_4_TRIM!K116),\" \")","v":"Trimestre 1\nInformes presentados ante los subcomités seccionales.\nTrimestre 2\n\nTrimestre 3\n\nTrimestre 4\n"}]
[null,null,null,null,"Evaluación_y_Mejora","Admin - Gestión de Control Interno y Auditoría","Central","Ejercer la Secretaría Técnica del Comité Institucional de Coordinación de Control Interno y los Subcomités Seccionales de Coordinación del Sistema de Control Interno.","Meta cuantificable",75,"No. Sesiones CICCI y subcomités","Directora Unidad de Auditoría","Actas de sesiones","2023-01-01","2023-12-31",{"$f":"IFERROR(MAX(GESTION_SEG_1_TRIM!H117,GESTION_SEG_2_TRIM!H116,GESTION_SEG_3_TRIM!H116,GESTION_SEG_4_TRIM!H116),\" \")","v":2},2.6666666666666668E-2,{"$f":"IFERROR(_xlfn.CONCAT(\"Trimestre 1\",CHAR(10),GESTION_SEG_1_TRIM!J117,CHAR(10),\"Trimestre 2\",CHAR(10),GESTION_SEG_2_TRIM!J117,CHAR(10),\"Trimestre 3\",CHAR(10),GESTION_SEG_3_TRIM!J117,CHAR(10),\"Trimestre 4\",CHAR(10),GESTION_SEG_4_TRIM!J117),\" \")","v":"Trimestre 1\nNinguna.\nTrimestre 2\n\nTrimestre 3\n\nTrimestre 4\n"},{"$f":"IFERROR(_xlfn.CONCAT(\"Trimestre 1\",CHAR(10),GESTION_SEG_1_TRIM!K117,CHAR(10),\"Trimestre 2\",CHAR(10),GESTION_SEG_2_TRIM!K117,CHAR(10),\"Trimestre 3\",CHAR(10),GESTION_SEG_3_TRIM!K117,CHAR(10),\"Trimestre 4\",CHAR(10),GESTION_SEG_4_TRIM!K117),\" \")","v":"Trimestre 1\nDepende de la programación de los comités en cada Consejo Seccional.\nTrimestre 2\n\nTrimestre 3\n\nTrimestre 4\n"}]
[null,null,null,null,"Evaluación_y_Mejora","Admin - Gestión de Control Interno y Auditoría","Central","Asesorar a la dirección y los líderes de proceso en la continuidad del proceso administrativo, la reevaluación de los planes establecidos y en la introducción de los correctivos necesarios para el cumplimiento de las metas u objetivos previstos. En particular, en materias como contratación, transformación digital, ejecución presupuestal, pago de acreencias laborales, entre otros.","Meta cuantificable",100,"%","Directora Unidad de Auditoría","Actuaciones Documentadas","2023-01-01","2023-12-31",{"$f":"IFERROR(MAX(GESTION_SEG_1_TRIM!H118,GESTION_SEG_2_TRIM!H117,GESTION_SEG_3_TRIM!H117,GESTION_SEG_4_TRIM!H117),\" \")","v":25},0.25,{"$f":"IFERROR(_xlfn.CONCAT(\"Trimestre 1\",CHAR(10),GESTION_SEG_1_TRIM!J118,CHAR(10),\"Trimestre 2\",CHAR(10),GESTION_SEG_2_TRIM!J118,CHAR(10),\"Trimestre 3\",CHAR(10),GESTION_SEG_3_TRIM!J118,CHAR(10),\"Trimestre 4\",CHAR(10),GESTION_SEG_4_TRIM!J118),\" \")","v":"Trimestre 1\nNinguna.\nTrimestre 2\n\nTrimestre 3\n\nTrimestre 4\n"},{"$f":"IFERROR(_xlfn.CONCAT(\"Trimestre 1\",CHAR(10),GESTION_SEG_1_TRIM!K118,CHAR(10),\"Trimestre 2\",CHAR(10),GESTION_SEG_2_TRIM!K118,CHAR(10),\"Trimestre 3\",CHAR(10),GESTION_SEG_3_TRIM!K118,CHAR(10),\"Trimestre 4\",CHAR(10),GESTION_SEG_4_TRIM!K118),\" \")","v":"Trimestre 1\nActividades en el marco del rol enfoque a la prevención que se atienden por demanda, se cuantifican como No. de actuaciones atendidas/No. de actuaciones solicitadas.\nTrimestre 2\n\nTrimestre 3\n\nTrimestre 4\n"}]
[null,null,null,null,"Evaluación_y_Mejora","Admin - Gestión de Control Interno y Auditoría","Central","Participar en mesas de trabajo de la ANDJE-DEAJ en el proceso de mejora del Sistema Único de Gestión e Información Litigiosa del Estado Colombiano (eKogui) y realizar actividades de acompañamiento al cargue y actualización del eKogui.","Meta cuantificable",100,"%","Directora Unidad de Auditoría","Actuaciones Documentadas","2023-01-01","2023-12-31",{"$f":"IFERROR(MAX(GESTION_SEG_1_TRIM!H119,GESTION_SEG_2_TRIM!H118,GESTION_SEG_3_TRIM!H118,GESTION_SEG_4_TRIM!H118),\" \")","v":25},0.25,{"$f":"IFERROR(_xlfn.CONCAT(\"Trimestre 1\",CHAR(10),GESTION_SEG_1_TRIM!J119,CHAR(10),\"Trimestre 2\",CHAR(10),GESTION_SEG_2_TRIM!J119,CHAR(10),\"Trimestre 3\",CHAR(10),GESTION_SEG_3_TRIM!J119,CHAR(10),\"Trimestre 4\",CHAR(10),GESTION_SEG_4_TRIM!J119),\" \")","v":"Trimestre 1\nNinguna.\nTrimestre 2\n\nTrimestre 3\n\nTrimestre 4\n"},{"$f":"IFERROR(_xlfn.CONCAT(\"Trimestre 1\",CHAR(10),GESTION_SEG_1_TRIM!K119,CHAR(10),\"Trimestre 2\",CHAR(10),GESTION_SEG_2_TRIM!K119,CHAR(10),\"Trimestre 3\",CHAR(10),GESTION_SEG_3_TRIM!K119,CHAR(10),\"Trimestre 4\",CHAR(10),GESTION_SEG_4_TRIM!K119),\" \")","v":"Trimestre 1\nActividades en el marco del rol enfoque a la prevención que se atienden por demanda, se cuantifican como No. de actuaciones atendidas/No. de actuaciones solicitadas.\nTrimestre 2\n\nTrimestre 3\n\nTrimestre 4\n"}]
[null,null,null,null,"Evaluación_y_Mejora","Admin - Gestión de Control Interno y Auditoría","Central","Asesorar a los líderes de procesos en la formulación adecuada, rigurosa y con enfoque estratégico de las acciones de mejora producto de las auditorías internas y externas. Facilitar el seguimiento al cumplimiento y eficacia del plan de mejoramiento institucional. Emitir informes con alertas de los factores que pongan en riesgo la eficacia y cumplimiento del plan de mejoramiento institucional. Realizar análisis comparados de la evolución del plan de mejoramiento institucional, verificando la disminución o aumento de hallazgos e incidencias año tras año y la evolución de cumplimiento del plan de mejoramiento institucional. Desplegar, en general, las acciones tendientes a promover entre las áreas responsables la formulación de acciones eficaces y el cumplimiento oportuno de las mismas.","Meta cuantificable",100,"%","Directora Unidad de Auditoría","Actuaciones Documentadas","2023-01-01","2023-12-31",{"$f":"IFERROR(MAX(GESTION_SEG_1_TRIM!H120,GESTION_SEG_2_TRIM!H119,GESTION_SEG_3_TRIM!H119,GESTION_SEG_4_TRIM!H119),\" \")","v":25},0.25,{"$f":"IFERROR(_xlfn.CONCAT(\"Trimestre 1\",CHAR(10),GESTION_SEG_1_TRIM!J120,CHAR(10),\"Trimestre 2\",CHAR(10),GESTION_SEG_2_TRIM!J120,CHAR(10),\"Trimestre 3\",CHAR(10),GESTION_SEG_3_TRIM!J120,CHAR(10),\"Trimestre 4\",CHAR(10),GESTION_SEG_4_TRIM!J120),\" \")","v":"Trimestre 1\nNinguna.\nTrimestre 2\n\nTrimestre 3\n\nTrimestre 4\n"},{"$f":"IFERROR(_xlfn.CONCAT(\"Trimestre 1\",CHAR(10),GESTION_SEG_1_TRIM!K120,CHAR(10),\"Trimestre 2\",CHAR(10),GESTION_SEG_2_TRIM!K120,CHAR(10),\"Trimestre 3\",CHAR(10),GESTION_SEG_3_TRIM!K120,CHAR(10),\"Trimestre 4\",CHAR(10),GESTION_SEG_4_TRIM!K120),\" \")","v":"Trimestre 1\nActividades en el marco del rol enfoque a la prevención que se atienden por demanda, se cuantifican como No. de actuaciones atendidas/No. de actuaciones solicitadas.\nTrimestre 2\n\nTrimestre 3\n\nTrimestre 4\n"}]
[null,null,null,null,"Evaluación_y_Mejora","Admin - Gestión de Control Interno y Auditoría","Central","Fomentar el control fiscal Interno (CFI), como primer nivel para la vigilancia fiscal de los recursos públicos y para la prevención de riesgos fiscales y defensa del patrimonio público. Y promover sinergias entre el control interno y el seguimiento permanente al recurso público orientado al ejercicio del control concomitante y preventivo y su mutua retroalimentación.","Meta cuantificable",100,"%","Directora Unidad de Auditoría","Actuaciones Documentadas","2023-01-01","2023-12-31",{"$f":"IFERROR(MAX(GESTION_SEG_1_TRIM!H121,GESTION_SEG_2_TRIM!H120,GESTION_SEG_3_TRIM!H120,GESTION_SEG_4_TRIM!H120),\" \")","v":25},0.25,{"$f":"IFERROR(_xlfn.CONCAT(\"Trimestre 1\",CHAR(10),GESTION_SEG_1_TRIM!J121,CHAR(10),\"Trimestre 2\",CHAR(10),GESTION_SEG_2_TRIM!J121,CHAR(10),\"Trimestre 3\",CHAR(10),GESTION_SEG_3_TRIM!J121,CHAR(10),\"Trimestre 4\",CHAR(10),GESTION_SEG_4_TRIM!J121),\" \")","v":"Trimestre 1\nNinguna.\nTrimestre 2\n\nTrimestre 3\n\nTrimestre 4\n"},{"$f":"IFERROR(_xlfn.CONCAT(\"Trimestre 1\",CHAR(10),GESTION_SEG_1_TRIM!K121,CHAR(10),\"Trimestre 2\",CHAR(10),GESTION_SEG_2_TRIM!K121,CHAR(10),\"Trimestre 3\",CHAR(10),GESTION_SEG_3_TRIM!K121,CHAR(10),\"Trimestre 4\",CHAR(10),GESTION_SEG_4_TRIM!K121),\" \")","v":"Trimestre 1\nActividades en el marco del rol enfoque a la prevención que se atienden por demanda, se cuantifican como No. de actuaciones atendidas/No. de actuaciones solicitadas.\nTrimestre 2\n\nTrimestre 3\n\nTrimestre 4\n"}]
[null,null,null,null,"Evaluación_y_Mejora","Admin - Gestión de Control Interno y Auditoría","Central","Gestionar procesos de inducción, reinducción y formación de los auditores en materia de control interno, auditoría y evaluación de la gestión del riesgo y todas aquellas materias asociadas al ejercicio auditor.","Meta cuantificable",100,"%","Directora Unidad de Auditoría","Invitaciones a participantes y/o listas de asistencia, certificaciones de participación","2023-01-01","2023-12-31",{"$f":"IFERROR(MAX(GESTION_SEG_1_TRIM!H122,GESTION_SEG_2_TRIM!H121,GESTION_SEG_3_TRIM!H121,GESTION_SEG_4_TRIM!H121),\" \")","v":25},0.25,{"$f":"IFERROR(_xlfn.CONCAT(\"Trimestre 1\",CHAR(10),GESTION_SEG_1_TRIM!J122,CHAR(10),\"Trimestre 2\",CHAR(10),GESTION_SEG_2_TRIM!J122,CHAR(10),\"Trimestre 3\",CHAR(10),GESTION_SEG_3_TRIM!J122,CHAR(10),\"Trimestre 4\",CHAR(10),GESTION_SEG_4_TRIM!J122),\" \")","v":"Trimestre 1\nNinguna.\nTrimestre 2\n\nTrimestre 3\n\nTrimestre 4\n"},{"$f":"IFERROR(_xlfn.CONCAT(\"Trimestre 1\",CHAR(10),GESTION_SEG_1_TRIM!K122,CHAR(10),\"Trimestre 2\",CHAR(10),GESTION_SEG_2_TRIM!K122,CHAR(10),\"Trimestre 3\",CHAR(10),GESTION_SEG_3_TRIM!K122,CHAR(10),\"Trimestre 4\",CHAR(10),GESTION_SEG_4_TRIM!K122),\" \")","v":"Trimestre 1\nActividades en el marco del rol enfoque a la prevención que se atienden por demanda, se cuantifican como No. de actuaciones atendidas/No. de actuaciones solicitadas.\nTrimestre 2\n\nTrimestre 3\n\nTrimestre 4\n"}]
[null,null,null,null,"Evaluación_y_Mejora","Admin - Gestión de Control Interno y Auditoría","Central","Participar en comités que se encuentran establecidos y en los que asista la Unidad de Auditoría: Comité de Evaluación de Cartera, Comité de Cobro Coactivo, Comité de Defensa Judicial y Conciliación, Comité del SIGCMA, Comité Institucional de Coordinación de Control Interno y demás que sean pertinentes, tanto a nivel central como seccional.","Meta cuantificable",100,"%","Directora Unidad de Auditoría","Actuaciones Documentadas","2023-01-01","2023-12-31",{"$f":"IFERROR(MAX(GESTION_SEG_1_TRIM!H123,GESTION_SEG_2_TRIM!H122,GESTION_SEG_3_TRIM!H122,GESTION_SEG_4_TRIM!H122),\" \")","v":25},0.25,{"$f":"IFERROR(_xlfn.CONCAT(\"Trimestre 1\",CHAR(10),GESTION_SEG_1_TRIM!J123,CHAR(10),\"Trimestre 2\",CHAR(10),GESTION_SEG_2_TRIM!J123,CHAR(10),\"Trimestre 3\",CHAR(10),GESTION_SEG_3_TRIM!J123,CHAR(10),\"Trimestre 4\",CHAR(10),GESTION_SEG_4_TRIM!J123),\" \")","v":"Trimestre 1\nNinguna.\nTrimestre 2\n\nTrimestre 3\n\nTrimestre 4\n"},{"$f":"IFERROR(_xlfn.CONCAT(\"Trimestre 1\",CHAR(10),GESTION_SEG_1_TRIM!K123,CHAR(10),\"Trimestre 2\",CHAR(10),GESTION_SEG_2_TRIM!K123,CHAR(10),\"Trimestre 3\",CHAR(10),GESTION_SEG_3_TRIM!K123,CHAR(10),\"Trimestre 4\",CHAR(10),GESTION_SEG_4_TRIM!K123),\" \")","v":"Trimestre 1\nActividades en el marco del rol enfoque a la prevención que se atienden por demanda, se cuantifican como No. de actuaciones atendidas/No. de actuaciones solicitadas.\nTrimestre 2\n\nTrimestre 3\n\nTrimestre 4\n"}]
[null,null,null,null,"Evaluación_y_Mejora","Admin - Gestión de Control Interno y Auditoría","Central","Fomentar la cultura del control y autoevaluación, a través de actividades de sensibilización en materia de control interno y, roles y responsabilidades de las líneas de defensa, dirigidas a los servidores judiciales.","Meta cuantificable",100,"%","Directora Unidad de Auditoría","Actuaciones Documentadas","2023-01-01","2023-12-31",{"$f":"IFERROR(MAX(GESTION_SEG_1_TRIM!H124,GESTION_SEG_2_TRIM!H123,GESTION_SEG_3_TRIM!H123,GESTION_SEG_4_TRIM!H123),\" \")","v":25},0.25,{"$f":"IFERROR(_xlfn.CONCAT(\"Trimestre 1\",CHAR(10),GESTION_SEG_1_TRIM!J124,CHAR(10),\"Trimestre 2\",CHAR(10),GESTION_SEG_2_TRIM!J124,CHAR(10),\"Trimestre 3\",CHAR(10),GESTION_SEG_3_TRIM!J124,CHAR(10),\"Trimestre 4\",CHAR(10),GESTION_SEG_4_TRIM!J124),\" \")","v":"Trimestre 1\nNinguna.\nTrimestre 2\n\nTrimestre 3\n\nTrimestre 4\n"},{"$f":"IFERROR(_xlfn.CONCAT(\"Trimestre 1\",CHAR(10),GESTION_SEG_1_TRIM!K124,CHAR(10),\"Trimestre 2\",CHAR(10),GESTION_SEG_2_TRIM!K124,CHAR(10),\"Trimestre 3\",CHAR(10),GESTION_SEG_3_TRIM!K124,CHAR(10),\"Trimestre 4\",CHAR(10),GESTION_SEG_4_TRIM!K124),\" \")","v":"Trimestre 1\nActividades en el marco del rol enfoque a la prevención que se atienden por demanda, se cuantifican como No. de actuaciones atendidas/No. de actuaciones solicitadas.\nTrimestre 2\n\nTrimestre 3\n\nTrimestre 4\n"}]
[null,null,null,null,"Evaluación_y_Mejora","Admin - Gestión de Control Interno y Auditoría","Central","Participar en las diferentes mesas de trabajo y reuniones a las que sea invitada la Unidad de Auditoría, tanto a nivel central como seccional.","Meta cuantificable",100,"%","Directora Unidad de Auditoría","Actuaciones Documentadas","2023-01-01","2023-12-31",{"$f":"IFERROR(MAX(GESTION_SEG_1_TRIM!H125,GESTION_SEG_2_TRIM!H124,GESTION_SEG_3_TRIM!H124,GESTION_SEG_4_TRIM!H124),\" \")","v":25},0.25,{"$f":"IFERROR(_xlfn.CONCAT(\"Trimestre 1\",CHAR(10),GESTION_SEG_1_TRIM!J125,CHAR(10),\"Trimestre 2\",CHAR(10),GESTION_SEG_2_TRIM!J125,CHAR(10),\"Trimestre 3\",CHAR(10),GESTION_SEG_3_TRIM!J125,CHAR(10),\"Trimestre 4\",CHAR(10),GESTION_SEG_4_TRIM!J125),\" \")","v":"Trimestre 1\nNinguna.\nTrimestre 2\n\nTrimestre 3\n\nTrimestre 4\n"},{"$f":"IFERROR(_xlfn.CONCAT(\"Trimestre 1\",CHAR(10),GESTION_SEG_1_TRIM!K125,CHAR(10),\"Trimestre 2\",CHAR(10),GESTION_SEG_2_TRIM!K125,CHAR(10),\"Trimestre 3\",CHAR(10),GESTION_SEG_3_TRIM!K125,CHAR(10),\"Trimestre 4\",CHAR(10),GESTION_SEG_4_TRIM!K125),\" \")","v":"Trimestre 1\nActividades en el marco del rol enfoque a la prevención que se atienden por demanda, se cuantifican como No. de actuaciones atendidas/No. de actuaciones solicitadas.\nTrimestre 2\n\nTrimestre 3\n\nTrimestre 4\n"}]
[null,null,null,null,"Evaluación_y_Mejora","Admin - Gestión de Control Interno y Auditoría","Central","Brindar asesoría y acompañamiento para la baja de bienes muebles de propiedad de la Rama Judicial.","Meta cuantificable",100,"%","Directora Unidad de Auditoría","Actuaciones Documentadas","2023-01-01","2023-12-31",{"$f":"IFERROR(MAX(GESTION_SEG_1_TRIM!H126,GESTION_SEG_2_TRIM!H125,GESTION_SEG_3_TRIM!H125,GESTION_SEG_4_TRIM!H125),\" \")","v":25},0.25,{"$f":"IFERROR(_xlfn.CONCAT(\"Trimestre 1\",CHAR(10),GESTION_SEG_1_TRIM!J126,CHAR(10),\"Trimestre 2\",CHAR(10),GESTION_SEG_2_TRIM!J126,CHAR(10),\"Trimestre 3\",CHAR(10),GESTION_SEG_3_TRIM!J126,CHAR(10),\"Trimestre 4\",CHAR(10),GESTION_SEG_4_TRIM!J126),\" \")","v":"Trimestre 1\nNinguna.\nTrimestre 2\n\nTrimestre 3\n\nTrimestre 4\n"},{"$f":"IFERROR(_xlfn.CONCAT(\"Trimestre 1\",CHAR(10),GESTION_SEG_1_TRIM!K126,CHAR(10),\"Trimestre 2\",CHAR(10),GESTION_SEG_2_TRIM!K126,CHAR(10),\"Trimestre 3\",CHAR(10),GESTION_SEG_3_TRIM!K126,CHAR(10),\"Trimestre 4\",CHAR(10),GESTION_SEG_4_TRIM!K126),\" \")","v":"Trimestre 1\nActividades en el marco del rol enfoque a la prevención que se atienden por demanda, se cuantifican como No. de actuaciones atendidas/No. de actuaciones solicitadas.\nTrimestre 2\n\nTrimestre 3\n\nTrimestre 4\n"}]
[null,null,null,null,"Evaluación_y_Mejora","Admin - Gestión de Control Interno y Auditoría","Central","Brindar asesoría a los responsables y ejecutores de los procesos y proyectos, respecto a metodologías y herramientas para la identificación, análisis y evaluación de riesgos.","Meta cuantificable",100,"%","Directora Unidad de Auditoría","Actuaciones Documentadas","2023-01-01","2023-12-31",{"$f":"IFERROR(MAX(GESTION_SEG_1_TRIM!H127,GESTION_SEG_2_TRIM!H126,GESTION_SEG_3_TRIM!H126,GESTION_SEG_4_TRIM!H126),\" \")","v":25},0.25,{"$f":"IFERROR(_xlfn.CONCAT(\"Trimestre 1\",CHAR(10),GESTION_SEG_1_TRIM!J127,CHAR(10),\"Trimestre 2\",CHAR(10),GESTION_SEG_2_TRIM!J127,CHAR(10),\"Trimestre 3\",CHAR(10),GESTION_SEG_3_TRIM!J127,CHAR(10),\"Trimestre 4\",CHAR(10),GESTION_SEG_4_TRIM!J127),\" \")","v":"Trimestre 1\nNinguna.\nTrimestre 2\n\nTrimestre 3\n\nTrimestre 4\n"},{"$f":"IFERROR(_xlfn.CONCAT(\"Trimestre 1\",CHAR(10),GESTION_SEG_1_TRIM!K127,CHAR(10),\"Trimestre 2\",CHAR(10),GESTION_SEG_2_TRIM!K127,CHAR(10),\"Trimestre 3\",CHAR(10),GESTION_SEG_3_TRIM!K127,CHAR(10),\"Trimestre 4\",CHAR(10),GESTION_SEG_4_TRIM!K127),\" \")","v":"Trimestre 1\nActividades en el marco del rol evaluación de la gestión del riesgo que se atienden por demanda, se cuantifican como No. de actuaciones atendidas/No. de actuaciones solicitadas.\nTrimestre 2\n\nTrimestre 3\n\nTrimestre 4\n"}]
[null,null,null,null,"Evaluación_y_Mejora","Admin - Gestión de Control Interno y Auditoría","Central","Asesorar a la alta dirección para la articulación del esquema de líneas de defensa y de cada una de las instancias clave identificadas, a fin de fortalecer una cultura orientada al control, gestión del riesgo y con alto enfoque preventivo.","Meta cuantificable",100,"%","Directora Unidad de Auditoría","Actuaciones Documentadas","2023-01-01","2023-12-31",{"$f":"IFERROR(MAX(GESTION_SEG_1_TRIM!H128,GESTION_SEG_2_TRIM!H127,GESTION_SEG_3_TRIM!H127,GESTION_SEG_4_TRIM!H127),\" \")","v":25},0.25,{"$f":"IFERROR(_xlfn.CONCAT(\"Trimestre 1\",CHAR(10),GESTION_SEG_1_TRIM!J128,CHAR(10),\"Trimestre 2\",CHAR(10),GESTION_SEG_2_TRIM!J128,CHAR(10),\"Trimestre 3\",CHAR(10),GESTION_SEG_3_TRIM!J128,CHAR(10),\"Trimestre 4\",CHAR(10),GESTION_SEG_4_TRIM!J128),\" \")","v":"Trimestre 1\nNinguna.\nTrimestre 2\n\nTrimestre 3\n\nTrimestre 4\n"},{"$f":"IFERROR(_xlfn.CONCAT(\"Trimestre 1\",CHAR(10),GESTION_SEG_1_TRIM!K128,CHAR(10),\"Trimestre 2\",CHAR(10),GESTION_SEG_2_TRIM!K128,CHAR(10),\"Trimestre 3\",CHAR(10),GESTION_SEG_3_TRIM!K128,CHAR(10),\"Trimestre 4\",CHAR(10),GESTION_SEG_4_TRIM!K128),\" \")","v":"Trimestre 1\nActividades en el marco del rol evaluación de la gestión del riesgo que se atienden por demanda, se cuantifican como No. de actuaciones atendidas/No. de actuaciones solicitadas.\nTrimestre 2\n\nTrimestre 3\n\nTrimestre 4\n"}]
[null,null,null,null,"Evaluación_y_Mejora","Admin - Gestión de Control Interno y Auditoría","Central","Desarrollo de diagnósticos para la mejora en la gestión del riesgo en todos sus ámbitos, tanto a nivel central como seccional.","Meta cuantificable",1,"No. Informes","Directora Unidad de Auditoría","Informes","2023-01-01","2023-12-31",{"$f":"IFERROR(MAX(GESTION_SEG_1_TRIM!H129,GESTION_SEG_2_TRIM!H128,GESTION_SEG_3_TRIM!H128,GESTION_SEG_4_TRIM!H128),\" \")","v":0},0,{"$f":"IFERROR(_xlfn.CONCAT(\"Trimestre 1\",CHAR(10),GESTION_SEG_1_TRIM!J129,CHAR(10),\"Trimestre 2\",CHAR(10),GESTION_SEG_2_TRIM!J129,CHAR(10),\"Trimestre 3\",CHAR(10),GESTION_SEG_3_TRIM!J129,CHAR(10),\"Trimestre 4\",CHAR(10),GESTION_SEG_4_TRIM!J129),\" \")","v":"Trimestre 1\n\nTrimestre 2\n\nTrimestre 3\n\nTrimestre 4\n"},{"$f":"IFERROR(_xlfn.CONCAT(\"Trimestre 1\",CHAR(10),GESTION_SEG_1_TRIM!K129,CHAR(10),\"Trimestre 2\",CHAR(10),GESTION_SEG_2_TRIM!K129,CHAR(10),\"Trimestre 3\",CHAR(10),GESTION_SEG_3_TRIM!K129,CHAR(10),\"Trimestre 4\",CHAR(10),GESTION_SEG_4_TRIM!K129),\" \")","v":"Trimestre 1\nProgramado el seguimiento para el segundo semestre de 2023.\nTrimestre 2\n\nTrimestre 3\n\nTrimestre 4\n"}]
[null,null,null,null,"Evaluación_y_Mejora","Admin - Gestión de Control Interno y Auditoría","Central","Realizar actividades de acompañamiento y enlace con los entes de control según sus solicitudes, tanto a nivel central como seccional.","Meta cuantificable",100,"%","Directora Unidad de Auditoría","Actuaciones Documentadas","2023-01-01","2023-12-31",{"$f":"IFERROR(MAX(GESTION_SEG_1_TRIM!H130,GESTION_SEG_2_TRIM!H129,GESTION_SEG_3_TRIM!H129,GESTION_SEG_4_TRIM!H129),\" \")","v":25},0.25,{"$f":"IFERROR(_xlfn.CONCAT(\"Trimestre 1\",CHAR(10),GESTION_SEG_1_TRIM!J130,CHAR(10),\"Trimestre 2\",CHAR(10),GESTION_SEG_2_TRIM!J130,CHAR(10),\"Trimestre 3\",CHAR(10),GESTION_SEG_3_TRIM!J130,CHAR(10),\"Trimestre 4\",CHAR(10),GESTION_SEG_4_TRIM!J130),\" \")","v":"Trimestre 1\nNinguna.\nTrimestre 2\n\nTrimestre 3\n\nTrimestre 4\n"},{"$f":"IFERROR(_xlfn.CONCAT(\"Trimestre 1\",CHAR(10),GESTION_SEG_1_TRIM!K130,CHAR(10),\"Trimestre 2\",CHAR(10),GESTION_SEG_2_TRIM!K130,CHAR(10),\"Trimestre 3\",CHAR(10),GESTION_SEG_3_TRIM!K130,CHAR(10),\"Trimestre 4\",CHAR(10),GESTION_SEG_4_TRIM!K130),\" \")","v":"Trimestre 1\nActividades en el marco del rol de atención de entes externos de control que se atienden por demanda, se cuantifican como No. de actuaciones atendidas/No. de actuaciones solicitadas.\nTrimestre 2\n\nTrimestre 3\n\nTrimestre 4\n"}]
[null,null,null,null,"Evaluación_y_Mejora","Admin - Gestión de Control Interno y Auditoría","Central","Facilitar el flujo de información con los entes de control, según sus solicitudes, tanto a nivel central como seccional.","Meta cuantificable",100,"%","Directora Unidad de Auditoría","Actuaciones Documentadas","2023-01-01","2023-12-31",{"$f":"IFERROR(MAX(GESTION_SEG_1_TRIM!H131,GESTION_SEG_2_TRIM!H130,GESTION_SEG_3_TRIM!H130,GESTION_SEG_4_TRIM!H130),\" \")","v":25},0.25,{"$f":"IFERROR(_xlfn.CONCAT(\"Trimestre 1\",CHAR(10),GESTION_SEG_1_TRIM!J131,CHAR(10),\"Trimestre 2\",CHAR(10),GESTION_SEG_2_TRIM!J131,CHAR(10),\"Trimestre 3\",CHAR(10),GESTION_SEG_3_TRIM!J131,CHAR(10),\"Trimestre 4\",CHAR(10),GESTION_SEG_4_TRIM!J131),\" \")","v":"Trimestre 1\nNinguna.\nTrimestre 2\n\nTrimestre 3\n\nTrimestre 4\n"},{"$f":"IFERROR(_xlfn.CONCAT(\"Trimestre 1\",CHAR(10),GESTION_SEG_1_TRIM!K131,CHAR(10),\"Trimestre 2\",CHAR(10),GESTION_SEG_2_TRIM!K131,CHAR(10),\"Trimestre 3\",CHAR(10),GESTION_SEG_3_TRIM!K131,CHAR(10),\"Trimestre 4\",CHAR(10),GESTION_SEG_4_TRIM!K131),\" \")","v":"Trimestre 1\nActividades en el marco del rol de atención de entes externos de control que se atienden por demanda, se cuantifican como No. de actuaciones atendidas/No. de actuaciones solicitadas.\nTrimestre 2\n\nTrimestre 3\n\nTrimestre 4\n"}]
["4. Talento Humano","Talento Humano: Fortalecer el talento humano en la Rama Judicial para que sea eficiente, capacitado y realice su labor en ambientes saludables y seguros. Ampliar la cobertura de la carrera judicial y mejorar la oferta de formación, que esté disponible para todos los servidores judiciales e impacte positivamente el servicio de justicia y responda a las necesidades reales del ejercicio de la función judicial.","1. Ampliar la cobertura de la carrera judicial optimizando los procesos de los concursos de méritos y propender por mitigar su litigiosidad.","1. Gestionar el desarrollo de las competencias, la toma de conciencia , la cultura organizacional y el compromiso de los servidores judiciales, contratistas, practicantes y judicantes de contribuir a generar valor público en la administración de justicia, en el marco de cumplimiento de los requisitos aplicables y el comportamiento ético.",null,null,null,null,null,null,null,null,null,null,null,{"$f":"IFERROR(MAX(GESTION_SEG_1_TRIM!#REF!,GESTION_SEG_2_TRIM!H131,GESTION_SEG_3_TRIM!H131,GESTION_SEG_4_TRIM!H131),\" \")","v":" "},"",{"$f":"IFERROR(_xlfn.CONCAT(\"Trimestre 1\",CHAR(10),GESTION_SEG_1_TRIM!J133,CHAR(10),\"Trimestre 2\",CHAR(10),GESTION_SEG_2_TRIM!J132,CHAR(10),\"Trimestre 3\",CHAR(10),GESTION_SEG_3_TRIM!J132,CHAR(10),\"Trimestre 4\",CHAR(10),GESTION_SEG_4_TRIM!J132),\" \")","v":"Trimestre 1\n\nTrimestre 2\n\nTrimestre 3\n\nTrimestre 4\n"},{"$f":"IFERROR(_xlfn.CONCAT(\"Trimestre 1\",CHAR(10),GESTION_SEG_1_TRIM!K133,CHAR(10),\"Trimestre 2\",CHAR(10),GESTION_SEG_2_TRIM!K132,CHAR(10),\"Trimestre 3\",CHAR(10),GESTION_SEG_3_TRIM!K132,CHAR(10),\"Trimestre 4\",CHAR(10),GESTION_SEG_4_TRIM!K132),\" \")","v":"Trimestre 1\n\nTrimestre 2\n\nTrimestre 3\n\nTrimestre 4\n"}]
[null,null,null,null,null,null,null,null,null,null,null,null,null,null,null,{"$f":"IFERROR(MAX(GESTION_SEG_1_TRIM!#REF!,GESTION_SEG_2_TRIM!H132,GESTION_SEG_3_TRIM!H132,GESTION_SEG_4_TRIM!H132),\" \")","v":" "},"",{"$f":"IFERROR(_xlfn.CONCAT(\"Trimestre 1\",CHAR(10),GESTION_SEG_1_TRIM!J134,CHAR(10),\"Trimestre 2\",CHAR(10),GESTION_SEG_2_TRIM!J133,CHAR(10),\"Trimestre 3\",CHAR(10),GESTION_SEG_3_TRIM!J133,CHAR(10),\"Trimestre 4\",CHAR(10),GESTION_SEG_4_TRIM!J133),\" \")","v":"Trimestre 1\n\nTrimestre 2\n\nTrimestre 3\n\nTrimestre 4\n"},{"$f":"IFERROR(_xlfn.CONCAT(\"Trimestre 1\",CHAR(10),GESTION_SEG_1_TRIM!K134,CHAR(10),\"Trimestre 2\",CHAR(10),GESTION_SEG_2_TRIM!K133,CHAR(10),\"Trimestre 3\",CHAR(10),GESTION_SEG_3_TRIM!K133,CHAR(10),\"Trimestre 4\",CHAR(10),GESTION_SEG_4_TRIM!K133),\" \")","v":"Trimestre 1\n\nTrimestre 2\n\nTrimestre 3\n\nTrimestre 4\n"}]
[null,null,null,null,null,null,null,null,null,null,null,null,null,null,null,{"$f":"IFERROR(MAX(GESTION_SEG_1_TRIM!H132,GESTION_SEG_2_TRIM!H133,GESTION_SEG_3_TRIM!H133,GESTION_SEG_4_TRIM!H133),\" \")","v":0},"",{"$f":"IFERROR(_xlfn.CONCAT(\"Trimestre 1\",CHAR(10),GESTION_SEG_1_TRIM!J135,CHAR(10),\"Trimestre 2\",CHAR(10),GESTION_SEG_2_TRIM!J134,CHAR(10),\"Trimestre 3\",CHAR(10),GESTION_SEG_3_TRIM!J134,CHAR(10),\"Trimestre 4\",CHAR(10),GESTION_SEG_4_TRIM!J134),\" \")","v":"Trimestre 1\n\nTrimestre 2\n\nTrimestre 3\n\nTrimestre 4\n"},{"$f":"IFERROR(_xlfn.CONCAT(\"Trimestre 1\",CHAR(10),GESTION_SEG_1_TRIM!K135,CHAR(10),\"Trimestre 2\",CHAR(10),GESTION_SEG_2_TRIM!K134,CHAR(10),\"Trimestre 3\",CHAR(10),GESTION_SEG_3_TRIM!K134,CHAR(10),\"Trimestre 4\",CHAR(10),GESTION_SEG_4_TRIM!K134),\" \")","v":"Trimestre 1\n\nTrimestre 2\n\nTrimestre 3\n\nTrimestre 4\n"}]
[null,null,null,null,null,null,null,null,null,null,null,null,null,null,null,{"$f":"IFERROR(MAX(GESTION_SEG_1_TRIM!H133,GESTION_SEG_2_TRIM!H134,GESTION_SEG_3_TRIM!H134,GESTION_SEG_4_TRIM!H134),\" \")","v":0},"",{"$f":"IFERROR(_xlfn.CONCAT(\"Trimestre 1\",CHAR(10),GESTION_SEG_1_TRIM!J136,CHAR(10),\"Trimestre 2\",CHAR(10),GESTION_SEG_2_TRIM!J135,CHAR(10),\"Trimestre 3\",CHAR(10),GESTION_SEG_3_TRIM!J135,CHAR(10),\"Trimestre 4\",CHAR(10),GESTION_SEG_4_TRIM!J135),\" \")","v":"Trimestre 1\n\nTrimestre 2\n\nTrimestre 3\n\nTrimestre 4\n"},{"$f":"IFERROR(_xlfn.CONCAT(\"Trimestre 1\",CHAR(10),GESTION_SEG_1_TRIM!K136,CHAR(10),\"Trimestre 2\",CHAR(10),GESTION_SEG_2_TRIM!K135,CHAR(10),\"Trimestre 3\",CHAR(10),GESTION_SEG_3_TRIM!K135,CHAR(10),\"Trimestre 4\",CHAR(10),GESTION_SEG_4_TRIM!K135),\" \")","v":"Trimestre 1\n\nTrimestre 2\n\nTrimestre 3\n\nTrimestre 4\n"}]
[null,null,null,null,null,null,null,null,null,null,null,null,null,null,null,{"$f":"IFERROR(MAX(GESTION_SEG_1_TRIM!H134,GESTION_SEG_2_TRIM!H135,GESTION_SEG_3_TRIM!H135,GESTION_SEG_4_TRIM!H135),\" \")","v":0},"",{"$f":"IFERROR(_xlfn.CONCAT(\"Trimestre 1\",CHAR(10),GESTION_SEG_1_TRIM!J137,CHAR(10),\"Trimestre 2\",CHAR(10),GESTION_SEG_2_TRIM!J136,CHAR(10),\"Trimestre 3\",CHAR(10),GESTION_SEG_3_TRIM!J136,CHAR(10),\"Trimestre 4\",CHAR(10),GESTION_SEG_4_TRIM!J136),\" \")","v":"Trimestre 1\n\nTrimestre 2\n\nTrimestre 3\n\nTrimestre 4\n"},{"$f":"IFERROR(_xlfn.CONCAT(\"Trimestre 1\",CHAR(10),GESTION_SEG_1_TRIM!K137,CHAR(10),\"Trimestre 2\",CHAR(10),GESTION_SEG_2_TRIM!K136,CHAR(10),\"Trimestre 3\",CHAR(10),GESTION_SEG_3_TRIM!K136,CHAR(10),\"Trimestre 4\",CHAR(10),GESTION_SEG_4_TRIM!K136),\" \")","v":"Trimestre 1\n\nTrimestre 2\n\nTrimestre 3\n\nTrimestre 4\n"}]
[null,null,"2. Impactar la función y servicios que presta la Rama Judicial, a través de una formación integral desde una visión de gestión del conocimiento, relacionada con los problemas de la justicia y los problemas de gestión de quienes administran los recursos de la justicia, y potenciando el uso de medios virtuales.",null,null,null,null,null,null,null,null,null,null,null,null,{"$f":"IFERROR(MAX(GESTION_SEG_1_TRIM!H135,GESTION_SEG_2_TRIM!H136,GESTION_SEG_3_TRIM!H136,GESTION_SEG_4_TRIM!H136),\" \")","v":0},"",{"$f":"IFERROR(_xlfn.CONCAT(\"Trimestre 1\",CHAR(10),GESTION_SEG_1_TRIM!J138,CHAR(10),\"Trimestre 2\",CHAR(10),GESTION_SEG_2_TRIM!J137,CHAR(10),\"Trimestre 3\",CHAR(10),GESTION_SEG_3_TRIM!J137,CHAR(10),\"Trimestre 4\",CHAR(10),GESTION_SEG_4_TRIM!J137),\" \")","v":"Trimestre 1\n\nTrimestre 2\n\nTrimestre 3\n\nTrimestre 4\n"},{"$f":"IFERROR(_xlfn.CONCAT(\"Trimestre 1\",CHAR(10),GESTION_SEG_1_TRIM!K138,CHAR(10),\"Trimestre 2\",CHAR(10),GESTION_SEG_2_TRIM!K137,CHAR(10),\"Trimestre 3\",CHAR(10),GESTION_SEG_3_TRIM!K137,CHAR(10),\"Trimestre 4\",CHAR(10),GESTION_SEG_4_TRIM!K137),\" \")","v":"Trimestre 1\n\nTrimestre 2\n\nTrimestre 3\n\nTrimestre 4\n"}]
[null,null,null,null,null,null,null,null,null,null,null,null,null,null,null,{"$f":"IFERROR(MAX(GESTION_SEG_1_TRIM!H136,GESTION_SEG_2_TRIM!H137,GESTION_SEG_3_TRIM!H137,GESTION_SEG_4_TRIM!H137),\" \")","v":0},{"$f":"IFERROR(P138/J138,\"\")","v":""},{"$f":"IFERROR(_xlfn.CONCAT(\"Trimestre 1\",CHAR(10),GESTION_SEG_1_TRIM!J139,CHAR(10),\"Trimestre 2\",CHAR(10),GESTION_SEG_2_TRIM!J138,CHAR(10),\"Trimestre 3\",CHAR(10),GESTION_SEG_3_TRIM!J138,CHAR(10),\"Trimestre 4\",CHAR(10),GESTION_SEG_4_TRIM!J138),\" \")","v":"Trimestre 1\n\nTrimestre 2\n\nTrimestre 3\n\nTrimestre 4\n"},{"$f":"IFERROR(_xlfn.CONCAT(\"Trimestre 1\",CHAR(10),GESTION_SEG_1_TRIM!K139,CHAR(10),\"Trimestre 2\",CHAR(10),GESTION_SEG_2_TRIM!K138,CHAR(10),\"Trimestre 3\",CHAR(10),GESTION_SEG_3_TRIM!K138,CHAR(10),\"Trimestre 4\",CHAR(10),GESTION_SEG_4_TRIM!K138),\" \")","v":"Trimestre 1\n\nTrimestre 2\n\nTrimestre 3\n\nTrimestre 4\n"}]
[null,null,null,null,null,null,null,null,null,null,null,null,null,null,null,{"$f":"IFERROR(MAX(GESTION_SEG_1_TRIM!H137,GESTION_SEG_2_TRIM!H138,GESTION_SEG_3_TRIM!H138,GESTION_SEG_4_TRIM!H138),\" \")","v":0},"",{"$f":"IFERROR(_xlfn.CONCAT(\"Trimestre 1\",CHAR(10),GESTION_SEG_1_TRIM!J140,CHAR(10),\"Trimestre 2\",CHAR(10),GESTION_SEG_2_TRIM!J139,CHAR(10),\"Trimestre 3\",CHAR(10),GESTION_SEG_3_TRIM!J139,CHAR(10),\"Trimestre 4\",CHAR(10),GESTION_SEG_4_TRIM!J139),\" \")","v":"Trimestre 1\n\nTrimestre 2\n\nTrimestre 3\n\nTrimestre 4\n"},{"$f":"IFERROR(_xlfn.CONCAT(\"Trimestre 1\",CHAR(10),GESTION_SEG_1_TRIM!K140,CHAR(10),\"Trimestre 2\",CHAR(10),GESTION_SEG_2_TRIM!K139,CHAR(10),\"Trimestre 3\",CHAR(10),GESTION_SEG_3_TRIM!K139,CHAR(10),\"Trimestre 4\",CHAR(10),GESTION_SEG_4_TRIM!K139),\" \")","v":"Trimestre 1\n\nTrimestre 2\n\nTrimestre 3\n\nTrimestre 4\n"}]
[null,null,null,null,null,null,null,null,null,null,null,null,null,null,null,{"$f":"IFERROR(MAX(GESTION_SEG_1_TRIM!H138,GESTION_SEG_2_TRIM!H139,GESTION_SEG_3_TRIM!H139,GESTION_SEG_4_TRIM!H139),\" \")","v":0},"",{"$f":"IFERROR(_xlfn.CONCAT(\"Trimestre 1\",CHAR(10),GESTION_SEG_1_TRIM!J141,CHAR(10),\"Trimestre 2\",CHAR(10),GESTION_SEG_2_TRIM!J140,CHAR(10),\"Trimestre 3\",CHAR(10),GESTION_SEG_3_TRIM!J140,CHAR(10),\"Trimestre 4\",CHAR(10),GESTION_SEG_4_TRIM!J140),\" \")","v":"Trimestre 1\n\nTrimestre 2\n\nTrimestre 3\n\nTrimestre 4\n"},{"$f":"IFERROR(_xlfn.CONCAT(\"Trimestre 1\",CHAR(10),GESTION_SEG_1_TRIM!K141,CHAR(10),\"Trimestre 2\",CHAR(10),GESTION_SEG_2_TRIM!K140,CHAR(10),\"Trimestre 3\",CHAR(10),GESTION_SEG_3_TRIM!K140,CHAR(10),\"Trimestre 4\",CHAR(10),GESTION_SEG_4_TRIM!K140),\" \")","v":"Trimestre 1\n\nTrimestre 2\n\nTrimestre 3\n\nTrimestre 4\n"}]
[null,null,null,null,null,null,null,null,null,null,null,null,null,null,null,{"$f":"IFERROR(MAX(GESTION_SEG_1_TRIM!H139,GESTION_SEG_2_TRIM!H140,GESTION_SEG_3_TRIM!H140,GESTION_SEG_4_TRIM!H140),\" \")","v":0},"",{"$f":"IFERROR(_xlfn.CONCAT(\"Trimestre 1\",CHAR(10),GESTION_SEG_1_TRIM!J142,CHAR(10),\"Trimestre 2\",CHAR(10),GESTION_SEG_2_TRIM!J141,CHAR(10),\"Trimestre 3\",CHAR(10),GESTION_SEG_3_TRIM!J141,CHAR(10),\"Trimestre 4\",CHAR(10),GESTION_SEG_4_TRIM!J141),\" \")","v":"Trimestre 1\n\nTrimestre 2\n\nTrimestre 3\n\nTrimestre 4\n"},{"$f":"IFERROR(_xlfn.CONCAT(\"Trimestre 1\",CHAR(10),GESTION_SEG_1_TRIM!K142,CHAR(10),\"Trimestre 2\",CHAR(10),GESTION_SEG_2_TRIM!K141,CHAR(10),\"Trimestre 3\",CHAR(10),GESTION_SEG_3_TRIM!K141,CHAR(10),\"Trimestre 4\",CHAR(10),GESTION_SEG_4_TRIM!K141),\" \")","v":"Trimestre 1\n\nTrimestre 2\n\nTrimestre 3\n\nTrimestre 4\n"}]
[null,null,"3. Promover la incorporación de la perspectiva de género y el enfoque diferencial en los fallos judiciales y en la atención a los ciudadanos, la administración de la Rama Judicial, la administración de la carrera judicial y la elaboración de listas para altas Cortes. ",null,null,null,null,null,null,null,null,null,null,null,null,{"$f":"IFERROR(MAX(GESTION_SEG_1_TRIM!H140,GESTION_SEG_2_TRIM!H141,GESTION_SEG_3_TRIM!H141,GESTION_SEG_4_TRIM!H141),\" \")","v":0},"",{"$f":"IFERROR(_xlfn.CONCAT(\"Trimestre 1\",CHAR(10),GESTION_SEG_1_TRIM!J143,CHAR(10),\"Trimestre 2\",CHAR(10),GESTION_SEG_2_TRIM!J142,CHAR(10),\"Trimestre 3\",CHAR(10),GESTION_SEG_3_TRIM!J142,CHAR(10),\"Trimestre 4\",CHAR(10),GESTION_SEG_4_TRIM!J142),\" \")","v":"Trimestre 1\n\nTrimestre 2\n\nTrimestre 3\n\nTrimestre 4\n"},{"$f":"IFERROR(_xlfn.CONCAT(\"Trimestre 1\",CHAR(10),GESTION_SEG_1_TRIM!K143,CHAR(10),\"Trimestre 2\",CHAR(10),GESTION_SEG_2_TRIM!K142,CHAR(10),\"Trimestre 3\",CHAR(10),GESTION_SEG_3_TRIM!K142,CHAR(10),\"Trimestre 4\",CHAR(10),GESTION_SEG_4_TRIM!K142),\" \")","v":"Trimestre 1\n\nTrimestre 2\n\nTrimestre 3\n\nTrimestre 4\n"}]
[null,null,null,null,null,null,null,null,null,null,null,null,null,null,null,{"$f":"IFERROR(MAX(GESTION_SEG_1_TRIM!H141,GESTION_SEG_2_TRIM!H142,GESTION_SEG_3_TRIM!H142,GESTION_SEG_4_TRIM!H142),\" \")","v":0},"",{"$f":"IFERROR(_xlfn.CONCAT(\"Trimestre 1\",CHAR(10),GESTION_SEG_1_TRIM!J144,CHAR(10),\"Trimestre 2\",CHAR(10),GESTION_SEG_2_TRIM!J143,CHAR(10),\"Trimestre 3\",CHAR(10),GESTION_SEG_3_TRIM!J143,CHAR(10),\"Trimestre 4\",CHAR(10),GESTION_SEG_4_TRIM!J143),\" \")","v":"Trimestre 1\n\nTrimestre 2\n\nTrimestre 3\n\nTrimestre 4\n"},{"$f":"IFERROR(_xlfn.CONCAT(\"Trimestre 1\",CHAR(10),GESTION_SEG_1_TRIM!K144,CHAR(10),\"Trimestre 2\",CHAR(10),GESTION_SEG_2_TRIM!K143,CHAR(10),\"Trimestre 3\",CHAR(10),GESTION_SEG_3_TRIM!K143,CHAR(10),\"Trimestre 4\",CHAR(10),GESTION_SEG_4_TRIM!K143),\" \")","v":"Trimestre 1\n\nTrimestre 2\n\nTrimestre 3\n\nTrimestre 4\n"}]
[null,null,null,null,null,null,null,null,null,null,null,null,null,null,null,{"$f":"IFERROR(MAX(GESTION_SEG_1_TRIM!H142,GESTION_SEG_2_TRIM!H143,GESTION_SEG_3_TRIM!H143,GESTION_SEG_4_TRIM!H143),\" \")","v":0},"",{"$f":"IFERROR(_xlfn.CONCAT(\"Trimestre 1\",CHAR(10),GESTION_SEG_1_TRIM!J145,CHAR(10),\"Trimestre 2\",CHAR(10),GESTION_SEG_2_TRIM!J144,CHAR(10),\"Trimestre 3\",CHAR(10),GESTION_SEG_3_TRIM!J144,CHAR(10),\"Trimestre 4\",CHAR(10),GESTION_SEG_4_TRIM!J144),\" \")","v":"Trimestre 1\n\nTrimestre 2\n\nTrimestre 3\n\nTrimestre 4\n"},{"$f":"IFERROR(_xlfn.CONCAT(\"Trimestre 1\",CHAR(10),GESTION_SEG_1_TRIM!K145,CHAR(10),\"Trimestre 2\",CHAR(10),GESTION_SEG_2_TRIM!K144,CHAR(10),\"Trimestre 3\",CHAR(10),GESTION_SEG_3_TRIM!K144,CHAR(10),\"Trimestre 4\",CHAR(10),GESTION_SEG_4_TRIM!K144),\" \")","v":"Trimestre 1\n\nTrimestre 2\n\nTrimestre 3\n\nTrimestre 4\n"}]
[null,null,null,null,null,null,null,null,null,null,null,null,null,null,null,{"$f":"IFERROR(MAX(GESTION_SEG_1_TRIM!H143,GESTION_SEG_2_TRIM!H144,GESTION_SEG_3_TRIM!H144,GESTION_SEG_4_TRIM!H144),\" \")","v":0},"",{"$f":"IFERROR(_xlfn.CONCAT(\"Trimestre 1\",CHAR(10),GESTION_SEG_1_TRIM!J146,CHAR(10),\"Trimestre 2\",CHAR(10),GESTION_SEG_2_TRIM!J145,CHAR(10),\"Trimestre 3\",CHAR(10),GESTION_SEG_3_TRIM!J145,CHAR(10),\"Trimestre 4\",CHAR(10),GESTION_SEG_4_TRIM!J145),\" \")","v":"Trimestre 1\n\nTrimestre 2\n\nTrimestre 3\n\nTrimestre 4\n"},{"$f":"IFERROR(_xlfn.CONCAT(\"Trimestre 1\",CHAR(10),GESTION_SEG_1_TRIM!K146,CHAR(10),\"Trimestre 2\",CHAR(10),GESTION_SEG_2_TRIM!K145,CHAR(10),\"Trimestre 3\",CHAR(10),GESTION_SEG_3_TRIM!K145,CHAR(10),\"Trimestre 4\",CHAR(10),GESTION_SEG_4_TRIM!K145),\" \")","v":"Trimestre 1\n\nTrimestre 2\n\nTrimestre 3\n\nTrimestre 4\n"}]
[null,null,null,null,null,null,null,null,null,null,null,null,null,null,null,{"$f":"IFERROR(MAX(GESTION_SEG_1_TRIM!H144,GESTION_SEG_2_TRIM!H145,GESTION_SEG_3_TRIM!H145,GESTION_SEG_4_TRIM!H145),\" \")","v":0},"",{"$f":"IFERROR(_xlfn.CONCAT(\"Trimestre 1\",CHAR(10),GESTION_SEG_1_TRIM!J147,CHAR(10),\"Trimestre 2\",CHAR(10),GESTION_SEG_2_TRIM!J146,CHAR(10),\"Trimestre 3\",CHAR(10),GESTION_SEG_3_TRIM!J146,CHAR(10),\"Trimestre 4\",CHAR(10),GESTION_SEG_4_TRIM!J146),\" \")","v":"Trimestre 1\n\nTrimestre 2\n\nTrimestre 3\n\nTrimestre 4\n"},{"$f":"IFERROR(_xlfn.CONCAT(\"Trimestre 1\",CHAR(10),GESTION_SEG_1_TRIM!K147,CHAR(10),\"Trimestre 2\",CHAR(10),GESTION_SEG_2_TRIM!K146,CHAR(10),\"Trimestre 3\",CHAR(10),GESTION_SEG_3_TRIM!K146,CHAR(10),\"Trimestre 4\",CHAR(10),GESTION_SEG_4_TRIM!K146),\" \")","v":"Trimestre 1\n\nTrimestre 2\n\nTrimestre 3\n\nTrimestre 4\n"}]
[null,null,"4. Desarrollar en los servidores judiciales y demás grupos de valor relevantes las competencias necesarias para la efectividad de la transformación digital de modo que puedan, entre otros, utilizar con solvencia las herramientas digitales dispuestas para sus respectivas funciones. Además, fortalecer y actualizar los conocimientos del personal a cargo de la gestión de proyectos de tecnología.",null,null,null,null,null,null,null,null,null,null,null,null,{"$f":"IFERROR(MAX(GESTION_SEG_1_TRIM!H145,GESTION_SEG_2_TRIM!H146,GESTION_SEG_3_TRIM!H146,GESTION_SEG_4_TRIM!H146),\" \")","v":0},"",{"$f":"IFERROR(_xlfn.CONCAT(\"Trimestre 1\",CHAR(10),GESTION_SEG_1_TRIM!J148,CHAR(10),\"Trimestre 2\",CHAR(10),GESTION_SEG_2_TRIM!J147,CHAR(10),\"Trimestre 3\",CHAR(10),GESTION_SEG_3_TRIM!J147,CHAR(10),\"Trimestre 4\",CHAR(10),GESTION_SEG_4_TRIM!J147),\" \")","v":"Trimestre 1\n\nTrimestre 2\n\nTrimestre 3\n\nTrimestre 4\n"},{"$f":"IFERROR(_xlfn.CONCAT(\"Trimestre 1\",CHAR(10),GESTION_SEG_1_TRIM!K148,CHAR(10),\"Trimestre 2\",CHAR(10),GESTION_SEG_2_TRIM!K147,CHAR(10),\"Trimestre 3\",CHAR(10),GESTION_SEG_3_TRIM!K147,CHAR(10),\"Trimestre 4\",CHAR(10),GESTION_SEG_4_TRIM!K147),\" \")","v":"Trimestre 1\n\nTrimestre 2\n\nTrimestre 3\n\nTrimestre 4\n"}]
[null,null,null,null,null,null,null,null,null,null,null,null,null,null,null,{"$f":"IFERROR(MAX(GESTION_SEG_1_TRIM!H146,GESTION_SEG_2_TRIM!H147,GESTION_SEG_3_TRIM!H147,GESTION_SEG_4_TRIM!H147),\" \")","v":0},"",{"$f":"IFERROR(_xlfn.CONCAT(\"Trimestre 1\",CHAR(10),GESTION_SEG_1_TRIM!J149,CHAR(10),\"Trimestre 2\",CHAR(10),GESTION_SEG_2_TRIM!J148,CHAR(10),\"Trimestre 3\",CHAR(10),GESTION_SEG_3_TRIM!J148,CHAR(10),\"Trimestre 4\",CHAR(10),GESTION_SEG_4_TRIM!J148),\" \")","v":"Trimestre 1\n\nTrimestre 2\n\nTrimestre 3\n\nTrimestre 4\n"},{"$f":"IFERROR(_xlfn.CONCAT(\"Trimestre 1\",CHAR(10),GESTION_SEG_1_TRIM!K149,CHAR(10),\"Trimestre 2\",CHAR(10),GESTION_SEG_2_TRIM!K148,CHAR(10),\"Trimestre 3\",CHAR(10),GESTION_SEG_3_TRIM!K148,CHAR(10),\"Trimestre 4\",CHAR(10),GESTION_SEG_4_TRIM!K148),\" \")","v":"Trimestre 1\n\nTrimestre 2\n\nTrimestre 3\n\nTrimestre 4\n"}]
[null,null,null,null,null,null,null,null,null,null,null,null,null,null,null,{"$f":"IFERROR(MAX(GESTION_SEG_1_TRIM!H147,GESTION_SEG_2_TRIM!H148,GESTION_SEG_3_TRIM!H148,GESTION_SEG_4_TRIM!H148),\" \")","v":0},"",{"$f":"IFERROR(_xlfn.CONCAT(\"Trimestre 1\",CHAR(10),GESTION_SEG_1_TRIM!J150,CHAR(10),\"Trimestre 2\",CHAR(10),GESTION_SEG_2_TRIM!J149,CHAR(10),\"Trimestre 3\",CHAR(10),GESTION_SEG_3_TRIM!J149,CHAR(10),\"Trimestre 4\",CHAR(10),GESTION_SEG_4_TRIM!J149),\" \")","v":"Trimestre 1\n\nTrimestre 2\n\nTrimestre 3\n\nTrimestre 4\n"},{"$f":"IFERROR(_xlfn.CONCAT(\"Trimestre 1\",CHAR(10),GESTION_SEG_1_TRIM!K150,CHAR(10),\"Trimestre 2\",CHAR(10),GESTION_SEG_2_TRIM!K149,CHAR(10),\"Trimestre 3\",CHAR(10),GESTION_SEG_3_TRIM!K149,CHAR(10),\"Trimestre 4\",CHAR(10),GESTION_SEG_4_TRIM!K149),\" \")","v":"Trimestre 1\n\nTrimestre 2\n\nTrimestre 3\n\nTrimestre 4\n"}]
[null,null,null,null,null,null,null,null,null,null,null,null,null,null,null,{"$f":"IFERROR(MAX(GESTION_SEG_1_TRIM!H148,GESTION_SEG_2_TRIM!H149,GESTION_SEG_3_TRIM!H149,GESTION_SEG_4_TRIM!H149),\" \")","v":0},"",{"$f":"IFERROR(_xlfn.CONCAT(\"Trimestre 1\",CHAR(10),GESTION_SEG_1_TRIM!J151,CHAR(10),\"Trimestre 2\",CHAR(10),GESTION_SEG_2_TRIM!J150,CHAR(10),\"Trimestre 3\",CHAR(10),GESTION_SEG_3_TRIM!J150,CHAR(10),\"Trimestre 4\",CHAR(10),GESTION_SEG_4_TRIM!J150),\" \")","v":"Trimestre 1\n\nTrimestre 2\n\nTrimestre 3\n\nTrimestre 4\n"},{"$f":"IFERROR(_xlfn.CONCAT(\"Trimestre 1\",CHAR(10),GESTION_SEG_1_TRIM!K151,CHAR(10),\"Trimestre 2\",CHAR(10),GESTION_SEG_2_TRIM!K150,CHAR(10),\"Trimestre 3\",CHAR(10),GESTION_SEG_3_TRIM!K150,CHAR(10),\"Trimestre 4\",CHAR(10),GESTION_SEG_4_TRIM!K150),\" \")","v":"Trimestre 1\n\nTrimestre 2\n\nTrimestre 3\n\nTrimestre 4\n"}]
[null,null,null,null,null,null,null,null,null,null,null,null,null,null,null,{"$f":"IFERROR(MAX(GESTION_SEG_1_TRIM!H149,GESTION_SEG_2_TRIM!H150,GESTION_SEG_3_TRIM!H150,GESTION_SEG_4_TRIM!H150),\" \")","v":0},"",{"$f":"IFERROR(_xlfn.CONCAT(\"Trimestre 1\",CHAR(10),GESTION_SEG_1_TRIM!J152,CHAR(10),\"Trimestre 2\",CHAR(10),GESTION_SEG_2_TRIM!J151,CHAR(10),\"Trimestre 3\",CHAR(10),GESTION_SEG_3_TRIM!J151,CHAR(10),\"Trimestre 4\",CHAR(10),GESTION_SEG_4_TRIM!J151),\" \")","v":"Trimestre 1\n\nTrimestre 2\n\nTrimestre 3\n\nTrimestre 4\n"},{"$f":"IFERROR(_xlfn.CONCAT(\"Trimestre 1\",CHAR(10),GESTION_SEG_1_TRIM!K152,CHAR(10),\"Trimestre 2\",CHAR(10),GESTION_SEG_2_TRIM!K151,CHAR(10),\"Trimestre 3\",CHAR(10),GESTION_SEG_3_TRIM!K151,CHAR(10),\"Trimestre 4\",CHAR(10),GESTION_SEG_4_TRIM!K151),\" \")","v":"Trimestre 1\n\nTrimestre 2\n\nTrimestre 3\n\nTrimestre 4\n"}]
[null,null,"5. Promover el bienestar de todos los servidores judiciales a través de la implementación de un sistema que contemple los diferentes niveles de estrategias y acciones necesarios para mejorar el clima laboral, la salud física y mental y la calidad del tiempo de descanso.","5. Generar espacios de trabajo seguros y saludables que contribuyan a minimizar los incidentes, accidentes y enfermedades laborales derivados de las condiciones y actos inseguros y fomentar el autocuidado, los estilos de vida y el trabajo saludable en los servidores judiciales, contratistas, judicantes y practicantes",null,null,null,null,null,null,null,null,null,null,null,{"$f":"IFERROR(MAX(GESTION_SEG_1_TRIM!H150,GESTION_SEG_2_TRIM!H151,GESTION_SEG_3_TRIM!H151,GESTION_SEG_4_TRIM!H151),\" \")","v":0},"",{"$f":"IFERROR(_xlfn.CONCAT(\"Trimestre 1\",CHAR(10),GESTION_SEG_1_TRIM!J153,CHAR(10),\"Trimestre 2\",CHAR(10),GESTION_SEG_2_TRIM!J152,CHAR(10),\"Trimestre 3\",CHAR(10),GESTION_SEG_3_TRIM!J152,CHAR(10),\"Trimestre 4\",CHAR(10),GESTION_SEG_4_TRIM!J152),\" \")","v":"Trimestre 1\n\nTrimestre 2\n\nTrimestre 3\n\nTrimestre 4\n"},{"$f":"IFERROR(_xlfn.CONCAT(\"Trimestre 1\",CHAR(10),GESTION_SEG_1_TRIM!K153,CHAR(10),\"Trimestre 2\",CHAR(10),GESTION_SEG_2_TRIM!K152,CHAR(10),\"Trimestre 3\",CHAR(10),GESTION_SEG_3_TRIM!K152,CHAR(10),\"Trimestre 4\",CHAR(10),GESTION_SEG_4_TRIM!K152),\" \")","v":"Trimestre 1\n\nTrimestre 2\n\nTrimestre 3\n\nTrimestre 4\n"}]
[null,null,null,null,null,null,null,null,null,null,null,null,null,null,null,{"$f":"IFERROR(MAX(GESTION_SEG_1_TRIM!H151,GESTION_SEG_2_TRIM!H152,GESTION_SEG_3_TRIM!H152,GESTION_SEG_4_TRIM!H152),\" \")","v":0},"",{"$f":"IFERROR(_xlfn.CONCAT(\"Trimestre 1\",CHAR(10),GESTION_SEG_1_TRIM!J154,CHAR(10),\"Trimestre 2\",CHAR(10),GESTION_SEG_2_TRIM!J153,CHAR(10),\"Trimestre 3\",CHAR(10),GESTION_SEG_3_TRIM!J153,CHAR(10),\"Trimestre 4\",CHAR(10),GESTION_SEG_4_TRIM!J153),\" \")","v":"Trimestre 1\n\nTrimestre 2\n\nTrimestre 3\n\nTrimestre 4\n"},{"$f":"IFERROR(_xlfn.CONCAT(\"Trimestre 1\",CHAR(10),GESTION_SEG_1_TRIM!K154,CHAR(10),\"Trimestre 2\",CHAR(10),GESTION_SEG_2_TRIM!K153,CHAR(10),\"Trimestre 3\",CHAR(10),GESTION_SEG_3_TRIM!K153,CHAR(10),\"Trimestre 4\",CHAR(10),GESTION_SEG_4_TRIM!K153),\" \")","v":"Trimestre 1\n\nTrimestre 2\n\nTrimestre 3\n\nTrimestre 4\n"}]
[null,null,null,null,null,null,null,null,null,null,null,null,null,null,null,{"$f":"IFERROR(MAX(GESTION_SEG_1_TRIM!H152,GESTION_SEG_2_TRIM!H153,GESTION_SEG_3_TRIM!H153,GESTION_SEG_4_TRIM!H153),\" \")","v":0},"",{"$f":"IFERROR(_xlfn.CONCAT(\"Trimestre 1\",CHAR(10),GESTION_SEG_1_TRIM!J155,CHAR(10),\"Trimestre 2\",CHAR(10),GESTION_SEG_2_TRIM!J154,CHAR(10),\"Trimestre 3\",CHAR(10),GESTION_SEG_3_TRIM!J154,CHAR(10),\"Trimestre 4\",CHAR(10),GESTION_SEG_4_TRIM!J154),\" \")","v":"Trimestre 1\n\nTrimestre 2\n\nTrimestre 3\n\nTrimestre 4\n"},{"$f":"IFERROR(_xlfn.CONCAT(\"Trimestre 1\",CHAR(10),GESTION_SEG_1_TRIM!K155,CHAR(10),\"Trimestre 2\",CHAR(10),GESTION_SEG_2_TRIM!K154,CHAR(10),\"Trimestre 3\",CHAR(10),GESTION_SEG_3_TRIM!K154,CHAR(10),\"Trimestre 4\",CHAR(10),GESTION_SEG_4_TRIM!K154),\" \")","v":"Trimestre 1\n\nTrimestre 2\n\nTrimestre 3\n\nTrimestre 4\n"}]
[null,null,null,null,null,null,null,null,null,null,null,null,null,null,null,{"$f":"IFERROR(MAX(GESTION_SEG_1_TRIM!H153,GESTION_SEG_2_TRIM!H154,GESTION_SEG_3_TRIM!H154,GESTION_SEG_4_TRIM!H154),\" \")","v":0},"",{"$f":"IFERROR(_xlfn.CONCAT(\"Trimestre 1\",CHAR(10),GESTION_SEG_1_TRIM!J156,CHAR(10),\"Trimestre 2\",CHAR(10),GESTION_SEG_2_TRIM!J155,CHAR(10),\"Trimestre 3\",CHAR(10),GESTION_SEG_3_TRIM!J155,CHAR(10),\"Trimestre 4\",CHAR(10),GESTION_SEG_4_TRIM!J155),\" \")","v":"Trimestre 1\n\nTrimestre 2\n\nTrimestre 3\n\nTrimestre 4\n"},{"$f":"IFERROR(_xlfn.CONCAT(\"Trimestre 1\",CHAR(10),GESTION_SEG_1_TRIM!K156,CHAR(10),\"Trimestre 2\",CHAR(10),GESTION_SEG_2_TRIM!K155,CHAR(10),\"Trimestre 3\",CHAR(10),GESTION_SEG_3_TRIM!K155,CHAR(10),\"Trimestre 4\",CHAR(10),GESTION_SEG_4_TRIM!K155),\" \")","v":"Trimestre 1\n\nTrimestre 2\n\nTrimestre 3\n\nTrimestre 4\n"}]
[null,null,null,null,null,null,null,null,null,null,null,null,null,null,null,{"$f":"IFERROR(MAX(GESTION_SEG_1_TRIM!H154,GESTION_SEG_2_TRIM!H155,GESTION_SEG_3_TRIM!H155,GESTION_SEG_4_TRIM!H155),\" \")","v":0},"",{"$f":"IFERROR(_xlfn.CONCAT(\"Trimestre 1\",CHAR(10),GESTION_SEG_1_TRIM!J157,CHAR(10),\"Trimestre 2\",CHAR(10),GESTION_SEG_2_TRIM!J156,CHAR(10),\"Trimestre 3\",CHAR(10),GESTION_SEG_3_TRIM!J156,CHAR(10),\"Trimestre 4\",CHAR(10),GESTION_SEG_4_TRIM!J156),\" \")","v":"Trimestre 1\n\nTrimestre 2\n\nTrimestre 3\n\nTrimestre 4\n"},{"$f":"IFERROR(_xlfn.CONCAT(\"Trimestre 1\",CHAR(10),GESTION_SEG_1_TRIM!K157,CHAR(10),\"Trimestre 2\",CHAR(10),GESTION_SEG_2_TRIM!K156,CHAR(10),\"Trimestre 3\",CHAR(10),GESTION_SEG_3_TRIM!K156,CHAR(10),\"Trimestre 4\",CHAR(10),GESTION_SEG_4_TRIM!K156),\" \")","v":"Trimestre 1\n\nTrimestre 2\n\nTrimestre 3\n\nTrimestre 4\n"}]
["5. Gobernanza, planeación estratégica y capacidad de toma de decisiones","Gobernanza, planeación estratégica y capacidad de toma de decisiones: Fortalecer la gobernanza, la planeación estratégica y la capacidad de toma de decisiones de la Rama Judicial con base en la evidencia empírica y la articulación efectiva con las demás entidades, para que la perspectiva de género y el enfoque diferencial sean transversales en el presente plan. ","1. Implementar un nuevo modelo integrado para la planeación estratégica, el seguimiento y la medición del desempeño institucional.","2. Asegurar el cumplimiento de los objetivos institucionales, la normatividad aplicable, la mejora del SIGCMA y la satisfacción de los usuarios, revisando de forma continua y sistemática la planificación de la gestión y fortaleciendo la administración de riesgos y sus controles.",null,null,null,null,null,null,null,null,null,null,null,{"$f":"IFERROR(MAX(GESTION_SEG_1_TRIM!H155,GESTION_SEG_2_TRIM!H156,GESTION_SEG_3_TRIM!H156,GESTION_SEG_4_TRIM!H156),\" \")","v":0},"",{"$f":"IFERROR(_xlfn.CONCAT(\"Trimestre 1\",CHAR(10),GESTION_SEG_1_TRIM!J158,CHAR(10),\"Trimestre 2\",CHAR(10),GESTION_SEG_2_TRIM!J157,CHAR(10),\"Trimestre 3\",CHAR(10),GESTION_SEG_3_TRIM!J157,CHAR(10),\"Trimestre 4\",CHAR(10),GESTION_SEG_4_TRIM!J157),\" \")","v":"Trimestre 1\n\nTrimestre 2\n\nTrimestre 3\n\nTrimestre 4\n"},{"$f":"IFERROR(_xlfn.CONCAT(\"Trimestre 1\",CHAR(10),GESTION_SEG_1_TRIM!K158,CHAR(10),\"Trimestre 2\",CHAR(10),GESTION_SEG_2_TRIM!K157,CHAR(10),\"Trimestre 3\",CHAR(10),GESTION_SEG_3_TRIM!K157,CHAR(10),\"Trimestre 4\",CHAR(10),GESTION_SEG_4_TRIM!K157),\" \")","v":"Trimestre 1\n\nTrimestre 2\n\nTrimestre 3\n\nTrimestre 4\n"}]
[null,null,null,null,null,null,null,null,null,null,null,null,null,null,null,{"$f":"IFERROR(MAX(GESTION_SEG_1_TRIM!H156,GESTION_SEG_2_TRIM!H157,GESTION_SEG_3_TRIM!H157,GESTION_SEG_4_TRIM!H157),\" \")","v":0},"",{"$f":"IFERROR(_xlfn.CONCAT(\"Trimestre 1\",CHAR(10),GESTION_SEG_1_TRIM!J159,CHAR(10),\"Trimestre 2\",CHAR(10),GESTION_SEG_2_TRIM!J158,CHAR(10),\"Trimestre 3\",CHAR(10),GESTION_SEG_3_TRIM!J158,CHAR(10),\"Trimestre 4\",CHAR(10),GESTION_SEG_4_TRIM!J158),\" \")","v":"Trimestre 1\n\nTrimestre 2\n\nTrimestre 3\n\nTrimestre 4\n"},{"$f":"IFERROR(_xlfn.CONCAT(\"Trimestre 1\",CHAR(10),GESTION_SEG_1_TRIM!K159,CHAR(10),\"Trimestre 2\",CHAR(10),GESTION_SEG_2_TRIM!K158,CHAR(10),\"Trimestre 3\",CHAR(10),GESTION_SEG_3_TRIM!K158,CHAR(10),\"Trimestre 4\",CHAR(10),GESTION_SEG_4_TRIM!K158),\" \")","v":"Trimestre 1\n\nTrimestre 2\n\nTrimestre 3\n\nTrimestre 4\n"}]
[null,null,null,null,null,null,null,null,null,null,null,null,null,null,null,{"$f":"IFERROR(MAX(GESTION_SEG_1_TRIM!H157,GESTION_SEG_2_TRIM!H158,GESTION_SEG_3_TRIM!H158,GESTION_SEG_4_TRIM!H158),\" \")","v":0},"",{"$f":"IFERROR(_xlfn.CONCAT(\"Trimestre 1\",CHAR(10),GESTION_SEG_1_TRIM!J160,CHAR(10),\"Trimestre 2\",CHAR(10),GESTION_SEG_2_TRIM!J159,CHAR(10),\"Trimestre 3\",CHAR(10),GESTION_SEG_3_TRIM!J159,CHAR(10),\"Trimestre 4\",CHAR(10),GESTION_SEG_4_TRIM!J159),\" \")","v":"Trimestre 1\n\nTrimestre 2\n\nTrimestre 3\n\nTrimestre 4\n"},{"$f":"IFERROR(_xlfn.CONCAT(\"Trimestre 1\",CHAR(10),GESTION_SEG_1_TRIM!K160,CHAR(10),\"Trimestre 2\",CHAR(10),GESTION_SEG_2_TRIM!K159,CHAR(10),\"Trimestre 3\",CHAR(10),GESTION_SEG_3_TRIM!K159,CHAR(10),\"Trimestre 4\",CHAR(10),GESTION_SEG_4_TRIM!K159),\" \")","v":"Trimestre 1\n\nTrimestre 2\n\nTrimestre 3\n\nTrimestre 4\n"}]
[null,null,null,null,null,null,null,null,null,null,null,null,null,null,null,{"$f":"IFERROR(MAX(GESTION_SEG_1_TRIM!H158,GESTION_SEG_2_TRIM!H159,GESTION_SEG_3_TRIM!H159,GESTION_SEG_4_TRIM!H159),\" \")","v":0},"",{"$f":"IFERROR(_xlfn.CONCAT(\"Trimestre 1\",CHAR(10),GESTION_SEG_1_TRIM!J161,CHAR(10),\"Trimestre 2\",CHAR(10),GESTION_SEG_2_TRIM!J160,CHAR(10),\"Trimestre 3\",CHAR(10),GESTION_SEG_3_TRIM!J160,CHAR(10),\"Trimestre 4\",CHAR(10),GESTION_SEG_4_TRIM!J160),\" \")","v":"Trimestre 1\n\nTrimestre 2\n\nTrimestre 3\n\nTrimestre 4\n"},{"$f":"IFERROR(_xlfn.CONCAT(\"Trimestre 1\",CHAR(10),GESTION_SEG_1_TRIM!K161,CHAR(10),\"Trimestre 2\",CHAR(10),GESTION_SEG_2_TRIM!K160,CHAR(10),\"Trimestre 3\",CHAR(10),GESTION_SEG_3_TRIM!K160,CHAR(10),\"Trimestre 4\",CHAR(10),GESTION_SEG_4_TRIM!K160),\" \")","v":"Trimestre 1\n\nTrimestre 2\n\nTrimestre 3\n\nTrimestre 4\n"}]
[null,null,null,null,null,null,null,null,null,null,null,null,null,null,null,{"$f":"IFERROR(MAX(GESTION_SEG_1_TRIM!H159,GESTION_SEG_2_TRIM!H160,GESTION_SEG_3_TRIM!H160,GESTION_SEG_4_TRIM!H160),\" \")","v":0},"",{"$f":"IFERROR(_xlfn.CONCAT(\"Trimestre 1\",CHAR(10),GESTION_SEG_1_TRIM!J162,CHAR(10),\"Trimestre 2\",CHAR(10),GESTION_SEG_2_TRIM!J161,CHAR(10),\"Trimestre 3\",CHAR(10),GESTION_SEG_3_TRIM!J161,CHAR(10),\"Trimestre 4\",CHAR(10),GESTION_SEG_4_TRIM!J161),\" \")","v":"Trimestre 1\n\nTrimestre 2\n\nTrimestre 3\n\nTrimestre 4\n"},{"$f":"IFERROR(_xlfn.CONCAT(\"Trimestre 1\",CHAR(10),GESTION_SEG_1_TRIM!K162,CHAR(10),\"Trimestre 2\",CHAR(10),GESTION_SEG_2_TRIM!K161,CHAR(10),\"Trimestre 3\",CHAR(10),GESTION_SEG_3_TRIM!K161,CHAR(10),\"Trimestre 4\",CHAR(10),GESTION_SEG_4_TRIM!K161),\" \")","v":"Trimestre 1\n\nTrimestre 2\n\nTrimestre 3\n\nTrimestre 4\n"}]
[null,null,"2. Definir e implementar el modelo optimizado de formulación, seguimiento y evaluación de la política pública judicial.",null,null,null,null,null,null,null,null,null,null,null,null,{"$f":"IFERROR(MAX(GESTION_SEG_1_TRIM!H160,GESTION_SEG_2_TRIM!H161,GESTION_SEG_3_TRIM!H161,GESTION_SEG_4_TRIM!H161),\" \")","v":0},"",{"$f":"IFERROR(_xlfn.CONCAT(\"Trimestre 1\",CHAR(10),GESTION_SEG_1_TRIM!J163,CHAR(10),\"Trimestre 2\",CHAR(10),GESTION_SEG_2_TRIM!J162,CHAR(10),\"Trimestre 3\",CHAR(10),GESTION_SEG_3_TRIM!J162,CHAR(10),\"Trimestre 4\",CHAR(10),GESTION_SEG_4_TRIM!J162),\" \")","v":"Trimestre 1\n\nTrimestre 2\n\nTrimestre 3\n\nTrimestre 4\n"},{"$f":"IFERROR(_xlfn.CONCAT(\"Trimestre 1\",CHAR(10),GESTION_SEG_1_TRIM!K163,CHAR(10),\"Trimestre 2\",CHAR(10),GESTION_SEG_2_TRIM!K162,CHAR(10),\"Trimestre 3\",CHAR(10),GESTION_SEG_3_TRIM!K162,CHAR(10),\"Trimestre 4\",CHAR(10),GESTION_SEG_4_TRIM!K162),\" \")","v":"Trimestre 1\n\nTrimestre 2\n\nTrimestre 3\n\nTrimestre 4\n"}]
[null,null,null,null,null,null,null,null,null,null,null,null,null,null,null,{"$f":"IFERROR(MAX(GESTION_SEG_1_TRIM!H161,GESTION_SEG_2_TRIM!H162,GESTION_SEG_3_TRIM!H162,GESTION_SEG_4_TRIM!H162),\" \")","v":0},"",{"$f":"IFERROR(_xlfn.CONCAT(\"Trimestre 1\",CHAR(10),GESTION_SEG_1_TRIM!J164,CHAR(10),\"Trimestre 2\",CHAR(10),GESTION_SEG_2_TRIM!J163,CHAR(10),\"Trimestre 3\",CHAR(10),GESTION_SEG_3_TRIM!J163,CHAR(10),\"Trimestre 4\",CHAR(10),GESTION_SEG_4_TRIM!J163),\" \")","v":"Trimestre 1\n\nTrimestre 2\n\nTrimestre 3\n\nTrimestre 4\n"},{"$f":"IFERROR(_xlfn.CONCAT(\"Trimestre 1\",CHAR(10),GESTION_SEG_1_TRIM!K164,CHAR(10),\"Trimestre 2\",CHAR(10),GESTION_SEG_2_TRIM!K163,CHAR(10),\"Trimestre 3\",CHAR(10),GESTION_SEG_3_TRIM!K163,CHAR(10),\"Trimestre 4\",CHAR(10),GESTION_SEG_4_TRIM!K163),\" \")","v":"Trimestre 1\n\nTrimestre 2\n\nTrimestre 3\n\nTrimestre 4\n"}]
[null,null,null,null,null,null,null,null,null,null,null,null,null,null,null,{"$f":"IFERROR(MAX(GESTION_SEG_1_TRIM!H162,GESTION_SEG_2_TRIM!H163,GESTION_SEG_3_TRIM!H163,GESTION_SEG_4_TRIM!H163),\" \")","v":0},"",{"$f":"IFERROR(_xlfn.CONCAT(\"Trimestre 1\",CHAR(10),GESTION_SEG_1_TRIM!J165,CHAR(10),\"Trimestre 2\",CHAR(10),GESTION_SEG_2_TRIM!J164,CHAR(10),\"Trimestre 3\",CHAR(10),GESTION_SEG_3_TRIM!J164,CHAR(10),\"Trimestre 4\",CHAR(10),GESTION_SEG_4_TRIM!J164),\" \")","v":"Trimestre 1\n\nTrimestre 2\n\nTrimestre 3\n\nTrimestre 4\n"},{"$f":"IFERROR(_xlfn.CONCAT(\"Trimestre 1\",CHAR(10),GESTION_SEG_1_TRIM!K165,CHAR(10),\"Trimestre 2\",CHAR(10),GESTION_SEG_2_TRIM!K164,CHAR(10),\"Trimestre 3\",CHAR(10),GESTION_SEG_3_TRIM!K164,CHAR(10),\"Trimestre 4\",CHAR(10),GESTION_SEG_4_TRIM!K164),\" \")","v":"Trimestre 1\n\nTrimestre 2\n\nTrimestre 3\n\nTrimestre 4\n"}]
[null,null,null,null,null,null,null,null,null,null,null,null,null,null,null,{"$f":"IFERROR(MAX(GESTION_SEG_1_TRIM!H163,GESTION_SEG_2_TRIM!H164,GESTION_SEG_3_TRIM!H164,GESTION_SEG_4_TRIM!H164),\" \")","v":0},"",{"$f":"IFERROR(_xlfn.CONCAT(\"Trimestre 1\",CHAR(10),GESTION_SEG_1_TRIM!J166,CHAR(10),\"Trimestre 2\",CHAR(10),GESTION_SEG_2_TRIM!J165,CHAR(10),\"Trimestre 3\",CHAR(10),GESTION_SEG_3_TRIM!J165,CHAR(10),\"Trimestre 4\",CHAR(10),GESTION_SEG_4_TRIM!J165),\" \")","v":"Trimestre 1\n\nTrimestre 2\n\nTrimestre 3\n\nTrimestre 4\n"},{"$f":"IFERROR(_xlfn.CONCAT(\"Trimestre 1\",CHAR(10),GESTION_SEG_1_TRIM!K166,CHAR(10),\"Trimestre 2\",CHAR(10),GESTION_SEG_2_TRIM!K165,CHAR(10),\"Trimestre 3\",CHAR(10),GESTION_SEG_3_TRIM!K165,CHAR(10),\"Trimestre 4\",CHAR(10),GESTION_SEG_4_TRIM!K165),\" \")","v":"Trimestre 1\n\nTrimestre 2\n\nTrimestre 3\n\nTrimestre 4\n"}]
[null,null,null,null,null,null,null,null,null,null,null,null,null,null,null,{"$f":"IFERROR(MAX(GESTION_SEG_1_TRIM!H164,GESTION_SEG_2_TRIM!H165,GESTION_SEG_3_TRIM!H165,GESTION_SEG_4_TRIM!H165),\" \")","v":0},"",{"$f":"IFERROR(_xlfn.CONCAT(\"Trimestre 1\",CHAR(10),GESTION_SEG_1_TRIM!J167,CHAR(10),\"Trimestre 2\",CHAR(10),GESTION_SEG_2_TRIM!J166,CHAR(10),\"Trimestre 3\",CHAR(10),GESTION_SEG_3_TRIM!J166,CHAR(10),\"Trimestre 4\",CHAR(10),GESTION_SEG_4_TRIM!J166),\" \")","v":"Trimestre 1\n\nTrimestre 2\n\nTrimestre 3\n\nTrimestre 4\n"},{"$f":"IFERROR(_xlfn.CONCAT(\"Trimestre 1\",CHAR(10),GESTION_SEG_1_TRIM!K167,CHAR(10),\"Trimestre 2\",CHAR(10),GESTION_SEG_2_TRIM!K166,CHAR(10),\"Trimestre 3\",CHAR(10),GESTION_SEG_3_TRIM!K166,CHAR(10),\"Trimestre 4\",CHAR(10),GESTION_SEG_4_TRIM!K166),\" \")","v":"Trimestre 1\n\nTrimestre 2\n\nTrimestre 3\n\nTrimestre 4\n"}]
[null,null,null,null,null,null,null,null,null,null,null,null,null,null,null,null,null,{"$f":"IFERROR(_xlfn.CONCAT(\"Trimestre 1\",CHAR(10),GESTION_SEG_1_TRIM!J168,CHAR(10),\"Trimestre 2\",CHAR(10),GESTION_SEG_2_TRIM!J167,CHAR(10),\"Trimestre 3\",CHAR(10),GESTION_SEG_3_TRIM!J167,CHAR(10),\"Trimestre 4\",CHAR(10),GESTION_SEG_4_TRIM!J167),\" \")","v":"Trimestre 1\n\nTrimestre 2\n\nTrimestre 3\n\nTrimestre 4\n"},{"$f":"IFERROR(_xlfn.CONCAT(\"Trimestre 1\",CHAR(10),GESTION_SEG_1_TRIM!K168,CHAR(10),\"Trimestre 2\",CHAR(10),GESTION_SEG_2_TRIM!K167,CHAR(10),\"Trimestre 3\",CHAR(10),GESTION_SEG_3_TRIM!K167,CHAR(10),\"Trimestre 4\",CHAR(10),GESTION_SEG_4_TRIM!K167),\" \")","v":"Trimestre 1\n\nTrimestre 2\n\nTrimestre 3\n\nTrimestre 4\n"}]

{"sheet":"GESTION_SEG_1_TRIM","index":5,"n_rows":131,"n_cols":11,"rows_kept":131,"cut":false,"hidden":false,"merged":[[14,2,18,2],[14,3,18,3],[19,2,23,2],[19,3,23,3],[0,0,0,10],[1,0,1,3],[1,4,1,9],[1,10,3,10],[2,0,3,1],[2,2,3,2],[2,3,3,3],[2,4,2,9],[24,2,28,2],[24,3,28,3],[29,0,58,0],[29,1,58,1],[29,2,33,2],[29,3,58,3],[34,2,38,2],[39,2,43,2],[44,2,48,2],[49,2,53,2],[4,0,28,0],[4,1,28,1],[4,2,8,2],[4,3,8,3],[9,2,13,2],[9,3,13,3],[54,2,58,2],[59,0,94,0],[59,1,94,1],[59,2,63,2],[59,3,63,3],[64,2,68,2],[64,3,68,3],[69,2,73,2],[69,3,73,3],[74,2,78,2],[74,3,89,3],[79,2,84,2],[85,2,89,2],[90,2,94,2],[90,3,94,3],[105,2,109,2],[110,2,114,2],[115,2,119,2],[115,3,119,3],[120,0,129,0],[120,1,129,1],[120,2,124,2],[120,3,129,3],[125,2,129,2],[95,0,119,0],[95,1,119,1],[95,2,99,2],[95,3,114,3],[100,2,104,2]]}
["CONSEJO SUPERIOR DE LA JUDICATURA \nUNIDADES MISIONALES DEL CONSEJO SUPERIOR DE LA JUDICATURA - \nDIRECCIÓN EJECUTIVA DE ADMINISTRACIÓN JUDICIAL - UNIDADES MISIONALES DE LA DEAJ\nDIRECCIONES SECCIONALES DE ADMINISTRACIÓN JUDICIAL - DEPENDENCIAS JUDICIALES CERTIFICADAS"]
["PLAN SECTORIAL DE DESARROLLO 2023-2026 - OBJETIVOS SIGCMA",null,null,null,null,null,null,null,null,null," ANÁLISIS RESULTADO"]
["OBJETIVO ESTRATÉGICO",null,"OBJETIVO ESPECÍFICO PSD","OBJETIVO ESPECÍFICO SIGCMA","MEDICIÓN DE LA GESTIÓN ANUAL"]
[null,null,null,null,"ACTIVIDADES ","INDIQUE SI ES ENTREGABLE O META CUANTIFICABLE","META ANUAL","AVANCE DE LA META ","NIVEL CUMPLIMIENTO","DIFICULTADES PARA LOGRAR LA META PROPUESTA"]
["1. Acceso e Infraestructura Física","Acceso e Infraestructura Física: Ampliar, en todo el territorio nacional, el acceso a una justicia efectiva, pronta, equitativa e incluyente, reduciendo el atraso y la congestión, de acuerdo con las necesidades de la demanda de justicia por jurisdicción y especialidad, y mejorando la articulación con la justicia restaurativa y terapéutica, y otros mecanismos de solución de conflictos y consolidando una infraestructura física óptima para el acceso a la justicia.","1. Ampliar el acceso a justicia para atender las necesidades jurídicas de los ciudadanos con un enfoque diferencial, de una manera pronta, reduciendo las inequidades y las brechas territoriales de acceso.","2. Asegurar el cumplimiento de los objetivos institucionales, la normatividad aplicable, la mejora del SIGCMA y la satisfacción de los usuarios, revisando de forma continua y sistemática la planificación de la gestión y fortaleciendo la administración de riesgos y sus controles",{"$f":"IFERROR(GESTION!H5,\" \")","v":0},{"$f":"IFERROR(GESTION!I5,\" \")","v":0},{"$f":"IFERROR(GESTION!J5,\" \")","v":0},null,{"$f":"IFERROR(H5/G5,\"\")","v":""}]
[null,null,null,null,{"$f":"IFERROR(GESTION!H6,\" \")","v":0},{"$f":"IFERROR(GESTION!I6,\" \")","v":0},{"$f":"IFERROR(GESTION!J6,\" \")","v":0},null,""]
[null,null,null,null,{"$f":"IFERROR(GESTION!H7,\" \")","v":0},{"$f":"IFERROR(GESTION!I7,\" \")","v":0},{"$f":"IFERROR(GESTION!J7,\" \")","v":0},null,""]
[null,null,null,null,{"$f":"IFERROR(GESTION!H8,\" \")","v":0},{"$f":"IFERROR(GESTION!I8,\" \")","v":0},{"$f":"IFERROR(GESTION!J8,\" \")","v":0},null,""]
[null,null,null,null,{"$f":"IFERROR(GESTION!H9,\" \")","v":0},{"$f":"IFERROR(GESTION!I9,\" \")","v":0},{"$f":"IFERROR(GESTION!J9,\" \")","v":0},null,""]
[null,null,"2. Mejorar los tiempos de respuesta de la Rama Judicial y reducir el inventario de procesos, identificando los retos internos y promoviendo tanto acciones articuladas específicas para abordarlos como estrategias coordinadas para enfrentar las barreras que dependen de otras entidades.","2. Asegurar el cumplimiento de los objetivos institucionales, la normatividad aplicable, la mejora del SIGCMA y la satisfacción de los usuarios, revisando de forma continua y sistemática la planificación de la gestión y fortaleciendo la administración de riesgos y sus controles",{"$f":"IFERROR(GESTION!H10,\" \")","v":0},{"$f":"IFERROR(GESTION!I10,\" \")","v":0},{"$f":"IFERROR(GESTION!J10,\" \")","v":0},null,""]
[null,null,null,null,{"$f":"IFERROR(GESTION!H11,\" \")","v":0},{"$f":"IFERROR(GESTION!I11,\" \")","v":0},{"$f":"IFERROR(GESTION!J11,\" \")","v":0},null,""]
[null,null,null,null,{"$f":"IFERROR(GESTION!H12,\" \")","v":0},{"$f":"IFERROR(GESTION!I12,\" \")","v":0},{"$f":"IFERROR(GESTION!J12,\" \")","v":0},null,""]
[null,null,null,null,{"$f":"IFERROR(GESTION!H13,\" \")","v":0},{"$f":"IFERROR(GESTION!I13,\" \")","v":0},{"$f":"IFERROR(GESTION!J13,\" \")","v":0},null,""]
[null,null,null,null,{"$f":"IFERROR(GESTION!H14,\" \")","v":0},{"$f":"IFERROR(GESTION!I14,\" \")","v":0},{"$f":"IFERROR(GESTION!J14,\" \")","v":0},null,""]
[null,null,"3. Coadyuvar en la garantía de la idoneidad en el ejercicio de la profesión jurídica de acuerdo con lo establecido en la Ley 1905 de 2018","2. Asegurar el cumplimiento de los objetivos institucionales, la normatividad aplicable, la mejora del SIGCMA y la satisfacción de los usuarios, revisando de forma continua y sistemática la planificación de la gestión y fortaleciendo la administración de riesgos y sus controles",{"$f":"IFERROR(GESTION!H15,\" \")","v":0},{"$f":"IFERROR(GESTION!I15,\" \")","v":0},{"$f":"IFERROR(GESTION!J15,\" \")","v":0},null,""]
[null,null,null,null,{"$f":"IFERROR(GESTION!H16,\" \")","v":0},{"$f":"IFERROR(GESTION!I16,\" \")","v":0},{"$f":"IFERROR(GESTION!J16,\" \")","v":0},null,""]
[null,null,null,null,{"$f":"IFERROR(GESTION!H17,\" \")","v":0},{"$f":"IFERROR(GESTION!I17,\" \")","v":0},{"$f":"IFERROR(GESTION!J17,\" \")","v":0},null,""]
[null,null,null,null,{"$f":"IFERROR(GESTION!H18,\" \")","v":0},{"$f":"IFERROR(GESTION!I18,\" \")","v":0},{"$f":"IFERROR(GESTION!J18,\" \")","v":0},null,""]
[null,null,null,null,{"$f":"IFERROR(GESTION!H19,\" \")","v":0},{"$f":"IFERROR(GESTION!I19,\" \")","v":0},{"$f":"IFERROR(GESTION!J19,\" \")","v":0},null,""]
[null,null,"4. Avanzar en la disposición de una infraestructura óptima para el acceso a la justicia en la Rama Judicial de modo que se fortalezca la presencia territorial, teniendo en cuenta las posibilidades que ofrece la transformación digital y las necesidades que se derivan de ella, y considerando tanto las necesidades de los usuarios como las de los servidores judiciales.","4. Hacer un uso racional de los recursos naturales aplicando los principios y fases de la Economía Circular, para prevenir, mitigar y controlar los impactos ambientales",{"$f":"IFERROR(GESTION!H20,\" \")","v":0},{"$f":"IFERROR(GESTION!I20,\" \")","v":0},{"$f":"IFERROR(GESTION!J20,\" \")","v":0},null,""]
[null,null,null,null,{"$f":"IFERROR(GESTION!H21,\" \")","v":0},{"$f":"IFERROR(GESTION!I21,\" \")","v":0},{"$f":"IFERROR(GESTION!J21,\" \")","v":0},null,""]
[null,null,null,null,{"$f":"IFERROR(GESTION!H22,\" \")","v":0},{"$f":"IFERROR(GESTION!I22,\" \")","v":0},{"$f":"IFERROR(GESTION!J22,\" \")","v":0},null,""]
[null,null,null,null,{"$f":"IFERROR(GESTION!H23,\" \")","v":0},{"$f":"IFERROR(GESTION!I23,\" \")","v":0},{"$f":"IFERROR(GESTION!J23,\" \")","v":0},null,""]
[null,null,null,null,{"$f":"IFERROR(GESTION!H24,\" \")","v":0},{"$f":"IFERROR(GESTION!I24,\" \")","v":0},{"$f":"IFERROR(GESTION!J24,\" \")","v":0},null,""]
[null,null,"5. Impulsar el uso de mecanismos alternativos para la solución de conflictos y la ampliación de la justicia restaurativa y terapéutica y el robustecimiento de las alternativas al encarcelamiento","2. Asegurar el cumplimiento de los objetivos institucionales, la normatividad aplicable, la mejora del SIGCMA y la satisfacción de los usuarios, revisando de forma continua y sistemática la planificación de la gestión y fortaleciendo la administración de riesgos y sus controles",{"$f":"IFERROR(GESTION!H25,\" \")","v":0},{"$f":"IFERROR(GESTION!I25,\" \")","v":0},{"$f":"IFERROR(GESTION!J25,\" \")","v":0},null,""]
[null,null,null,null,{"$f":"IFERROR(GESTION!H26,\" \")","v":0},{"$f":"IFERROR(GESTION!I26,\" \")","v":0},{"$f":"IFERROR(GESTION!J26,\" \")","v":0},null,""]
[null,null,null,null,{"$f":"IFERROR(GESTION!H27,\" \")","v":0},{"$f":"IFERROR(GESTION!I27,\" \")","v":0},{"$f":"IFERROR(GESTION!J27,\" \")","v":0},null,""]
[null,null,null,null,{"$f":"IFERROR(GESTION!H28,\" \")","v":0},{"$f":"IFERROR(GESTION!I28,\" \")","v":0},{"$f":"IFERROR(GESTION!J28,\" \")","v":0},null,""]
[null,null,null,null,{"$f":"IFERROR(GESTION!H29,\" \")","v":0},{"$f":"IFERROR(GESTION!I29,\" \")","v":0},{"$f":"IFERROR(GESTION!J29,\" \")","v":0},null,""]
["2. Servicios digitales y de tecnología, innovación y análisis de la información.","Servicios digitales y de tecnología, innovación y análisis de la información: Consolidar una justicia integrada y soportada en servicios digitales y de tecnología, innovación y análisis de la información, con una cultura digital apropiada, segura y sensible a las realidades del territorio nacional. ","1. Ampliar el acceso a la justicia a través de la consolidación del uso de los servicios digitales que conforman el sistema único integrado de gestión judicial en todos los despachos judiciales y dependencias de apoyo y, específicamente, incluyendo el despliegue e implementación del Expediente Judicial Electrónico en todas las jurisdicciones y especialidades.","6. Proteger, preservar y administrar los activos de información implementando acciones para gestionar de forma adecuada los incidentes, proteger los datos personales y adoptar mecanismos de ciberseguridad y aseguramiento de la continuidad del negocio.",{"$f":"IFERROR(GESTION!H30,\" \")","v":0},{"$f":"IFERROR(GESTION!I30,\" \")","v":0},{"$f":"IFERROR(GESTION!J30,\" \")","v":0},null,""]
[null,null,null,null,{"$f":"IFERROR(GESTION!H31,\" \")","v":0},{"$f":"IFERROR(GESTION!I31,\" \")","v":0},{"$f":"IFERROR(GESTION!J31,\" \")","v":0},null,""]
[null,null,null,null,{"$f":"IFERROR(GESTION!H32,\" \")","v":0},{"$f":"IFERROR(GESTION!I32,\" \")","v":0},{"$f":"IFERROR(GESTION!J32,\" \")","v":0},null,""]
[null,null,null,null,{"$f":"IFERROR(GESTION!H33,\" \")","v":0},{"$f":"IFERROR(GESTION!I33,\" \")","v":0},{"$f":"IFERROR(GESTION!J33,\" \")","v":0},null,""]
[null,null,null,null,{"$f":"IFERROR(GESTION!H34,\" \")","v":0},{"$f":"IFERROR(GESTION!I34,\" \")","v":0},{"$f":"IFERROR(GESTION!J34,\" \")","v":0},null,""]
[null,null,"2. Integrar y hacer compatibles todos los aplicativos de transición con SIUGJ, para que la migración de los expedientes judiciales a dicha plataforma sea real y no suponga afectaciones en la prestación del servicio de justicia.",null,{"$f":"IFERROR(GESTION!H35,\" \")","v":0},{"$f":"IFERROR(GESTION!I35,\" \")","v":0},{"$f":"IFERROR(GESTION!J35,\" \")","v":0},null,""]
[null,null,null,null,{"$f":"IFERROR(GESTION!H36,\" \")","v":0},{"$f":"IFERROR(GESTION!I36,\" \")","v":0},{"$f":"IFERROR(GESTION!J36,\" \")","v":0},null,""]
[null,null,null,null,{"$f":"IFERROR(GESTION!H37,\" \")","v":0},{"$f":"IFERROR(GESTION!I37,\" \")","v":0},{"$f":"IFERROR(GESTION!J37,\" \")","v":0},null,""]
[null,null,null,null,{"$f":"IFERROR(GESTION!H38,\" \")","v":0},{"$f":"IFERROR(GESTION!I38,\" \")","v":0},{"$f":"IFERROR(GESTION!J38,\" \")","v":0},null,""]
[null,null,null,null,{"$f":"IFERROR(GESTION!H39,\" \")","v":0},{"$f":"IFERROR(GESTION!I39,\" \")","v":0},{"$f":"IFERROR(GESTION!J39,\" \")","v":0},null,""]
[null,null,"3. Fortalecer las capacidades institucionales, adecuar el modelo operativo y de servicio, bajo un enfoque de Arquitectura Empresarial y de fortalecimiento del acceso a la justicia.",null,{"$f":"IFERROR(GESTION!H40,\" \")","v":0},{"$f":"IFERROR(GESTION!I40,\" \")","v":0},{"$f":"IFERROR(GESTION!J40,\" \")","v":0},null,""]
[null,null,null,null,{"$f":"IFERROR(GESTION!H41,\" \")","v":0},{"$f":"IFERROR(GESTION!I41,\" \")","v":0},{"$f":"IFERROR(GESTION!J41,\" \")","v":0},null,""]
[null,null,null,null,{"$f":"IFERROR(GESTION!H42,\" \")","v":0},{"$f":"IFERROR(GESTION!I42,\" \")","v":0},{"$f":"IFERROR(GESTION!J42,\" \")","v":0},null,""]
[null,null,null,null,{"$f":"IFERROR(GESTION!H43,\" \")","v":0},{"$f":"IFERROR(GESTION!I43,\" \")","v":0},{"$f":"IFERROR(GESTION!J43,\" \")","v":0},null,""]
[null,null,null,null,{"$f":"IFERROR(GESTION!H44,\" \")","v":0},{"$f":"IFERROR(GESTION!I44,\" \")","v":0},{"$f":"IFERROR(GESTION!J44,\" \")","v":0},null,""]
[null,null,"4. Consolidar la cultura y apropiación de la transformación digital en los servidores y usuarios de los servicios de la Rama Judicial y reducir brechas de acceso y conocimiento, incluyendo la oferta efectiva de información sobre el uso de las nuevas herramientas virtuales implementadas en las diferentes jurisdicciones, con especial énfasis en las zonas del país donde es evidente la brecha digital.",null,{"$f":"IFERROR(GESTION!H45,\" \")","v":0},{"$f":"IFERROR(GESTION!I45,\" \")","v":0},{"$f":"IFERROR(GESTION!J45,\" \")","v":0},null,""]
[null,null,null,null,{"$f":"IFERROR(GESTION!H46,\" \")","v":0},{"$f":"IFERROR(GESTION!I46,\" \")","v":0},{"$f":"IFERROR(GESTION!J46,\" \")","v":0},null,""]
[null,null,null,null,{"$f":"IFERROR(GESTION!H47,\" \")","v":0},{"$f":"IFERROR(GESTION!I47,\" \")","v":0},{"$f":"IFERROR(GESTION!J47,\" \")","v":0},null,""]
[null,null,null,null,{"$f":"IFERROR(GESTION!H48,\" \")","v":0},{"$f":"IFERROR(GESTION!I48,\" \")","v":0},{"$f":"IFERROR(GESTION!J48,\" \")","v":0},null,""]
[null,null,null,null,{"$f":"IFERROR(GESTION!H49,\" \")","v":0},{"$f":"IFERROR(GESTION!I49,\" \")","v":0},{"$f":"IFERROR(GESTION!J49,\" \")","v":0},null,""]
[null,null,"5. Consolidar la infraestructura y los recursos necesarios para la implementación exitosa de la transformación digital, incluyendo la disposición de internet de calidad en el 100% de las sedes en la Rama Judicial y modernizar los servicios tecnológicos de soporte. ",null,{"$f":"IFERROR(GESTION!H50,\" \")","v":0},{"$f":"IFERROR(GESTION!I50,\" \")","v":0},{"$f":"IFERROR(GESTION!J50,\" \")","v":0},null,""]
[null,null,null,null,{"$f":"IFERROR(GESTION!H51,\" \")","v":0},{"$f":"IFERROR(GESTION!I51,\" \")","v":0},{"$f":"IFERROR(GESTION!J51,\" \")","v":0},null,""]
[null,null,null,null,{"$f":"IFERROR(GESTION!H52,\" \")","v":0},{"$f":"IFERROR(GESTION!I52,\" \")","v":0},{"$f":"IFERROR(GESTION!J52,\" \")","v":0},null,""]
[null,null,null,null,{"$f":"IFERROR(GESTION!H53,\" \")","v":0},{"$f":"IFERROR(GESTION!I53,\" \")","v":0},{"$f":"IFERROR(GESTION!J53,\" \")","v":0},null,""]
[null,null,null,null,{"$f":"IFERROR(GESTION!H54,\" \")","v":0},{"$f":"IFERROR(GESTION!I54,\" \")","v":0},{"$f":"IFERROR(GESTION!J54,\" \")","v":0},null,""]
[null,null,"6. Integrar y optimizar los servicios administrativos de la Rama Judicial bajo un enfoque de transformación digital e innovación incluyendo los componentes financiero, administrativo, talento humano, entre otros",null,{"$f":"IFERROR(GESTION!H55,\" \")","v":0},{"$f":"IFERROR(GESTION!I55,\" \")","v":0},{"$f":"IFERROR(GESTION!J55,\" \")","v":0},null,""]
[null,null,null,null,{"$f":"IFERROR(GESTION!H56,\" \")","v":0},{"$f":"IFERROR(GESTION!I56,\" \")","v":0},{"$f":"IFERROR(GESTION!J56,\" \")","v":0},null,""]
[null,null,null,null,{"$f":"IFERROR(GESTION!H57,\" \")","v":0},{"$f":"IFERROR(GESTION!I57,\" \")","v":0},{"$f":"IFERROR(GESTION!J57,\" \")","v":0},null,""]
[null,null,null,null,{"$f":"IFERROR(GESTION!H58,\" \")","v":0},{"$f":"IFERROR(GESTION!I58,\" \")","v":0},{"$f":"IFERROR(GESTION!J58,\" \")","v":0},null,""]
[null,null,null,null,{"$f":"IFERROR(GESTION!H59,\" \")","v":0},{"$f":"IFERROR(GESTION!I59,\" \")","v":0},{"$f":"IFERROR(GESTION!J59,\" \")","v":0},null,""]
["3. Confianza pública, transparencia y rendición de cuentas","Confianza pública, transparencia y rendición de cuentas: Aumentar la confianza pública en la justicia a través de la transparencia, la rendición de cuentas y la participación, incluyendo la información de justicia y la producción, gestión y acceso a las fuentes de derecho, el fortalecimiento del sistema de gestión de calidad y medio ambiente (SIGCMA) y el mejoramiento de la calidad y publicidad de la información. ","1. Incrementar la cantidad, la calidad y pertinencia de los datos sobre el funcionamiento del servicio de justicia bajo un modelo de gobierno de datos y un liderazgo unificado. ","4. Hacer un uso racional de los recursos naturales aplicando los principios y fases de la Economía Circular, para prevenir, mitigar y controlar los impactos ambientales.",{"$f":"IFERROR(GESTION!H60,\" \")","v":0},{"$f":"IFERROR(GESTION!I60,\" \")","v":0},{"$f":"IFERROR(GESTION!J60,\" \")","v":0},null,""]
[null,null,null,null,{"$f":"IFERROR(GESTION!H61,\" \")","v":0},{"$f":"IFERROR(GESTION!I61,\" \")","v":0},{"$f":"IFERROR(GESTION!J61,\" \")","v":0},null,""]
[null,null,null,null,{"$f":"IFERROR(GESTION!H62,\" \")","v":0},{"$f":"IFERROR(GESTION!I62,\" \")","v":0},{"$f":"IFERROR(GESTION!J62,\" \")","v":0},null,""]
[null,null,null,null,{"$f":"IFERROR(GESTION!H63,\" \")","v":0},{"$f":"IFERROR(GESTION!I63,\" \")","v":0},{"$f":"IFERROR(GESTION!J63,\" \")","v":0},null,""]
[null,null,null,null,{"$f":"IFERROR(GESTION!H64,\" \")","v":0},{"$f":"IFERROR(GESTION!I64,\" \")","v":0},{"$f":"IFERROR(GESTION!J64,\" \")","v":0},null,""]
[null,null,"2. Consolidar la administración de la información entendida como todas las acciones orientadas a garantizar el acceso, consulta, uso y conservación de la información de justicia de manera ágil, flexible e inteligente, bajo un enfoque de innovación.",null,{"$f":"IFERROR(GESTION!H65,\" \")","v":0},{"$f":"IFERROR(GESTION!I65,\" \")","v":0},{"$f":"IFERROR(GESTION!J65,\" \")","v":0},null,""]
[null,null,null,null,{"$f":"IFERROR(GESTION!H66,\" \")","v":0},{"$f":"IFERROR(GESTION!I66,\" \")","v":0},{"$f":"IFERROR(GESTION!J66,\" \")","v":0},null,""]
[null,null,null,null,{"$f":"IFERROR(GESTION!H67,\" \")","v":0},{"$f":"IFERROR(GESTION!I67,\" \")","v":0},{"$f":"IFERROR(GESTION!J67,\" \")","v":0},null,""]
[null,null,null,null,{"$f":"IFERROR(GESTION!H68,\" \")","v":0},{"$f":"IFERROR(GESTION!I68,\" \")","v":0},{"$f":"IFERROR(GESTION!J68,\" \")","v":0},null,""]
[null,null,null,null,{"$f":"IFERROR(GESTION!H69,\" \")","v":0},{"$f":"IFERROR(GESTION!I69,\" \")","v":0},{"$f":"IFERROR(GESTION!J69,\" \")","v":0},null,{"$f":"IFERROR(H69/G69,\"\")","v":""}]
[null,null,"3. Fortalecer el Sistema integrado de Gestión de la Rama, orientado a la implementación y certificación de las normas antisoborno.","1. Gestionar el desarrollo de las competencias, la toma de conciencia , la cultura organizacional y el compromiso de los servidores judiciales, contratistas, practicantes y judicantes de contribuir a generar valor público en la administración de justicia, en el marco de cumplimiento de los requisitos aplicables y el comportamiento ético.\n3. Fomentar la transparencia y la participación generando lineamientos y promoviendo la rendición de cuentas ,la consulta, reporte y planteamiento de inquietudes en relación con las decisiones y aspectos del SIGCMA.",{"$f":"IFERROR(GESTION!H70,\" \")","v":0},{"$f":"IFERROR(GESTION!I70,\" \")","v":0},{"$f":"IFERROR(GESTION!J70,\" \")","v":0},null,""]
[null,null,null,null,{"$f":"IFERROR(GESTION!H71,\" \")","v":0},{"$f":"IFERROR(GESTION!I71,\" \")","v":0},{"$f":"IFERROR(GESTION!J71,\" \")","v":0},null,""]
[null,null,null,null,{"$f":"IFERROR(GESTION!H72,\" \")","v":0},{"$f":"IFERROR(GESTION!I72,\" \")","v":0},{"$f":"IFERROR(GESTION!J72,\" \")","v":0},null,""]
[null,null,null,null,{"$f":"IFERROR(GESTION!H73,\" \")","v":0},{"$f":"IFERROR(GESTION!I73,\" \")","v":0},{"$f":"IFERROR(GESTION!J73,\" \")","v":0},null,""]
[null,null,null,null,{"$f":"IFERROR(GESTION!H74,\" \")","v":0},{"$f":"IFERROR(GESTION!I74,\" \")","v":0},{"$f":"IFERROR(GESTION!J74,\" \")","v":0},null,""]
[null,null,"4. Aumentar la confianza, la cercanía y acceso a los servicios de la Rama Judicial a través, entre otros, de una comunicación clara y asertiva con la ciudadanía.","3. Fomentar la transparencia y la participación generando lineamientos y promoviendo la rendición de cuentas ,la consulta, reporte y planteamiento de inquietudes en relación con las decisiones y aspectos del SIGCMA.",{"$f":"IFERROR(GESTION!H75,\" \")","v":"Auditoría a la funcionalidad de Efinómina, en relación con sus resultados en la liquidación y pago de nómina y los módulos adicionales previstos en su desarrollo."},{"$f":"IFERROR(GESTION!I75,\" \")","v":"Meta cuantificable"},{"$f":"IFERROR(GESTION!J75,\" \")","v":1},0.75,0.75,"Complejidad del asunto auditado y dificultades con el suministro de la información requerida.","La auditoría comprende tres fases: Planeación, Ejecución e Informe, a la fecha de corte se encuentra en elaboración del informe."]
[null,null,null,null,{"$f":"IFERROR(GESTION!H76,\" \")","v":"Auditoría a la gestión de los bienes muebles en comodato, incluyendo el seguimiento a la gestión de comparendos y pago de multas impuestas por infracción a las normas de tránsito."},{"$f":"IFERROR(GESTION!I76,\" \")","v":"Meta cuantificable"},{"$f":"IFERROR(GESTION!J76,\" \")","v":1},0,0,null,"Auditoría programada para iniciar el mes de mayo. "]
[null,null,null,null,{"$f":"IFERROR(GESTION!H77,\" \")","v":"Evaluación a los resultados de los contratos de digitalización."},{"$f":"IFERROR(GESTION!I77,\" \")","v":"Meta cuantificable"},{"$f":"IFERROR(GESTION!J77,\" \")","v":1},0,0,null,"Auditoría programada para iniciar el mes de julio. "]
[null,null,null,null,{"$f":"IFERROR(GESTION!H78,\" \")","v":"Auditoría a la gestión de almacén e inventarios, que incluye análisis del software SICOF."},{"$f":"IFERROR(GESTION!I78,\" \")","v":"Meta cuantificable"},{"$f":"IFERROR(GESTION!J78,\" \")","v":1},null,0,null,"Auditoría programada para iniciar el mes de octubre. "]
[null,null,null,null,{"$f":"IFERROR(GESTION!H79,\" \")","v":"Auditoría a las obras de mejoramiento y mantenimiento de la infraestructura física."},{"$f":"IFERROR(GESTION!I79,\" \")","v":"Meta cuantificable"},{"$f":"IFERROR(GESTION!J79,\" \")","v":100},25,0.25,"Incapacidad por condiciones de salud del auditor líder.","La auditoría comprende tres fases: Planeación, Ejecución e Informe, a la fecha de corte se encuentra en elaboración del informe de la auditoría realizada a los contratos de la DEAJ y las DSAJ de Bogotá y Tunja."]
[null,null,"5. Prevenir fenómenos asociados con actos de corrupción en la Rama Judicial y reducir las experiencias de corrupción de usuarios y servidores judiciales.",null,{"$f":"IFERROR(GESTION!H80,\" \")","v":"Auditoría al contrato 162 de 2022, cuyo objeto es \"Contratar los servicios especializados para el acompañamiento, implementación, diseño, ejecución, seguimiento y gestión de las estrategias de gestión del cambio y comunicaciones en la Rama Judicial, para que apoye, facilite y coadyuve a conseguir la implementación exitosa de los procesos de transformación digital y las comunicaciones, su uso, apropiación y adaptación de los proyectos e iniciativas que compone el PETD\"."},{"$f":"IFERROR(GESTION!I80,\" \")","v":"Meta cuantificable"},{"$f":"IFERROR(GESTION!J80,\" \")","v":1},null,0,null,"Auditoría programada para iniciar el mes de mayo. "]
[null,null,null,null,{"$f":"IFERROR(GESTION!H81,\" \")","v":"Auditoría al Contrato 131 de 2021, cuyo objeto es \"Prestar los servicios para la definición diseño e implementación del portal web de la Rama judicial\"."},{"$f":"IFERROR(GESTION!I81,\" \")","v":"Meta cuantificable"},{"$f":"IFERROR(GESTION!J81,\" \")","v":1},0,0,null,"Auditoría programada para iniciar el mes de abril. "]
[null,null,null,null,{"$f":"IFERROR(GESTION!H82,\" \")","v":"Auditoría técnica al Contrato 212 de 2021, que tiene por objeto \"Prestar los servicios especializados para realizar el análisis, diseño, desarrollo e implementación de aplicaciones de analítica de datos, chatbots, asistentes virtuales, bots y plataforma de recuperación de información jurisprudencial, relatorías y contenidos jurídicos, para el mejoramiento del servicio y acceso a la justicia\"."},{"$f":"IFERROR(GESTION!I82,\" \")","v":"Meta cuantificable"},{"$f":"IFERROR(GESTION!J82,\" \")","v":1},null,0,null,"Auditoría programada para iniciar el mes de agosto. "]
[null,null,null,null,{"$f":"IFERROR(GESTION!H83,\" \")","v":"Auditoría al avance en la ejecución del Contrato 194 de 2020 cuyo objeto es la “prestación del servicio de fábrica de software para la Rama Judicial, que incluya desarrollos, mantenimiento y soporte de aplicativos de la entidad”."},{"$f":"IFERROR(GESTION!I83,\" \")","v":"Meta cuantificable"},{"$f":"IFERROR(GESTION!J83,\" \")","v":1},1,1,"Auditoría en ejecución, aplazada en la vigencia 2022, para el 2023.","Informe preliminar presentado."]
[null,null,null,null,{"$f":"IFERROR(GESTION!H84,\" \")","v":"Auditoría a obras de infraestructura en ejecución."},{"$f":"IFERROR(GESTION!I84,\" \")","v":"Meta cuantificable"},{"$f":"IFERROR(GESTION!J84,\" \")","v":4},1,0.25,"Ninguna.","La auditoría comprende tres fases: Planeación, Ejecución e Informe, a la fecha de corte se encuentra en ejecución elaboración del primer informe."]
[null,null,null,null,{"$f":"IFERROR(GESTION!H85,\" \")","v":"Auditoría a los contratos de prestación de servicios profesionales y de apoyo a la gestión celebrados en las Direcciones Seccionales."},{"$f":"IFERROR(GESTION!I85,\" \")","v":"Meta cuantificable"},{"$f":"IFERROR(GESTION!J85,\" \")","v":1},null,0,null,"Auditoría programada para iniciar el mes de abril. "]
[null,null,"6. Promover la rendición de cuentas y la colaboración real con la ciudadanía como fundamento para diseñar acciones de mejoramiento del acceso a la justicia.",null,{"$f":"IFERROR(GESTION!H86,\" \")","v":"Auditoría a la gestión de la Coordinación Administrativa de Riohacha."},{"$f":"IFERROR(GESTION!I86,\" \")","v":"Meta cuantificable"},{"$f":"IFERROR(GESTION!J86,\" \")","v":1},null,0,null,"La auditoría comprende tres fases: Planeación, Ejecución e Informe, a la fecha de corte se encuentra en ejecución."]
[null,null,null,null,{"$f":"IFERROR(GESTION!H87,\" \")","v":"Auditoría a la gestión de la Coordinación Administrativa de Arauca."},{"$f":"IFERROR(GESTION!I87,\" \")","v":"Meta cuantificable"},{"$f":"IFERROR(GESTION!J87,\" \")","v":1},null,0,null,"Auditoría programada para iniciar el mes de abril. "]
[null,null,null,null,{"$f":"IFERROR(GESTION!H88,\" \")","v":"Auditoría a la gestión de la Coordinación Administrativa de Florencia."},{"$f":"IFERROR(GESTION!I88,\" \")","v":"Meta cuantificable"},{"$f":"IFERROR(GESTION!J88,\" \")","v":1},null,0,null,"Auditoría programada para iniciar el mes de mayo. "]
[null,null,null,null,{"$f":"IFERROR(GESTION!H89,\" \")","v":"Auditoría a la gestión de la Coordinación Administrativa de Quibdó."},{"$f":"IFERROR(GESTION!I89,\" \")","v":"Meta cuantificable"},{"$f":"IFERROR(GESTION!J89,\" \")","v":1},null,0,null,"Auditoría programada para iniciar el mes de junio. "]
[null,null,null,null,{"$f":"IFERROR(GESTION!H90,\" \")","v":"Auditoría a la gestión de la Coordinación Administrativa de San Andrés."},{"$f":"IFERROR(GESTION!I90,\" \")","v":"Meta cuantificable"},{"$f":"IFERROR(GESTION!J90,\" \")","v":1},null,0,null,"Auditoría programada para iniciar el mes de julio. "]
[null,null,"7. Continuar la consolidación del SIGCMA, a través de los procesos de formación en modelos de gestión, logrando la implementación y ampliación de este en los esquemas certificados de manera gradual, teniendo en cuenta las capacidades de los diferentes despachos judiciales y dependencias de la Rama Judicial y articulando el enfoque de Arquitectura Empresarial para el desarrollo del PETD a través de la gestión del conocimiento para la gestión del cambio propendiendo por una cultura de la calidad, la transparencia, la rendición de cuentas, la anticorrupción y el antisoborno","1. Gestionar el desarrollo de las competencias, la toma de conciencia , la cultura organizacional y el compromiso de los servidores judiciales, contratistas, practicantes y judicantes de contribuir a generar valor público en la administración de justicia, en el marco de cumplimiento de los requisitos aplicables y el comportamiento ético.\n4. Hacer un uso racional de los recursos naturales aplicando los principios y fases de la Economía Circular, para prevenir, mitigar y controlar los impactos ambientales.",{"$f":"IFERROR(GESTION!H91,\" \")","v":"Seguimiento a la gestión del plan integral de manejo de residuos sólidos."},{"$f":"IFERROR(GESTION!I91,\" \")","v":"Meta cuantificable"},{"$f":"IFERROR(GESTION!J91,\" \")","v":1},0,0,null,"Auditoría programada para iniciar el mes de enero, no obstante fue aplazado su inicio para el segundo trimestre."]
[null,null,null,null,{"$f":"IFERROR(GESTION!H92,\" \")","v":"Seguimiento a la gestión de cartera por concepto de recobro de incapacidades y licencias."},{"$f":"IFERROR(GESTION!I92,\" \")","v":"Meta cuantificable"},{"$f":"IFERROR(GESTION!J92,\" \")","v":1},null,0,null,"Auditoría programada para iniciar el mes de abril. "]
[null,null,null,null,{"$f":"IFERROR(GESTION!H93,\" \")","v":"Seguimiento al proceso de contratación de la digitalización de expedientes a nivel nacional, corte a diciembre 31 de 2022."},{"$f":"IFERROR(GESTION!I93,\" \")","v":"Meta cuantificable"},{"$f":"IFERROR(GESTION!J93,\" \")","v":1},1,1,"Ninguna.","Informe definitivo liberado."]
[null,null,null,null,{"$f":"IFERROR(GESTION!H94,\" \")","v":"Auditorías que sobre asuntos de manejo de títulos o depósitos judiciales surjan producto de solicitudes específicas."},{"$f":"IFERROR(GESTION!I94,\" \")","v":"Meta cuantificable"},{"$f":"IFERROR(GESTION!J94,\" \")","v":100},100,1,"Ninguna.","A la fecha de corte se ha atendido la solicitud de auditoría especial presentada."]
[null,null,null,null,{"$f":"IFERROR(GESTION!H95,\" \")","v":"Auditorías que sobre asuntos de reparto de procesos judiciales específicos que surjan producto de solicitudes particulares."},{"$f":"IFERROR(GESTION!I95,\" \")","v":"Meta cuantificable"},{"$f":"IFERROR(GESTION!J95,\" \")","v":100},100,1,"Ninguna.","A la fecha de corte se ha atendido la solicitud de auditoría especial presentada."]
["4. Talento Humano","Talento Humano: Fortalecer el talento humano en la Rama Judicial para que sea eficiente, capacitado y realice su labor en ambientes saludables y seguros. Ampliar la cobertura de la carrera judicial y mejorar la oferta de formación, que esté disponible para todos los servidores judiciales e impacte positivamente el servicio de justicia y responda a las necesidades reales del ejercicio de la función judicial.","1. Ampliar la cobertura de la carrera judicial optimizando los procesos de los concursos de méritos y propender por mitigar su litigiosidad.","1. Gestionar el desarrollo de las competencias, la toma de conciencia , la cultura organizacional y el compromiso de los servidores judiciales, contratistas, practicantes y judicantes de contribuir a generar valor público en la administración de justicia, en el marco de cumplimiento de los requisitos aplicables y el comportamiento ético.",{"$f":"IFERROR(GESTION!H96,\" \")","v":"Auditorías que sobre otros asuntos, actividades o procesos surjan producto de solicitudes específicas."},{"$f":"IFERROR(GESTION!I96,\" \")","v":"Meta cuantificable"},{"$f":"IFERROR(GESTION!J96,\" \")","v":100},null,0,null,"A la fecha de corte no se ha recibido ninguna solicitud de auditoría especial."]
[null,null,null,null,{"$f":"IFERROR(GESTION!H97,\" \")","v":"Informe de gestión anual de la Unidad de Auditoría (Art. 105 Ley 270/1996)."},{"$f":"IFERROR(GESTION!I97,\" \")","v":"Meta cuantificable"},{"$f":"IFERROR(GESTION!J97,\" \")","v":1},1,1,"Ninguna.","Informe liberado."]
[null,null,null,null,{"$f":"IFERROR(GESTION!H98,\" \")","v":"Informe de seguimiento a las medidas de austeridad en el gasto público (Art. 2.8.4.8.2 Decreto 1068/2015)."},{"$f":"IFERROR(GESTION!I98,\" \")","v":"Meta cuantificable"},{"$f":"IFERROR(GESTION!J98,\" \")","v":4},1,0.25,"Ninguna.","A la fecha de corte se ha elaborado el informe del cuarto trimestre de la vigencia 2022."]
[null,null,null,null,{"$f":"IFERROR(GESTION!H99,\" \")","v":"Informe de seguimiento al Plan Anticorrupción y de Atención al Ciudadano (Art. 2.1.4.6 Decreto 1081/2015)."},{"$f":"IFERROR(GESTION!I99,\" \")","v":"Meta cuantificable"},{"$f":"IFERROR(GESTION!J99,\" \")","v":3},1,0.33333333333333331,"Ninguna.","A la fecha de corte se ha elaborado el informe del tercer cuatrimestre de la vigencia 2022."]
[null,null,null,null,{"$f":"IFERROR(GESTION!H100,\" \")","v":"Informe de vigilancia a la atención de quejas, sugerencias y reclamos (Art. 76 Ley 1474/2011)."},{"$f":"IFERROR(GESTION!I100,\" \")","v":"Meta cuantificable"},{"$f":"IFERROR(GESTION!J100,\" \")","v":2},0.75,0.375,"Ninguna.","Informe en ejecución."]
[null,null,"2. Impactar la función y servicios que presta la Rama Judicial, a través de una formación integral desde una visión de gestión del conocimiento, relacionada con los problemas de la justicia y los problemas de gestión de quienes administran los recursos de la justicia, y potenciando el uso de medios virtuales.",null,{"$f":"IFERROR(GESTION!H101,\" \")","v":"Informe de seguimiento a la implementación del Sistema Único de Gestión e Información de la Actividad Litigiosa del Estado (eKOGUI 2.0) (Art. 2.2.3.4.1.14 Decreto 1069/2015)."},{"$f":"IFERROR(GESTION!I101,\" \")","v":"Meta cuantificable"},{"$f":"IFERROR(GESTION!J101,\" \")","v":2},1,0.5,"Ninguna.","En elaboración informe del segundo semestre de 2022."]
[null,null,null,null,{"$f":"IFERROR(GESTION!H102,\" \")","v":"Formulario Único Reporte de Avances de la Gestión (FURAG II) - Vigencia 2022 (Art. 2.2.23.3 Decreto 1083/2015)."},{"$f":"IFERROR(GESTION!I102,\" \")","v":"Meta cuantificable"},{"$f":"IFERROR(GESTION!J102,\" \")","v":1},null,0,null,"A la fecha de corte el DAFP tiene anunciado que habilitará el aplicativo en el segundo trimestre de 2023."]
[null,null,null,null,{"$f":"IFERROR(GESTION!H103,\" \")","v":"Informe de auditaje a los estados financieros consolidados a 31/12/2022 (Art. 80.8 Ley 270/1996)."},{"$f":"IFERROR(GESTION!I103,\" \")","v":"Meta cuantificable"},{"$f":"IFERROR(GESTION!J103,\" \")","v":1},1,1,"Ninguna.","Informe liberado."]
[null,null,null,null,{"$f":"IFERROR(GESTION!H104,\" \")","v":"Informe anual de Evaluación del Control Interno Contable con corte a 31/12/2022 (Art. 3 Resolución 193/2016 CGN)."},{"$f":"IFERROR(GESTION!I104,\" \")","v":"Meta cuantificable"},{"$f":"IFERROR(GESTION!J104,\" \")","v":1},1,1,"Ninguna.","Informe liberado."]
[null,null,null,null,{"$f":"IFERROR(GESTION!H105,\" \")","v":"Informe de seguimiento a la ejecución presupuestal y planes de inversión a 31/12/2022."},{"$f":"IFERROR(GESTION!I105,\" \")","v":"Meta cuantificable"},{"$f":"IFERROR(GESTION!J105,\" \")","v":1},0.75,0.75,"Ninguna.","Informe en elaboración."]
[null,null,"3. Promover la incorporación de la perspectiva de género y el enfoque diferencial en los fallos judiciales y en la atención a los ciudadanos, la administración de la Rama Judicial, la administración de la carrera judicial y la elaboración de listas para altas Cortes. ",null,{"$f":"IFERROR(GESTION!H106,\" \")","v":"Informe de verificación, recomendaciones, seguimiento y resultados sobre el cumplimiento de las normas en materia de derecho de autor sobre software, vigencia 2022 (Circular 12/2007 UAE-DNDA)."},{"$f":"IFERROR(GESTION!I106,\" \")","v":"Meta cuantificable"},{"$f":"IFERROR(GESTION!J106,\" \")","v":1},1,1,"Ninguna.","Informe liberado."]
[null,null,null,null,{"$f":"IFERROR(GESTION!H107,\" \")","v":"Informe de evaluación independiente del estado del sistema de control interno (Art. 14 Ley 87/1993)."},{"$f":"IFERROR(GESTION!I107,\" \")","v":"Meta cuantificable"},{"$f":"IFERROR(GESTION!J107,\" \")","v":2},1,0.5,"Ninguna.","Presentado el informe correspondiente al segundo semestre de 2022."]
[null,null,null,null,{"$f":"IFERROR(GESTION!H108,\" \")","v":"Informe de Seguimiento a las acciones de repetición ordenadas por el Comité de Conciliaciones de la DEAJ, vigencia 2022."},{"$f":"IFERROR(GESTION!I108,\" \")","v":"Meta cuantificable"},{"$f":"IFERROR(GESTION!J108,\" \")","v":1},null,0,null,"Programada para presentarse en el mes de diciembre."]
[null,null,null,null,{"$f":"IFERROR(GESTION!H109,\" \")","v":"Informe de evaluación sobre el cumplimiento de las políticas de operación y seguridad de la información del SIIF Nación (Circular 040/2015 Min. Hacienda)."},{"$f":"IFERROR(GESTION!I109,\" \")","v":"Meta cuantificable"},{"$f":"IFERROR(GESTION!J109,\" \")","v":1},null,0,null,"Programada para presentar en el mes de octubre."]
[null,null,null,null,{"$f":"IFERROR(GESTION!H110,\" \")","v":"Informe de Seguimiento Planes de Mejoramiento suscritos con la CGR."},{"$f":"IFERROR(GESTION!I110,\" \")","v":"Meta cuantificable"},{"$f":"IFERROR(GESTION!J110,\" \")","v":2},1,0.5,"Ninguna.","Presentado el informe correspondiente al segundo semestre de 2022."]
[null,null,"4. Desarrollar en los servidores judiciales y demás grupos de valor relevantes las competencias necesarias para la efectividad de la transformación digital de modo que puedan, entre otros, utilizar con solvencia las herramientas digitales dispuestas para sus respectivas funciones. Además, fortalecer y actualizar los conocimientos del personal a cargo de la gestión de proyectos de tecnología.",null,{"$f":"IFERROR(GESTION!H111,\" \")","v":"Informe de Seguimiento Planes de Mejoramiento suscritos con la Unidad de Auditoría."},{"$f":"IFERROR(GESTION!I111,\" \")","v":"Meta cuantificable"},{"$f":"IFERROR(GESTION!J111,\" \")","v":2},0.5,0.25,"Ninguna.","Actividad en ejecución."]
[null,null,null,null,{"$f":"IFERROR(GESTION!H112,\" \")","v":"Arqueos periódicos y sorpresivos a las operaciones que se realicen a través de caja menor (Art. 2.8.5.12 Decreto 1068/2015)."},{"$f":"IFERROR(GESTION!I112,\" \")","v":"Meta cuantificable"},{"$f":"IFERROR(GESTION!J112,\" \")","v":100},null,0,null,"La actividad se hace de forma aleatoria en cualquier mes del año."]
[null,null,null,null,{"$f":"IFERROR(GESTION!H113,\" \")","v":"Informe de verificación y evaluación de la aplicación de los mecanismos de participación ciudadana en las audiencias públicas de rendición de cuentas del CSJ, DEAJ, CSeJ y DSAJ, vigencia 2022 (Art. 11 Acuerdo PCSJA20-11478)."},{"$f":"IFERROR(GESTION!I113,\" \")","v":"Meta cuantificable"},{"$f":"IFERROR(GESTION!J113,\" \")","v":1},null,{"$f":"IFERROR(H113/G113,\"\")","v":0},null,"La audiencia de rendición de cuentas del CSJ y la DEAJ se realiza en el mes de abril."]
[null,null,null,null,{"$f":"IFERROR(GESTION!H114,\" \")","v":"Verificar que los controles establecidos en los diferentes procesos, procedimientos, políticas de operación, entre otros elementos del Sistema de Control Interno, se cumplan, que existan responsables, adecuados mecanismos de seguimiento, segregación de funciones, entre otros aspectos que garanticen de forma razonable el cumplimiento de los objetivos y metas institucionales."},{"$f":"IFERROR(GESTION!I114,\" \")","v":"Meta cuantificable"},{"$f":"IFERROR(GESTION!J114,\" \")","v":100},25,0.25,"Ninguna.","Actividades en el marco del rol enfoque a la prevención que se atienden por demanda, se cuantifican como No. de actuaciones atendidas/No. de actuaciones solicitadas."]
[null,null,null,null,{"$f":"IFERROR(GESTION!H115,\" \")","v":"Generar alertas y recomendaciones que puedan llegar a prevenir y mitigar riesgos fiscales, de corrupción y en general riesgos de gestión, asociados a los procesos, programas o proyectos que desarrolla la Rama Judicial."},{"$f":"IFERROR(GESTION!I115,\" \")","v":"Meta cuantificable"},{"$f":"IFERROR(GESTION!J115,\" \")","v":100},25,0.25,"Ninguna.","Actividades en el marco del rol enfoque a la prevención que se atienden por demanda, se cuantifican como No. de actuaciones atendidas/No. de actuaciones solicitadas."]
[null,null,"5. Promover el bienestar de todos los servidores judiciales a través de la implementación de un sistema que contemple los diferentes niveles de estrategias y acciones necesarios para mejorar el clima laboral, la salud física y mental y la calidad del tiempo de descanso.","5. Generar espacios de trabajo seguros y saludables que contribuyan a minimizar los incidentes, accidentes y enfermedades laborales derivados de las condiciones y actos inseguros y fomentar el autocuidado, los estilos de vida y el trabajo saludable en los servidores judiciales, contratistas, judicantes y practicantes",{"$f":"IFERROR(GESTION!H116,\" \")","v":"Presentar informes y recomendaciones al Comité Institucional de Coordinación de Control Interno y a los Subcomités Seccionales de Coordinación del Sistema de Control Interno, sobre la ejecución del Programa Anual de Auditoría y acciones de mejora."},{"$f":"IFERROR(GESTION!I116,\" \")","v":"Meta cuantificable"},{"$f":"IFERROR(GESTION!J116,\" \")","v":1},1,1,"Ninguna.","Informes presentados ante los subcomités seccionales."]
[null,null,null,null,{"$f":"IFERROR(GESTION!H117,\" \")","v":"Ejercer la Secretaría Técnica del Comité Institucional de Coordinación de Control Interno y los Subcomités Seccionales de Coordinación del Sistema de Control Interno."},{"$f":"IFERROR(GESTION!I117,\" \")","v":"Meta cuantificable"},{"$f":"IFERROR(GESTION!J117,\" \")","v":75},2,2.6666666666666668E-2,"Ninguna.","Depende de la programación de los comités en cada Consejo Seccional."]
[null,null,null,null,{"$f":"IFERROR(GESTION!H118,\" \")","v":"Asesorar a la dirección y los líderes de proceso en la continuidad del proceso administrativo, la reevaluación de los planes establecidos y en la introducción de los correctivos necesarios para el cumplimiento de las metas u objetivos previstos. En particular, en materias como contratación, transformación digital, ejecución presupuestal, pago de acreencias laborales, entre otros."},{"$f":"IFERROR(GESTION!I118,\" \")","v":"Meta cuantificable"},{"$f":"IFERROR(GESTION!J118,\" \")","v":100},25,0.25,"Ninguna.","Actividades en el marco del rol enfoque a la prevención que se atienden por demanda, se cuantifican como No. de actuaciones atendidas/No. de actuaciones solicitadas."]
[null,null,null,null,{"$f":"IFERROR(GESTION!H119,\" \")","v":"Participar en mesas de trabajo de la ANDJE-DEAJ en el proceso de mejora del Sistema Único de Gestión e Información Litigiosa del Estado Colombiano (eKogui) y realizar actividades de acompañamiento al cargue y actualización del eKogui."},{"$f":"IFERROR(GESTION!I119,\" \")","v":"Meta cuantificable"},{"$f":"IFERROR(GESTION!J119,\" \")","v":100},25,0.25,"Ninguna.","Actividades en el marco del rol enfoque a la prevención que se atienden por demanda, se cuantifican como No. de actuaciones atendidas/No. de actuaciones solicitadas."]
[null,null,null,null,{"$f":"IFERROR(GESTION!H120,\" \")","v":"Asesorar a los líderes de procesos en la formulación adecuada, rigurosa y con enfoque estratégico de las acciones de mejora producto de las auditorías internas y externas. Facilitar el seguimiento al cumplimiento y eficacia del plan de mejoramiento institucional. Emitir informes con alertas de los factores que pongan en riesgo la eficacia y cumplimiento del plan de mejoramiento institucional. Realizar análisis comparados de la evolución del plan de mejoramiento institucional, verificando la disminución o aumento de hallazgos e incidencias año tras año y la evolución de cumplimiento del plan de mejoramiento institucional. Desplegar, en general, las acciones tendientes a promover entre las áreas responsables la formulación de acciones eficaces y el cumplimiento oportuno de las mismas."},{"$f":"IFERROR(GESTION!I120,\" \")","v":"Meta cuantificable"},{"$f":"IFERROR(GESTION!J120,\" \")","v":100},25,0.25,"Ninguna.","Actividades en el marco del rol enfoque a la prevención que se atienden por demanda, se cuantifican como No. de actuaciones atendidas/No. de actuaciones solicitadas."]
["5. Gobernanza, planeación estratégica y capacidad de toma de decisiones","Gobernanza, planeación estratégica y capacidad de toma de decisiones: Fortalecer la gobernanza, la planeación estratégica y la capacidad de toma de decisiones de la Rama Judicial con base en la evidencia empírica y la articulación efectiva con las demás entidades, para que la perspectiva de género y el enfoque diferencial sean transversales en el presente plan. ","1. Implementar un nuevo modelo integrado para la planeación estratégica, el seguimiento y la medición del desempeño institucional.","2. Asegurar el cumplimiento de los objetivos institucionales, la normatividad aplicable, la mejora del SIGCMA y la satisfacción de los usuarios, revisando de forma continua y sistemática la planificación de la gestión y fortaleciendo la administración de riesgos y sus controles.",{"$f":"IFERROR(GESTION!H121,\" \")","v":"Fomentar el control fiscal Interno (CFI), como primer nivel para la vigilancia fiscal de los recursos públicos y para la prevención de riesgos fiscales y defensa del patrimonio público. Y promover sinergias entre el control interno y el seguimiento permanente al recurso público orientado al ejercicio del control concomitante y preventivo y su mutua retroalimentación."},{"$f":"IFERROR(GESTION!I121,\" \")","v":"Meta cuantificable"},{"$f":"IFERROR(GESTION!J121,\" \")","v":100},25,0.25,"Ninguna.","Actividades en el marco del rol enfoque a la prevención que se atienden por demanda, se cuantifican como No. de actuaciones atendidas/No. de actuaciones solicitadas."]
[null,null,null,null,{"$f":"IFERROR(GESTION!H122,\" \")","v":"Gestionar procesos de inducción, reinducción y formación de los auditores en materia de control interno, auditoría y evaluación de la gestión del riesgo y todas aquellas materias asociadas al ejercicio auditor."},{"$f":"IFERROR(GESTION!I122,\" \")","v":"Meta cuantificable"},{"$f":"IFERROR(GESTION!J122,\" \")","v":100},25,0.25,"Ninguna.","Actividades en el marco del rol enfoque a la prevención que se atienden por demanda, se cuantifican como No. de actuaciones atendidas/No. de actuaciones solicitadas."]
[null,null,null,null,{"$f":"IFERROR(GESTION!H123,\" \")","v":"Participar en comités que se encuentran establecidos y en los que asista la Unidad de Auditoría: Comité de Evaluación de Cartera, Comité de Cobro Coactivo, Comité de Defensa Judicial y Conciliación, Comité del SIGCMA, Comité Institucional de Coordinación de Control Interno y demás que sean pertinentes, tanto a nivel central como seccional."},{"$f":"IFERROR(GESTION!I123,\" \")","v":"Meta cuantificable"},{"$f":"IFERROR(GESTION!J123,\" \")","v":100},25,0.25,"Ninguna.","Actividades en el marco del rol enfoque a la prevención que se atienden por demanda, se cuantifican como No. de actuaciones atendidas/No. de actuaciones solicitadas."]
[null,null,null,null,{"$f":"IFERROR(GESTION!H124,\" \")","v":"Fomentar la cultura del control y autoevaluación, a través de actividades de sensibilización en materia de control interno y, roles y responsabilidades de las líneas de defensa, dirigidas a los servidores judiciales."},{"$f":"IFERROR(GESTION!I124,\" \")","v":"Meta cuantificable"},{"$f":"IFERROR(GESTION!J124,\" \")","v":100},25,0.25,"Ninguna.","Actividades en el marco del rol enfoque a la prevención que se atienden por demanda, se cuantifican como No. de actuaciones atendidas/No. de actuaciones solicitadas."]
[null,null,null,null,{"$f":"IFERROR(GESTION!H125,\" \")","v":"Participar en las diferentes mesas de trabajo y reuniones a las que sea invitada la Unidad de Auditoría, tanto a nivel central como seccional."},{"$f":"IFERROR(GESTION!I125,\" \")","v":"Meta cuantificable"},{"$f":"IFERROR(GESTION!J125,\" \")","v":100},25,0.25,"Ninguna.","Actividades en el marco del rol enfoque a la prevención que se atienden por demanda, se cuantifican como No. de actuaciones atendidas/No. de actuaciones solicitadas."]
[null,null,"2. Definir e implementar el modelo optimizado de formulación, seguimiento y evaluación de la política pública judicial.",null,{"$f":"IFERROR(GESTION!H126,\" \")","v":"Brindar asesoría y acompañamiento para la baja de bienes muebles de propiedad de la Rama Judicial."},{"$f":"IFERROR(GESTION!I126,\" \")","v":"Meta cuantificable"},{"$f":"IFERROR(GESTION!J126,\" \")","v":100},25,0.25,"Ninguna.","Actividades en el marco del rol enfoque a la prevención que se atienden por demanda, se cuantifican como No. de actuaciones atendidas/No. de actuaciones solicitadas."]
[null,null,null,null,{"$f":"IFERROR(GESTION!H127,\" \")","v":"Brindar asesoría a los responsables y ejecutores de los procesos y proyectos, respecto a metodologías y herramientas para la identificación, análisis y evaluación de riesgos."},{"$f":"IFERROR(GESTION!I127,\" \")","v":"Meta cuantificable"},{"$f":"IFERROR(GESTION!J127,\" \")","v":100},25,0.25,"Ninguna.","Actividades en el marco del rol evaluación de la gestión del riesgo que se atienden por demanda, se cuantifican como No. de actuaciones atendidas/No. de actuaciones solicitadas."]
[null,null,null,null,{"$f":"IFERROR(GESTION!H128,\" \")","v":"Asesorar a la alta dirección para la articulación del esquema de líneas de defensa y de cada una de las instancias clave identificadas, a fin de fortalecer una cultura orientada al control, gestión del riesgo y con alto enfoque preventivo."},{"$f":"IFERROR(GESTION!I128,\" \")","v":"Meta cuantificable"},{"$f":"IFERROR(GESTION!J128,\" \")","v":100},25,0.25,"Ninguna.","Actividades en el marco del rol evaluación de la gestión del riesgo que se atienden por demanda, se cuantifican como No. de actuaciones atendidas/No. de actuaciones solicitadas."]
[null,null,null,null,{"$f":"IFERROR(GESTION!H129,\" \")","v":"Desarrollo de diagnósticos para la mejora en la gestión del riesgo en todos sus ámbitos, tanto a nivel central como seccional."},{"$f":"IFERROR(GESTION!I129,\" \")","v":"Meta cuantificable"},{"$f":"IFERROR(GESTION!J129,\" \")","v":1},null,0,null,"Programado el seguimiento para el segundo semestre de 2023."]
[null,null,null,null,{"$f":"IFERROR(GESTION!H130,\" \")","v":"Realizar actividades de acompañamiento y enlace con los entes de control según sus solicitudes, tanto a nivel central como seccional."},{"$f":"IFERROR(GESTION!I130,\" \")","v":"Meta cuantificable"},{"$f":"IFERROR(GESTION!J130,\" \")","v":100},25,0.25,"Ninguna.","Actividades en el marco del rol de atención de entes externos de control que se atienden por demanda, se cuantifican como No. de actuaciones atendidas/No. de actuaciones solicitadas."]
[null,null,null,null,{"$f":"IFERROR(GESTION!H131,\" \")","v":"Facilitar el flujo de información con los entes de control, según sus solicitudes, tanto a nivel central como seccional."},{"$f":"IFERROR(GESTION!I131,\" \")","v":"Meta cuantificable"},{"$f":"IFERROR(GESTION!J131,\" \")","v":100},25,0.25,"Ninguna.","Actividades en el marco del rol de atención de entes externos de control que se atienden por demanda, se cuantifican como No. de actuaciones atendidas/No. de actuaciones solicitadas."]

{"sheet":"GESTION_SEG_2_TRIM","index":6,"n_rows":129,"n_cols":11,"rows_kept":129,"cut":false,"hidden":true,"merged":[[14,2,18,2],[14,3,18,3],[19,2,23,2],[19,3,23,3],[0,0,0,10],[1,0,1,3],[1,4,1,9],[1,10,3,10],[2,0,3,1],[2,2,3,2],[2,3,3,3],[2,4,2,9],[24,2,28,2],[24,3,28,3],[29,0,58,0],[29,1,58,1],[29,2,33,2],[29,3,58,3],[34,2,38,2],[39,2,43,2],[44,2,48,2],[49,2,53,2],[4,0,28,0],[4,1,28,1],[4,2,8,2],[4,3,8,3],[9,2,13,2],[9,3,13,3],[54,2,58,2],[59,0,93,0],[59,1,93,1],[59,2,63,2],[59,3,63,3],[64,2,68,2],[64,3,68,3],[69,2,73,2],[69,3,73,3],[74,2,78,2],[74,3,88,3],[79,2,83,2],[84,2,88,2],[89,2,93,2],[89,3,93,3],[104,2,108,2],[109,2,113,2],[114,2,118,2],[114,3,118,3],[119,0,128,0],[119,1,128,1],[119,2,123,2],[119,3,128,3],[124,2,128,2],[94,0,118,0],[94,1,118,1],[94,2,98,2],[94,3,113,3],[99,2,103,2]]}
["CONSEJO SUPERIOR DE LA JUDICATURA \nUNIDADES MISIONALES DEL CONSEJO SUPERIOR DE LA JUDICATURA - \nDIRECCIÓN EJECUTIVA DE ADMINISTRACIÓN JUDICIAL - UNIDADES MISIONALES DE LA DEAJ\nDIRECCIONES SECCIONALES DE ADMINISTRACIÓN JUDICIAL - DEPENDENCIAS JUDICIALES CERTIFICADAS"]
["PLAN SECTORIAL DE DESARROLLO 2023-2026 - OBJETIVOS SIGCMA",null,null,null,null,null,null,null,null,null," ANÁLISIS RESULTADO"]
["OBJETIVO ESTRATÉGICO",null,"OBJETIVO ESPECÍFICO PSD","OBJETIVO ESPECÍFICO SIGCMA","MEDICIÓN DE LA GESTIÓN ANUAL"]
[null,null,null,null,"ACTIVIDADES ","INDIQUE SI ES ENTREGABLE O META CUANTIFICABLE","META ANUAL","AVANCE DE LA META ","NIVEL CUMPLIMIENTO","DIFICULTADES PARA LOGRAR LA META PROPUESTA"]
["1. Acceso e Infraestructura Física","Acceso e Infraestructura Física: Ampliar, en todo el territorio nacional, el acceso a una justicia efectiva, pronta, equitativa e incluyente, reduciendo el atraso y la congestión, de acuerdo con las necesidades de la demanda de justicia por jurisdicción y especialidad, y mejorando la articulación con la justicia restaurativa y terapéutica, y otros mecanismos de solución de conflictos y consolidando una infraestructura física óptima para el acceso a la justicia.","1. Ampliar el acceso a justicia para atender las necesidades jurídicas de los ciudadanos con un enfoque diferencial, de una manera pronta, reduciendo las inequidades y las brechas territoriales de acceso.","2. Asegurar  el cumplimiento de los objetivos institucionales, la normatividad aplicable,  la mejora del SIGCMA y la satisfacción de los usuarios, revisando de  forma continua y sistemática la planificación de la gestión y fortaleciendo la administración de riesgos y sus controles",{"$f":"IFERROR(GESTION!H5,\" \")","v":0},{"$f":"IFERROR(GESTION!I5,\" \")","v":0},{"$f":"IFERROR(GESTION!J5,\" \")","v":0},null,{"$f":"IFERROR(H5/G5,\"\")","v":""}]
[null,null,null,null,{"$f":"IFERROR(GESTION!H6,\" \")","v":0},{"$f":"IFERROR(GESTION!I6,\" \")","v":0},{"$f":"IFERROR(GESTION!J6,\" \")","v":0},null,""]
[null,null,null,null,{"$f":"IFERROR(GESTION!H7,\" \")","v":0},{"$f":"IFERROR(GESTION!I7,\" \")","v":0},{"$f":"IFERROR(GESTION!J7,\" \")","v":0},null,""]
[null,null,null,null,{"$f":"IFERROR(GESTION!H8,\" \")","v":0},{"$f":"IFERROR(GESTION!I8,\" \")","v":0},{"$f":"IFERROR(GESTION!J8,\" \")","v":0},null,""]
[null,null,null,null,{"$f":"IFERROR(GESTION!H9,\" \")","v":0},{"$f":"IFERROR(GESTION!I9,\" \")","v":0},{"$f":"IFERROR(GESTION!J9,\" \")","v":0},null,""]
[null,null,"2. Mejorar los tiempos de respuesta de la Rama Judicial y reducir el inventario de procesos, identificando los retos internos y promoviendo tanto acciones articuladas específicas para abordarlos como estrategias coordinadas para enfrentar las barreras que dependen de otras entidades.","2. Asegurar  el cumplimiento de los objetivos institucionales, la normatividad aplicable,  la mejora del SIGCMA y la satisfacción de los usuarios, revisando de  forma continua y sistemática la planificación de la gestión y fortaleciendo la administración de riesgos y sus controles",{"$f":"IFERROR(GESTION!H10,\" \")","v":0},{"$f":"IFERROR(GESTION!I10,\" \")","v":0},{"$f":"IFERROR(GESTION!J10,\" \")","v":0},null,""]
[null,null,null,null,{"$f":"IFERROR(GESTION!H11,\" \")","v":0},{"$f":"IFERROR(GESTION!I11,\" \")","v":0},{"$f":"IFERROR(GESTION!J11,\" \")","v":0},null,""]
[null,null,null,null,{"$f":"IFERROR(GESTION!H12,\" \")","v":0},{"$f":"IFERROR(GESTION!I12,\" \")","v":0},{"$f":"IFERROR(GESTION!J12,\" \")","v":0},null,""]
[null,null,null,null,{"$f":"IFERROR(GESTION!H13,\" \")","v":0},{"$f":"IFERROR(GESTION!I13,\" \")","v":0},{"$f":"IFERROR(GESTION!J13,\" \")","v":0},null,""]
[null,null,null,null,{"$f":"IFERROR(GESTION!H14,\" \")","v":0},{"$f":"IFERROR(GESTION!I14,\" \")","v":0},{"$f":"IFERROR(GESTION!J14,\" \")","v":0},null,""]
[null,null,"3. Coadyuvar en la garantía de la idoneidad en el ejercicio de la profesión jurídica de acuerdo con lo establecido en la Ley 1905 de 2018","2. Asegurar  el cumplimiento de los objetivos institucionales, la normatividad aplicable,  la mejora del SIGCMA y la satisfacción de los usuarios, revisando de  forma continua y sistemática la planificación de la gestión y fortaleciendo la administración de riesgos y sus controles",{"$f":"IFERROR(GESTION!H15,\" \")","v":0},{"$f":"IFERROR(GESTION!I15,\" \")","v":0},{"$f":"IFERROR(GESTION!J15,\" \")","v":0},null,""]
[null,null,null,null,{"$f":"IFERROR(GESTION!H16,\" \")","v":0},{"$f":"IFERROR(GESTION!I16,\" \")","v":0},{"$f":"IFERROR(GESTION!J16,\" \")","v":0},null,""]
[null,null,null,null,{"$f":"IFERROR(GESTION!H17,\" \")","v":0},{"$f":"IFERROR(GESTION!I17,\" \")","v":0},{"$f":"IFERROR(GESTION!J17,\" \")","v":0},null,""]
[null,null,null,null,{"$f":"IFERROR(GESTION!H18,\" \")","v":0},{"$f":"IFERROR(GESTION!I18,\" \")","v":0},{"$f":"IFERROR(GESTION!J18,\" \")","v":0},null,""]
[null,null,null,null,{"$f":"IFERROR(GESTION!H19,\" \")","v":0},{"$f":"IFERROR(GESTION!I19,\" \")","v":0},{"$f":"IFERROR(GESTION!J19,\" \")","v":0},null,""]
[null,null,"4. Avanzar en la disposición de una infraestructura óptima para el acceso a la justicia en la Rama Judicial de modo que se fortalezca la presencia territorial, teniendo en cuenta las posibilidades que ofrece la transformación digital y las necesidades que se derivan de ella, y considerando tanto las necesidades de los usuarios como las de los servidores judiciales.","4. Hacer un uso racional de los recursos naturales aplicando los principios y fases de la Economía Circular, para prevenir, mitigar y controlar los impactos ambientales",{"$f":"IFERROR(GESTION!H20,\" \")","v":0},{"$f":"IFERROR(GESTION!I20,\" \")","v":0},{"$f":"IFERROR(GESTION!J20,\" \")","v":0},null,""]
[null,null,null,null,{"$f":"IFERROR(GESTION!H21,\" \")","v":0},{"$f":"IFERROR(GESTION!I21,\" \")","v":0},{"$f":"IFERROR(GESTION!J21,\" \")","v":0},null,""]
[null,null,null,null,{"$f":"IFERROR(GESTION!H22,\" \")","v":0},{"$f":"IFERROR(GESTION!I22,\" \")","v":0},{"$f":"IFERROR(GESTION!J22,\" \")","v":0},null,""]
[null,null,null,null,{"$f":"IFERROR(GESTION!H23,\" \")","v":0},{"$f":"IFERROR(GESTION!I23,\" \")","v":0},{"$f":"IFERROR(GESTION!J23,\" \")","v":0},null,""]
[null,null,null,null,{"$f":"IFERROR(GESTION!H24,\" \")","v":0},{"$f":"IFERROR(GESTION!I24,\" \")","v":0},{"$f":"IFERROR(GESTION!J24,\" \")","v":0},null,""]
[null,null,"5. Impulsar el uso de mecanismos alternativos para la solución de conflictos y la ampliación de la justicia restaurativa y terapéutica y el robustecimiento de las alternativas al encarcelamiento","2. Asegurar  el cumplimiento de los objetivos institucionales, la normatividad aplicable,  la mejora del SIGCMA y la satisfacción de los usuarios, revisando de  forma continua y sistemática la planificación de la gestión y fortaleciendo la administración de riesgos y sus controles",{"$f":"IFERROR(GESTION!H25,\" \")","v":0},{"$f":"IFERROR(GESTION!I25,\" \")","v":0},{"$f":"IFERROR(GESTION!J25,\" \")","v":0},null,""]
[null,null,null,null,{"$f":"IFERROR(GESTION!H26,\" \")","v":0},{"$f":"IFERROR(GESTION!I26,\" \")","v":0},{"$f":"IFERROR(GESTION!J26,\" \")","v":0},null,""]
[null,null,null,null,{"$f":"IFERROR(GESTION!H27,\" \")","v":0},{"$f":"IFERROR(GESTION!I27,\" \")","v":0},{"$f":"IFERROR(GESTION!J27,\" \")","v":0},null,""]
[null,null,null,null,{"$f":"IFERROR(GESTION!H28,\" \")","v":0},{"$f":"IFERROR(GESTION!I28,\" \")","v":0},{"$f":"IFERROR(GESTION!J28,\" \")","v":0},null,""]
[null,null,null,null,{"$f":"IFERROR(GESTION!H29,\" \")","v":0},{"$f":"IFERROR(GESTION!I29,\" \")","v":0},{"$f":"IFERROR(GESTION!J29,\" \")","v":0},null,""]
["2. Servicios digitales y de tecnología, innovación y análisis de la información.","Servicios digitales y de tecnología, innovación y análisis de la información: Consolidar una justicia integrada y soportada en servicios digitales y de tecnología, innovación y análisis de la información, con una cultura digital apropiada, segura y sensible a las realidades del territorio nacional. ","1. Ampliar el acceso a la justicia a través de la consolidación del uso de los servicios digitales que conforman el sistema único integrado de gestión judicial en todos los despachos judiciales y dependencias de apoyo y, específicamente, incluyendo el despliegue e implementación del Expediente Judicial Electrónico en todas las jurisdicciones y especialidades.","6. Proteger, preservar y administrar los activos de información  implementando acciones  para gestionar de forma adecuada los incidentes, proteger los datos personales y adoptar mecanismos  de ciberseguridad y aseguramiento de la  continuidad del negocio.",{"$f":"IFERROR(GESTION!H30,\" \")","v":0},{"$f":"IFERROR(GESTION!I30,\" \")","v":0},{"$f":"IFERROR(GESTION!J30,\" \")","v":0},null,""]
[null,null,null,null,{"$f":"IFERROR(GESTION!H31,\" \")","v":0},{"$f":"IFERROR(GESTION!I31,\" \")","v":0},{"$f":"IFERROR(GESTION!J31,\" \")","v":0},null,""]
[null,null,null,null,{"$f":"IFERROR(GESTION!H32,\" \")","v":0},{"$f":"IFERROR(GESTION!I32,\" \")","v":0},{"$f":"IFERROR(GESTION!J32,\" \")","v":0},null,""]
[null,null,null,null,{"$f":"IFERROR(GESTION!H33,\" \")","v":0},{"$f":"IFERROR(GESTION!I33,\" \")","v":0},{"$f":"IFERROR(GESTION!J33,\" \")","v":0},null,""]
[null,null,null,null,{"$f":"IFERROR(GESTION!H34,\" \")","v":0},{"$f":"IFERROR(GESTION!I34,\" \")","v":0},{"$f":"IFERROR(GESTION!J34,\" \")","v":0},null,""]
[null,null,"2. Integrar y hacer compatibles todos los aplicativos de transición con SIUGJ, para que la migración de los expedientes judiciales a dicha plataforma sea real y no suponga afectaciones en la prestación del servicio de justicia.",null,{"$f":"IFERROR(GESTION!H35,\" \")","v":0},{"$f":"IFERROR(GESTION!I35,\" \")","v":0},{"$f":"IFERROR(GESTION!J35,\" \")","v":0},null,""]
[null,null,null,null,{"$f":"IFERROR(GESTION!H36,\" \")","v":0},{"$f":"IFERROR(GESTION!I36,\" \")","v":0},{"$f":"IFERROR(GESTION!J36,\" \")","v":0},null,""]
[null,null,null,null,{"$f":"IFERROR(GESTION!H37,\" \")","v":0},{"$f":"IFERROR(GESTION!I37,\" \")","v":0},{"$f":"IFERROR(GESTION!J37,\" \")","v":0},null,""]
[null,null,null,null,{"$f":"IFERROR(GESTION!H38,\" \")","v":0},{"$f":"IFERROR(GESTION!I38,\" \")","v":0},{"$f":"IFERROR(GESTION!J38,\" \")","v":0},null,""]
[null,null,null,null,{"$f":"IFERROR(GESTION!H39,\" \")","v":0},{"$f":"IFERROR(GESTION!I39,\" \")","v":0},{"$f":"IFERROR(GESTION!J39,\" \")","v":0},null,""]
[null,null,"3. Fortalecer las capacidades institucionales, adecuar el modelo operativo y de servicio, bajo un enfoque de Arquitectura Empresarial y de fortalecimiento del acceso a la justicia.",null,{"$f":"IFERROR(GESTION!H40,\" \")","v":0},{"$f":"IFERROR(GESTION!I40,\" \")","v":0},{"$f":"IFERROR(GESTION!J40,\" \")","v":0},null,""]
[null,null,null,null,{"$f":"IFERROR(GESTION!H41,\" \")","v":0},{"$f":"IFERROR(GESTION!I41,\" \")","v":0},{"$f":"IFERROR(GESTION!J41,\" \")","v":0},null,""]
[null,null,null,null,{"$f":"IFERROR(GESTION!H42,\" \")","v":0},{"$f":"IFERROR(GESTION!I42,\" \")","v":0},{"$f":"IFERROR(GESTION!J42,\" \")","v":0},null,""]
[null,null,null,null,{"$f":"IFERROR(GESTION!H43,\" \")","v":0},{"$f":"IFERROR(GESTION!I43,\" \")","v":0},{"$f":"IFERROR(GESTION!J43,\" \")","v":0},null,""]
[null,null,null,null,{"$f":"IFERROR(GESTION!H44,\" \")","v":0},{"$f":"IFERROR(GESTION!I44,\" \")","v":0},{"$f":"IFERROR(GESTION!J44,\" \")","v":0},null,""]
[null,null,"4.Consolidar la cultura y apropiación de la transformación digital en los servidores y usuarios de los servicios de la Rama Judicial y reducir brechas de acceso y conocimiento, incluyendo la oferta efectiva de información sobre el uso de las nuevas herramientas virtuales implementadas en las diferentes jurisdicciones, con especial énfasis en las zonas del país donde es evidente la brecha digital.",null,{"$f":"IFERROR(GESTION!H45,\" \")","v":0},{"$f":"IFERROR(GESTION!I45,\" \")","v":0},{"$f":"IFERROR(GESTION!J45,\" \")","v":0},null,""]
[null,null,null,null,{"$f":"IFERROR(GESTION!H46,\" \")","v":0},{"$f":"IFERROR(GESTION!I46,\" \")","v":0},{"$f":"IFERROR(GESTION!J46,\" \")","v":0},null,""]
[null,null,null,null,{"$f":"IFERROR(GESTION!H47,\" \")","v":0},{"$f":"IFERROR(GESTION!I47,\" \")","v":0},{"$f":"IFERROR(GESTION!J47,\" \")","v":0},null,""]
[null,null,null,null,{"$f":"IFERROR(GESTION!H48,\" \")","v":0},{"$f":"IFERROR(GESTION!I48,\" \")","v":0},{"$f":"IFERROR(GESTION!J48,\" \")","v":0},null,""]
[null,null,null,null,{"$f":"IFERROR(GESTION!H49,\" \")","v":0},{"$f":"IFERROR(GESTION!I49,\" \")","v":0},{"$f":"IFERROR(GESTION!J49,\" \")","v":0},null,""]
[null,null,"5.Consolidar la infraestructura y los recursos necesarios para la implementación exitosa de la transformación digital, incluyendo la disposición de internet de calidad en el 100% de las sedes en la Rama Judicial y modernizar los servicios tecnológicos de soporte. ",null,{"$f":"IFERROR(GESTION!H50,\" \")","v":0},{"$f":"IFERROR(GESTION!I50,\" \")","v":0},{"$f":"IFERROR(GESTION!J50,\" \")","v":0},null,""]
[null,null,null,null,{"$f":"IFERROR(GESTION!H51,\" \")","v":0},{"$f":"IFERROR(GESTION!I51,\" \")","v":0},{"$f":"IFERROR(GESTION!J51,\" \")","v":0},null,""]
[null,null,null,null,{"$f":"IFERROR(GESTION!H52,\" \")","v":0},{"$f":"IFERROR(GESTION!I52,\" \")","v":0},{"$f":"IFERROR(GESTION!J52,\" \")","v":0},null,""]
[null,null,null,null,{"$f":"IFERROR(GESTION!H53,\" \")","v":0},{"$f":"IFERROR(GESTION!I53,\" \")","v":0},{"$f":"IFERROR(GESTION!J53,\" \")","v":0},null,""]
[null,null,null,null,{"$f":"IFERROR(GESTION!H54,\" \")","v":0},{"$f":"IFERROR(GESTION!I54,\" \")","v":0},{"$f":"IFERROR(GESTION!J54,\" \")","v":0},null,""]
[null,null,"6.Integrar y optimizar los servicios administrativos de la Rama Judicial bajo un enfoque de transformación digital e innovación incluyendo los componentes financiero, administrativo, talento humano, entre otros",null,{"$f":"IFERROR(GESTION!H55,\" \")","v":0},{"$f":"IFERROR(GESTION!I55,\" \")","v":0},{"$f":"IFERROR(GESTION!J55,\" \")","v":0},null,""]
[null,null,null,null,{"$f":"IFERROR(GESTION!H56,\" \")","v":0},{"$f":"IFERROR(GESTION!I56,\" \")","v":0},{"$f":"IFERROR(GESTION!J56,\" \")","v":0},null,""]
[null,null,null,null,{"$f":"IFERROR(GESTION!H57,\" \")","v":0},{"$f":"IFERROR(GESTION!I57,\" \")","v":0},{"$f":"IFERROR(GESTION!J57,\" \")","v":0},null,""]
[null,null,null,null,{"$f":"IFERROR(GESTION!H58,\" \")","v":0},{"$f":"IFERROR(GESTION!I58,\" \")","v":0},{"$f":"IFERROR(GESTION!J58,\" \")","v":0},null,""]
[null,null,null,null,{"$f":"IFERROR(GESTION!H59,\" \")","v":0},{"$f":"IFERROR(GESTION!I59,\" \")","v":0},{"$f":"IFERROR(GESTION!J59,\" \")","v":0},null,""]
["3. Confianza pública, transparencia y rendición de cuentas","Confianza pública, transparencia y rendición de cuentas: Aumentar la confianza pública en la justicia a través de la transparencia, la rendición de cuentas y la participación, incluyendo la información de justicia y la producción, gestión y acceso a las fuentes de derecho, el fortalecimiento del sistema de gestión de calidad y medio ambiente (SIGCMA) y el mejoramiento de la calidad y publicidad de la información. ","1. Incrementar la cantidad, la calidad y pertinencia de los datos sobre el funcionamiento del servicio de justicia bajo un modelo de gobierno de datos y un liderazgo unificado. ","4. Hacer un uso racional de los recursos naturales aplicando los principios y fases de la Economía Circular, para prevenir, mitigar y controlar los impactos ambientales.",{"$f":"IFERROR(GESTION!H60,\" \")","v":0},{"$f":"IFERROR(GESTION!I60,\" \")","v":0},{"$f":"IFERROR(GESTION!J60,\" \")","v":0},null,""]
[null,null,null,null,{"$f":"IFERROR(GESTION!H61,\" \")","v":0},{"$f":"IFERROR(GESTION!I61,\" \")","v":0},{"$f":"IFERROR(GESTION!J61,\" \")","v":0},null,""]
[null,null,null,null,{"$f":"IFERROR(GESTION!H62,\" \")","v":0},{"$f":"IFERROR(GESTION!I62,\" \")","v":0},{"$f":"IFERROR(GESTION!J62,\" \")","v":0},null,""]
[null,null,null,null,{"$f":"IFERROR(GESTION!H63,\" \")","v":0},{"$f":"IFERROR(GESTION!I63,\" \")","v":0},{"$f":"IFERROR(GESTION!J63,\" \")","v":0},null,""]
[null,null,null,null,{"$f":"IFERROR(GESTION!H64,\" \")","v":0},{"$f":"IFERROR(GESTION!I64,\" \")","v":0},{"$f":"IFERROR(GESTION!J64,\" \")","v":0},null,""]
[null,null,"2. Consolidar la administración de la información entendida como todas las acciones rientadas a garantizar el acceso, consulta, uso y conservación de la información de justicia de manera ágil, flexible e inteligente, bajo un enfoque de innovación.",null,{"$f":"IFERROR(GESTION!H65,\" \")","v":0},{"$f":"IFERROR(GESTION!I65,\" \")","v":0},{"$f":"IFERROR(GESTION!J65,\" \")","v":0},null,""]
[null,null,null,null,{"$f":"IFERROR(GESTION!H66,\" \")","v":0},{"$f":"IFERROR(GESTION!I66,\" \")","v":0},{"$f":"IFERROR(GESTION!J66,\" \")","v":0},null,""]
[null,null,null,null,{"$f":"IFERROR(GESTION!H67,\" \")","v":0},{"$f":"IFERROR(GESTION!I67,\" \")","v":0},{"$f":"IFERROR(GESTION!J67,\" \")","v":0},null,""]
[null,null,null,null,{"$f":"IFERROR(GESTION!H68,\" \")","v":0},{"$f":"IFERROR(GESTION!I68,\" \")","v":0},{"$f":"IFERROR(GESTION!J68,\" \")","v":0},null,""]
[null,null,null,null,{"$f":"IFERROR(GESTION!H69,\" \")","v":0},{"$f":"IFERROR(GESTION!I69,\" \")","v":0},{"$f":"IFERROR(GESTION!J69,\" \")","v":0},null,{"$f":"IFERROR(H69/G69,\"\")","v":""}]
[null,null,"3. Fortalecer el Sistema integrado de Gestión de la Rama, orientado a la implementación y certificación de las normas antisoborno.","1. Gestionar el desarrollo de las competencias, la toma de conciencia , la cultura  organizacional  y el compromiso de los  servidores judiciales, contratistas, practicantes y  judicantes de contribuir a generar valor público en la administración de justicia, en el marco de  cumplimiento de los requisitos  aplicables y el comportamiento ético.\n3. Fomentar la transparencia y la participación generando lineamientos y promoviendo la rendición de cuentas ,la consulta, reporte y planteamiento de inquietudes en relación con las decisiones y aspectos del SIGCMA.",{"$f":"IFERROR(GESTION!H70,\" \")","v":0},{"$f":"IFERROR(GESTION!I70,\" \")","v":0},{"$f":"IFERROR(GESTION!J70,\" \")","v":0},null,""]
[null,null,null,null,{"$f":"IFERROR(GESTION!H71,\" \")","v":0},{"$f":"IFERROR(GESTION!I71,\" \")","v":0},{"$f":"IFERROR(GESTION!J71,\" \")","v":0},null,""]
[null,null,null,null,{"$f":"IFERROR(GESTION!H72,\" \")","v":0},{"$f":"IFERROR(GESTION!I72,\" \")","v":0},{"$f":"IFERROR(GESTION!J72,\" \")","v":0},null,""]
[null,null,null,null,{"$f":"IFERROR(GESTION!H73,\" \")","v":0},{"$f":"IFERROR(GESTION!I73,\" \")","v":0},{"$f":"IFERROR(GESTION!J73,\" \")","v":0},null,""]
[null,null,null,null,{"$f":"IFERROR(GESTION!H74,\" \")","v":0},{"$f":"IFERROR(GESTION!I74,\" \")","v":0},{"$f":"IFERROR(GESTION!J74,\" \")","v":0},null,""]
[null,null,"4. Aumentar la confianza, la cercanía y acceso a los servicios de la Rama Judicial a través, entre otros, de una comunicación clara y asertiva con la ciudadanía.","3. Fomentar la transparencia y la participación generando lineamientos y promoviendo la rendición de cuentas ,la consulta, reporte y planteamiento de inquietudes en relación con las decisiones y aspectos del SIGCMA.",{"$f":"IFERROR(GESTION!H75,\" \")","v":"Auditoría a la funcionalidad de Efinómina, en relación con sus resultados en la liquidación y pago de nómina y los módulos adicionales previstos en su desarrollo."},{"$f":"IFERROR(GESTION!I75,\" \")","v":"Meta cuantificable"},{"$f":"IFERROR(GESTION!J75,\" \")","v":1},null,0]
[null,null,null,null,{"$f":"IFERROR(GESTION!H76,\" \")","v":"Auditoría a la gestión de los bienes muebles en comodato, incluyendo el seguimiento a la gestión de comparendos y pago de multas impuestas por infracción a las normas de tránsito."},{"$f":"IFERROR(GESTION!I76,\" \")","v":"Meta cuantificable"},{"$f":"IFERROR(GESTION!J76,\" \")","v":1},null,0]
[null,null,null,null,{"$f":"IFERROR(GESTION!H77,\" \")","v":"Evaluación a los resultados de los contratos de digitalización."},{"$f":"IFERROR(GESTION!I77,\" \")","v":"Meta cuantificable"},{"$f":"IFERROR(GESTION!J77,\" \")","v":1},null,0]
[null,null,null,null,{"$f":"IFERROR(GESTION!H78,\" \")","v":"Auditoría a la gestión de almacén e inventarios, que incluye análisis del software SICOF."},{"$f":"IFERROR(GESTION!I78,\" \")","v":"Meta cuantificable"},{"$f":"IFERROR(GESTION!J78,\" \")","v":1},null,0]
[null,null,null,null,{"$f":"IFERROR(GESTION!H79,\" \")","v":"Auditoría a las obras de mejoramiento y mantenimiento de la infraestructura física."},{"$f":"IFERROR(GESTION!I79,\" \")","v":"Meta cuantificable"},{"$f":"IFERROR(GESTION!J79,\" \")","v":100},null,0]
[null,null,"5. Prevenir fenómenos asociados con actos de corrupción en la Rama Judicial y reducir las experiencias de corrupción de usuarios y servidores judiciales.",null,{"$f":"IFERROR(GESTION!H80,\" \")","v":"Auditoría al contrato 162 de 2022, cuyo objeto es \"Contratar los servicios especializados para el acompañamiento, implementación, diseño, ejecución, seguimiento y gestión de las estrategias de gestión del cambio y comunicaciones en la Rama Judicial, para que apoye, facilite y coadyuve a conseguir la implementación exitosa de los procesos de transformación digital y las comunicaciones, su uso, apropiación y adaptación de los proyectos e iniciativas que compone el PETD\"."},{"$f":"IFERROR(GESTION!I80,\" \")","v":"Meta cuantificable"},{"$f":"IFERROR(GESTION!J80,\" \")","v":1},null,0]
[null,null,null,null,{"$f":"IFERROR(GESTION!H81,\" \")","v":"Auditoría al Contrato 131 de 2021, cuyo objeto es \"Prestar los servicios para la definición diseño e implementación del portal web de la Rama judicial\"."},{"$f":"IFERROR(GESTION!I81,\" \")","v":"Meta cuantificable"},{"$f":"IFERROR(GESTION!J81,\" \")","v":1},null,0]
[null,null,null,null,{"$f":"IFERROR(GESTION!H82,\" \")","v":"Auditoría técnica al Contrato 212 de 2021, que tiene por objeto \"Prestar los servicios especializados para realizar el análisis, diseño, desarrollo e implementación de aplicaciones de analítica de datos, chatbots, asistentes virtuales, bots y plataforma de recuperación de información jurisprudencial, relatorías y contenidos jurídicos, para el mejoramiento del servicio y acceso a la justicia\"."},{"$f":"IFERROR(GESTION!I82,\" \")","v":"Meta cuantificable"},{"$f":"IFERROR(GESTION!J82,\" \")","v":1},null,0]
[null,null,null,null,{"$f":"IFERROR(GESTION!H84,\" \")","v":"Auditoría a obras de infraestructura en ejecución."},{"$f":"IFERROR(GESTION!I84,\" \")","v":"Meta cuantificable"},{"$f":"IFERROR(GESTION!J84,\" \")","v":4},null,0]
[null,null,null,null,{"$f":"IFERROR(GESTION!H98,\" \")","v":"Informe de seguimiento a las medidas de austeridad en el gasto público (Art. 2.8.4.8.2 Decreto 1068/2015)."},{"$f":"IFERROR(GESTION!I98,\" \")","v":"Meta cuantificable"},{"$f":"IFERROR(GESTION!J98,\" \")","v":4},null,0]
[null,null,"6. Promover la rendición de cuentas y la colaboración real con la ciudadanía como fundamento para diseñar acciones de mejoramiento del acceso a la justicia.",null,{"$f":"IFERROR(GESTION!H99,\" \")","v":"Informe de seguimiento al Plan Anticorrupción y de Atención al Ciudadano (Art. 2.1.4.6 Decreto 1081/2015)."},{"$f":"IFERROR(GESTION!I99,\" \")","v":"Meta cuantificable"},{"$f":"IFERROR(GESTION!J99,\" \")","v":3},null,0]
[null,null,null,null,{"$f":"IFERROR(GESTION!H100,\" \")","v":"Informe de vigilancia a la atención de quejas, sugerencias y reclamos (Art. 76 Ley 1474/2011)."},{"$f":"IFERROR(GESTION!I100,\" \")","v":"Meta cuantificable"},{"$f":"IFERROR(GESTION!J100,\" \")","v":2},null,0]
[null,null,null,null,{"$f":"IFERROR(GESTION!H101,\" \")","v":"Informe de seguimiento a la implementación del Sistema Único de Gestión e Información de la Actividad Litigiosa del Estado (eKOGUI 2.0) (Art. 2.2.3.4.1.14 Decreto 1069/2015)."},{"$f":"IFERROR(GESTION!I101,\" \")","v":"Meta cuantificable"},{"$f":"IFERROR(GESTION!J101,\" \")","v":2},null,0]
[null,null,null,null,{"$f":"IFERROR(GESTION!H102,\" \")","v":"Formulario Único Reporte de Avances de la Gestión (FURAG II) - Vigencia 2022 (Art. 2.2.23.3 Decreto 1083/2015)."},{"$f":"IFERROR(GESTION!I102,\" \")","v":"Meta cuantificable"},{"$f":"IFERROR(GESTION!J102,\" \")","v":1},null,0]
[null,null,null,null,{"$f":"IFERROR(GESTION!H113,\" \")","v":"Informe de verificación y evaluación de la aplicación de los mecanismos de participación ciudadana en las audiencias públicas de rendición de cuentas del CSJ, DEAJ, CSeJ y DSAJ, vigencia 2022 (Art. 11 Acuerdo PCSJA20-11478)."},{"$f":"IFERROR(GESTION!I113,\" \")","v":"Meta cuantificable"},{"$f":"IFERROR(GESTION!J113,\" \")","v":1},null,0]
[null,null,"7. Continuar la consolidación del SIGCMA, a través de los procesos de formación en modelos de gestión, logrando la implementación y ampliación de este en los esquemas certificados de manera gradual, teniendo en cuenta las capacidades de los diferentes despachos judiciales y dependencias de la Rama Judicial y articulando el enfoque de Arquitectura Empresarial para el desarrollo del PETD a través de la gestión del conocimiento para la gestión del cambio propendiendo por una cultura de la calidad, la transparencia, la rendición de cuentas, la anticorrupción y el antisoborno","1. Gestionar el desarrollo de las competencias, la toma de conciencia , la cultura  organizacional  y el compromiso de los  servidores judiciales, contratistas, practicantes y  judicantes de contribuir a generar valor público en la administración de justicia, en el marco de  cumplimiento de los requisitos  aplicables y el comportamiento ético.\n4. Hacer un uso racional de los recursos naturales aplicando los principios y fases de la Economía Circular, para prevenir, mitigar y controlar los impactos ambientales.",{"$f":"IFERROR(GESTION!H114,\" \")","v":"Verificar que los controles establecidos en los diferentes procesos, procedimientos, políticas de operación, entre otros elementos del Sistema de Control Interno, se cumplan, que existan responsables, adecuados mecanismos de seguimiento, segregación de funciones, entre otros aspectos que garanticen de forma razonable el cumplimiento de los objetivos y metas institucionales."},{"$f":"IFERROR(GESTION!I114,\" \")","v":"Meta cuantificable"},{"$f":"IFERROR(GESTION!J114,\" \")","v":100},null,0]
[null,null,null,null,{"$f":"IFERROR(GESTION!H115,\" \")","v":"Generar alertas y recomendaciones que puedan llegar a prevenir y mitigar riesgos fiscales, de corrupción y en general riesgos de gestión, asociados a los procesos, programas o proyectos que desarrolla la Rama Judicial."},{"$f":"IFERROR(GESTION!I115,\" \")","v":"Meta cuantificable"},{"$f":"IFERROR(GESTION!J115,\" \")","v":100},null,0]
[null,null,null,null,{"$f":"IFERROR(GESTION!H116,\" \")","v":"Presentar informes y recomendaciones al Comité Institucional de Coordinación de Control Interno y a los Subcomités Seccionales de Coordinación del Sistema de Control Interno, sobre la ejecución del Programa Anual de Auditoría y acciones de mejora."},{"$f":"IFERROR(GESTION!I116,\" \")","v":"Meta cuantificable"},{"$f":"IFERROR(GESTION!J116,\" \")","v":1},null,0]
[null,null,null,null,{"$f":"IFERROR(GESTION!H117,\" \")","v":"Ejercer la Secretaría Técnica del Comité Institucional de Coordinación de Control Interno y los Subcomités Seccionales de Coordinación del Sistema de Control Interno."},{"$f":"IFERROR(GESTION!I117,\" \")","v":"Meta cuantificable"},{"$f":"IFERROR(GESTION!J117,\" \")","v":75},null,0]
[null,null,null,null,{"$f":"IFERROR(GESTION!H131,\" \")","v":"Facilitar el flujo de información con los entes de control, según sus solicitudes, tanto a nivel central como seccional."},{"$f":"IFERROR(GESTION!I131,\" \")","v":"Meta cuantificable"},{"$f":"IFERROR(GESTION!J131,\" \")","v":100},null,0]
["4. Talento Humano","Talento Humano: Fortalecer el talento humano en la Rama Judicial para que sea eficiente, capacitado y realice su labor en ambientes saludables y seguros. Ampliar la cobertura de la carrera judicial y mejorar la oferta de formación, que esté disponible para todos los servidores judiciales e impacte positivamente el servicio de justicia y responda a las necesidades reales del ejercicio de la función judicial.","1. Ampliar la cobertura de la carrera judicial optimizando los procesos de los concursos de méritos y propender por mitigar su litigiosidad.","1. Gestionar el desarrollo de las competencias, la toma de conciencia , la cultura  organizacional  y el compromiso de los  servidores judiciales, contratistas, practicantes y  judicantes de contribuir a generar valor público en la administración de justicia, en el marco de  cumplimiento de los requisitos  aplicables y el comportamiento ético.",{"$f":"IFERROR(GESTION!H132,\" \")","v":0},{"$f":"IFERROR(GESTION!I132,\" \")","v":0},{"$f":"IFERROR(GESTION!J132,\" \")","v":0},null,""]
[null,null,null,null,{"$f":"IFERROR(GESTION!H133,\" \")","v":0},{"$f":"IFERROR(GESTION!I133,\" \")","v":0},{"$f":"IFERROR(GESTION!J133,\" \")","v":0},null,""]
[null,null,null,null,{"$f":"IFERROR(GESTION!H134,\" \")","v":0},{"$f":"IFERROR(GESTION!I134,\" \")","v":0},{"$f":"IFERROR(GESTION!J134,\" \")","v":0},null,""]
[null,null,null,null,{"$f":"IFERROR(GESTION!H135,\" \")","v":0},{"$f":"IFERROR(GESTION!I135,\" \")","v":0},{"$f":"IFERROR(GESTION!J135,\" \")","v":0},null,""]
[null,null,null,null,{"$f":"IFERROR(GESTION!H136,\" \")","v":0},{"$f":"IFERROR(GESTION!I136,\" \")","v":0},{"$f":"IFERROR(GESTION!J136,\" \")","v":0},null,""]
[null,null,"2. Impactar la función y servicios que presta la Rama Judicial, a través de una formación integral desde una visión de gestión del conocimiento, relacionada con los problemas de la justicia y los problemas de gestión de quienes administran los recursos de la justicia, y potenciando el uso de medios virtuales.",null,{"$f":"IFERROR(GESTION!H137,\" \")","v":0},{"$f":"IFERROR(GESTION!I137,\" \")","v":0},{"$f":"IFERROR(GESTION!J137,\" \")","v":0},null,""]
[null,null,null,null,{"$f":"IFERROR(GESTION!H138,\" \")","v":0},{"$f":"IFERROR(GESTION!I138,\" \")","v":0},{"$f":"IFERROR(GESTION!J138,\" \")","v":0},null,""]
[null,null,null,null,{"$f":"IFERROR(GESTION!H139,\" \")","v":0},{"$f":"IFERROR(GESTION!I139,\" \")","v":0},{"$f":"IFERROR(GESTION!J139,\" \")","v":0},null,""]
[null,null,null,null,{"$f":"IFERROR(GESTION!H140,\" \")","v":0},{"$f":"IFERROR(GESTION!I140,\" \")","v":0},{"$f":"IFERROR(GESTION!J140,\" \")","v":0},null,""]
[null,null,null,null,{"$f":"IFERROR(GESTION!H141,\" \")","v":0},{"$f":"IFERROR(GESTION!I141,\" \")","v":0},{"$f":"IFERROR(GESTION!J141,\" \")","v":0},null,""]
[null,null,"3. Promover la incorporación de la perspectiva de género y el enfoque diferencial en los fallos judiciales y en la atención a los ciudadanos, la administración de la Rama Judicial, la administración de la carrera judicial y la elaboración de listas para altas Cortes. ",null,{"$f":"IFERROR(GESTION!H142,\" \")","v":0},{"$f":"IFERROR(GESTION!I142,\" \")","v":0},{"$f":"IFERROR(GESTION!J142,\" \")","v":0},null,""]
[null,null,null,null,{"$f":"IFERROR(GESTION!H143,\" \")","v":0},{"$f":"IFERROR(GESTION!I143,\" \")","v":0},{"$f":"IFERROR(GESTION!J143,\" \")","v":0},null,""]
[null,null,null,null,{"$f":"IFERROR(GESTION!H144,\" \")","v":0},{"$f":"IFERROR(GESTION!I144,\" \")","v":0},{"$f":"IFERROR(GESTION!J144,\" \")","v":0},null,""]
[null,null,null,null,{"$f":"IFERROR(GESTION!H145,\" \")","v":0},{"$f":"IFERROR(GESTION!I145,\" \")","v":0},{"$f":"IFERROR(GESTION!J145,\" \")","v":0},null,""]
[null,null,null,null,{"$f":"IFERROR(GESTION!H146,\" \")","v":0},{"$f":"IFERROR(GESTION!I146,\" \")","v":0},{"$f":"IFERROR(GESTION!J146,\" \")","v":0},null,""]
[null,null,"4. Desarrollar en los servidores judiciales y demás grupos de valor relevantes las competencias necesarias para la efectividad de la transformación digital de modo que puedan, entre otros, utilizar con solvencia las herramientas digitales dispuestas para sus respectivas funciones. Además, fortalecer y actualizar los conocimientos del personal a cargo de la gestión de proyectos de tecnología.",null,{"$f":"IFERROR(GESTION!H147,\" \")","v":0},{"$f":"IFERROR(GESTION!I147,\" \")","v":0},{"$f":"IFERROR(GESTION!J147,\" \")","v":0},null,""]
[null,null,null,null,{"$f":"IFERROR(GESTION!H148,\" \")","v":0},{"$f":"IFERROR(GESTION!I148,\" \")","v":0},{"$f":"IFERROR(GESTION!J148,\" \")","v":0},null,""]
[null,null,null,null,{"$f":"IFERROR(GESTION!H149,\" \")","v":0},{"$f":"IFERROR(GESTION!I149,\" \")","v":0},{"$f":"IFERROR(GESTION!J149,\" \")","v":0},null,""]
[null,null,null,null,{"$f":"IFERROR(GESTION!H150,\" \")","v":0},{"$f":"IFERROR(GESTION!I150,\" \")","v":0},{"$f":"IFERROR(GESTION!J150,\" \")","v":0},null,""]
[null,null,null,null,{"$f":"IFERROR(GESTION!H151,\" \")","v":0},{"$f":"IFERROR(GESTION!I151,\" \")","v":0},{"$f":"IFERROR(GESTION!J151,\" \")","v":0},null,""]
[null,null,"5. Promover el bienestar de todos los servidores judiciales a través de la implementación de un sistema que contemple los diferentes niveles de estrategias y acciones necesarios para mejorar el clima laboral, la salud física y mental y la calidad del tiempo de descanso.","5. Generar espacios de trabajo seguros y saludables que contribuyan a minimizar los  incidentes, accidentes y enfermedades laborales derivados de las condiciones y actos  inseguros y fomentar  el autocuidado, los  estilos de vida y el trabajo saludable en los servidores judiciales, contratistas, judicantes y practicantes",{"$f":"IFERROR(GESTION!H152,\" \")","v":0},{"$f":"IFERROR(GESTION!I152,\" \")","v":0},{"$f":"IFERROR(GESTION!J152,\" \")","v":0},null,""]
[null,null,null,null,{"$f":"IFERROR(GESTION!H153,\" \")","v":0},{"$f":"IFERROR(GESTION!I153,\" \")","v":0},{"$f":"IFERROR(GESTION!J153,\" \")","v":0},null,""]
[null,null,null,null,{"$f":"IFERROR(GESTION!H154,\" \")","v":0},{"$f":"IFERROR(GESTION!I154,\" \")","v":0},{"$f":"IFERROR(GESTION!J154,\" \")","v":0},null,""]
[null,null,null,null,{"$f":"IFERROR(GESTION!H155,\" \")","v":0},{"$f":"IFERROR(GESTION!I155,\" \")","v":0},{"$f":"IFERROR(GESTION!J155,\" \")","v":0},null,""]
[null,null,null,null,{"$f":"IFERROR(GESTION!H156,\" \")","v":0},{"$f":"IFERROR(GESTION!I156,\" \")","v":0},{"$f":"IFERROR(GESTION!J156,\" \")","v":0},null,""]
["5. Gobernanza, planeación estratégica y capacidad de toma de decisiones","Gobernanza, planeación estratégica y capacidad de toma de decisiones: Fortalecer la gobernanza, la planeación estratégica y la capacidad de toma de decisiones de la Rama Judicial con base en la evidencia empírica y la articulación efectiva con las demás entidades, para que la perspectiva de género y el enfoque diferencial sean transversales en el presente plan. ","1. Implementar un nuevo modelo integrado para la planeación estratégica, el seguimiento y la medición del desempeño institucional.","2. Asegurar  el cumplimiento de los objetivos institucionales, la normatividad aplicable,  la mejora del SIGCMA y la satisfacción de los usuarios, revisando de  forma continua y sistemática la planificación de la gestión y fortaleciendo la administración de riesgos y sus controles.",{"$f":"IFERROR(GESTION!H157,\" \")","v":0},{"$f":"IFERROR(GESTION!I157,\" \")","v":0},{"$f":"IFERROR(GESTION!J157,\" \")","v":0},null,""]
[null,null,null,null,{"$f":"IFERROR(GESTION!H158,\" \")","v":0},{"$f":"IFERROR(GESTION!I158,\" \")","v":0},{"$f":"IFERROR(GESTION!J158,\" \")","v":0},null,""]
[null,null,null,null,{"$f":"IFERROR(GESTION!H159,\" \")","v":0},{"$f":"IFERROR(GESTION!I159,\" \")","v":0},{"$f":"IFERROR(GESTION!J159,\" \")","v":0},null,""]
[null,null,null,null,{"$f":"IFERROR(GESTION!H160,\" \")","v":0},{"$f":"IFERROR(GESTION!I160,\" \")","v":0},{"$f":"IFERROR(GESTION!J160,\" \")","v":0},null,""]
[null,null,null,null,{"$f":"IFERROR(GESTION!H161,\" \")","v":0},{"$f":"IFERROR(GESTION!I161,\" \")","v":0},{"$f":"IFERROR(GESTION!J161,\" \")","v":0},null,""]
[null,null,"2. Definir e implementar el modelo optimizado de formulación, seguimiento y evaluación de la política pública judicial.",null,{"$f":"IFERROR(GESTION!H162,\" \")","v":0},{"$f":"IFERROR(GESTION!I162,\" \")","v":0},{"$f":"IFERROR(GESTION!J162,\" \")","v":0},null,""]
[null,null,null,null,{"$f":"IFERROR(GESTION!H163,\" \")","v":0},{"$f":"IFERROR(GESTION!I163,\" \")","v":0},{"$f":"IFERROR(GESTION!J163,\" \")","v":0},null,""]
[null,null,null,null,{"$f":"IFERROR(GESTION!H164,\" \")","v":0},{"$f":"IFERROR(GESTION!I164,\" \")","v":0},{"$f":"IFERROR(GESTION!J164,\" \")","v":0},null,""]
[null,null,null,null,{"$f":"IFERROR(GESTION!H165,\" \")","v":0},{"$f":"IFERROR(GESTION!I165,\" \")","v":0},{"$f":"IFERROR(GESTION!J165,\" \")","v":0},null,""]
[null,null,null,null,{"$f":"IFERROR(GESTION!H166,\" \")","v":0},{"$f":"IFERROR(GESTION!I166,\" \")","v":0},{"$f":"IFERROR(GESTION!J166,\" \")","v":0},null,""]

{"sheet":"GESTION_SEG_3_TRIM","index":7,"n_rows":129,"n_cols":11,"rows_kept":129,"cut":false,"hidden":true,"merged":[[14,2,18,2],[14,3,18,3],[19,2,23,2],[19,3,23,3],[0,0,0,10],[1,0,1,3],[1,4,1,9],[1,10,3,10],[2,0,3,1],[2,2,3,2],[2,3,3,3],[2,4,2,9],[24,2,28,2],[24,3,28,3],[29,0,58,0],[29,1,58,1],[29,2,33,2],[29,3,58,3],[34,2,38,2],[39,2,43,2],[44,2,48,2],[49,2,53,2],[4,0,28,0],[4,1,28,1],[4,2,8,2],[4,3,8,3],[9,2,13,2],[9,3,13,3],[54,2,58,2],[59,0,93,0],[59,1,93,1],[59,2,63,2],[59,3,63,3],[64,2,68,2],[64,3,68,3],[69,2,73,2],[69,3,73,3],[74,2,78,2],[74,3,88,3],[79,2,83,2],[84,2,88,2],[89,2,93,2],[89,3,93,3],[104,2,108,2],[109,2,113,2],[114,2,118,2],[114,3,118,3],[119,0,128,0],[119,1,128,1],[119,2,123,2],[119,3,128,3],[124,2,128,2],[94,0,118,0],[94,1,118,1],[94,2,98,2],[94,3,113,3],[99,2,103,2]]}
["CONSEJO SUPERIOR DE LA JUDICATURA \nUNIDADES MISIONALES DEL CONSEJO SUPERIOR DE LA JUDICATURA - \nDIRECCIÓN EJECUTIVA DE ADMINISTRACIÓN JUDICIAL - UNIDADES MISIONALES DE LA DEAJ\nDIRECCIONES SECCIONALES DE ADMINISTRACIÓN JUDICIAL - DEPENDENCIAS JUDICIALES CERTIFICADAS"]
["PLAN SECTORIAL DE DESARROLLO 2023-2026 - OBJETIVOS SIGCMA",null,null,null,null,null,null,null,null,null," ANÁLISIS RESULTADO"]
["OBJETIVO ESTRATÉGICO",null,"OBJETIVO ESPECÍFICO PSD","OBJETIVO ESPECÍFICO SIGCMA","MEDICIÓN DE LA GESTIÓN ANUAL"]
[null,null,null,null,"ACTIVIDADES ","INDIQUE SI ES ENTREGABLE O META CUANTIFICABLE","META ANUAL","AVANCE DE LA META ","NIVEL CUMPLIMIENTO","DIFICULTADES PARA LOGRAR LA META PROPUESTA"]
["1. Acceso e Infraestructura Física","Acceso e Infraestructura Física: Ampliar, en todo el territorio nacional, el acceso a una justicia efectiva, pronta, equitativa e incluyente, reduciendo el atraso y la congestión, de acuerdo con las necesidades de la demanda de justicia por jurisdicción y especialidad, y mejorando la articulación con la justicia restaurativa y terapéutica, y otros mecanismos de solución de conflictos y consolidando una infraestructura física óptima para el acceso a la justicia.","1. Ampliar el acceso a justicia para atender las necesidades jurídicas de los ciudadanos con un enfoque diferencial, de una manera pronta, reduciendo las inequidades y las brechas territoriales de acceso.","2. Asegurar  el cumplimiento de los objetivos institucionales, la normatividad aplicable,  la mejora del SIGCMA y la satisfacción de los usuarios, revisando de  forma continua y sistemática la planificación de la gestión y fortaleciendo la administración de riesgos y sus controles",{"$f":"IFERROR(GESTION!H5,\" \")","v":0},{"$f":"IFERROR(GESTION!I5,\" \")","v":0},{"$f":"IFERROR(GESTION!J5,\" \")","v":0},null,{"$f":"IFERROR(H5/G5,\"\")","v":""}]
[null,null,null,null,{"$f":"IFERROR(GESTION!H6,\" \")","v":0},{"$f":"IFERROR(GESTION!I6,\" \")","v":0},{"$f":"IFERROR(GESTION!J6,\" \")","v":0},null,""]
[null,null,null,null,{"$f":"IFERROR(GESTION!H7,\" \")","v":0},{"$f":"IFERROR(GESTION!I7,\" \")","v":0},{"$f":"IFERROR(GESTION!J7,\" \")","v":0},null,""]
[null,null,null,null,{"$f":"IFERROR(GESTION!H8,\" \")","v":0},{"$f":"IFERROR(GESTION!I8,\" \")","v":0},{"$f":"IFERROR(GESTION!J8,\" \")","v":0},null,""]
[null,null,null,null,{"$f":"IFERROR(GESTION!H9,\" \")","v":0},{"$f":"IFERROR(GESTION!I9,\" \")","v":0},{"$f":"IFERROR(GESTION!J9,\" \")","v":0},null,""]
[null,null,"2. Mejorar los tiempos de respuesta de la Rama Judicial y reducir el inventario de procesos, identificando los retos internos y promoviendo tanto acciones articuladas específicas para abordarlos como estrategias coordinadas para enfrentar las barreras que dependen de otras entidades.","2. Asegurar  el cumplimiento de los objetivos institucionales, la normatividad aplicable,  la mejora del SIGCMA y la satisfacción de los usuarios, revisando de  forma continua y sistemática la planificación de la gestión y fortaleciendo la administración de riesgos y sus controles",{"$f":"IFERROR(GESTION!H10,\" \")","v":0},{"$f":"IFERROR(GESTION!I10,\" \")","v":0},{"$f":"IFERROR(GESTION!J10,\" \")","v":0},null,""]
[null,null,null,null,{"$f":"IFERROR(GESTION!H11,\" \")","v":0},{"$f":"IFERROR(GESTION!I11,\" \")","v":0},{"$f":"IFERROR(GESTION!J11,\" \")","v":0},null,""]
[null,null,null,null,{"$f":"IFERROR(GESTION!H12,\" \")","v":0},{"$f":"IFERROR(GESTION!I12,\" \")","v":0},{"$f":"IFERROR(GESTION!J12,\" \")","v":0},null,""]
[null,null,null,null,{"$f":"IFERROR(GESTION!H13,\" \")","v":0},{"$f":"IFERROR(GESTION!I13,\" \")","v":0},{"$f":"IFERROR(GESTION!J13,\" \")","v":0},null,""]
[null,null,null,null,{"$f":"IFERROR(GESTION!H14,\" \")","v":0},{"$f":"IFERROR(GESTION!I14,\" \")","v":0},{"$f":"IFERROR(GESTION!J14,\" \")","v":0},null,""]
[null,null,"3. Coadyuvar en la garantía de la idoneidad en el ejercicio de la profesión jurídica de acuerdo con lo establecido en la Ley 1905 de 2018","2. Asegurar  el cumplimiento de los objetivos institucionales, la normatividad aplicable,  la mejora del SIGCMA y la satisfacción de los usuarios, revisando de  forma continua y sistemática la planificación de la gestión y fortaleciendo la administración de riesgos y sus controles",{"$f":"IFERROR(GESTION!H15,\" \")","v":0},{"$f":"IFERROR(GESTION!I15,\" \")","v":0},{"$f":"IFERROR(GESTION!J15,\" \")","v":0},null,""]
[null,null,null,null,{"$f":"IFERROR(GESTION!H16,\" \")","v":0},{"$f":"IFERROR(GESTION!I16,\" \")","v":0},{"$f":"IFERROR(GESTION!J16,\" \")","v":0},null,""]
[null,null,null,null,{"$f":"IFERROR(GESTION!H17,\" \")","v":0},{"$f":"IFERROR(GESTION!I17,\" \")","v":0},{"$f":"IFERROR(GESTION!J17,\" \")","v":0},null,""]
[null,null,null,null,{"$f":"IFERROR(GESTION!H18,\" \")","v":0},{"$f":"IFERROR(GESTION!I18,\" \")","v":0},{"$f":"IFERROR(GESTION!J18,\" \")","v":0},null,""]
[null,null,null,null,{"$f":"IFERROR(GESTION!H19,\" \")","v":0},{"$f":"IFERROR(GESTION!I19,\" \")","v":0},{"$f":"IFERROR(GESTION!J19,\" \")","v":0},null,""]
[null,null,"4. Avanzar en la disposición de una infraestructura óptima para el acceso a la justicia en la Rama Judicial de modo que se fortalezca la presencia territorial, teniendo en cuenta las posibilidades que ofrece la transformación digital y las necesidades que se derivan de ella, y considerando tanto las necesidades de los usuarios como las de los servidores judiciales.","4. Hacer un uso racional de los recursos naturales aplicando los principios y fases de la Economía Circular, para prevenir, mitigar y controlar los impactos ambientales",{"$f":"IFERROR(GESTION!H20,\" \")","v":0},{"$f":"IFERROR(GESTION!I20,\" \")","v":0},{"$f":"IFERROR(GESTION!J20,\" \")","v":0},null,""]
[null,null,null,null,{"$f":"IFERROR(GESTION!H21,\" \")","v":0},{"$f":"IFERROR(GESTION!I21,\" \")","v":0},{"$f":"IFERROR(GESTION!J21,\" \")","v":0},null,""]
[null,null,null,null,{"$f":"IFERROR(GESTION!H22,\" \")","v":0},{"$f":"IFERROR(GESTION!I22,\" \")","v":0},{"$f":"IFERROR(GESTION!J22,\" \")","v":0},null,""]
[null,null,null,null,{"$f":"IFERROR(GESTION!H23,\" \")","v":0},{"$f":"IFERROR(GESTION!I23,\" \")","v":0},{"$f":"IFERROR(GESTION!J23,\" \")","v":0},null,""]
[null,null,null,null,{"$f":"IFERROR(GESTION!H24,\" \")","v":0},{"$f":"IFERROR(GESTION!I24,\" \")","v":0},{"$f":"IFERROR(GESTION!J24,\" \")","v":0},null,""]
[null,null,"5. Impulsar el uso de mecanismos alternativos para la solución de conflictos y la ampliación de la justicia restaurativa y terapéutica y el robustecimiento de las alternativas al encarcelamiento","2. Asegurar  el cumplimiento de los objetivos institucionales, la normatividad aplicable,  la mejora del SIGCMA y la satisfacción de los usuarios, revisando de  forma continua y sistemática la planificación de la gestión y fortaleciendo la administración de riesgos y sus controles",{"$f":"IFERROR(GESTION!H25,\" \")","v":0},{"$f":"IFERROR(GESTION!I25,\" \")","v":0},{"$f":"IFERROR(GESTION!J25,\" \")","v":0},null,""]
[null,null,null,null,{"$f":"IFERROR(GESTION!H26,\" \")","v":0},{"$f":"IFERROR(GESTION!I26,\" \")","v":0},{"$f":"IFERROR(GESTION!J26,\" \")","v":0},null,""]
[null,null,null,null,{"$f":"IFERROR(GESTION!H27,\" \")","v":0},{"$f":"IFERROR(GESTION!I27,\" \")","v":0},{"$f":"IFERROR(GESTION!J27,\" \")","v":0},null,""]
[null,null,null,null,{"$f":"IFERROR(GESTION!H28,\" \")","v":0},{"$f":"IFERROR(GESTION!I28,\" \")","v":0},{"$f":"IFERROR(GESTION!J28,\" \")","v":0},null,""]
[null,null,null,null,{"$f":"IFERROR(GESTION!H29,\" \")","v":0},{"$f":"IFERROR(GESTION!I29,\" \")","v":0},{"$f":"IFERROR(GESTION!J29,\" \")","v":0},null,""]
["2. Servicios digitales y de tecnología, innovación y análisis de la información.","Servicios digitales y de tecnología, innovación y análisis de la información: Consolidar una justicia integrada y soportada en servicios digitales y de tecnología, innovación y análisis de la información, con una cultura digital apropiada, segura y sensible a las realidades del territorio nacional. ","1. Ampliar el acceso a la justicia a través de la consolidación del uso de los servicios digitales que conforman el sistema único integrado de gestión judicial en todos los despachos judiciales y dependencias de apoyo y, específicamente, incluyendo el despliegue e implementación del Expediente Judicial Electrónico en todas las jurisdicciones y especialidades.","6. Proteger, preservar y administrar los activos de información  implementando acciones  para gestionar de forma adecuada los incidentes, proteger los datos personales y adoptar mecanismos  de ciberseguridad y aseguramiento de la  continuidad del negocio.",{"$f":"IFERROR(GESTION!H30,\" \")","v":0},{"$f":"IFERROR(GESTION!I30,\" \")","v":0},{"$f":"IFERROR(GESTION!J30,\" \")","v":0},null,""]
[null,null,null,null,{"$f":"IFERROR(GESTION!H31,\" \")","v":0},{"$f":"IFERROR(GESTION!I31,\" \")","v":0},{"$f":"IFERROR(GESTION!J31,\" \")","v":0},null,""]
[null,null,null,null,{"$f":"IFERROR(GESTION!H32,\" \")","v":0},{"$f":"IFERROR(GESTION!I32,\" \")","v":0},{"$f":"IFERROR(GESTION!J32,\" \")","v":0},null,""]
[null,null,null,null,{"$f":"IFERROR(GESTION!H33,\" \")","v":0},{"$f":"IFERROR(GESTION!I33,\" \")","v":0},{"$f":"IFERROR(GESTION!J33,\" \")","v":0},null,""]
[null,null,null,null,{"$f":"IFERROR(GESTION!H34,\" \")","v":0},{"$f":"IFERROR(GESTION!I34,\" \")","v":0},{"$f":"IFERROR(GESTION!J34,\" \")","v":0},null,""]
[null,null,"2. Integrar y hacer compatibles todos los aplicativos de transición con SIUGJ, para que la migración de los expedientes judiciales a dicha plataforma sea real y no suponga afectaciones en la prestación del servicio de justicia.",null,{"$f":"IFERROR(GESTION!H35,\" \")","v":0},{"$f":"IFERROR(GESTION!I35,\" \")","v":0},{"$f":"IFERROR(GESTION!J35,\" \")","v":0},null,""]
[null,null,null,null,{"$f":"IFERROR(GESTION!H36,\" \")","v":0},{"$f":"IFERROR(GESTION!I36,\" \")","v":0},{"$f":"IFERROR(GESTION!J36,\" \")","v":0},null,""]
[null,null,null,null,{"$f":"IFERROR(GESTION!H37,\" \")","v":0},{"$f":"IFERROR(GESTION!I37,\" \")","v":0},{"$f":"IFERROR(GESTION!J37,\" \")","v":0},null,""]
[null,null,null,null,{"$f":"IFERROR(GESTION!H38,\" \")","v":0},{"$f":"IFERROR(GESTION!I38,\" \")","v":0},{"$f":"IFERROR(GESTION!J38,\" \")","v":0},null,""]
[null,null,null,null,{"$f":"IFERROR(GESTION!H39,\" \")","v":0},{"$f":"IFERROR(GESTION!I39,\" \")","v":0},{"$f":"IFERROR(GESTION!J39,\" \")","v":0},null,""]
[null,null,"3. Fortalecer las capacidades institucionales, adecuar el modelo operativo y de servicio, bajo un enfoque de Arquitectura Empresarial y de fortalecimiento del acceso a la justicia.",null,{"$f":"IFERROR(GESTION!H40,\" \")","v":0},{"$f":"IFERROR(GESTION!I40,\" \")","v":0},{"$f":"IFERROR(GESTION!J40,\" \")","v":0},null,""]
[null,null,null,null,{"$f":"IFERROR(GESTION!H41,\" \")","v":0},{"$f":"IFERROR(GESTION!I41,\" \")","v":0},{"$f":"IFERROR(GESTION!J41,\" \")","v":0},null,""]
[null,null,null,null,{"$f":"IFERROR(GESTION!H42,\" \")","v":0},{"$f":"IFERROR(GESTION!I42,\" \")","v":0},{"$f":"IFERROR(GESTION!J42,\" \")","v":0},null,""]
[null,null,null,null,{"$f":"IFERROR(GESTION!H43,\" \")","v":0},{"$f":"IFERROR(GESTION!I43,\" \")","v":0},{"$f":"IFERROR(GESTION!J43,\" \")","v":0},null,""]
[null,null,null,null,{"$f":"IFERROR(GESTION!H44,\" \")","v":0},{"$f":"IFERROR(GESTION!I44,\" \")","v":0},{"$f":"IFERROR(GESTION!J44,\" \")","v":0},null,""]
[null,null,"4.Consolidar la cultura y apropiación de la transformación digital en los servidores y usuarios de los servicios de la Rama Judicial y reducir brechas de acceso y conocimiento, incluyendo la oferta efectiva de información sobre el uso de las nuevas herramientas virtuales implementadas en las diferentes jurisdicciones, con especial énfasis en las zonas del país donde es evidente la brecha digital.",null,{"$f":"IFERROR(GESTION!H45,\" \")","v":0},{"$f":"IFERROR(GESTION!I45,\" \")","v":0},{"$f":"IFERROR(GESTION!J45,\" \")","v":0},null,""]
[null,null,null,null,{"$f":"IFERROR(GESTION!H46,\" \")","v":0},{"$f":"IFERROR(GESTION!I46,\" \")","v":0},{"$f":"IFERROR(GESTION!J46,\" \")","v":0},null,""]
[null,null,null,null,{"$f":"IFERROR(GESTION!H47,\" \")","v":0},{"$f":"IFERROR(GESTION!I47,\" \")","v":0},{"$f":"IFERROR(GESTION!J47,\" \")","v":0},null,""]
[null,null,null,null,{"$f":"IFERROR(GESTION!H48,\" \")","v":0},{"$f":"IFERROR(GESTION!I48,\" \")","v":0},{"$f":"IFERROR(GESTION!J48,\" \")","v":0},null,""]
[null,null,null,null,{"$f":"IFERROR(GESTION!H49,\" \")","v":0},{"$f":"IFERROR(GESTION!I49,\" \")","v":0},{"$f":"IFERROR(GESTION!J49,\" \")","v":0},null,""]
[null,null,"5.Consolidar la infraestructura y los recursos necesarios para la implementación exitosa de la transformación digital, incluyendo la disposición de internet de calidad en el 100% de las sedes en la Rama Judicial y modernizar los servicios tecnológicos de soporte. ",null,{"$f":"IFERROR(GESTION!H50,\" \")","v":0},{"$f":"IFERROR(GESTION!I50,\" \")","v":0},{"$f":"IFERROR(GESTION!J50,\" \")","v":0},null,""]
[null,null,null,null,{"$f":"IFERROR(GESTION!H51,\" \")","v":0},{"$f":"IFERROR(GESTION!I51,\" \")","v":0},{"$f":"IFERROR(GESTION!J51,\" \")","v":0},null,""]
[null,null,null,null,{"$f":"IFERROR(GESTION!H52,\" \")","v":0},{"$f":"IFERROR(GESTION!I52,\" \")","v":0},{"$f":"IFERROR(GESTION!J52,\" \")","v":0},null,""]
[null,null,null,null,{"$f":"IFERROR(GESTION!H53,\" \")","v":0},{"$f":"IFERROR(GESTION!I53,\" \")","v":0},{"$f":"IFERROR(GESTION!J53,\" \")","v":0},null,""]
[null,null,null,null,{"$f":"IFERROR(GESTION!H54,\" \")","v":0},{"$f":"IFERROR(GESTION!I54,\" \")","v":0},{"$f":"IFERROR(GESTION!J54,\" \")","v":0},null,""]
[null,null,"6.Integrar y optimizar los servicios administrativos de la Rama Judicial bajo un enfoque de transformación digital e innovación incluyendo los componentes financiero, administrativo, talento humano, entre otros",null,{"$f":"IFERROR(GESTION!H55,\" \")","v":0},{"$f":"IFERROR(GESTION!I55,\" \")","v":0},{"$f":"IFERROR(GESTION!J55,\" \")","v":0},null,""]
[null,null,null,null,{"$f":"IFERROR(GESTION!H56,\" \")","v":0},{"$f":"IFERROR(GESTION!I56,\" \")","v":0},{"$f":"IFERROR(GESTION!J56,\" \")","v":0},null,""]
[null,null,null,null,{"$f":"IFERROR(GESTION!H57,\" \")","v":0},{"$f":"IFERROR(GESTION!I57,\" \")","v":0},{"$f":"IFERROR(GESTION!J57,\" \")","v":0},null,""]
[null,null,null,null,{"$f":"IFERROR(GESTION!H58,\" \")","v":0},{"$f":"IFERROR(GESTION!I58,\" \")","v":0},{"$f":"IFERROR(GESTION!J58,\" \")","v":0},null,""]
[null,null,null,null,{"$f":"IFERROR(GESTION!H59,\" \")","v":0},{"$f":"IFERROR(GESTION!I59,\" \")","v":0},{"$f":"IFERROR(GESTION!J59,\" \")","v":0},null,""]
["3. Confianza pública, transparencia y rendición de cuentas","Confianza pública, transparencia y rendición de cuentas: Aumentar la confianza pública en la justicia a través de la transparencia, la rendición de cuentas y la participación, incluyendo la información de justicia y la producción, gestión y acceso a las fuentes de derecho, el fortalecimiento del sistema de gestión de calidad y medio ambiente (SIGCMA) y el mejoramiento de la calidad y publicidad de la información. ","1. Incrementar la cantidad, la calidad y pertinencia de los datos sobre el funcionamiento del servicio de justicia bajo un modelo de gobierno de datos y un liderazgo unificado. ","4. Hacer un uso racional de los recursos naturales aplicando los principios y fases de la Economía Circular, para prevenir, mitigar y controlar los impactos ambientales.",{"$f":"IFERROR(GESTION!H60,\" \")","v":0},{"$f":"IFERROR(GESTION!I60,\" \")","v":0},{"$f":"IFERROR(GESTION!J60,\" \")","v":0},null,""]
[null,null,null,null,{"$f":"IFERROR(GESTION!H61,\" \")","v":0},{"$f":"IFERROR(GESTION!I61,\" \")","v":0},{"$f":"IFERROR(GESTION!J61,\" \")","v":0},null,""]
[null,null,null,null,{"$f":"IFERROR(GESTION!H62,\" \")","v":0},{"$f":"IFERROR(GESTION!I62,\" \")","v":0},{"$f":"IFERROR(GESTION!J62,\" \")","v":0},null,""]
[null,null,null,null,{"$f":"IFERROR(GESTION!H63,\" \")","v":0},{"$f":"IFERROR(GESTION!I63,\" \")","v":0},{"$f":"IFERROR(GESTION!J63,\" \")","v":0},null,""]
[null,null,null,null,{"$f":"IFERROR(GESTION!H64,\" \")","v":0},{"$f":"IFERROR(GESTION!I64,\" \")","v":0},{"$f":"IFERROR(GESTION!J64,\" \")","v":0},null,""]
[null,null,"2. Consolidar la administración de la información entendida como todas las acciones rientadas a garantizar el acceso, consulta, uso y conservación de la información de justicia de manera ágil, flexible e inteligente, bajo un enfoque de innovación.",null,{"$f":"IFERROR(GESTION!H65,\" \")","v":0},{"$f":"IFERROR(GESTION!I65,\" \")","v":0},{"$f":"IFERROR(GESTION!J65,\" \")","v":0},null,""]
[null,null,null,null,{"$f":"IFERROR(GESTION!H66,\" \")","v":0},{"$f":"IFERROR(GESTION!I66,\" \")","v":0},{"$f":"IFERROR(GESTION!J66,\" \")","v":0},null,""]
[null,null,null,null,{"$f":"IFERROR(GESTION!H67,\" \")","v":0},{"$f":"IFERROR(GESTION!I67,\" \")","v":0},{"$f":"IFERROR(GESTION!J67,\" \")","v":0},null,""]
[null,null,null,null,{"$f":"IFERROR(GESTION!H68,\" \")","v":0},{"$f":"IFERROR(GESTION!I68,\" \")","v":0},{"$f":"IFERROR(GESTION!J68,\" \")","v":0},null,""]
[null,null,null,null,{"$f":"IFERROR(GESTION!H69,\" \")","v":0},{"$f":"IFERROR(GESTION!I69,\" \")","v":0},{"$f":"IFERROR(GESTION!J69,\" \")","v":0},null,{"$f":"IFERROR(H69/G69,\"\")","v":""}]
[null,null,"3. Fortalecer el Sistema integrado de Gestión de la Rama, orientado a la implementación y certificación de las normas antisoborno.","1. Gestionar el desarrollo de las competencias, la toma de conciencia , la cultura  organizacional  y el compromiso de los  servidores judiciales, contratistas, practicantes y  judicantes de contribuir a generar valor público en la administración de justicia, en el marco de  cumplimiento de los requisitos  aplicables y el comportamiento ético.\n3. Fomentar la transparencia y la participación generando lineamientos y promoviendo la rendición de cuentas ,la consulta, reporte y planteamiento de inquietudes en relación con las decisiones y aspectos del SIGCMA.",{"$f":"IFERROR(GESTION!H70,\" \")","v":0},{"$f":"IFERROR(GESTION!I70,\" \")","v":0},{"$f":"IFERROR(GESTION!J70,\" \")","v":0},null,""]
[null,null,null,null,{"$f":"IFERROR(GESTION!H71,\" \")","v":0},{"$f":"IFERROR(GESTION!I71,\" \")","v":0},{"$f":"IFERROR(GESTION!J71,\" \")","v":0},null,""]
[null,null,null,null,{"$f":"IFERROR(GESTION!H72,\" \")","v":0},{"$f":"IFERROR(GESTION!I72,\" \")","v":0},{"$f":"IFERROR(GESTION!J72,\" \")","v":0},null,""]
[null,null,null,null,{"$f":"IFERROR(GESTION!H73,\" \")","v":0},{"$f":"IFERROR(GESTION!I73,\" \")","v":0},{"$f":"IFERROR(GESTION!J73,\" \")","v":0},null,""]
[null,null,null,null,{"$f":"IFERROR(GESTION!H74,\" \")","v":0},{"$f":"IFERROR(GESTION!I74,\" \")","v":0},{"$f":"IFERROR(GESTION!J74,\" \")","v":0},null,""]
[null,null,"4. Aumentar la confianza, la cercanía y acceso a los servicios de la Rama Judicial a través, entre otros, de una comunicación clara y asertiva con la ciudadanía.","3. Fomentar la transparencia y la participación generando lineamientos y promoviendo la rendición de cuentas ,la consulta, reporte y planteamiento de inquietudes en relación con las decisiones y aspectos del SIGCMA.",{"$f":"IFERROR(GESTION!H75,\" \")","v":"Auditoría a la funcionalidad de Efinómina, en relación con sus resultados en la liquidación y pago de nómina y los módulos adicionales previstos en su desarrollo."},{"$f":"IFERROR(GESTION!I75,\" \")","v":"Meta cuantificable"},{"$f":"IFERROR(GESTION!J75,\" \")","v":1},null,0]
[null,null,null,null,{"$f":"IFERROR(GESTION!H76,\" \")","v":"Auditoría a la gestión de los bienes muebles en comodato, incluyendo el seguimiento a la gestión de comparendos y pago de multas impuestas por infracción a las normas de tránsito."},{"$f":"IFERROR(GESTION!I76,\" \")","v":"Meta cuantificable"},{"$f":"IFERROR(GESTION!J76,\" \")","v":1},null,0]
[null,null,null,null,{"$f":"IFERROR(GESTION!H77,\" \")","v":"Evaluación a los resultados de los contratos de digitalización."},{"$f":"IFERROR(GESTION!I77,\" \")","v":"Meta cuantificable"},{"$f":"IFERROR(GESTION!J77,\" \")","v":1},null,0]
[null,null,null,null,{"$f":"IFERROR(GESTION!H78,\" \")","v":"Auditoría a la gestión de almacén e inventarios, que incluye análisis del software SICOF."},{"$f":"IFERROR(GESTION!I78,\" \")","v":"Meta cuantificable"},{"$f":"IFERROR(GESTION!J78,\" \")","v":1},null,0]
[null,null,null,null,{"$f":"IFERROR(GESTION!H79,\" \")","v":"Auditoría a las obras de mejoramiento y mantenimiento de la infraestructura física."},{"$f":"IFERROR(GESTION!I79,\" \")","v":"Meta cuantificable"},{"$f":"IFERROR(GESTION!J79,\" \")","v":100},null,0]
[null,null,"5. Prevenir fenómenos asociados con actos de corrupción en la Rama Judicial y reducir las experiencias de corrupción de usuarios y servidores judiciales.",null,{"$f":"IFERROR(GESTION!H80,\" \")","v":"Auditoría al contrato 162 de 2022, cuyo objeto es \"Contratar los servicios especializados para el acompañamiento, implementación, diseño, ejecución, seguimiento y gestión de las estrategias de gestión del cambio y comunicaciones en la Rama Judicial, para que apoye, facilite y coadyuve a conseguir la implementación exitosa de los procesos de transformación digital y las comunicaciones, su uso, apropiación y adaptación de los proyectos e iniciativas que compone el PETD\"."},{"$f":"IFERROR(GESTION!I80,\" \")","v":"Meta cuantificable"},{"$f":"IFERROR(GESTION!J80,\" \")","v":1},null,0]
[null,null,null,null,{"$f":"IFERROR(GESTION!H81,\" \")","v":"Auditoría al Contrato 131 de 2021, cuyo objeto es \"Prestar los servicios para la definición diseño e implementación del portal web de la Rama judicial\"."},{"$f":"IFERROR(GESTION!I81,\" \")","v":"Meta cuantificable"},{"$f":"IFERROR(GESTION!J81,\" \")","v":1},null,0]
[null,null,null,null,{"$f":"IFERROR(GESTION!H82,\" \")","v":"Auditoría técnica al Contrato 212 de 2021, que tiene por objeto \"Prestar los servicios especializados para realizar el análisis, diseño, desarrollo e implementación de aplicaciones de analítica de datos, chatbots, asistentes virtuales, bots y plataforma de recuperación de información jurisprudencial, relatorías y contenidos jurídicos, para el mejoramiento del servicio y acceso a la justicia\"."},{"$f":"IFERROR(GESTION!I82,\" \")","v":"Meta cuantificable"},{"$f":"IFERROR(GESTION!J82,\" \")","v":1},null,0]
[null,null,null,null,{"$f":"IFERROR(GESTION!H84,\" \")","v":"Auditoría a obras de infraestructura en ejecución."},{"$f":"IFERROR(GESTION!I84,\" \")","v":"Meta cuantificable"},{"$f":"IFERROR(GESTION!J84,\" \")","v":4},null,0]
[null,null,null,null,{"$f":"IFERROR(GESTION!H98,\" \")","v":"Informe de seguimiento a las medidas de austeridad en el gasto público (Art. 2.8.4.8.2 Decreto 1068/2015)."},{"$f":"IFERROR(GESTION!I98,\" \")","v":"Meta cuantificable"},{"$f":"IFERROR(GESTION!J98,\" \")","v":4},null,0]
[null,null,"6. Promover la rendición de cuentas y la colaboración real con la ciudadanía como fundamento para diseñar acciones de mejoramiento del acceso a la justicia.",null,{"$f":"IFERROR(GESTION!H99,\" \")","v":"Informe de seguimiento al Plan Anticorrupción y de Atención al Ciudadano (Art. 2.1.4.6 Decreto 1081/2015)."},{"$f":"IFERROR(GESTION!I99,\" \")","v":"Meta cuantificable"},{"$f":"IFERROR(GESTION!J99,\" \")","v":3},null,0]
[null,null,null,null,{"$f":"IFERROR(GESTION!H100,\" \")","v":"Informe de vigilancia a la atención de quejas, sugerencias y reclamos (Art. 76 Ley 1474/2011)."},{"$f":"IFERROR(GESTION!I100,\" \")","v":"Meta cuantificable"},{"$f":"IFERROR(GESTION!J100,\" \")","v":2},null,0]
[null,null,null,null,{"$f":"IFERROR(GESTION!H101,\" \")","v":"Informe de seguimiento a la implementación del Sistema Único de Gestión e Información de la Actividad Litigiosa del Estado (eKOGUI 2.0) (Art. 2.2.3.4.1.14 Decreto 1069/2015)."},{"$f":"IFERROR(GESTION!I101,\" \")","v":"Meta cuantificable"},{"$f":"IFERROR(GESTION!J101,\" \")","v":2},null,0]
[null,null,null,null,{"$f":"IFERROR(GESTION!H102,\" \")","v":"Formulario Único Reporte de Avances de la Gestión (FURAG II) - Vigencia 2022 (Art. 2.2.23.3 Decreto 1083/2015)."},{"$f":"IFERROR(GESTION!I102,\" \")","v":"Meta cuantificable"},{"$f":"IFERROR(GESTION!J102,\" \")","v":1},null,0]
[null,null,null,null,{"$f":"IFERROR(GESTION!H113,\" \")","v":"Informe de verificación y evaluación de la aplicación de los mecanismos de participación ciudadana en las audiencias públicas de rendición de cuentas del CSJ, DEAJ, CSeJ y DSAJ, vigencia 2022 (Art. 11 Acuerdo PCSJA20-11478)."},{"$f":"IFERROR(GESTION!I113,\" \")","v":"Meta cuantificable"},{"$f":"IFERROR(GESTION!J113,\" \")","v":1},null,0]
[null,null,"7. Continuar la consolidación del SIGCMA, a través de los procesos de formación en modelos de gestión, logrando la implementación y ampliación de este en los esquemas certificados de manera gradual, teniendo en cuenta las capacidades de los diferentes despachos judiciales y dependencias de la Rama Judicial y articulando el enfoque de Arquitectura Empresarial para el desarrollo del PETD a través de la gestión del conocimiento para la gestión del cambio propendiendo por una cultura de la calidad, la transparencia, la rendición de cuentas, la anticorrupción y el antisoborno","1. Gestionar el desarrollo de las competencias, la toma de conciencia , la cultura  organizacional  y el compromiso de los  servidores judiciales, contratistas, practicantes y  judicantes de contribuir a generar valor público en la administración de justicia, en el marco de  cumplimiento de los requisitos  aplicables y el comportamiento ético.\n4. Hacer un uso racional de los recursos naturales aplicando los principios y fases de la Economía Circular, para prevenir, mitigar y controlar los impactos ambientales.",{"$f":"IFERROR(GESTION!H114,\" \")","v":"Verificar que los controles establecidos en los diferentes procesos, procedimientos, políticas de operación, entre otros elementos del Sistema de Control Interno, se cumplan, que existan responsables, adecuados mecanismos de seguimiento, segregación de funciones, entre otros aspectos que garanticen de forma razonable el cumplimiento de los objetivos y metas institucionales."},{"$f":"IFERROR(GESTION!I114,\" \")","v":"Meta cuantificable"},{"$f":"IFERROR(GESTION!J114,\" \")","v":100},null,0]
[null,null,null,null,{"$f":"IFERROR(GESTION!H115,\" \")","v":"Generar alertas y recomendaciones que puedan llegar a prevenir y mitigar riesgos fiscales, de corrupción y en general riesgos de gestión, asociados a los procesos, programas o proyectos que desarrolla la Rama Judicial."},{"$f":"IFERROR(GESTION!I115,\" \")","v":"Meta cuantificable"},{"$f":"IFERROR(GESTION!J115,\" \")","v":100},null,0]
[null,null,null,null,{"$f":"IFERROR(GESTION!H116,\" \")","v":"Presentar informes y recomendaciones al Comité Institucional de Coordinación de Control Interno y a los Subcomités Seccionales de Coordinación del Sistema de Control Interno, sobre la ejecución del Programa Anual de Auditoría y acciones de mejora."},{"$f":"IFERROR(GESTION!I116,\" \")","v":"Meta cuantificable"},{"$f":"IFERROR(GESTION!J116,\" \")","v":1},null,0]
[null,null,null,null,{"$f":"IFERROR(GESTION!H117,\" \")","v":"Ejercer la Secretaría Técnica del Comité Institucional de Coordinación de Control Interno y los Subcomités Seccionales de Coordinación del Sistema de Control Interno."},{"$f":"IFERROR(GESTION!I117,\" \")","v":"Meta cuantificable"},{"$f":"IFERROR(GESTION!J117,\" \")","v":75},null,0]
[null,null,null,null,{"$f":"IFERROR(GESTION!H131,\" \")","v":"Facilitar el flujo de información con los entes de control, según sus solicitudes, tanto a nivel central como seccional."},{"$f":"IFERROR(GESTION!I131,\" \")","v":"Meta cuantificable"},{"$f":"IFERROR(GESTION!J131,\" \")","v":100},null,0]
["4. Talento Humano","Talento Humano: Fortalecer el talento humano en la Rama Judicial para que sea eficiente, capacitado y realice su labor en ambientes saludables y seguros. Ampliar la cobertura de la carrera judicial y mejorar la oferta de formación, que esté disponible para todos los servidores judiciales e impacte positivamente el servicio de justicia y responda a las necesidades reales del ejercicio de la función judicial.","1. Ampliar la cobertura de la carrera judicial optimizando los procesos de los concursos de méritos y propender por mitigar su litigiosidad.","1. Gestionar el desarrollo de las competencias, la toma de conciencia , la cultura  organizacional  y el compromiso de los  servidores judiciales, contratistas, practicantes y  judicantes de contribuir a generar valor público en la administración de justicia, en el marco de  cumplimiento de los requisitos  aplicables y el comportamiento ético.",{"$f":"IFERROR(GESTION!H132,\" \")","v":0},{"$f":"IFERROR(GESTION!I132,\" \")","v":0},{"$f":"IFERROR(GESTION!J132,\" \")","v":0},null,""]
[null,null,null,null,{"$f":"IFERROR(GESTION!H133,\" \")","v":0},{"$f":"IFERROR(GESTION!I133,\" \")","v":0},{"$f":"IFERROR(GESTION!J133,\" \")","v":0},null,""]
[null,null,null,null,{"$f":"IFERROR(GESTION!H134,\" \")","v":0},{"$f":"IFERROR(GESTION!I134,\" \")","v":0},{"$f":"IFERROR(GESTION!J134,\" \")","v":0},null,""]
[null,null,null,null,{"$f":"IFERROR(GESTION!H135,\" \")","v":0},{"$f":"IFERROR(GESTION!I135,\" \")","v":0},{"$f":"IFERROR(GESTION!J135,\" \")","v":0},null,""]
[null,null,null,null,{"$f":"IFERROR(GESTION!H136,\" \")","v":0},{"$f":"IFERROR(GESTION!I136,\" \")","v":0},{"$f":"IFERROR(GESTION!J136,\" \")","v":0},null,""]
[null,null,"2. Impactar la función y servicios que presta la Rama Judicial, a través de una formación integral desde una visión de gestión del conocimiento, relacionada con los problemas de la justicia y los problemas de gestión de quienes administran los recursos de la justicia, y potenciando el uso de medios virtuales.",null,{"$f":"IFERROR(GESTION!H137,\" \")","v":0},{"$f":"IFERROR(GESTION!I137,\" \")","v":0},{"$f":"IFERROR(GESTION!J137,\" \")","v":0},null,""]
[null,null,null,null,{"$f":"IFERROR(GESTION!H138,\" \")","v":0},{"$f":"IFERROR(GESTION!I138,\" \")","v":0},{"$f":"IFERROR(GESTION!J138,\" \")","v":0},null,""]
[null,null,null,null,{"$f":"IFERROR(GESTION!H139,\" \")","v":0},{"$f":"IFERROR(GESTION!I139,\" \")","v":0},{"$f":"IFERROR(GESTION!J139,\" \")","v":0},null,""]
[null,null,null,null,{"$f":"IFERROR(GESTION!H140,\" \")","v":0},{"$f":"IFERROR(GESTION!I140,\" \")","v":0},{"$f":"IFERROR(GESTION!J140,\" \")","v":0},null,""]
[null,null,null,null,{"$f":"IFERROR(GESTION!H141,\" \")","v":0},{"$f":"IFERROR(GESTION!I141,\" \")","v":0},{"$f":"IFERROR(GESTION!J141,\" \")","v":0},null,""]
[null,null,"3. Promover la incorporación de la perspectiva de género y el enfoque diferencial en los fallos judiciales y en la atención a los ciudadanos, la administración de la Rama Judicial, la administración de la carrera judicial y la elaboración de listas para altas Cortes. ",null,{"$f":"IFERROR(GESTION!H142,\" \")","v":0},{"$f":"IFERROR(GESTION!I142,\" \")","v":0},{"$f":"IFERROR(GESTION!J142,\" \")","v":0},null,""]
[null,null,null,null,{"$f":"IFERROR(GESTION!H143,\" \")","v":0},{"$f":"IFERROR(GESTION!I143,\" \")","v":0},{"$f":"IFERROR(GESTION!J143,\" \")","v":0},null,""]
[null,null,null,null,{"$f":"IFERROR(GESTION!H144,\" \")","v":0},{"$f":"IFERROR(GESTION!I144,\" \")","v":0},{"$f":"IFERROR(GESTION!J144,\" \")","v":0},null,""]
[null,null,null,null,{"$f":"IFERROR(GESTION!H145,\" \")","v":0},{"$f":"IFERROR(GESTION!I145,\" \")","v":0},{"$f":"IFERROR(GESTION!J145,\" \")","v":0},null,""]
[null,null,null,null,{"$f":"IFERROR(GESTION!H146,\" \")","v":0},{"$f":"IFERROR(GESTION!I146,\" \")","v":0},{"$f":"IFERROR(GESTION!J146,\" \")","v":0},null,""]
[null,null,"4. Desarrollar en los servidores judiciales y demás grupos de valor relevantes las competencias necesarias para la efectividad de la transformación digital de modo que puedan, entre otros, utilizar con solvencia las herramientas digitales dispuestas para sus respectivas funciones. Además, fortalecer y actualizar los conocimientos del personal a cargo de la gestión de proyectos de tecnología.",null,{"$f":"IFERROR(GESTION!H147,\" \")","v":0},{"$f":"IFERROR(GESTION!I147,\" \")","v":0},{"$f":"IFERROR(GESTION!J147,\" \")","v":0},null,""]
[null,null,null,null,{"$f":"IFERROR(GESTION!H148,\" \")","v":0},{"$f":"IFERROR(GESTION!I148,\" \")","v":0},{"$f":"IFERROR(GESTION!J148,\" \")","v":0},null,""]
[null,null,null,null,{"$f":"IFERROR(GESTION!H149,\" \")","v":0},{"$f":"IFERROR(GESTION!I149,\" \")","v":0},{"$f":"IFERROR(GESTION!J149,\" \")","v":0},null,""]
[null,null,null,null,{"$f":"IFERROR(GESTION!H150,\" \")","v":0},{"$f":"IFERROR(GESTION!I150,\" \")","v":0},{"$f":"IFERROR(GESTION!J150,\" \")","v":0},null,""]
[null,null,null,null,{"$f":"IFERROR(GESTION!H151,\" \")","v":0},{"$f":"IFERROR(GESTION!I151,\" \")","v":0},{"$f":"IFERROR(GESTION!J151,\" \")","v":0},null,""]
[null,null,"5. Promover el bienestar de todos los servidores judiciales a través de la implementación de un sistema que contemple los diferentes niveles de estrategias y acciones necesarios para mejorar el clima laboral, la salud física y mental y la calidad del tiempo de descanso.","5. Generar espacios de trabajo seguros y saludables que contribuyan a minimizar los  incidentes, accidentes y enfermedades laborales derivados de las condiciones y actos  inseguros y fomentar  el autocuidado, los  estilos de vida y el trabajo saludable en los servidores judiciales, contratistas, judicantes y practicantes",{"$f":"IFERROR(GESTION!H152,\" \")","v":0},{"$f":"IFERROR(GESTION!I152,\" \")","v":0},{"$f":"IFERROR(GESTION!J152,\" \")","v":0},null,""]
[null,null,null,null,{"$f":"IFERROR(GESTION!H153,\" \")","v":0},{"$f":"IFERROR(GESTION!I153,\" \")","v":0},{"$f":"IFERROR(GESTION!J153,\" \")","v":0},null,""]
[null,null,null,null,{"$f":"IFERROR(GESTION!H154,\" \")","v":0},{"$f":"IFERROR(GESTION!I154,\" \")","v":0},{"$f":"IFERROR(GESTION!J154,\" \")","v":0},null,""]
[null,null,null,null,{"$f":"IFERROR(GESTION!H155,\" \")","v":0},{"$f":"IFERROR(GESTION!I155,\" \")","v":0},{"$f":"IFERROR(GESTION!J155,\" \")","v":0},null,""]
[null,null,null,null,{"$f":"IFERROR(GESTION!H156,\" \")","v":0},{"$f":"IFERROR(GESTION!I156,\" \")","v":0},{"$f":"IFERROR(GESTION!J156,\" \")","v":0},null,""]
["5. Gobernanza, planeación estratégica y capacidad de toma de decisiones","Gobernanza, planeación estratégica y capacidad de toma de decisiones: Fortalecer la gobernanza, la planeación estratégica y la capacidad de toma de decisiones de la Rama Judicial con base en la evidencia empírica y la articulación efectiva con las demás entidades, para que la perspectiva de género y el enfoque diferencial sean transversales en el presente plan. ","1. Implementar un nuevo modelo integrado para la planeación estratégica, el seguimiento y la medición del desempeño institucional.","2. Asegurar  el cumplimiento de los objetivos institucionales, la normatividad aplicable,  la mejora del SIGCMA y la satisfacción de los usuarios, revisando de  forma continua y sistemática la planificación de la gestión y fortaleciendo la administración de riesgos y sus controles.",{"$f":"IFERROR(GESTION!H157,\" \")","v":0},{"$f":"IFERROR(GESTION!I157,\" \")","v":0},{"$f":"IFERROR(GESTION!J157,\" \")","v":0},null,""]
[null,null,null,null,{"$f":"IFERROR(GESTION!H158,\" \")","v":0},{"$f":"IFERROR(GESTION!I158,\" \")","v":0},{"$f":"IFERROR(GESTION!J158,\" \")","v":0},null,""]
[null,null,null,null,{"$f":"IFERROR(GESTION!H159,\" \")","v":0},{"$f":"IFERROR(GESTION!I159,\" \")","v":0},{"$f":"IFERROR(GESTION!J159,\" \")","v":0},null,""]
[null,null,null,null,{"$f":"IFERROR(GESTION!H160,\" \")","v":0},{"$f":"IFERROR(GESTION!I160,\" \")","v":0},{"$f":"IFERROR(GESTION!J160,\" \")","v":0},null,""]
[null,null,null,null,{"$f":"IFERROR(GESTION!H161,\" \")","v":0},{"$f":"IFERROR(GESTION!I161,\" \")","v":0},{"$f":"IFERROR(GESTION!J161,\" \")","v":0},null,""]
[null,null,"2. Definir e implementar el modelo optimizado de formulación, seguimiento y evaluación de la política pública judicial.",null,{"$f":"IFERROR(GESTION!H162,\" \")","v":0},{"$f":"IFERROR(GESTION!I162,\" \")","v":0},{"$f":"IFERROR(GESTION!J162,\" \")","v":0},null,""]
[null,null,null,null,{"$f":"IFERROR(GESTION!H163,\" \")","v":0},{"$f":"IFERROR(GESTION!I163,\" \")","v":0},{"$f":"IFERROR(GESTION!J163,\" \")","v":0},null,""]
[null,null,null,null,{"$f":"IFERROR(GESTION!H164,\" \")","v":0},{"$f":"IFERROR(GESTION!I164,\" \")","v":0},{"$f":"IFERROR(GESTION!J164,\" \")","v":0},null,""]
[null,null,null,null,{"$f":"IFERROR(GESTION!H165,\" \")","v":0},{"$f":"IFERROR(GESTION!I165,\" \")","v":0},{"$f":"IFERROR(GESTION!J165,\" \")","v":0},null,""]
[null,null,null,null,{"$f":"IFERROR(GESTION!H166,\" \")","v":0},{"$f":"IFERROR(GESTION!I166,\" \")","v":0},{"$f":"IFERROR(GESTION!J166,\" \")","v":0},null,""]

{"sheet":"GESTION_SEG_4_TRIM","index":8,"n_rows":129,"n_cols":11,"rows_kept":129,"cut":false,"hidden":true,"merged":[[14,2,18,2],[14,3,18,3],[19,2,23,2],[19,3,23,3],[0,0,0,10],[1,0,1,3],[1,4,1,9],[1,10,3,10],[2,0,3,1],[2,2,3,2],[2,3,3,3],[2,4,2,9],[24,2,28,2],[24,3,28,3],[29,0,58,0],[29,1,58,1],[29,2,33,2],[29,3,58,3],[34,2,38,2],[39,2,43,2],[44,2,48,2],[49,2,53,2],[4,0,28,0],[4,1,28,1],[4,2,8,2],[4,3,8,3],[9,2,13,2],[9,3,13,3],[54,2,58,2],[59,0,93,0],[59,1,93,1],[59,2,63,2],[59,3,63,3],[64,2,68,2],[64,3,68,3],[69,2,73,2],[69,3,73,3],[74,2,78,2],[74,3,88,3],[79,2,83,2],[84,2,88,2],[89,2,93,2],[89,3,93,3],[104,2,108,2],[109,2,113,2],[114,2,118,2],[114,3,118,3],[119,0,128,0],[119,1,128,1],[119,2,123,2],[119,3,128,3],[124,2,128,2],[94,0,118,0],[94,1,118,1],[94,2,98,2],[94,3,113,3],[99,2,103,2]]}
["CONSEJO SUPERIOR DE LA JUDICATURA \nUNIDADES MISIONALES DEL CONSEJO SUPERIOR DE LA JUDICATURA - \nDIRECCIÓN EJECUTIVA DE ADMINISTRACIÓN JUDICIAL - UNIDADES MISIONALES DE LA DEAJ\nDIRECCIONES SECCIONALES DE ADMINISTRACIÓN JUDICIAL - DEPENDENCIAS JUDICIALES CERTIFICADAS"]
["PLAN SECTORIAL DE DESARROLLO 2023-2026 - OBJETIVOS SIGCMA",null,null,null,null,null,null,null,null,null," ANÁLISIS RESULTADO"]
["OBJETIVO ESTRATÉGICO",null,"OBJETIVO ESPECÍFICO PSD","OBJETIVO ESPECÍFICO SIGCMA","MEDICIÓN DE LA GESTIÓN ANUAL"]
[null,null,null,null,"ACTIVIDADES ","INDIQUE SI ES ENTREGABLE O META CUANTIFICABLE","META ANUAL","AVANCE DE LA META ","NIVEL CUMPLIMIENTO","DIFICULTADES PARA LOGRAR LA META PROPUESTA"]
["1. Acceso e Infraestructura Física","Acceso e Infraestructura Física: Ampliar, en todo el territorio nacional, el acceso a una justicia efectiva, pronta, equitativa e incluyente, reduciendo el atraso y la congestión, de acuerdo con las necesidades de la demanda de justicia por jurisdicción y especialidad, y mejorando la articulación con la justicia restaurativa y terapéutica, y otros mecanismos de solución de conflictos y consolidando una infraestructura física óptima para el acceso a la justicia.","1. Ampliar el acceso a justicia para atender las necesidades jurídicas de los ciudadanos con un enfoque diferencial, de una manera pronta, reduciendo las inequidades y las brechas territoriales de acceso.","2. Asegurar  el cumplimiento de los objetivos institucionales, la normatividad aplicable,  la mejora del SIGCMA y la satisfacción de los usuarios, revisando de  forma continua y sistemática la planificación de la gestión y fortaleciendo la administración de riesgos y sus controles",{"$f":"IFERROR(GESTION!H5,\" \")","v":0},{"$f":"IFERROR(GESTION!I5,\" \")","v":0},{"$f":"IFERROR(GESTION!J5,\" \")","v":0},null,{"$f":"IFERROR(H5/G5,\"\")","v":""}]
[null,null,null,null,{"$f":"IFERROR(GESTION!H6,\" \")","v":0},{"$f":"IFERROR(GESTION!I6,\" \")","v":0},{"$f":"IFERROR(GESTION!J6,\" \")","v":0},null,""]
[null,null,null,null,{"$f":"IFERROR(GESTION!H7,\" \")","v":0},{"$f":"IFERROR(GESTION!I7,\" \")","v":0},{"$f":"IFERROR(GESTION!J7,\" \")","v":0},null,""]
[null,null,null,null,{"$f":"IFERROR(GESTION!H8,\" \")","v":0},{"$f":"IFERROR(GESTION!I8,\" \")","v":0},{"$f":"IFERROR(GESTION!J8,\" \")","v":0},null,""]
[null,null,null,null,{"$f":"IFERROR(GESTION!H9,\" \")","v":0},{"$f":"IFERROR(GESTION!I9,\" \")","v":0},{"$f":"IFERROR(GESTION!J9,\" \")","v":0},null,""]
[null,null,"2. Mejorar los tiempos de respuesta de la Rama Judicial y reducir el inventario de procesos, identificando los retos internos y promoviendo tanto acciones articuladas específicas para abordarlos como estrategias coordinadas para enfrentar las barreras que dependen de otras entidades.","2. Asegurar  el cumplimiento de los objetivos institucionales, la normatividad aplicable,  la mejora del SIGCMA y la satisfacción de los usuarios, revisando de  forma continua y sistemática la planificación de la gestión y fortaleciendo la administración de riesgos y sus controles",{"$f":"IFERROR(GESTION!H10,\" \")","v":0},{"$f":"IFERROR(GESTION!I10,\" \")","v":0},{"$f":"IFERROR(GESTION!J10,\" \")","v":0},null,""]
[null,null,null,null,{"$f":"IFERROR(GESTION!H11,\" \")","v":0},{"$f":"IFERROR(GESTION!I11,\" \")","v":0},{"$f":"IFERROR(GESTION!J11,\" \")","v":0},null,""]
[null,null,null,null,{"$f":"IFERROR(GESTION!H12,\" \")","v":0},{"$f":"IFERROR(GESTION!I12,\" \")","v":0},{"$f":"IFERROR(GESTION!J12,\" \")","v":0},null,""]
[null,null,null,null,{"$f":"IFERROR(GESTION!H13,\" \")","v":0},{"$f":"IFERROR(GESTION!I13,\" \")","v":0},{"$f":"IFERROR(GESTION!J13,\" \")","v":0},null,""]
[null,null,null,null,{"$f":"IFERROR(GESTION!H14,\" \")","v":0},{"$f":"IFERROR(GESTION!I14,\" \")","v":0},{"$f":"IFERROR(GESTION!J14,\" \")","v":0},null,""]
[null,null,"3. Coadyuvar en la garantía de la idoneidad en el ejercicio de la profesión jurídica de acuerdo con lo establecido en la Ley 1905 de 2018","2. Asegurar  el cumplimiento de los objetivos institucionales, la normatividad aplicable,  la mejora del SIGCMA y la satisfacción de los usuarios, revisando de  forma continua y sistemática la planificación de la gestión y fortaleciendo la administración de riesgos y sus controles",{"$f":"IFERROR(GESTION!H15,\" \")","v":0},{"$f":"IFERROR(GESTION!I15,\" \")","v":0},{"$f":"IFERROR(GESTION!J15,\" \")","v":0},null,""]
[null,null,null,null,{"$f":"IFERROR(GESTION!H16,\" \")","v":0},{"$f":"IFERROR(GESTION!I16,\" \")","v":0},{"$f":"IFERROR(GESTION!J16,\" \")","v":0},null,""]
[null,null,null,null,{"$f":"IFERROR(GESTION!H17,\" \")","v":0},{"$f":"IFERROR(GESTION!I17,\" \")","v":0},{"$f":"IFERROR(GESTION!J17,\" \")","v":0},null,""]
[null,null,null,null,{"$f":"IFERROR(GESTION!H18,\" \")","v":0},{"$f":"IFERROR(GESTION!I18,\" \")","v":0},{"$f":"IFERROR(GESTION!J18,\" \")","v":0},null,""]
[null,null,null,null,{"$f":"IFERROR(GESTION!H19,\" \")","v":0},{"$f":"IFERROR(GESTION!I19,\" \")","v":0},{"$f":"IFERROR(GESTION!J19,\" \")","v":0},null,""]
[null,null,"4. Avanzar en la disposición de una infraestructura óptima para el acceso a la justicia en la Rama Judicial de modo que se fortalezca la presencia territorial, teniendo en cuenta las posibilidades que ofrece la transformación digital y las necesidades que se derivan de ella, y considerando tanto las necesidades de los usuarios como las de los servidores judiciales.","4. Hacer un uso racional de los recursos naturales aplicando los principios y fases de la Economía Circular, para prevenir, mitigar y controlar los impactos ambientales",{"$f":"IFERROR(GESTION!H20,\" \")","v":0},{"$f":"IFERROR(GESTION!I20,\" \")","v":0},{"$f":"IFERROR(GESTION!J20,\" \")","v":0},null,""]
[null,null,null,null,{"$f":"IFERROR(GESTION!H21,\" \")","v":0},{"$f":"IFERROR(GESTION!I21,\" \")","v":0},{"$f":"IFERROR(GESTION!J21,\" \")","v":0},null,""]
[null,null,null,null,{"$f":"IFERROR(GESTION!H22,\" \")","v":0},{"$f":"IFERROR(GESTION!I22,\" \")","v":0},{"$f":"IFERROR(GESTION!J22,\" \")","v":0},null,""]
[null,null,null,null,{"$f":"IFERROR(GESTION!H23,\" \")","v":0},{"$f":"IFERROR(GESTION!I23,\" \")","v":0},{"$f":"IFERROR(GESTION!J23,\" \")","v":0},null,""]
[null,null,null,null,{"$f":"IFERROR(GESTION!H24,\" \")","v":0},{"$f":"IFERROR(GESTION!I24,\" \")","v":0},{"$f":"IFERROR(GESTION!J24,\" \")","v":0},null,""]
[null,null,"5. Impulsar el uso de mecanismos alternativos para la solución de conflictos y la ampliación de la justicia restaurativa y terapéutica y el robustecimiento de las alternativas al encarcelamiento","2. Asegurar  el cumplimiento de los objetivos institucionales, la normatividad aplicable,  la mejora del SIGCMA y la satisfacción de los usuarios, revisando de  forma continua y sistemática la planificación de la gestión y fortaleciendo la administración de riesgos y sus controles",{"$f":"IFERROR(GESTION!H25,\" \")","v":0},{"$f":"IFERROR(GESTION!I25,\" \")","v":0},{"$f":"IFERROR(GESTION!J25,\" \")","v":0},null,""]
[null,null,null,null,{"$f":"IFERROR(GESTION!H26,\" \")","v":0},{"$f":"IFERROR(GESTION!I26,\" \")","v":0},{"$f":"IFERROR(GESTION!J26,\" \")","v":0},null,""]
[null,null,null,null,{"$f":"IFERROR(GESTION!H27,\" \")","v":0},{"$f":"IFERROR(GESTION!I27,\" \")","v":0},{"$f":"IFERROR(GESTION!J27,\" \")","v":0},null,""]
[null,null,null,null,{"$f":"IFERROR(GESTION!H28,\" \")","v":0},{"$f":"IFERROR(GESTION!I28,\" \")","v":0},{"$f":"IFERROR(GESTION!J28,\" \")","v":0},null,""]
[null,null,null,null,{"$f":"IFERROR(GESTION!H29,\" \")","v":0},{"$f":"IFERROR(GESTION!I29,\" \")","v":0},{"$f":"IFERROR(GESTION!J29,\" \")","v":0},null,""]
["2. Servicios digitales y de tecnología, innovación y análisis de la información.","Servicios digitales y de tecnología, innovación y análisis de la información: Consolidar una justicia integrada y soportada en servicios digitales y de tecnología, innovación y análisis de la información, con una cultura digital apropiada, segura y sensible a las realidades del territorio nacional. ","1. Ampliar el acceso a la justicia a través de la consolidación del uso de los servicios digitales que conforman el sistema único integrado de gestión judicial en todos los despachos judiciales y dependencias de apoyo y, específicamente, incluyendo el despliegue e implementación del Expediente Judicial Electrónico en todas las jurisdicciones y especialidades.","6. Proteger, preservar y administrar los activos de información  implementando acciones  para gestionar de forma adecuada los incidentes, proteger los datos personales y adoptar mecanismos  de ciberseguridad y aseguramiento de la  continuidad del negocio.",{"$f":"IFERROR(GESTION!H30,\" \")","v":0},{"$f":"IFERROR(GESTION!I30,\" \")","v":0},{"$f":"IFERROR(GESTION!J30,\" \")","v":0},null,""]
[null,null,null,null,{"$f":"IFERROR(GESTION!H31,\" \")","v":0},{"$f":"IFERROR(GESTION!I31,\" \")","v":0},{"$f":"IFERROR(GESTION!J31,\" \")","v":0},null,""]
[null,null,null,null,{"$f":"IFERROR(GESTION!H32,\" \")","v":0},{"$f":"IFERROR(GESTION!I32,\" \")","v":0},{"$f":"IFERROR(GESTION!J32,\" \")","v":0},null,""]
[null,null,null,null,{"$f":"IFERROR(GESTION!H33,\" \")","v":0},{"$f":"IFERROR(GESTION!I33,\" \")","v":0},{"$f":"IFERROR(GESTION!J33,\" \")","v":0},null,""]
[null,null,null,null,{"$f":"IFERROR(GESTION!H34,\" \")","v":0},{"$f":"IFERROR(GESTION!I34,\" \")","v":0},{"$f":"IFERROR(GESTION!J34,\" \")","v":0},null,""]
[null,null,"2. Integrar y hacer compatibles todos los aplicativos de transición con SIUGJ, para que la migración de los expedientes judiciales a dicha plataforma sea real y no suponga afectaciones en la prestación del servicio de justicia.",null,{"$f":"IFERROR(GESTION!H35,\" \")","v":0},{"$f":"IFERROR(GESTION!I35,\" \")","v":0},{"$f":"IFERROR(GESTION!J35,\" \")","v":0},null,""]
[null,null,null,null,{"$f":"IFERROR(GESTION!H36,\" \")","v":0},{"$f":"IFERROR(GESTION!I36,\" \")","v":0},{"$f":"IFERROR(GESTION!J36,\" \")","v":0},null,""]
[null,null,null,null,{"$f":"IFERROR(GESTION!H37,\" \")","v":0},{"$f":"IFERROR(GESTION!I37,\" \")","v":0},{"$f":"IFERROR(GESTION!J37,\" \")","v":0},null,""]
[null,null,null,null,{"$f":"IFERROR(GESTION!H38,\" \")","v":0},{"$f":"IFERROR(GESTION!I38,\" \")","v":0},{"$f":"IFERROR(GESTION!J38,\" \")","v":0},null,""]
[null,null,null,null,{"$f":"IFERROR(GESTION!H39,\" \")","v":0},{"$f":"IFERROR(GESTION!I39,\" \")","v":0},{"$f":"IFERROR(GESTION!J39,\" \")","v":0},null,""]
[null,null,"3. Fortalecer las capacidades institucionales, adecuar el modelo operativo y de servicio, bajo un enfoque de Arquitectura Empresarial y de fortalecimiento del acceso a la justicia.",null,{"$f":"IFERROR(GESTION!H40,\" \")","v":0},{"$f":"IFERROR(GESTION!I40,\" \")","v":0},{"$f":"IFERROR(GESTION!J40,\" \")","v":0},null,""]
[null,null,null,null,{"$f":"IFERROR(GESTION!H41,\" \")","v":0},{"$f":"IFERROR(GESTION!I41,\" \")","v":0},{"$f":"IFERROR(GESTION!J41,\" \")","v":0},null,""]
[null,null,null,null,{"$f":"IFERROR(GESTION!H42,\" \")","v":0},{"$f":"IFERROR(GESTION!I42,\" \")","v":0},{"$f":"IFERROR(GESTION!J42,\" \")","v":0},null,""]
[null,null,null,null,{"$f":"IFERROR(GESTION!H43,\" \")","v":0},{"$f":"IFERROR(GESTION!I43,\" \")","v":0},{"$f":"IFERROR(GESTION!J43,\" \")","v":0},null,""]
[null,null,null,null,{"$f":"IFERROR(GESTION!H44,\" \")","v":0},{"$f":"IFERROR(GESTION!I44,\" \")","v":0},{"$f":"IFERROR(GESTION!J44,\" \")","v":0},null,""]
[null,null,"4.Consolidar la cultura y apropiación de la transformación digital en los servidores y usuarios de los servicios de la Rama Judicial y reducir brechas de acceso y conocimiento, incluyendo la oferta efectiva de información sobre el uso de las nuevas herramientas virtuales implementadas en las diferentes jurisdicciones, con especial énfasis en las zonas del país donde es evidente la brecha digital.",null,{"$f":"IFERROR(GESTION!H45,\" \")","v":0},{"$f":"IFERROR(GESTION!I45,\" \")","v":0},{"$f":"IFERROR(GESTION!J45,\" \")","v":0},null,""]
[null,null,null,null,{"$f":"IFERROR(GESTION!H46,\" \")","v":0},{"$f":"IFERROR(GESTION!I46,\" \")","v":0},{"$f":"IFERROR(GESTION!J46,\" \")","v":0},null,""]
[null,null,null,null,{"$f":"IFERROR(GESTION!H47,\" \")","v":0},{"$f":"IFERROR(GESTION!I47,\" \")","v":0},{"$f":"IFERROR(GESTION!J47,\" \")","v":0},null,""]
[null,null,null,null,{"$f":"IFERROR(GESTION!H48,\" \")","v":0},{"$f":"IFERROR(GESTION!I48,\" \")","v":0},{"$f":"IFERROR(GESTION!J48,\" \")","v":0},null,""]
[null,null,null,null,{"$f":"IFERROR(GESTION!H49,\" \")","v":0},{"$f":"IFERROR(GESTION!I49,\" \")","v":0},{"$f":"IFERROR(GESTION!J49,\" \")","v":0},null,""]
[null,null,"5.Consolidar la infraestructura y los recursos necesarios para la implementación exitosa de la transformación digital, incluyendo la disposición de internet de calidad en el 100% de las sedes en la Rama Judicial y modernizar los servicios tecnológicos de soporte. ",null,{"$f":"IFERROR(GESTION!H50,\" \")","v":0},{"$f":"IFERROR(GESTION!I50,\" \")","v":0},{"$f":"IFERROR(GESTION!J50,\" \")","v":0},null,""]
[null,null,null,null,{"$f":"IFERROR(GESTION!H51,\" \")","v":0},{"$f":"IFERROR(GESTION!I51,\" \")","v":0},{"$f":"IFERROR(GESTION!J51,\" \")","v":0},null,""]
[null,null,null,null,{"$f":"IFERROR(GESTION!H52,\" \")","v":0},{"$f":"IFERROR(GESTION!I52,\" \")","v":0},{"$f":"IFERROR(GESTION!J52,\" \")","v":0},null,""]
[null,null,null,null,{"$f":"IFERROR(GESTION!H53,\" \")","v":0},{"$f":"IFERROR(GESTION!I53,\" \")","v":0},{"$f":"IFERROR(GESTION!J53,\" \")","v":0},null,""]
[null,null,null,null,{"$f":"IFERROR(GESTION!H54,\" \")","v":0},{"$f":"IFERROR(GESTION!I54,\" \")","v":0},{"$f":"IFERROR(GESTION!J54,\" \")","v":0},null,""]
[null,null,"6.Integrar y optimizar los servicios administrativos de la Rama Judicial bajo un enfoque de transformación digital e innovación incluyendo los componentes financiero, administrativo, talento humano, entre otros",null,{"$f":"IFERROR(GESTION!H55,\" \")","v":0},{"$f":"IFERROR(GESTION!I55,\" \")","v":0},{"$f":"IFERROR(GESTION!J55,\" \")","v":0},null,""]
[null,null,null,null,{"$f":"IFERROR(GESTION!H56,\" \")","v":0},{"$f":"IFERROR(GESTION!I56,\" \")","v":0},{"$f":"IFERROR(GESTION!J56,\" \")","v":0},null,""]
[null,null,null,null,{"$f":"IFERROR(GESTION!H57,\" \")","v":0},{"$f":"IFERROR(GESTION!I57,\" \")","v":0},{"$f":"IFERROR(GESTION!J57,\" \")","v":0},null,""]
[null,null,null,null,{"$f":"IFERROR(GESTION!H58,\" \")","v":0},{"$f":"IFERROR(GESTION!I58,\" \")","v":0},{"$f":"IFERROR(GESTION!J58,\" \")","v":0},null,""]
[null,null,null,null,{"$f":"IFERROR(GESTION!H59,\" \")","v":0},{"$f":"IFERROR(GESTION!I59,\" \")","v":0},{"$f":"IFERROR(GESTION!J59,\" \")","v":0},null,""]
["3. Confianza pública, transparencia y rendición de cuentas","Confianza pública, transparencia y rendición de cuentas: Aumentar la confianza pública en la justicia a través de la transparencia, la rendición de cuentas y la participación, incluyendo la información de justicia y la producción, gestión y acceso a las fuentes de derecho, el fortalecimiento del sistema de gestión de calidad y medio ambiente (SIGCMA) y el mejoramiento de la calidad y publicidad de la información. ","1. Incrementar la cantidad, la calidad y pertinencia de los datos sobre el funcionamiento del servicio de justicia bajo un modelo de gobierno de datos y un liderazgo unificado. ","4. Hacer un uso racional de los recursos naturales aplicando los principios y fases de la Economía Circular, para prevenir, mitigar y controlar los impactos ambientales.",{"$f":"IFERROR(GESTION!H60,\" \")","v":0},{"$f":"IFERROR(GESTION!I60,\" \")","v":0},{"$f":"IFERROR(GESTION!J60,\" \")","v":0},null,""]
[null,null,null,null,{"$f":"IFERROR(GESTION!H61,\" \")","v":0},{"$f":"IFERROR(GESTION!I61,\" \")","v":0},{"$f":"IFERROR(GESTION!J61,\" \")","v":0},null,""]
[null,null,null,null,{"$f":"IFERROR(GESTION!H62,\" \")","v":0},{"$f":"IFERROR(GESTION!I62,\" \")","v":0},{"$f":"IFERROR(GESTION!J62,\" \")","v":0},null,""]
[null,null,null,null,{"$f":"IFERROR(GESTION!H63,\" \")","v":0},{"$f":"IFERROR(GESTION!I63,\" \")","v":0},{"$f":"IFERROR(GESTION!J63,\" \")","v":0},null,""]
[null,null,null,null,{"$f":"IFERROR(GESTION!H64,\" \")","v":0},{"$f":"IFERROR(GESTION!I64,\" \")","v":0},{"$f":"IFERROR(GESTION!J64,\" \")","v":0},null,""]
[null,null,"2. Consolidar la administración de la información entendida como todas las acciones rientadas a garantizar el acceso, consulta, uso y conservación de la información de justicia de manera ágil, flexible e inteligente, bajo un enfoque de innovación.",null,{"$f":"IFERROR(GESTION!H65,\" \")","v":0},{"$f":"IFERROR(GESTION!I65,\" \")","v":0},{"$f":"IFERROR(GESTION!J65,\" \")","v":0},null,""]
[null,null,null,null,{"$f":"IFERROR(GESTION!H66,\" \")","v":0},{"$f":"IFERROR(GESTION!I66,\" \")","v":0},{"$f":"IFERROR(GESTION!J66,\" \")","v":0},null,""]
[null,null,null,null,{"$f":"IFERROR(GESTION!H67,\" \")","v":0},{"$f":"IFERROR(GESTION!I67,\" \")","v":0},{"$f":"IFERROR(GESTION!J67,\" \")","v":0},null,""]
[null,null,null,null,{"$f":"IFERROR(GESTION!H68,\" \")","v":0},{"$f":"IFERROR(GESTION!I68,\" \")","v":0},{"$f":"IFERROR(GESTION!J68,\" \")","v":0},null,""]
[null,null,null,null,{"$f":"IFERROR(GESTION!H69,\" \")","v":0},{"$f":"IFERROR(GESTION!I69,\" \")","v":0},{"$f":"IFERROR(GESTION!J69,\" \")","v":0},null,{"$f":"IFERROR(H69/G69,\"\")","v":""}]
[null,null,"3. Fortalecer el Sistema integrado de Gestión de la Rama, orientado a la implementación y certificación de las normas antisoborno.","1. Gestionar el desarrollo de las competencias, la toma de conciencia , la cultura  organizacional  y el compromiso de los  servidores judiciales, contratistas, practicantes y  judicantes de contribuir a generar valor público en la administración de justicia, en el marco de  cumplimiento de los requisitos  aplicables y el comportamiento ético.\n3. Fomentar la transparencia y la participación generando lineamientos y promoviendo la rendición de cuentas ,la consulta, reporte y planteamiento de inquietudes en relación con las decisiones y aspectos del SIGCMA.",{"$f":"IFERROR(GESTION!H70,\" \")","v":0},{"$f":"IFERROR(GESTION!I70,\" \")","v":0},{"$f":"IFERROR(GESTION!J70,\" \")","v":0},null,""]
[null,null,null,null,{"$f":"IFERROR(GESTION!H71,\" \")","v":0},{"$f":"IFERROR(GESTION!I71,\" \")","v":0},{"$f":"IFERROR(GESTION!J71,\" \")","v":0},null,""]
[null,null,null,null,{"$f":"IFERROR(GESTION!H72,\" \")","v":0},{"$f":"IFERROR(GESTION!I72,\" \")","v":0},{"$f":"IFERROR(GESTION!J72,\" \")","v":0},null,""]
[null,null,null,null,{"$f":"IFERROR(GESTION!H73,\" \")","v":0},{"$f":"IFERROR(GESTION!I73,\" \")","v":0},{"$f":"IFERROR(GESTION!J73,\" \")","v":0},null,""]
[null,null,null,null,{"$f":"IFERROR(GESTION!H74,\" \")","v":0},{"$f":"IFERROR(GESTION!I74,\" \")","v":0},{"$f":"IFERROR(GESTION!J74,\" \")","v":0},null,""]
[null,null,"4. Aumentar la confianza, la cercanía y acceso a los servicios de la Rama Judicial a través, entre otros, de una comunicación clara y asertiva con la ciudadanía.","3. Fomentar la transparencia y la participación generando lineamientos y promoviendo la rendición de cuentas ,la consulta, reporte y planteamiento de inquietudes en relación con las decisiones y aspectos del SIGCMA.",{"$f":"IFERROR(GESTION!H75,\" \")","v":"Auditoría a la funcionalidad de Efinómina, en relación con sus resultados en la liquidación y pago de nómina y los módulos adicionales previstos en su desarrollo."},{"$f":"IFERROR(GESTION!I75,\" \")","v":"Meta cuantificable"},{"$f":"IFERROR(GESTION!J75,\" \")","v":1},null,0]
[null,null,null,null,{"$f":"IFERROR(GESTION!H76,\" \")","v":"Auditoría a la gestión de los bienes muebles en comodato, incluyendo el seguimiento a la gestión de comparendos y pago de multas impuestas por infracción a las normas de tránsito."},{"$f":"IFERROR(GESTION!I76,\" \")","v":"Meta cuantificable"},{"$f":"IFERROR(GESTION!J76,\" \")","v":1},null,0]
[null,null,null,null,{"$f":"IFERROR(GESTION!H77,\" \")","v":"Evaluación a los resultados de los contratos de digitalización."},{"$f":"IFERROR(GESTION!I77,\" \")","v":"Meta cuantificable"},{"$f":"IFERROR(GESTION!J77,\" \")","v":1},null,0]
[null,null,null,null,{"$f":"IFERROR(GESTION!H78,\" \")","v":"Auditoría a la gestión de almacén e inventarios, que incluye análisis del software SICOF."},{"$f":"IFERROR(GESTION!I78,\" \")","v":"Meta cuantificable"},{"$f":"IFERROR(GESTION!J78,\" \")","v":1},null,0]
[null,null,null,null,{"$f":"IFERROR(GESTION!H79,\" \")","v":"Auditoría a las obras de mejoramiento y mantenimiento de la infraestructura física."},{"$f":"IFERROR(GESTION!I79,\" \")","v":"Meta cuantificable"},{"$f":"IFERROR(GESTION!J79,\" \")","v":100},null,0]
[null,null,"5. Prevenir fenómenos asociados con actos de corrupción en la Rama Judicial y reducir las experiencias de corrupción de usuarios y servidores judiciales.",null,{"$f":"IFERROR(GESTION!H80,\" \")","v":"Auditoría al contrato 162 de 2022, cuyo objeto es \"Contratar los servicios especializados para el acompañamiento, implementación, diseño, ejecución, seguimiento y gestión de las estrategias de gestión del cambio y comunicaciones en la Rama Judicial, para que apoye, facilite y coadyuve a conseguir la implementación exitosa de los procesos de transformación digital y las comunicaciones, su uso, apropiación y adaptación de los proyectos e iniciativas que compone el PETD\"."},{"$f":"IFERROR(GESTION!I80,\" \")","v":"Meta cuantificable"},{"$f":"IFERROR(GESTION!J80,\" \")","v":1},null,0]
[null,null,null,null,{"$f":"IFERROR(GESTION!H81,\" \")","v":"Auditoría al Contrato 131 de 2021, cuyo objeto es \"Prestar los servicios para la definición diseño e implementación del portal web de la Rama judicial\"."},{"$f":"IFERROR(GESTION!I81,\" \")","v":"Meta cuantificable"},{"$f":"IFERROR(GESTION!J81,\" \")","v":1},null,0]
[null,null,null,null,{"$f":"IFERROR(GESTION!H82,\" \")","v":"Auditoría técnica al Contrato 212 de 2021, que tiene por objeto \"Prestar los servicios especializados para realizar el análisis, diseño, desarrollo e implementación de aplicaciones de analítica de datos, chatbots, asistentes virtuales, bots y plataforma de recuperación de información jurisprudencial, relatorías y contenidos jurídicos, para el mejoramiento del servicio y acceso a la justicia\"."},{"$f":"IFERROR(GESTION!I82,\" \")","v":"Meta cuantificable"},{"$f":"IFERROR(GESTION!J82,\" \")","v":1},null,0]
[null,null,null,null,{"$f":"IFERROR(GESTION!H84,\" \")","v":"Auditoría a obras de infraestructura en ejecución."},{"$f":"IFERROR(GESTION!I84,\" \")","v":"Meta cuantificable"},{"$f":"IFERROR(GESTION!J84,\" \")","v":4},null,0]
[null,null,null,null,{"$f":"IFERROR(GESTION!H98,\" \")","v":"Informe de seguimiento a las medidas de austeridad en el gasto público (Art. 2.8.4.8.2 Decreto 1068/2015)."},{"$f":"IFERROR(GESTION!I98,\" \")","v":"Meta cuantificable"},{"$f":"IFERROR(GESTION!J98,\" \")","v":4},null,0]
[null,null,"6. Promover la rendición de cuentas y la colaboración real con la ciudadanía como fundamento para diseñar acciones de mejoramiento del acceso a la justicia.",null,{"$f":"IFERROR(GESTION!H99,\" \")","v":"Informe de seguimiento al Plan Anticorrupción y de Atención al Ciudadano (Art. 2.1.4.6 Decreto 1081/2015)."},{"$f":"IFERROR(GESTION!I99,\" \")","v":"Meta cuantificable"},{"$f":"IFERROR(GESTION!J99,\" \")","v":3},null,0]
[null,null,null,null,{"$f":"IFERROR(GESTION!H100,\" \")","v":"Informe de vigilancia a la atención de quejas, sugerencias y reclamos (Art. 76 Ley 1474/2011)."},{"$f":"IFERROR(GESTION!I100,\" \")","v":"Meta cuantificable"},{"$f":"IFERROR(GESTION!J100,\" \")","v":2},null,0]
[null,null,null,null,{"$f":"IFERROR(GESTION!H101,\" \")","v":"Informe de seguimiento a la implementación del Sistema Único de Gestión e Información de la Actividad Litigiosa del Estado (eKOGUI 2.0) (Art. 2.2.3.4.1.14 Decreto 1069/2015)."},{"$f":"IFERROR(GESTION!I101,\" \")","v":"Meta cuantificable"},{"$f":"IFERROR(GESTION!J101,\" \")","v":2},null,0]
[null,null,null,null,{"$f":"IFERROR(GESTION!H102,\" \")","v":"Formulario Único Reporte de Avances de la Gestión (FURAG II) - Vigencia 2022 (Art. 2.2.23.3 Decreto 1083/2015)."},{"$f":"IFERROR(GESTION!I102,\" \")","v":"Meta cuantificable"},{"$f":"IFERROR(GESTION!J102,\" \")","v":1},null,0]
[null,null,null,null,{"$f":"IFERROR(GESTION!H113,\" \")","v":"Informe de verificación y evaluación de la aplicación de los mecanismos de participación ciudadana en las audiencias públicas de rendición de cuentas del CSJ, DEAJ, CSeJ y DSAJ, vigencia 2022 (Art. 11 Acuerdo PCSJA20-11478)."},{"$f":"IFERROR(GESTION!I113,\" \")","v":"Meta cuantificable"},{"$f":"IFERROR(GESTION!J113,\" \")","v":1},null,0]
[null,null,"7. Continuar la consolidación del SIGCMA, a través de los procesos de formación en modelos de gestión, logrando la implementación y ampliación de este en los esquemas certificados de manera gradual, teniendo en cuenta las capacidades de los diferentes despachos judiciales y dependencias de la Rama Judicial y articulando el enfoque de Arquitectura Empresarial para el desarrollo del PETD a través de la gestión del conocimiento para la gestión del cambio propendiendo por una cultura de la calidad, la transparencia, la rendición de cuentas, la anticorrupción y el antisoborno","1. Gestionar el desarrollo de las competencias, la toma de conciencia , la cultura  organizacional  y el compromiso de los  servidores judiciales, contratistas, practicantes y  judicantes de contribuir a generar valor público en la administración de justicia, en el marco de  cumplimiento de los requisitos  aplicables y el comportamiento ético.\n4. Hacer un uso racional de los recursos naturales aplicando los principios y fases de la Economía Circular, para prevenir, mitigar y controlar los impactos ambientales.",{"$f":"IFERROR(GESTION!H114,\" \")","v":"Verificar que los controles establecidos en los diferentes procesos, procedimientos, políticas de operación, entre otros elementos del Sistema de Control Interno, se cumplan, que existan responsables, adecuados mecanismos de seguimiento, segregación de funciones, entre otros aspectos que garanticen de forma razonable el cumplimiento de los objetivos y metas institucionales."},{"$f":"IFERROR(GESTION!I114,\" \")","v":"Meta cuantificable"},{"$f":"IFERROR(GESTION!J114,\" \")","v":100},null,0]
[null,null,null,null,{"$f":"IFERROR(GESTION!H115,\" \")","v":"Generar alertas y recomendaciones que puedan llegar a prevenir y mitigar riesgos fiscales, de corrupción y en general riesgos de gestión, asociados a los procesos, programas o proyectos que desarrolla la Rama Judicial."},{"$f":"IFERROR(GESTION!I115,\" \")","v":"Meta cuantificable"},{"$f":"IFERROR(GESTION!J115,\" \")","v":100},null,0]
[null,null,null,null,{"$f":"IFERROR(GESTION!H116,\" \")","v":"Presentar informes y recomendaciones al Comité Institucional de Coordinación de Control Interno y a los Subcomités Seccionales de Coordinación del Sistema de Control Interno, sobre la ejecución del Programa Anual de Auditoría y acciones de mejora."},{"$f":"IFERROR(GESTION!I116,\" \")","v":"Meta cuantificable"},{"$f":"IFERROR(GESTION!J116,\" \")","v":1},null,0]
[null,null,null,null,{"$f":"IFERROR(GESTION!H117,\" \")","v":"Ejercer la Secretaría Técnica del Comité Institucional de Coordinación de Control Interno y los Subcomités Seccionales de Coordinación del Sistema de Control Interno."},{"$f":"IFERROR(GESTION!I117,\" \")","v":"Meta cuantificable"},{"$f":"IFERROR(GESTION!J117,\" \")","v":75},null,0]
[null,null,null,null,{"$f":"IFERROR(GESTION!H131,\" \")","v":"Facilitar el flujo de información con los entes de control, según sus solicitudes, tanto a nivel central como seccional."},{"$f":"IFERROR(GESTION!I131,\" \")","v":"Meta cuantificable"},{"$f":"IFERROR(GESTION!J131,\" \")","v":100},null,0]
["4. Talento Humano","Talento Humano: Fortalecer el talento humano en la Rama Judicial para que sea eficiente, capacitado y realice su labor en ambientes saludables y seguros. Ampliar la cobertura de la carrera judicial y mejorar la oferta de formación, que esté disponible para todos los servidores judiciales e impacte positivamente el servicio de justicia y responda a las necesidades reales del ejercicio de la función judicial.","1. Ampliar la cobertura de la carrera judicial optimizando los procesos de los concursos de méritos y propender por mitigar su litigiosidad.","1. Gestionar el desarrollo de las competencias, la toma de conciencia , la cultura  organizacional  y el compromiso de los  servidores judiciales, contratistas, practicantes y  judicantes de contribuir a generar valor público en la administración de justicia, en el marco de  cumplimiento de los requisitos  aplicables y el comportamiento ético.",{"$f":"IFERROR(GESTION!H132,\" \")","v":0},{"$f":"IFERROR(GESTION!I132,\" \")","v":0},{"$f":"IFERROR(GESTION!J132,\" \")","v":0},null,""]
[null,null,null,null,{"$f":"IFERROR(GESTION!H133,\" \")","v":0},{"$f":"IFERROR(GESTION!I133,\" \")","v":0},{"$f":"IFERROR(GESTION!J133,\" \")","v":0},null,""]
[null,null,null,null,{"$f":"IFERROR(GESTION!H134,\" \")","v":0},{"$f":"IFERROR(GESTION!I134,\" \")","v":0},{"$f":"IFERROR(GESTION!J134,\" \")","v":0},null,""]
[null,null,null,null,{"$f":"IFERROR(GESTION!H135,\" \")","v":0},{"$f":"IFERROR(GESTION!I135,\" \")","v":0},{"$f":"IFERROR(GESTION!J135,\" \")","v":0},null,""]
[null,null,null,null,{"$f":"IFERROR(GESTION!H136,\" \")","v":0},{"$f":"IFERROR(GESTION!I136,\" \")","v":0},{"$f":"IFERROR(GESTION!J136,\" \")","v":0},null,""]
[null,null,"2. Impactar la función y servicios que presta la Rama Judicial, a través de una formación integral desde una visión de gestión del conocimiento, relacionada con los problemas de la justicia y los problemas de gestión de quienes administran los recursos de la justicia, y potenciando el uso de medios virtuales.",null,{"$f":"IFERROR(GESTION!H137,\" \")","v":0},{"$f":"IFERROR(GESTION!I137,\" \")","v":0},{"$f":"IFERROR(GESTION!J137,\" \")","v":0},null,""]
[null,null,null,null,{"$f":"IFERROR(GESTION!H138,\" \")","v":0},{"$f":"IFERROR(GESTION!I138,\" \")","v":0},{"$f":"IFERROR(GESTION!J138,\" \")","v":0},null,""]
[null,null,null,null,{"$f":"IFERROR(GESTION!H139,\" \")","v":0},{"$f":"IFERROR(GESTION!I139,\" \")","v":0},{"$f":"IFERROR(GESTION!J139,\" \")","v":0},null,""]
[null,null,null,null,{"$f":"IFERROR(GESTION!H140,\" \")","v":0},{"$f":"IFERROR(GESTION!I140,\" \")","v":0},{"$f":"IFERROR(GESTION!J140,\" \")","v":0},null,""]
[null,null,null,null,{"$f":"IFERROR(GESTION!H141,\" \")","v":0},{"$f":"IFERROR(GESTION!I141,\" \")","v":0},{"$f":"IFERROR(GESTION!J141,\" \")","v":0},null,""]
[null,null,"3. Promover la incorporación de la perspectiva de género y el enfoque diferencial en los fallos judiciales y en la atención a los ciudadanos, la administración de la Rama Judicial, la administración de la carrera judicial y la elaboración de listas para altas Cortes. ",null,{"$f":"IFERROR(GESTION!H142,\" \")","v":0},{"$f":"IFERROR(GESTION!I142,\" \")","v":0},{"$f":"IFERROR(GESTION!J142,\" \")","v":0},null,""]
[null,null,null,null,{"$f":"IFERROR(GESTION!H143,\" \")","v":0},{"$f":"IFERROR(GESTION!I143,\" \")","v":0},{"$f":"IFERROR(GESTION!J143,\" \")","v":0},null,""]
[null,null,null,null,{"$f":"IFERROR(GESTION!H144,\" \")","v":0},{"$f":"IFERROR(GESTION!I144,\" \")","v":0},{"$f":"IFERROR(GESTION!J144,\" \")","v":0},null,""]
[null,null,null,null,{"$f":"IFERROR(GESTION!H145,\" \")","v":0},{"$f":"IFERROR(GESTION!I145,\" \")","v":0},{"$f":"IFERROR(GESTION!J145,\" \")","v":0},null,""]
[null,null,null,null,{"$f":"IFERROR(GESTION!H146,\" \")","v":0},{"$f":"IFERROR(GESTION!I146,\" \")","v":0},{"$f":"IFERROR(GESTION!J146,\" \")","v":0},null,""]
[null,null,"4. Desarrollar en los servidores judiciales y demás grupos de valor relevantes las competencias necesarias para la efectividad de la transformación digital de modo que puedan, entre otros, utilizar con solvencia las herramientas digitales dispuestas para sus respectivas funciones. Además, fortalecer y actualizar los conocimientos del personal a cargo de la gestión de proyectos de tecnología.",null,{"$f":"IFERROR(GESTION!H147,\" \")","v":0},{"$f":"IFERROR(GESTION!I147,\" \")","v":0},{"$f":"IFERROR(GESTION!J147,\" \")","v":0},null,""]
[null,null,null,null,{"$f":"IFERROR(GESTION!H148,\" \")","v":0},{"$f":"IFERROR(GESTION!I148,\" \")","v":0},{"$f":"IFERROR(GESTION!J148,\" \")","v":0},null,""]
[null,null,null,null,{"$f":"IFERROR(GESTION!H149,\" \")","v":0},{"$f":"IFERROR(GESTION!I149,\" \")","v":0},{"$f":"IFERROR(GESTION!J149,\" \")","v":0},null,""]
[null,null,null,null,{"$f":"IFERROR(GESTION!H150,\" \")","v":0},{"$f":"IFERROR(GESTION!I150,\" \")","v":0},{"$f":"IFERROR(GESTION!J150,\" \")","v":0},null,""]
[null,null,null,null,{"$f":"IFERROR(GESTION!H151,\" \")","v":0},{"$f":"IFERROR(GESTION!I151,\" \")","v":0},{"$f":"IFERROR(GESTION!J151,\" \")","v":0},null,""]
[null,null,"5. Promover el bienestar de todos los servidores judiciales a través de la implementación de un sistema que contemple los diferentes niveles de estrategias y acciones necesarios para mejorar el clima laboral, la salud física y mental y la calidad del tiempo de descanso.","5. Generar espacios de trabajo seguros y saludables que contribuyan a minimizar los  incidentes, accidentes y enfermedades laborales derivados de las condiciones y actos  inseguros y fomentar  el autocuidado, los  estilos de vida y el trabajo saludable en los servidores judiciales, contratistas, judicantes y practicantes",{"$f":"IFERROR(GESTION!H152,\" \")","v":0},{"$f":"IFERROR(GESTION!I152,\" \")","v":0},{"$f":"IFERROR(GESTION!J152,\" \")","v":0},null,""]
[null,null,null,null,{"$f":"IFERROR(GESTION!H153,\" \")","v":0},{"$f":"IFERROR(GESTION!I153,\" \")","v":0},{"$f":"IFERROR(GESTION!J153,\" \")","v":0},null,""]
[null,null,null,null,{"$f":"IFERROR(GESTION!H154,\" \")","v":0},{"$f":"IFERROR(GESTION!I154,\" \")","v":0},{"$f":"IFERROR(GESTION!J154,\" \")","v":0},null,""]
[null,null,null,null,{"$f":"IFERROR(GESTION!H155,\" \")","v":0},{"$f":"IFERROR(GESTION!I155,\" \")","v":0},{"$f":"IFERROR(GESTION!J155,\" \")","v":0},null,""]
[null,null,null,null,{"$f":"IFERROR(GESTION!H156,\" \")","v":0},{"$f":"IFERROR(GESTION!I156,\" \")","v":0},{"$f":"IFERROR(GESTION!J156,\" \")","v":0},null,""]
["5. Gobernanza, planeación estratégica y capacidad de toma de decisiones","Gobernanza, planeación estratégica y capacidad de toma de decisiones: Fortalecer la gobernanza, la planeación estratégica y la capacidad de toma de decisiones de la Rama Judicial con base en la evidencia empírica y la articulación efectiva con las demás entidades, para que la perspectiva de género y el enfoque diferencial sean transversales en el presente plan. ","1. Implementar un nuevo modelo integrado para la planeación estratégica, el seguimiento y la medición del desempeño institucional.","2. Asegurar  el cumplimiento de los objetivos institucionales, la normatividad aplicable,  la mejora del SIGCMA y la satisfacción de los usuarios, revisando de  forma continua y sistemática la planificación de la gestión y fortaleciendo la administración de riesgos y sus controles.",{"$f":"IFERROR(GESTION!H157,\" \")","v":0},{"$f":"IFERROR(GESTION!I157,\" \")","v":0},{"$f":"IFERROR(GESTION!J157,\" \")","v":0},null,""]
[null,null,null,null,{"$f":"IFERROR(GESTION!H158,\" \")","v":0},{"$f":"IFERROR(GESTION!I158,\" \")","v":0},{"$f":"IFERROR(GESTION!J158,\" \")","v":0},null,""]
[null,null,null,null,{"$f":"IFERROR(GESTION!H159,\" \")","v":0},{"$f":"IFERROR(GESTION!I159,\" \")","v":0},{"$f":"IFERROR(GESTION!J159,\" \")","v":0},null,""]
[null,null,null,null,{"$f":"IFERROR(GESTION!H160,\" \")","v":0},{"$f":"IFERROR(GESTION!I160,\" \")","v":0},{"$f":"IFERROR(GESTION!J160,\" \")","v":0},null,""]
[null,null,null,null,{"$f":"IFERROR(GESTION!H161,\" \")","v":0},{"$f":"IFERROR(GESTION!I161,\" \")","v":0},{"$f":"IFERROR(GESTION!J161,\" \")","v":0},null,""]
[null,null,"2. Definir e implementar el modelo optimizado de formulación, seguimiento y evaluación de la política pública judicial.",null,{"$f":"IFERROR(GESTION!H162,\" \")","v":0},{"$f":"IFERROR(GESTION!I162,\" \")","v":0},{"$f":"IFERROR(GESTION!J162,\" \")","v":0},null,""]
[null,null,null,null,{"$f":"IFERROR(GESTION!H163,\" \")","v":0},{"$f":"IFERROR(GESTION!I163,\" \")","v":0},{"$f":"IFERROR(GESTION!J163,\" \")","v":0},null,""]
[null,null,null,null,{"$f":"IFERROR(GESTION!H164,\" \")","v":0},{"$f":"IFERROR(GESTION!I164,\" \")","v":0},{"$f":"IFERROR(GESTION!J164,\" \")","v":0},null,""]
[null,null,null,null,{"$f":"IFERROR(GESTION!H165,\" \")","v":0},{"$f":"IFERROR(GESTION!I165,\" \")","v":0},{"$f":"IFERROR(GESTION!J165,\" \")","v":0},null,""]
[null,null,null,null,{"$f":"IFERROR(GESTION!H166,\" \")","v":0},{"$f":"IFERROR(GESTION!I166,\" \")","v":0},{"$f":"IFERROR(GESTION!J166,\" \")","v":0},null,""]

{"sheet":"INVERSION","index":9,"n_rows":130,"n_cols":40,"rows_kept":130,"cut":false,"hidden":true,"merged":[[95,5,114,5],[115,5,119,5],[95,1,119,1],[95,0,119,0],[120,5,129,5],[125,2,129,2],[125,3,129,3],[125,4,129,4],[120,1,129,1],[120,0,129,0],[115,2,119,2],[115,3,119,3],[115,4,119,4],[120,2,124,2],[120,3,124,3],[120,4,124,4],[110,2,114,2],[110,3,114,3],[110,4,114,4],[105,2,109,2],[105,3,109,3],[105,4,109,4],[60,0,94,0],[95,2,99,2],[95,3,99,3],[95,4,99,4],[100,2,104,2],[100,3,104,3],[100,4,104,4],[70,2,74,2],[70,3,74,3],[70,4,74,4],[70,5,74,5],[60,1,94,1],[75,5,89,5],[65,2,69,2],[65,3,69,3],[65,4,69,4],[65,5,69,5],[60,2,64,2],[60,3,64,3],[60,4,64,4],[60,5,64,5],[80,2,84,2],[80,3,84,3],[80,4,84,4],[75,2,79,2],[75,3,79,3],[75,4,79,4],[90,2,94,2],[90,3,94,3],[90,4,94,4],[90,5,94,5],[85,4,89,4],[85,2,89,2],[85,3,89,3],[30,0,59,0],[30,1,59,1],[25,5,29,5],[5,0,29,0],[5,1,29,1],[55,2,59,2],[55,3,59,3],[55,4,59,4],[30,5,59,5],[30,2,34,2],[30,3,34,3],[30,4,34,4],[35,2,39,2],[35,3,39,3],[35,4,39,4],[40,2,44,2],[15,5,19,5],[20,2,24,2],[20,3,24,3],[20,4,24,4],[20,5,24,5],[5,5,9,5],[10,2,14,2],[10,3,14,3],[10,4,14,4],[10,5,14,5],[3,4,4,4],[5,2,9,2],[5,3,9,3],[5,4,9,4],[15,2,19,2],[15,3,19,3],[15,4,19,4],[25,2,29,2],[25,3,29,3],[25,4,29,4],[40,3,44,3],[40,4,44,4],[45,2,49,2],[45,3,49,3],[45,4,49,4],[50,2,54,2],[50,3,54,3],[50,4,54,4],[1,39,1,48],[1,0,1,17],[1,18,1,38],[2,25,2,37],[2,38,4,38],[3,0,4,1],[3,2,4,2],[3,5,4,5],[3,6,3,11],[3,12,3,22],[3,23,3,24],[2,0,2,5],[2,6,2,24],[3,32,3,37],[3,25,3,31],[3,3,4,3]]}
[]
["CONSEJO SUPERIOR DE LA JUDICATURA \nUNIDADES MISIONALES DEL CONSEJO SUPERIOR DE LA JUDICATURA \nDIRECCIÓN EJECUTIVA DE ADMINISTRACIÓN JUDICIAL (DEAJ) - UNIDADES MISIONALES DE LA DEAJ\nDIRECCIONES SECCIONALES DE ADMINISTRACIÓN JUDICIAL ",null,null,null,null,null,null,null,null,null,null,null,null,null,null,null,null,null,null,null,null,null,null,null,null,null,null,null,null,null,null,null,null,null,null,null,null,null,null,"GENERADOR DE SEGUIMIENTOS TRIMESTALES"]
["PLAN SECTORIAL DE DESARROLLO 2023-2026 - OBJETIVOS SIGCMA",null,null,null,null,null,"PLAN DE ACCIÓN Y SEGUIMIENTO A LA INVERSIÓN INSTITUCIONAL ",null,null,null,null,null,null,null,null,null,null,null,null,null,null,null,null,null,null,"AVANCE PLAN DE ACCIÓN ANUAL",null,null,null,null,null,null,null,null,null,null,null,null," ANÁLISIS RESULTADO\nFINAL - ACUMULADO"]
["OBJETIVO ESTRATÉGICO",null,"OBJETIVO ESPECÍFICO PSD","NOMBRE DEL INDICADOR PSD","DEFINICIÓN DEL INDICADOR","OBJETIVO ESPECÍFICO SIGCMA","IDENTIFICACIÓN PROYECTO DE INVERSIÓN",null,null,null,null,null,"PARÁMETROS DE MEDICIÓN ",null,null,null,null,null,null,null,null,null,null,"INFORMACIÓN FINANCIERA",null,"SEGUIMIENTO - CUMPLIMIENTO ANUAL ",null,null,null,null,null,null,"INFORMACIÓN COMPLEMENTARIA FINAL"]
[null,null,null,null,null,null,"PROGRAMA DE INVERSIÓN","SUBPROGRAMA DE INVERSIÓN","RUBRO PRESUPUESTAL","CÓDIGO BPIN","NOMBRE DE PROYECTO","OBJETIVO ESPECÍFICO FORMULADO DEL PROYECTO BPIN","NOMBRE ACTIVIDAD DE INVERSIÓN (POAI)","JUSTIFICACIÓN DE LA ACTIVIDAD","DESCRIBA EL ENTREGABLE \n(Producto y/o servicio principal)","META ANUALIDAD","UNIDAD DE MEDIDA","TIPO DE INDICADOR (GESTIÓN O PRODUCTO)","FECHA DE INICIO DE LA ACTIVIDAD\nDÍA/MES/AÑO","FECHA TERMINACIÓN ACTIVIDAD\nDÍA/MES/AÑO \n(Sí supera anualidad, favor dejar 31/12/20xx)","NÚMERO DE BENEFICIARIOS INTERNOS (Servidores Judiciales)","NÚMERO DE BENEFICIARIOS EXTERNOS (Usuarios)"," DEPENDENCIA RESPONSABLE ","ACTO ADMINISTRATIVO (INDICAR EL ACUERDO INICIAL Y MODIFICACIONES)","RECURSOS ASIGNADOS ($)","DETALLE DE LAS ACTIVIDADES REALIZADAS PARA EL LOGRO DE LA INVERSIÓN (Periodo de reporte acumulado) ","COMPROMISO PRESUPUESTAL (VALOR DEL CONTRATO)","AVANCE DE LA META","% AVANCE ANUAL DE LA ACTIVIDAD"," % AVANCE PRESUPUESTAL ANUAL","AVANCE  DE LA ACTIVIDAD - % EN TIEMPO ANUAL","REZAGO","NÚMERO DE BENEFICIADOS INTERNOS","NÚMERO DE BENEFICIADOS EXTERNOS","DIFICULTADES PARA LOGRAR LA META PROPUESTA","EL PRODUCTO FINAL OBTENIDO ¿CÓMO IMPACTÓ SOBRE EL OBJETIVO ESTRATÉGICO?","RECOMENDACIONES PARA LOGRAR LA META","OBSERVACIONES"]
["1. Acceso e Infraestructura Física","Acceso e Infraestructura Física: Ampliar, en todo el territorio nacional, el acceso a una justicia efectiva, pronta, equitativa e incluyente, reduciendo el atraso y la congestión, de acuerdo con las necesidades de la demanda de justicia por jurisdicción y especialidad, y mejorando la articulación con la justicia restaurativa y terapéutica, y otros mecanismos de solución de conflictos y consolidando una infraestructura física óptima para el acceso a la justicia.","1. Ampliar el acceso a justicia para atender las necesidades jurídicas de los ciudadanos con un enfoque diferencial, de una manera pronta, reduciendo las inequidades y las brechas territoriales de acceso.","Estrategias implementadas por la Rama Judicial para ampliar el acceso a la justicia considerando el enfoque diferencial y territorial\n\nÍndice de dispersión en la calificación del factor calidad","# de estrategias establecida s en la meta implementa das durante la vigencia del plan\n\nDispersión en la calificación del factor de calidad por jurisdicción y nivel de competencia.","2. Asegurar  el cumplimiento de los objetivos institucionales, la normatividad aplicable,  la mejora del SIGCMA y la satisfacción de los usuarios, revisando de  forma continua y sistemática la planificación de la gestión y fortaleciendo la administración de riesgos y sus controles",null,null,null,null,null,null,null,null,null,null,null,null,null,null,null,null,null,null,null,{"$f":"IFERROR(#REF!,\" \")","v":" "},{"$f":"IFERROR(#REF!,\"\")","v":""},{"$f":"IFERROR(#REF!,\"\")","v":""},{"$f":"IFERROR(AB6/P6,\"\")","v":""},{"$f":"IFERROR(AA6/Y6,\"\")","v":""},{"$f":"IFERROR(#REF!,\"\")","v":""},{"$f":"IFERROR(P6-AB6,\"\")","v":""},{"$f":"IFERROR(#REF!,\"\")","v":""},{"$f":"IFERROR(#REF!,\"\")","v":""},{"$f":"_xlfn.CONCAT(\"Trimestre 1\",CHAR(10),IFERROR(#REF!,\"\"))","v":"Trimestre 1\n"},{"$f":"_xlfn.CONCAT(\"Trimestre 1\",CHAR(10),IFERROR(#REF!,\"\"))","v":"Trimestre 1\n"},{"$f":"_xlfn.CONCAT(\"Trimestre 1\",CHAR(10),IFERROR(#REF!,\"\"))","v":"Trimestre 1\n"},{"$f":"_xlfn.CONCAT(\"Trimestre 1\",CHAR(10),IFERROR(#REF!,\"\"))","v":"Trimestre 1\n"},{"$f":"_xlfn.CONCAT(\"Trimestre 1\",CHAR(10),IFERROR(#REF!,\"\"))","v":"Trimestre 1\n"}]
[null,null,null,null,null,null,null,null,null,null,null,null,null,null,null,null,null,null,null,null,null,null,null,null,null,{"$f":"IFERROR(#REF!,\" \")","v":" "},{"$f":"IFERROR(#REF!,\"\")","v":""},{"$f":"IFERROR(#REF!,\"\")","v":""},{"$f":"IFERROR(AB7/P7,\"\")","v":""},{"$f":"IFERROR(AA7/Y7,\"\")","v":""},{"$f":"IFERROR(#REF!,\"\")","v":""},{"$f":"IFERROR(P7-AB7,\"\")","v":""},{"$f":"IFERROR(#REF!,\"\")","v":""},{"$f":"IFERROR(#REF!,\"\")","v":""},{"$f":"_xlfn.CONCAT(\"Trimestre 1\",CHAR(10),IFERROR(#REF!,\"\"))","v":"Trimestre 1\n"},{"$f":"_xlfn.CONCAT(\"Trimestre 1\",CHAR(10),IFERROR(#REF!,\"\"))","v":"Trimestre 1\n"},{"$f":"_xlfn.CONCAT(\"Trimestre 1\",CHAR(10),IFERROR(#REF!,\"\"))","v":"Trimestre 1\n"},{"$f":"_xlfn.CONCAT(\"Trimestre 1\",CHAR(10),IFERROR(#REF!,\"\"))","v":"Trimestre 1\n"},{"$f":"_xlfn.CONCAT(\"Trimestre 1\",CHAR(10),IFERROR(#REF!,\"\"))","v":"Trimestre 1\n"}]
[null,null,null,null,null,null,null,null,null,null,null,null,null,null,null,null,null,null,null,null,null,null,null,null,null,{"$f":"IFERROR(#REF!,\" \")","v":" "},{"$f":"IFERROR(#REF!,\"\")","v":""},{"$f":"IFERROR(#REF!,\"\")","v":""},{"$f":"IFERROR(AB8/P8,\"\")","v":""},{"$f":"IFERROR(AA8/Y8,\"\")","v":""},{"$f":"IFERROR(#REF!,\"\")","v":""},"",{"$f":"IFERROR(#REF!,\"\")","v":""},{"$f":"IFERROR(#REF!,\"\")","v":""},{"$f":"_xlfn.CONCAT(\"Trimestre 1\",CHAR(10),IFERROR(#REF!,\"\"))","v":"Trimestre 1\n"},{"$f":"_xlfn.CONCAT(\"Trimestre 1\",CHAR(10),IFERROR(#REF!,\"\"))","v":"Trimestre 1\n"},{"$f":"_xlfn.CONCAT(\"Trimestre 1\",CHAR(10),IFERROR(#REF!,\"\"))","v":"Trimestre 1\n"},{"$f":"_xlfn.CONCAT(\"Trimestre 1\",CHAR(10),IFERROR(#REF!,\"\"))","v":"Trimestre 1\n"},{"$f":"_xlfn.CONCAT(\"Trimestre 1\",CHAR(10),IFERROR(#REF!,\"\"))","v":"Trimestre 1\n"}]
[null,null,null,null,null,null,null,null,null,null,null,null,null,null,null,null,null,null,null,null,null,null,null,null,null,{"$f":"IFERROR(#REF!,\" \")","v":" "},{"$f":"IFERROR(#REF!,\"\")","v":""},{"$f":"IFERROR(#REF!,\"\")","v":""},"","",{"$f":"IFERROR(#REF!,\"\")","v":""},"",{"$f":"IFERROR(#REF!,\"\")","v":""},{"$f":"IFERROR(#REF!,\"\")","v":""},{"$f":"_xlfn.CONCAT(\"Trimestre 1\",CHAR(10),IFERROR(#REF!,\"\"))","v":"Trimestre 1\n"},{"$f":"_xlfn.CONCAT(\"Trimestre 1\",CHAR(10),IFERROR(#REF!,\"\"))","v":"Trimestre 1\n"},{"$f":"_xlfn.CONCAT(\"Trimestre 1\",CHAR(10),IFERROR(#REF!,\"\"))","v":"Trimestre 1\n"},{"$f":"_xlfn.CONCAT(\"Trimestre 1\",CHAR(10),IFERROR(#REF!,\"\"))","v":"Trimestre 1\n"},{"$f":"_xlfn.CONCAT(\"Trimestre 1\",CHAR(10),IFERROR(#REF!,\"\"))","v":"Trimestre 1\n"}]
[null,null,null,null,null,null,null,null,null,null,null,null,null,null,null,null,null,null,null,null,null,null,null,null,null,{"$f":"IFERROR(#REF!,\" \")","v":" "},{"$f":"IFERROR(#REF!,\"\")","v":""},{"$f":"IFERROR(#REF!,\"\")","v":""},"","",{"$f":"IFERROR(#REF!,\"\")","v":""},"",{"$f":"IFERROR(#REF!,\"\")","v":""},{"$f":"IFERROR(#REF!,\"\")","v":""},{"$f":"_xlfn.CONCAT(\"Trimestre 1\",CHAR(10),IFERROR(#REF!,\"\"))","v":"Trimestre 1\n"},{"$f":"_xlfn.CONCAT(\"Trimestre 1\",CHAR(10),IFERROR(#REF!,\"\"))","v":"Trimestre 1\n"},{"$f":"_xlfn.CONCAT(\"Trimestre 1\",CHAR(10),IFERROR(#REF!,\"\"))","v":"Trimestre 1\n"},{"$f":"_xlfn.CONCAT(\"Trimestre 1\",CHAR(10),IFERROR(#REF!,\"\"))","v":"Trimestre 1\n"},{"$f":"_xlfn.CONCAT(\"Trimestre 1\",CHAR(10),IFERROR(#REF!,\"\"))","v":"Trimestre 1\n"}]
[null,null,"2. Mejorar los tiempos de respuesta de la Rama Judicial y reducir el inventario de procesos, identificando los retos internos y promoviendo tanto acciones articuladas específicas para abordarlos como estrategias coordinadas para enfrentar las barreras que dependen de otras entidades.","Reducción de tiempos de respuesta en los despachos en los que se implemente el sistema de gestión judicial","% Reducción del promedio de días de duración de los procesos judiciales en los despachos en los que se implemente el sistema de gestión judicial","2. Asegurar  el cumplimiento de los objetivos institucionales, la normatividad aplicable,  la mejora del SIGCMA y la satisfacción de los usuarios, revisando de  forma continua y sistemática la planificación de la gestión y fortaleciendo la administración de riesgos y sus controles",null,null,null,null,null,null,null,null,null,null,null,null,null,null,null,null,null,null,null,{"$f":"IFERROR(#REF!,\" \")","v":" "},{"$f":"IFERROR(#REF!,\"\")","v":""},{"$f":"IFERROR(#REF!,\"\")","v":""},"","",{"$f":"IFERROR(#REF!,\"\")","v":""},"",{"$f":"IFERROR(#REF!,\"\")","v":""},{"$f":"IFERROR(#REF!,\"\")","v":""},{"$f":"_xlfn.CONCAT(\"Trimestre 1\",CHAR(10),IFERROR(#REF!,\"\"))","v":"Trimestre 1\n"},{"$f":"_xlfn.CONCAT(\"Trimestre 1\",CHAR(10),IFERROR(#REF!,\"\"))","v":"Trimestre 1\n"},{"$f":"_xlfn.CONCAT(\"Trimestre 1\",CHAR(10),IFERROR(#REF!,\"\"))","v":"Trimestre 1\n"},{"$f":"_xlfn.CONCAT(\"Trimestre 1\",CHAR(10),IFERROR(#REF!,\"\"))","v":"Trimestre 1\n"},{"$f":"_xlfn.CONCAT(\"Trimestre 1\",CHAR(10),IFERROR(#REF!,\"\"))","v":"Trimestre 1\n"}]
[null,null,null,null,null,null,null,null,null,null,null,null,null,null,null,null,null,null,null,null,null,null,null,null,null,{"$f":"IFERROR(#REF!,\" \")","v":" "},{"$f":"IFERROR(#REF!,\"\")","v":""},{"$f":"IFERROR(#REF!,\"\")","v":""},"","",{"$f":"IFERROR(#REF!,\"\")","v":""},"",{"$f":"IFERROR(#REF!,\"\")","v":""},{"$f":"IFERROR(#REF!,\"\")","v":""},{"$f":"_xlfn.CONCAT(\"Trimestre 1\",CHAR(10),IFERROR(#REF!,\"\"))","v":"Trimestre 1\n"},{"$f":"_xlfn.CONCAT(\"Trimestre 1\",CHAR(10),IFERROR(#REF!,\"\"))","v":"Trimestre 1\n"},{"$f":"_xlfn.CONCAT(\"Trimestre 1\",CHAR(10),IFERROR(#REF!,\"\"))","v":"Trimestre 1\n"},{"$f":"_xlfn.CONCAT(\"Trimestre 1\",CHAR(10),IFERROR(#REF!,\"\"))","v":"Trimestre 1\n"},{"$f":"_xlfn.CONCAT(\"Trimestre 1\",CHAR(10),IFERROR(#REF!,\"\"))","v":"Trimestre 1\n"}]
[null,null,null,null,null,null,null,null,null,null,null,null,null,null,null,null,null,null,null,null,null,null,null,null,null,{"$f":"IFERROR(#REF!,\" \")","v":" "},{"$f":"IFERROR(#REF!,\"\")","v":""},{"$f":"IFERROR(#REF!,\"\")","v":""},"","",{"$f":"IFERROR(#REF!,\"\")","v":""},"",{"$f":"IFERROR(#REF!,\"\")","v":""},{"$f":"IFERROR(#REF!,\"\")","v":""},{"$f":"_xlfn.CONCAT(\"Trimestre 1\",CHAR(10),IFERROR(#REF!,\"\"))","v":"Trimestre 1\n"},{"$f":"_xlfn.CONCAT(\"Trimestre 1\",CHAR(10),IFERROR(#REF!,\"\"))","v":"Trimestre 1\n"},{"$f":"_xlfn.CONCAT(\"Trimestre 1\",CHAR(10),IFERROR(#REF!,\"\"))","v":"Trimestre 1\n"},{"$f":"_xlfn.CONCAT(\"Trimestre 1\",CHAR(10),IFERROR(#REF!,\"\"))","v":"Trimestre 1\n"},{"$f":"_xlfn.CONCAT(\"Trimestre 1\",CHAR(10),IFERROR(#REF!,\"\"))","v":"Trimestre 1\n"}]
[null,null,null,null,null,null,null,null,null,null,null,null,null,null,null,null,null,null,null,null,null,null,null,null,null,{"$f":"IFERROR(#REF!,\" \")","v":" "},{"$f":"IFERROR(#REF!,\"\")","v":""},{"$f":"IFERROR(#REF!,\"\")","v":""},"","",{"$f":"IFERROR(#REF!,\"\")","v":""},"",{"$f":"IFERROR(#REF!,\"\")","v":""},{"$f":"IFERROR(#REF!,\"\")","v":""},{"$f":"_xlfn.CONCAT(\"Trimestre 1\",CHAR(10),IFERROR(#REF!,\"\"))","v":"Trimestre 1\n"},{"$f":"_xlfn.CONCAT(\"Trimestre 1\",CHAR(10),IFERROR(#REF!,\"\"))","v":"Trimestre 1\n"},{"$f":"_xlfn.CONCAT(\"Trimestre 1\",CHAR(10),IFERROR(#REF!,\"\"))","v":"Trimestre 1\n"},{"$f":"_xlfn.CONCAT(\"Trimestre 1\",CHAR(10),IFERROR(#REF!,\"\"))","v":"Trimestre 1\n"},{"$f":"_xlfn.CONCAT(\"Trimestre 1\",CHAR(10),IFERROR(#REF!,\"\"))","v":"Trimestre 1\n"}]
[null,null,null,null,null,null,null,null,null,null,null,null,null,null,null,null,null,null,null,null,null,null,null,null,null,{"$f":"IFERROR(#REF!,\" \")","v":" "},{"$f":"IFERROR(#REF!,\"\")","v":""},{"$f":"IFERROR(#REF!,\"\")","v":""},"","",{"$f":"IFERROR(#REF!,\"\")","v":""},"",{"$f":"IFERROR(#REF!,\"\")","v":""},{"$f":"IFERROR(#REF!,\"\")","v":""},{"$f":"_xlfn.CONCAT(\"Trimestre 1\",CHAR(10),IFERROR(#REF!,\"\"))","v":"Trimestre 1\n"},{"$f":"_xlfn.CONCAT(\"Trimestre 1\",CHAR(10),IFERROR(#REF!,\"\"))","v":"Trimestre 1\n"},{"$f":"_xlfn.CONCAT(\"Trimestre 1\",CHAR(10),IFERROR(#REF!,\"\"))","v":"Trimestre 1\n"},{"$f":"_xlfn.CONCAT(\"Trimestre 1\",CHAR(10),IFERROR(#REF!,\"\"))","v":"Trimestre 1\n"},{"$f":"_xlfn.CONCAT(\"Trimestre 1\",CHAR(10),IFERROR(#REF!,\"\"))","v":"Trimestre 1\n"}]
[null,null,"3. Coadyuvar en la garantía de la idoneidad en el ejercicio de la profesión jurídica de acuerdo con lo establecido en la Ley 1905 de 2018.",null,null,"2. Asegurar  el cumplimiento de los objetivos institucionales, la normatividad aplicable,  la mejora del SIGCMA y la satisfacción de los usuarios, revisando de  forma continua y sistemática la planificación de la gestión y fortaleciendo la administración de riesgos y sus controles",null,null,null,null,null,null,null,null,null,null,null,null,null,null,null,null,null,null,null,{"$f":"IFERROR(#REF!,\" \")","v":" "},{"$f":"IFERROR(#REF!,\"\")","v":""},{"$f":"IFERROR(#REF!,\"\")","v":""},"","",{"$f":"IFERROR(#REF!,\"\")","v":""},"",{"$f":"IFERROR(#REF!,\"\")","v":""},{"$f":"IFERROR(#REF!,\"\")","v":""},{"$f":"_xlfn.CONCAT(\"Trimestre 1\",CHAR(10),IFERROR(#REF!,\"\"))","v":"Trimestre 1\n"},{"$f":"_xlfn.CONCAT(\"Trimestre 1\",CHAR(10),IFERROR(#REF!,\"\"))","v":"Trimestre 1\n"},{"$f":"_xlfn.CONCAT(\"Trimestre 1\",CHAR(10),IFERROR(#REF!,\"\"))","v":"Trimestre 1\n"},{"$f":"_xlfn.CONCAT(\"Trimestre 1\",CHAR(10),IFERROR(#REF!,\"\"))","v":"Trimestre 1\n"},{"$f":"_xlfn.CONCAT(\"Trimestre 1\",CHAR(10),IFERROR(#REF!,\"\"))","v":"Trimestre 1\n"}]
[null,null,null,null,null,null,null,null,null,null,null,null,null,null,null,null,null,null,null,null,null,null,null,null,null,{"$f":"IFERROR(#REF!,\" \")","v":" "},{"$f":"IFERROR(#REF!,\"\")","v":""},{"$f":"IFERROR(#REF!,\"\")","v":""},"","",{"$f":"IFERROR(#REF!,\"\")","v":""},"",{"$f":"IFERROR(#REF!,\"\")","v":""},{"$f":"IFERROR(#REF!,\"\")","v":""},{"$f":"_xlfn.CONCAT(\"Trimestre 1\",CHAR(10),IFERROR(#REF!,\"\"))","v":"Trimestre 1\n"},{"$f":"_xlfn.CONCAT(\"Trimestre 1\",CHAR(10),IFERROR(#REF!,\"\"))","v":"Trimestre 1\n"},{"$f":"_xlfn.CONCAT(\"Trimestre 1\",CHAR(10),IFERROR(#REF!,\"\"))","v":"Trimestre 1\n"},{"$f":"_xlfn.CONCAT(\"Trimestre 1\",CHAR(10),IFERROR(#REF!,\"\"))","v":"Trimestre 1\n"},{"$f":"_xlfn.CONCAT(\"Trimestre 1\",CHAR(10),IFERROR(#REF!,\"\"))","v":"Trimestre 1\n"}]
[null,null,null,null,null,null,null,null,null,null,null,null,null,null,null,null,null,null,null,null,null,null,null,null,null,{"$f":"IFERROR(#REF!,\" \")","v":" "},{"$f":"IFERROR(#REF!,\"\")","v":""},{"$f":"IFERROR(#REF!,\"\")","v":""},"","",{"$f":"IFERROR(#REF!,\"\")","v":""},"",{"$f":"IFERROR(#REF!,\"\")","v":""},{"$f":"IFERROR(#REF!,\"\")","v":""},{"$f":"_xlfn.CONCAT(\"Trimestre 1\",CHAR(10),IFERROR(#REF!,\"\"))","v":"Trimestre 1\n"},{"$f":"_xlfn.CONCAT(\"Trimestre 1\",CHAR(10),IFERROR(#REF!,\"\"))","v":"Trimestre 1\n"},{"$f":"_xlfn.CONCAT(\"Trimestre 1\",CHAR(10),IFERROR(#REF!,\"\"))","v":"Trimestre 1\n"},{"$f":"_xlfn.CONCAT(\"Trimestre 1\",CHAR(10),IFERROR(#REF!,\"\"))","v":"Trimestre 1\n"},{"$f":"_xlfn.CONCAT(\"Trimestre 1\",CHAR(10),IFERROR(#REF!,\"\"))","v":"Trimestre 1\n"}]
[null,null,null,null,null,null,null,null,null,null,null,null,null,null,null,null,null,null,null,null,null,null,null,null,null,{"$f":"IFERROR(#REF!,\" \")","v":" "},{"$f":"IFERROR(#REF!,\"\")","v":""},{"$f":"IFERROR(#REF!,\"\")","v":""},"","",{"$f":"IFERROR(#REF!,\"\")","v":""},"",{"$f":"IFERROR(#REF!,\"\")","v":""},{"$f":"IFERROR(#REF!,\"\")","v":""},{"$f":"_xlfn.CONCAT(\"Trimestre 1\",CHAR(10),IFERROR(#REF!,\"\"))","v":"Trimestre 1\n"},{"$f":"_xlfn.CONCAT(\"Trimestre 1\",CHAR(10),IFERROR(#REF!,\"\"))","v":"Trimestre 1\n"},{"$f":"_xlfn.CONCAT(\"Trimestre 1\",CHAR(10),IFERROR(#REF!,\"\"))","v":"Trimestre 1\n"},{"$f":"_xlfn.CONCAT(\"Trimestre 1\",CHAR(10),IFERROR(#REF!,\"\"))","v":"Trimestre 1\n"},{"$f":"_xlfn.CONCAT(\"Trimestre 1\",CHAR(10),IFERROR(#REF!,\"\"))","v":"Trimestre 1\n"}]
[null,null,null,null,null,null,null,null,null,null,null,null,null,null,null,null,null,null,null,null,null,null,null,null,null,{"$f":"IFERROR(#REF!,\" \")","v":" "},{"$f":"IFERROR(#REF!,\"\")","v":""},{"$f":"IFERROR(#REF!,\"\")","v":""},"","",{"$f":"IFERROR(#REF!,\"\")","v":""},"",{"$f":"IFERROR(#REF!,\"\")","v":""},{"$f":"IFERROR(#REF!,\"\")","v":""},{"$f":"_xlfn.CONCAT(\"Trimestre 1\",CHAR(10),IFERROR(#REF!,\"\"))","v":"Trimestre 1\n"},{"$f":"_xlfn.CONCAT(\"Trimestre 1\",CHAR(10),IFERROR(#REF!,\"\"))","v":"Trimestre 1\n"},{"$f":"_xlfn.CONCAT(\"Trimestre 1\",CHAR(10),IFERROR(#REF!,\"\"))","v":"Trimestre 1\n"},{"$f":"_xlfn.CONCAT(\"Trimestre 1\",CHAR(10),IFERROR(#REF!,\"\"))","v":"Trimestre 1\n"},{"$f":"_xlfn.CONCAT(\"Trimestre 1\",CHAR(10),IFERROR(#REF!,\"\"))","v":"Trimestre 1\n"}]
[null,null,"4. Avanzar en la disposición de una infraestructura óptima para el acceso a la justicia en la Rama Judicial de modo que se fortalezca la presencia territorial, teniendo en cuenta las posibilidades que ofrece la transformación digital y las necesidades que se derivan de ella, y considerando tanto las necesidades de los usuarios como las de los servidores judiciales.","Diseños para la construcción de despachos judiciales","# de sedes proyectada s para construir o intervenir en el cuatrienio / # sedes efectivamen te construidas o intervenidas\n\nTotal de\ndiseños aprobados","4. Hacer un uso racional de los recursos naturales aplicando los principios y fases de la Economía Circular, para prevenir, mitigar y controlar los impactos ambientales",null,null,null,null,null,null,null,null,null,null,null,null,null,null,null,null,null,null,null,{"$f":"IFERROR(#REF!,\" \")","v":" "},{"$f":"IFERROR(#REF!,\"\")","v":""},{"$f":"IFERROR(#REF!,\"\")","v":""},"","",{"$f":"IFERROR(#REF!,\"\")","v":""},"",{"$f":"IFERROR(#REF!,\"\")","v":""},{"$f":"IFERROR(#REF!,\"\")","v":""},{"$f":"_xlfn.CONCAT(\"Trimestre 1\",CHAR(10),IFERROR(#REF!,\"\"))","v":"Trimestre 1\n"},{"$f":"_xlfn.CONCAT(\"Trimestre 1\",CHAR(10),IFERROR(#REF!,\"\"))","v":"Trimestre 1\n"},{"$f":"_xlfn.CONCAT(\"Trimestre 1\",CHAR(10),IFERROR(#REF!,\"\"))","v":"Trimestre 1\n"},{"$f":"_xlfn.CONCAT(\"Trimestre 1\",CHAR(10),IFERROR(#REF!,\"\"))","v":"Trimestre 1\n"},{"$f":"_xlfn.CONCAT(\"Trimestre 1\",CHAR(10),IFERROR(#REF!,\"\"))","v":"Trimestre 1\n"}]
[null,null,null,null,null,null,null,null,null,null,null,null,null,null,null,null,null,null,null,null,null,null,null,null,null,{"$f":"IFERROR(#REF!,\" \")","v":" "},{"$f":"IFERROR(#REF!,\"\")","v":""},{"$f":"IFERROR(#REF!,\"\")","v":""},"","",{"$f":"IFERROR(#REF!,\"\")","v":""},"",{"$f":"IFERROR(#REF!,\"\")","v":""},{"$f":"IFERROR(#REF!,\"\")","v":""},{"$f":"_xlfn.CONCAT(\"Trimestre 1\",CHAR(10),IFERROR(#REF!,\"\"))","v":"Trimestre 1\n"},{"$f":"_xlfn.CONCAT(\"Trimestre 1\",CHAR(10),IFERROR(#REF!,\"\"))","v":"Trimestre 1\n"},{"$f":"_xlfn.CONCAT(\"Trimestre 1\",CHAR(10),IFERROR(#REF!,\"\"))","v":"Trimestre 1\n"},{"$f":"_xlfn.CONCAT(\"Trimestre 1\",CHAR(10),IFERROR(#REF!,\"\"))","v":"Trimestre 1\n"},{"$f":"_xlfn.CONCAT(\"Trimestre 1\",CHAR(10),IFERROR(#REF!,\"\"))","v":"Trimestre 1\n"}]
[null,null,null,null,null,null,null,null,null,null,null,null,null,null,null,null,null,null,null,null,null,null,null,null,null,{"$f":"IFERROR(#REF!,\" \")","v":" "},{"$f":"IFERROR(#REF!,\"\")","v":""},{"$f":"IFERROR(#REF!,\"\")","v":""},"","",{"$f":"IFERROR(#REF!,\"\")","v":""},"",{"$f":"IFERROR(#REF!,\"\")","v":""},{"$f":"IFERROR(#REF!,\"\")","v":""},{"$f":"_xlfn.CONCAT(\"Trimestre 1\",CHAR(10),IFERROR(#REF!,\"\"))","v":"Trimestre 1\n"},{"$f":"_xlfn.CONCAT(\"Trimestre 1\",CHAR(10),IFERROR(#REF!,\"\"))","v":"Trimestre 1\n"},{"$f":"_xlfn.CONCAT(\"Trimestre 1\",CHAR(10),IFERROR(#REF!,\"\"))","v":"Trimestre 1\n"},{"$f":"_xlfn.CONCAT(\"Trimestre 1\",CHAR(10),IFERROR(#REF!,\"\"))","v":"Trimestre 1\n"},{"$f":"_xlfn.CONCAT(\"Trimestre 1\",CHAR(10),IFERROR(#REF!,\"\"))","v":"Trimestre 1\n"}]
[null,null,null,null,null,null,null,null,null,null,null,null,null,null,null,null,null,null,null,null,null,null,null,null,null,{"$f":"IFERROR(#REF!,\" \")","v":" "},{"$f":"IFERROR(#REF!,\"\")","v":""},{"$f":"IFERROR(#REF!,\"\")","v":""},"","",{"$f":"IFERROR(#REF!,\"\")","v":""},"",{"$f":"IFERROR(#REF!,\"\")","v":""},{"$f":"IFERROR(#REF!,\"\")","v":""},{"$f":"_xlfn.CONCAT(\"Trimestre 1\",CHAR(10),IFERROR(#REF!,\"\"))","v":"Trimestre 1\n"},{"$f":"_xlfn.CONCAT(\"Trimestre 1\",CHAR(10),IFERROR(#REF!,\"\"))","v":"Trimestre 1\n"},{"$f":"_xlfn.CONCAT(\"Trimestre 1\",CHAR(10),IFERROR(#REF!,\"\"))","v":"Trimestre 1\n"},{"$f":"_xlfn.CONCAT(\"Trimestre 1\",CHAR(10),IFERROR(#REF!,\"\"))","v":"Trimestre 1\n"},{"$f":"_xlfn.CONCAT(\"Trimestre 1\",CHAR(10),IFERROR(#REF!,\"\"))","v":"Trimestre 1\n"}]
[null,null,null,null,null,null,null,null,null,null,null,null,null,null,null,null,null,null,null,null,null,null,null,null,null,{"$f":"IFERROR(#REF!,\" \")","v":" "},{"$f":"IFERROR(#REF!,\"\")","v":""},{"$f":"IFERROR(#REF!,\"\")","v":""},"","",{"$f":"IFERROR(#REF!,\"\")","v":""},"",{"$f":"IFERROR(#REF!,\"\")","v":""},{"$f":"IFERROR(#REF!,\"\")","v":""},{"$f":"_xlfn.CONCAT(\"Trimestre 1\",CHAR(10),IFERROR(#REF!,\"\"))","v":"Trimestre 1\n"},{"$f":"_xlfn.CONCAT(\"Trimestre 1\",CHAR(10),IFERROR(#REF!,\"\"))","v":"Trimestre 1\n"},{"$f":"_xlfn.CONCAT(\"Trimestre 1\",CHAR(10),IFERROR(#REF!,\"\"))","v":"Trimestre 1\n"},{"$f":"_xlfn.CONCAT(\"Trimestre 1\",CHAR(10),IFERROR(#REF!,\"\"))","v":"Trimestre 1\n"},{"$f":"_xlfn.CONCAT(\"Trimestre 1\",CHAR(10),IFERROR(#REF!,\"\"))","v":"Trimestre 1\n"}]
[null,null,"5. Impulsar el uso de mecanismos alternativos para la solución de conflictos y la ampliación de la justicia restaurativa y terapéutica y el robustecimiento de las alternativas al encarcelamiento","Seguimiento al cumplimiento de las disposiciones del CSJ que impulsan el uso de mecanismos alternativos de solución de conflictos, la ampliación de la justicia restaurativa y terapéutica y las alternativas al encarcelamiento.","% avance de implementa ción de las estrategias definidas para el seguimiento de las disposicion es adoptadas por el Consejo en materia de justicia restaurativa y terapéutica y las alternativas de encarcelami ento","2. Asegurar  el cumplimiento de los objetivos institucionales, la normatividad aplicable,  la mejora del SIGCMA y la satisfacción de los usuarios, revisando de  forma continua y sistemática la planificación de la gestión y fortaleciendo la administración de riesgos y sus controles",null,null,null,null,null,null,null,null,null,null,null,null,null,null,null,null,null,null,null,{"$f":"IFERROR(#REF!,\" \")","v":" "},{"$f":"IFERROR(#REF!,\"\")","v":""},{"$f":"IFERROR(#REF!,\"\")","v":""},"","",{"$f":"IFERROR(#REF!,\"\")","v":""},"",{"$f":"IFERROR(#REF!,\"\")","v":""},{"$f":"IFERROR(#REF!,\"\")","v":""},{"$f":"_xlfn.CONCAT(\"Trimestre 1\",CHAR(10),IFERROR(#REF!,\"\"))","v":"Trimestre 1\n"},{"$f":"_xlfn.CONCAT(\"Trimestre 1\",CHAR(10),IFERROR(#REF!,\"\"))","v":"Trimestre 1\n"},{"$f":"_xlfn.CONCAT(\"Trimestre 1\",CHAR(10),IFERROR(#REF!,\"\"))","v":"Trimestre 1\n"},{"$f":"_xlfn.CONCAT(\"Trimestre 1\",CHAR(10),IFERROR(#REF!,\"\"))","v":"Trimestre 1\n"},{"$f":"_xlfn.CONCAT(\"Trimestre 1\",CHAR(10),IFERROR(#REF!,\"\"))","v":"Trimestre 1\n"}]
[null,null,null,null,null,null,null,null,null,null,null,null,null,null,null,null,null,null,null,null,null,null,null,null,null,{"$f":"IFERROR(#REF!,\" \")","v":" "},{"$f":"IFERROR(#REF!,\"\")","v":""},{"$f":"IFERROR(#REF!,\"\")","v":""},"","",{"$f":"IFERROR(#REF!,\"\")","v":""},"",{"$f":"IFERROR(#REF!,\"\")","v":""},{"$f":"IFERROR(#REF!,\"\")","v":""},{"$f":"_xlfn.CONCAT(\"Trimestre 1\",CHAR(10),IFERROR(#REF!,\"\"))","v":"Trimestre 1\n"},{"$f":"_xlfn.CONCAT(\"Trimestre 1\",CHAR(10),IFERROR(#REF!,\"\"))","v":"Trimestre 1\n"},{"$f":"_xlfn.CONCAT(\"Trimestre 1\",CHAR(10),IFERROR(#REF!,\"\"))","v":"Trimestre 1\n"},{"$f":"_xlfn.CONCAT(\"Trimestre 1\",CHAR(10),IFERROR(#REF!,\"\"))","v":"Trimestre 1\n"},{"$f":"_xlfn.CONCAT(\"Trimestre 1\",CHAR(10),IFERROR(#REF!,\"\"))","v":"Trimestre 1\n"}]
[null,null,null,null,null,null,null,null,null,null,null,null,null,null,null,null,null,null,null,null,null,null,null,null,null,{"$f":"IFERROR(#REF!,\" \")","v":" "},{"$f":"IFERROR(#REF!,\"\")","v":""},{"$f":"IFERROR(#REF!,\"\")","v":""},"","",{"$f":"IFERROR(#REF!,\"\")","v":""},"",{"$f":"IFERROR(#REF!,\"\")","v":""},{"$f":"IFERROR(#REF!,\"\")","v":""},{"$f":"_xlfn.CONCAT(\"Trimestre 1\",CHAR(10),IFERROR(#REF!,\"\"))","v":"Trimestre 1\n"},{"$f":"_xlfn.CONCAT(\"Trimestre 1\",CHAR(10),IFERROR(#REF!,\"\"))","v":"Trimestre 1\n"},{"$f":"_xlfn.CONCAT(\"Trimestre 1\",CHAR(10),IFERROR(#REF!,\"\"))","v":"Trimestre 1\n"},{"$f":"_xlfn.CONCAT(\"Trimestre 1\",CHAR(10),IFERROR(#REF!,\"\"))","v":"Trimestre 1\n"},{"$f":"_xlfn.CONCAT(\"Trimestre 1\",CHAR(10),IFERROR(#REF!,\"\"))","v":"Trimestre 1\n"}]
[null,null,null,null,null,null,null,null,null,null,null,null,null,null,null,null,null,null,null,null,null,null,null,null,null,{"$f":"IFERROR(#REF!,\" \")","v":" "},{"$f":"IFERROR(#REF!,\"\")","v":""},{"$f":"IFERROR(#REF!,\"\")","v":""},"","",{"$f":"IFERROR(#REF!,\"\")","v":""},"",{"$f":"IFERROR(#REF!,\"\")","v":""},{"$f":"IFERROR(#REF!,\"\")","v":""},{"$f":"_xlfn.CONCAT(\"Trimestre 1\",CHAR(10),IFERROR(#REF!,\"\"))","v":"Trimestre 1\n"},{"$f":"_xlfn.CONCAT(\"Trimestre 1\",CHAR(10),IFERROR(#REF!,\"\"))","v":"Trimestre 1\n"},{"$f":"_xlfn.CONCAT(\"Trimestre 1\",CHAR(10),IFERROR(#REF!,\"\"))","v":"Trimestre 1\n"},{"$f":"_xlfn.CONCAT(\"Trimestre 1\",CHAR(10),IFERROR(#REF!,\"\"))","v":"Trimestre 1\n"},{"$f":"_xlfn.CONCAT(\"Trimestre 1\",CHAR(10),IFERROR(#REF!,\"\"))","v":"Trimestre 1\n"}]
[null,null,null,null,null,null,null,null,null,null,null,null,null,null,null,null,null,null,null,null,null,null,null,null,null,{"$f":"IFERROR(#REF!,\" \")","v":" "},{"$f":"IFERROR(#REF!,\"\")","v":""},{"$f":"IFERROR(#REF!,\"\")","v":""},"","",{"$f":"IFERROR(#REF!,\"\")","v":""},"",{"$f":"IFERROR(#REF!,\"\")","v":""},{"$f":"IFERROR(#REF!,\"\")","v":""},{"$f":"_xlfn.CONCAT(\"Trimestre 1\",CHAR(10),IFERROR(#REF!,\"\"))","v":"Trimestre 1\n"},{"$f":"_xlfn.CONCAT(\"Trimestre 1\",CHAR(10),IFERROR(#REF!,\"\"))","v":"Trimestre 1\n"},{"$f":"_xlfn.CONCAT(\"Trimestre 1\",CHAR(10),IFERROR(#REF!,\"\"))","v":"Trimestre 1\n"},{"$f":"_xlfn.CONCAT(\"Trimestre 1\",CHAR(10),IFERROR(#REF!,\"\"))","v":"Trimestre 1\n"},{"$f":"_xlfn.CONCAT(\"Trimestre 1\",CHAR(10),IFERROR(#REF!,\"\"))","v":"Trimestre 1\n"}]
["2. Servicios digitales y de tecnología, innovación y análisis de la información.","Servicios digitales y de tecnología, innovación y análisis de la información: Consolidar una justicia integrada y soportada en servicios digitales y de tecnología, innovación y análisis de la información, con una cultura digital apropiada, segura y sensible a las realidades del territorio nacional. ","1. Ampliar el acceso a la justicia a través de la consolidación del uso de los servicios digitales que conforman el sistema único integrado de gestión judicial en todos los despachos judiciales y dependencias de apoyo y, específicamente, incluyendo el despliegue e implementación del Expediente Judicial Electrónico en todas las jurisdicciones y especialidades.","Procesos\njudiciales gestionados a través del expediente electrónico por especialidad","# de procesos judiciales en gestión con expediente electrónico en cada especialida d y por categoría de despacho a nivel de circuito / # de procesos judiciales totales en gestión por cada especialida d y circuito (cabecera de circuito)","6. Proteger, preservar y administrar los activos de información  implementando acciones  para gestionar de forma adecuada los incidentes, proteger los datos personales y adoptar mecanismos  de ciberseguridad y aseguramiento de la  continuidad del negocio.",null,null,null,null,null,null,null,null,null,null,null,null,null,null,null,null,null,null,null,{"$f":"IFERROR(#REF!,\" \")","v":" "},{"$f":"IFERROR(#REF!,\"\")","v":""},{"$f":"IFERROR(#REF!,\"\")","v":""},"","",{"$f":"IFERROR(#REF!,\"\")","v":""},"",{"$f":"IFERROR(#REF!,\"\")","v":""},{"$f":"IFERROR(#REF!,\"\")","v":""},{"$f":"_xlfn.CONCAT(\"Trimestre 1\",CHAR(10),IFERROR(#REF!,\"\"))","v":"Trimestre 1\n"},{"$f":"_xlfn.CONCAT(\"Trimestre 1\",CHAR(10),IFERROR(#REF!,\"\"))","v":"Trimestre 1\n"},{"$f":"_xlfn.CONCAT(\"Trimestre 1\",CHAR(10),IFERROR(#REF!,\"\"))","v":"Trimestre 1\n"},{"$f":"_xlfn.CONCAT(\"Trimestre 1\",CHAR(10),IFERROR(#REF!,\"\"))","v":"Trimestre 1\n"},{"$f":"_xlfn.CONCAT(\"Trimestre 1\",CHAR(10),IFERROR(#REF!,\"\"))","v":"Trimestre 1\n"}]
[null,null,null,null,null,null,null,null,null,null,null,null,null,null,null,null,null,null,null,null,null,null,null,null,null,{"$f":"IFERROR(#REF!,\" \")","v":" "},{"$f":"IFERROR(#REF!,\"\")","v":""},{"$f":"IFERROR(#REF!,\"\")","v":""},"","",{"$f":"IFERROR(#REF!,\"\")","v":""},"",{"$f":"IFERROR(#REF!,\"\")","v":""},{"$f":"IFERROR(#REF!,\"\")","v":""},{"$f":"_xlfn.CONCAT(\"Trimestre 1\",CHAR(10),IFERROR(#REF!,\"\"))","v":"Trimestre 1\n"},{"$f":"_xlfn.CONCAT(\"Trimestre 1\",CHAR(10),IFERROR(#REF!,\"\"))","v":"Trimestre 1\n"},{"$f":"_xlfn.CONCAT(\"Trimestre 1\",CHAR(10),IFERROR(#REF!,\"\"))","v":"Trimestre 1\n"},{"$f":"_xlfn.CONCAT(\"Trimestre 1\",CHAR(10),IFERROR(#REF!,\"\"))","v":"Trimestre 1\n"},{"$f":"_xlfn.CONCAT(\"Trimestre 1\",CHAR(10),IFERROR(#REF!,\"\"))","v":"Trimestre 1\n"}]
[null,null,null,null,null,null,null,null,null,null,null,null,null,null,null,null,null,null,null,null,null,null,null,null,null,{"$f":"IFERROR(#REF!,\" \")","v":" "},{"$f":"IFERROR(#REF!,\"\")","v":""},{"$f":"IFERROR(#REF!,\"\")","v":""},"","",{"$f":"IFERROR(#REF!,\"\")","v":""},"",{"$f":"IFERROR(#REF!,\"\")","v":""},{"$f":"IFERROR(#REF!,\"\")","v":""},{"$f":"_xlfn.CONCAT(\"Trimestre 1\",CHAR(10),IFERROR(#REF!,\"\"))","v":"Trimestre 1\n"},{"$f":"_xlfn.CONCAT(\"Trimestre 1\",CHAR(10),IFERROR(#REF!,\"\"))","v":"Trimestre 1\n"},{"$f":"_xlfn.CONCAT(\"Trimestre 1\",CHAR(10),IFERROR(#REF!,\"\"))","v":"Trimestre 1\n"},{"$f":"_xlfn.CONCAT(\"Trimestre 1\",CHAR(10),IFERROR(#REF!,\"\"))","v":"Trimestre 1\n"},{"$f":"_xlfn.CONCAT(\"Trimestre 1\",CHAR(10),IFERROR(#REF!,\"\"))","v":"Trimestre 1\n"}]
[null,null,null,null,null,null,null,null,null,null,null,null,null,null,null,null,null,null,null,null,null,null,null,null,null,{"$f":"IFERROR(#REF!,\" \")","v":" "},{"$f":"IFERROR(#REF!,\"\")","v":""},{"$f":"IFERROR(#REF!,\"\")","v":""},"","",{"$f":"IFERROR(#REF!,\"\")","v":""},"",{"$f":"IFERROR(#REF!,\"\")","v":""},{"$f":"IFERROR(#REF!,\"\")","v":""},{"$f":"_xlfn.CONCAT(\"Trimestre 1\",CHAR(10),IFERROR(#REF!,\"\"))","v":"Trimestre 1\n"},{"$f":"_xlfn.CONCAT(\"Trimestre 1\",CHAR(10),IFERROR(#REF!,\"\"))","v":"Trimestre 1\n"},{"$f":"_xlfn.CONCAT(\"Trimestre 1\",CHAR(10),IFERROR(#REF!,\"\"))","v":"Trimestre 1\n"},{"$f":"_xlfn.CONCAT(\"Trimestre 1\",CHAR(10),IFERROR(#REF!,\"\"))","v":"Trimestre 1\n"},{"$f":"_xlfn.CONCAT(\"Trimestre 1\",CHAR(10),IFERROR(#REF!,\"\"))","v":"Trimestre 1\n"}]
[null,null,null,null,null,null,null,null,null,null,null,null,null,null,null,null,null,null,null,null,null,null,null,null,null,{"$f":"IFERROR(#REF!,\" \")","v":" "},{"$f":"IFERROR(#REF!,\"\")","v":""},{"$f":"IFERROR(#REF!,\"\")","v":""},"","",{"$f":"IFERROR(#REF!,\"\")","v":""},"",{"$f":"IFERROR(#REF!,\"\")","v":""},{"$f":"IFERROR(#REF!,\"\")","v":""},{"$f":"_xlfn.CONCAT(\"Trimestre 1\",CHAR(10),IFERROR(#REF!,\"\"))","v":"Trimestre 1\n"},{"$f":"_xlfn.CONCAT(\"Trimestre 1\",CHAR(10),IFERROR(#REF!,\"\"))","v":"Trimestre 1\n"},{"$f":"_xlfn.CONCAT(\"Trimestre 1\",CHAR(10),IFERROR(#REF!,\"\"))","v":"Trimestre 1\n"},{"$f":"_xlfn.CONCAT(\"Trimestre 1\",CHAR(10),IFERROR(#REF!,\"\"))","v":"Trimestre 1\n"},{"$f":"_xlfn.CONCAT(\"Trimestre 1\",CHAR(10),IFERROR(#REF!,\"\"))","v":"Trimestre 1\n"}]
[null,null,"2. Integrar y hacer compatibles todos los aplicativos de transición con SIUGJ, para que la migración de los expedientes judiciales a dicha plataforma sea real y no suponga afectaciones en la prestación del servicio de justicia.",null,null,null,null,null,null,null,null,null,null,null,null,null,null,null,null,null,null,null,null,null,null,{"$f":"IFERROR(#REF!,\" \")","v":" "},{"$f":"IFERROR(#REF!,\"\")","v":""},{"$f":"IFERROR(#REF!,\"\")","v":""},"","",{"$f":"IFERROR(#REF!,\"\")","v":""},"",{"$f":"IFERROR(#REF!,\"\")","v":""},{"$f":"IFERROR(#REF!,\"\")","v":""},{"$f":"_xlfn.CONCAT(\"Trimestre 1\",CHAR(10),IFERROR(#REF!,\"\"))","v":"Trimestre 1\n"},{"$f":"_xlfn.CONCAT(\"Trimestre 1\",CHAR(10),IFERROR(#REF!,\"\"))","v":"Trimestre 1\n"},{"$f":"_xlfn.CONCAT(\"Trimestre 1\",CHAR(10),IFERROR(#REF!,\"\"))","v":"Trimestre 1\n"},{"$f":"_xlfn.CONCAT(\"Trimestre 1\",CHAR(10),IFERROR(#REF!,\"\"))","v":"Trimestre 1\n"},{"$f":"_xlfn.CONCAT(\"Trimestre 1\",CHAR(10),IFERROR(#REF!,\"\"))","v":"Trimestre 1\n"}]
[null,null,null,null,null,null,null,null,null,null,null,null,null,null,null,null,null,null,null,null,null,null,null,null,null,{"$f":"IFERROR(#REF!,\" \")","v":" "},{"$f":"IFERROR(#REF!,\"\")","v":""},{"$f":"IFERROR(#REF!,\"\")","v":""},"","",{"$f":"IFERROR(#REF!,\"\")","v":""},"",{"$f":"IFERROR(#REF!,\"\")","v":""},{"$f":"IFERROR(#REF!,\"\")","v":""},{"$f":"_xlfn.CONCAT(\"Trimestre 1\",CHAR(10),IFERROR(#REF!,\"\"))","v":"Trimestre 1\n"},{"$f":"_xlfn.CONCAT(\"Trimestre 1\",CHAR(10),IFERROR(#REF!,\"\"))","v":"Trimestre 1\n"},{"$f":"_xlfn.CONCAT(\"Trimestre 1\",CHAR(10),IFERROR(#REF!,\"\"))","v":"Trimestre 1\n"},{"$f":"_xlfn.CONCAT(\"Trimestre 1\",CHAR(10),IFERROR(#REF!,\"\"))","v":"Trimestre 1\n"},{"$f":"_xlfn.CONCAT(\"Trimestre 1\",CHAR(10),IFERROR(#REF!,\"\"))","v":"Trimestre 1\n"}]
[null,null,null,null,null,null,null,null,null,null,null,null,null,null,null,null,null,null,null,null,null,null,null,null,null,{"$f":"IFERROR(#REF!,\" \")","v":" "},{"$f":"IFERROR(#REF!,\"\")","v":""},{"$f":"IFERROR(#REF!,\"\")","v":""},"","",{"$f":"IFERROR(#REF!,\"\")","v":""},"",{"$f":"IFERROR(#REF!,\"\")","v":""},{"$f":"IFERROR(#REF!,\"\")","v":""},{"$f":"_xlfn.CONCAT(\"Trimestre 1\",CHAR(10),IFERROR(#REF!,\"\"))","v":"Trimestre 1\n"},{"$f":"_xlfn.CONCAT(\"Trimestre 1\",CHAR(10),IFERROR(#REF!,\"\"))","v":"Trimestre 1\n"},{"$f":"_xlfn.CONCAT(\"Trimestre 1\",CHAR(10),IFERROR(#REF!,\"\"))","v":"Trimestre 1\n"},{"$f":"_xlfn.CONCAT(\"Trimestre 1\",CHAR(10),IFERROR(#REF!,\"\"))","v":"Trimestre 1\n"},{"$f":"_xlfn.CONCAT(\"Trimestre 1\",CHAR(10),IFERROR(#REF!,\"\"))","v":"Trimestre 1\n"}]
[null,null,null,null,null,null,null,null,null,null,null,null,null,null,null,null,null,null,null,null,null,null,null,null,null,{"$f":"IFERROR(#REF!,\" \")","v":" "},{"$f":"IFERROR(#REF!,\"\")","v":""},{"$f":"IFERROR(#REF!,\"\")","v":""},"","",{"$f":"IFERROR(#REF!,\"\")","v":""},"",{"$f":"IFERROR(#REF!,\"\")","v":""},{"$f":"IFERROR(#REF!,\"\")","v":""},{"$f":"_xlfn.CONCAT(\"Trimestre 1\",CHAR(10),IFERROR(#REF!,\"\"))","v":"Trimestre 1\n"},{"$f":"_xlfn.CONCAT(\"Trimestre 1\",CHAR(10),IFERROR(#REF!,\"\"))","v":"Trimestre 1\n"},{"$f":"_xlfn.CONCAT(\"Trimestre 1\",CHAR(10),IFERROR(#REF!,\"\"))","v":"Trimestre 1\n"},{"$f":"_xlfn.CONCAT(\"Trimestre 1\",CHAR(10),IFERROR(#REF!,\"\"))","v":"Trimestre 1\n"},{"$f":"_xlfn.CONCAT(\"Trimestre 1\",CHAR(10),IFERROR(#REF!,\"\"))","v":"Trimestre 1\n"}]
[null,null,null,null,null,null,null,null,null,null,null,null,null,null,null,null,null,null,null,null,null,null,null,null,null,{"$f":"IFERROR(#REF!,\" \")","v":" "},{"$f":"IFERROR(#REF!,\"\")","v":""},{"$f":"IFERROR(#REF!,\"\")","v":""},"","",{"$f":"IFERROR(#REF!,\"\")","v":""},"",{"$f":"IFERROR(#REF!,\"\")","v":""},{"$f":"IFERROR(#REF!,\"\")","v":""},{"$f":"_xlfn.CONCAT(\"Trimestre 1\",CHAR(10),IFERROR(#REF!,\"\"))","v":"Trimestre 1\n"},{"$f":"_xlfn.CONCAT(\"Trimestre 1\",CHAR(10),IFERROR(#REF!,\"\"))","v":"Trimestre 1\n"},{"$f":"_xlfn.CONCAT(\"Trimestre 1\",CHAR(10),IFERROR(#REF!,\"\"))","v":"Trimestre 1\n"},{"$f":"_xlfn.CONCAT(\"Trimestre 1\",CHAR(10),IFERROR(#REF!,\"\"))","v":"Trimestre 1\n"},{"$f":"_xlfn.CONCAT(\"Trimestre 1\",CHAR(10),IFERROR(#REF!,\"\"))","v":"Trimestre 1\n"}]
[null,null,"3. Fortalecer las capacidades institucionales, adecuar el modelo operativo y de servicio, bajo un enfoque de Arquitectura Empresarial y de fortalecimiento del acceso a la justicia.","Implementación del programa de gestión del cambio y las comunicaciones del PETD","# de actividades del objetivo \"aumentar el conocimient o digital y el uso de apropiación de los sistemas\" del programa de gestión del cambio y las comunicaci ones del PETD cumplidas /# de actividades del objetivo \"aumentar el conocimient o digital y el uso de apropiación de los sistemas\" del programa de gestión del cambio y las comunicaci ones del PETD programada s",null,null,null,null,null,null,null,null,null,null,null,null,null,null,null,null,null,null,null,null,{"$f":"IFERROR(#REF!,\" \")","v":" "},{"$f":"IFERROR(#REF!,\"\")","v":""},{"$f":"IFERROR(#REF!,\"\")","v":""},"","",{"$f":"IFERROR(#REF!,\"\")","v":""},"",{"$f":"IFERROR(#REF!,\"\")","v":""},{"$f":"IFERROR(#REF!,\"\")","v":""},{"$f":"_xlfn.CONCAT(\"Trimestre 1\",CHAR(10),IFERROR(#REF!,\"\"))","v":"Trimestre 1\n"},{"$f":"_xlfn.CONCAT(\"Trimestre 1\",CHAR(10),IFERROR(#REF!,\"\"))","v":"Trimestre 1\n"},{"$f":"_xlfn.CONCAT(\"Trimestre 1\",CHAR(10),IFERROR(#REF!,\"\"))","v":"Trimestre 1\n"},{"$f":"_xlfn.CONCAT(\"Trimestre 1\",CHAR(10),IFERROR(#REF!,\"\"))","v":"Trimestre 1\n"},{"$f":"_xlfn.CONCAT(\"Trimestre 1\",CHAR(10),IFERROR(#REF!,\"\"))","v":"Trimestre 1\n"}]
[null,null,null,null,null,null,null,null,null,null,null,null,null,null,null,null,null,null,null,null,null,null,null,null,null,{"$f":"IFERROR(#REF!,\" \")","v":" "},{"$f":"IFERROR(#REF!,\"\")","v":""},{"$f":"IFERROR(#REF!,\"\")","v":""},"","",{"$f":"IFERROR(#REF!,\"\")","v":""},"",{"$f":"IFERROR(#REF!,\"\")","v":""},{"$f":"IFERROR(#REF!,\"\")","v":""},{"$f":"_xlfn.CONCAT(\"Trimestre 1\",CHAR(10),IFERROR(#REF!,\"\"))","v":"Trimestre 1\n"},{"$f":"_xlfn.CONCAT(\"Trimestre 1\",CHAR(10),IFERROR(#REF!,\"\"))","v":"Trimestre 1\n"},{"$f":"_xlfn.CONCAT(\"Trimestre 1\",CHAR(10),IFERROR(#REF!,\"\"))","v":"Trimestre 1\n"},{"$f":"_xlfn.CONCAT(\"Trimestre 1\",CHAR(10),IFERROR(#REF!,\"\"))","v":"Trimestre 1\n"},{"$f":"_xlfn.CONCAT(\"Trimestre 1\",CHAR(10),IFERROR(#REF!,\"\"))","v":"Trimestre 1\n"}]
[null,null,null,null,null,null,null,null,null,null,null,null,null,null,null,null,null,null,null,null,null,null,null,null,null,{"$f":"IFERROR(#REF!,\" \")","v":" "},{"$f":"IFERROR(#REF!,\"\")","v":""},{"$f":"IFERROR(#REF!,\"\")","v":""},"","",{"$f":"IFERROR(#REF!,\"\")","v":""},"",{"$f":"IFERROR(#REF!,\"\")","v":""},{"$f":"IFERROR(#REF!,\"\")","v":""},{"$f":"_xlfn.CONCAT(\"Trimestre 1\",CHAR(10),IFERROR(#REF!,\"\"))","v":"Trimestre 1\n"},{"$f":"_xlfn.CONCAT(\"Trimestre 1\",CHAR(10),IFERROR(#REF!,\"\"))","v":"Trimestre 1\n"},{"$f":"_xlfn.CONCAT(\"Trimestre 1\",CHAR(10),IFERROR(#REF!,\"\"))","v":"Trimestre 1\n"},{"$f":"_xlfn.CONCAT(\"Trimestre 1\",CHAR(10),IFERROR(#REF!,\"\"))","v":"Trimestre 1\n"},{"$f":"_xlfn.CONCAT(\"Trimestre 1\",CHAR(10),IFERROR(#REF!,\"\"))","v":"Trimestre 1\n"}]
[null,null,null,null,null,null,null,null,null,null,null,null,null,null,null,null,null,null,null,null,null,null,null,null,null,{"$f":"IFERROR(#REF!,\" \")","v":" "},{"$f":"IFERROR(#REF!,\"\")","v":""},{"$f":"IFERROR(#REF!,\"\")","v":""},"","",{"$f":"IFERROR(#REF!,\"\")","v":""},"",{"$f":"IFERROR(#REF!,\"\")","v":""},{"$f":"IFERROR(#REF!,\"\")","v":""},{"$f":"_xlfn.CONCAT(\"Trimestre 1\",CHAR(10),IFERROR(#REF!,\"\"))","v":"Trimestre 1\n"},{"$f":"_xlfn.CONCAT(\"Trimestre 1\",CHAR(10),IFERROR(#REF!,\"\"))","v":"Trimestre 1\n"},{"$f":"_xlfn.CONCAT(\"Trimestre 1\",CHAR(10),IFERROR(#REF!,\"\"))","v":"Trimestre 1\n"},{"$f":"_xlfn.CONCAT(\"Trimestre 1\",CHAR(10),IFERROR(#REF!,\"\"))","v":"Trimestre 1\n"},{"$f":"_xlfn.CONCAT(\"Trimestre 1\",CHAR(10),IFERROR(#REF!,\"\"))","v":"Trimestre 1\n"}]
[null,null,null,null,null,null,null,null,null,null,null,null,null,null,null,null,null,null,null,null,null,null,null,null,null,{"$f":"IFERROR(#REF!,\" \")","v":" "},{"$f":"IFERROR(#REF!,\"\")","v":""},{"$f":"IFERROR(#REF!,\"\")","v":""},"","",{"$f":"IFERROR(#REF!,\"\")","v":""},"",{"$f":"IFERROR(#REF!,\"\")","v":""},{"$f":"IFERROR(#REF!,\"\")","v":""},{"$f":"_xlfn.CONCAT(\"Trimestre 1\",CHAR(10),IFERROR(#REF!,\"\"))","v":"Trimestre 1\n"},{"$f":"_xlfn.CONCAT(\"Trimestre 1\",CHAR(10),IFERROR(#REF!,\"\"))","v":"Trimestre 1\n"},{"$f":"_xlfn.CONCAT(\"Trimestre 1\",CHAR(10),IFERROR(#REF!,\"\"))","v":"Trimestre 1\n"},{"$f":"_xlfn.CONCAT(\"Trimestre 1\",CHAR(10),IFERROR(#REF!,\"\"))","v":"Trimestre 1\n"},{"$f":"_xlfn.CONCAT(\"Trimestre 1\",CHAR(10),IFERROR(#REF!,\"\"))","v":"Trimestre 1\n"}]
[null,null,"4.Consolidar la cultura y apropiación de la transformación digital en los servidores y usuarios de los servicios de la Rama Judicial y reducir brechas de acceso y conocimiento, incluyendo la oferta efectiva de información sobre el uso de las nuevas herramientas virtuales implementadas en las diferentes jurisdicciones, con especial énfasis en las zonas del país donde es evidente la brecha digital.","Cobertura de infraestructura y conectividad consolidada","# de sedes con infraestruct ura y conectivida d consolidada s/Número total de sedes",null,null,null,null,null,null,null,null,null,null,null,null,null,null,null,null,null,null,null,null,{"$f":"IFERROR(#REF!,\" \")","v":" "},{"$f":"IFERROR(#REF!,\"\")","v":""},{"$f":"IFERROR(#REF!,\"\")","v":""},"","",{"$f":"IFERROR(#REF!,\"\")","v":""},"",{"$f":"IFERROR(#REF!,\"\")","v":""},{"$f":"IFERROR(#REF!,\"\")","v":""},{"$f":"_xlfn.CONCAT(\"Trimestre 1\",CHAR(10),IFERROR(#REF!,\"\"))","v":"Trimestre 1\n"},{"$f":"_xlfn.CONCAT(\"Trimestre 1\",CHAR(10),IFERROR(#REF!,\"\"))","v":"Trimestre 1\n"},{"$f":"_xlfn.CONCAT(\"Trimestre 1\",CHAR(10),IFERROR(#REF!,\"\"))","v":"Trimestre 1\n"},{"$f":"_xlfn.CONCAT(\"Trimestre 1\",CHAR(10),IFERROR(#REF!,\"\"))","v":"Trimestre 1\n"},{"$f":"_xlfn.CONCAT(\"Trimestre 1\",CHAR(10),IFERROR(#REF!,\"\"))","v":"Trimestre 1\n"}]
[null,null,null,null,null,null,null,null,null,null,null,null,null,null,null,null,null,null,null,null,null,null,null,null,null,{"$f":"IFERROR(#REF!,\" \")","v":" "},{"$f":"IFERROR(#REF!,\"\")","v":""},{"$f":"IFERROR(#REF!,\"\")","v":""},"","",{"$f":"IFERROR(#REF!,\"\")","v":""},"",{"$f":"IFERROR(#REF!,\"\")","v":""},{"$f":"IFERROR(#REF!,\"\")","v":""},{"$f":"_xlfn.CONCAT(\"Trimestre 1\",CHAR(10),IFERROR(#REF!,\"\"))","v":"Trimestre 1\n"},{"$f":"_xlfn.CONCAT(\"Trimestre 1\",CHAR(10),IFERROR(#REF!,\"\"))","v":"Trimestre 1\n"},{"$f":"_xlfn.CONCAT(\"Trimestre 1\",CHAR(10),IFERROR(#REF!,\"\"))","v":"Trimestre 1\n"},{"$f":"_xlfn.CONCAT(\"Trimestre 1\",CHAR(10),IFERROR(#REF!,\"\"))","v":"Trimestre 1\n"},{"$f":"_xlfn.CONCAT(\"Trimestre 1\",CHAR(10),IFERROR(#REF!,\"\"))","v":"Trimestre 1\n"}]
[null,null,null,null,null,null,null,null,null,null,null,null,null,null,null,null,null,null,null,null,null,null,null,null,null,{"$f":"IFERROR(#REF!,\" \")","v":" "},{"$f":"IFERROR(#REF!,\"\")","v":""},{"$f":"IFERROR(#REF!,\"\")","v":""},"","",{"$f":"IFERROR(#REF!,\"\")","v":""},"",{"$f":"IFERROR(#REF!,\"\")","v":""},{"$f":"IFERROR(#REF!,\"\")","v":""},{"$f":"_xlfn.CONCAT(\"Trimestre 1\",CHAR(10),IFERROR(#REF!,\"\"))","v":"Trimestre 1\n"},{"$f":"_xlfn.CONCAT(\"Trimestre 1\",CHAR(10),IFERROR(#REF!,\"\"))","v":"Trimestre 1\n"},{"$f":"_xlfn.CONCAT(\"Trimestre 1\",CHAR(10),IFERROR(#REF!,\"\"))","v":"Trimestre 1\n"},{"$f":"_xlfn.CONCAT(\"Trimestre 1\",CHAR(10),IFERROR(#REF!,\"\"))","v":"Trimestre 1\n"},{"$f":"_xlfn.CONCAT(\"Trimestre 1\",CHAR(10),IFERROR(#REF!,\"\"))","v":"Trimestre 1\n"}]
[null,null,null,null,null,null,null,null,null,null,null,null,null,null,null,null,null,null,null,null,null,null,null,null,null,{"$f":"IFERROR(#REF!,\" \")","v":" "},{"$f":"IFERROR(#REF!,\"\")","v":""},{"$f":"IFERROR(#REF!,\"\")","v":""},"","",{"$f":"IFERROR(#REF!,\"\")","v":""},"",{"$f":"IFERROR(#REF!,\"\")","v":""},{"$f":"IFERROR(#REF!,\"\")","v":""},{"$f":"_xlfn.CONCAT(\"Trimestre 1\",CHAR(10),IFERROR(#REF!,\"\"))","v":"Trimestre 1\n"},{"$f":"_xlfn.CONCAT(\"Trimestre 1\",CHAR(10),IFERROR(#REF!,\"\"))","v":"Trimestre 1\n"},{"$f":"_xlfn.CONCAT(\"Trimestre 1\",CHAR(10),IFERROR(#REF!,\"\"))","v":"Trimestre 1\n"},{"$f":"_xlfn.CONCAT(\"Trimestre 1\",CHAR(10),IFERROR(#REF!,\"\"))","v":"Trimestre 1\n"},{"$f":"_xlfn.CONCAT(\"Trimestre 1\",CHAR(10),IFERROR(#REF!,\"\"))","v":"Trimestre 1\n"}]
[null,null,null,null,null,null,null,null,null,null,null,null,null,null,null,null,null,null,null,null,null,null,null,null,null,{"$f":"IFERROR(#REF!,\" \")","v":" "},{"$f":"IFERROR(#REF!,\"\")","v":""},{"$f":"IFERROR(#REF!,\"\")","v":""},"","",{"$f":"IFERROR(#REF!,\"\")","v":""},"",{"$f":"IFERROR(#REF!,\"\")","v":""},{"$f":"IFERROR(#REF!,\"\")","v":""},{"$f":"_xlfn.CONCAT(\"Trimestre 1\",CHAR(10),IFERROR(#REF!,\"\"))","v":"Trimestre 1\n"},{"$f":"_xlfn.CONCAT(\"Trimestre 1\",CHAR(10),IFERROR(#REF!,\"\"))","v":"Trimestre 1\n"},{"$f":"_xlfn.CONCAT(\"Trimestre 1\",CHAR(10),IFERROR(#REF!,\"\"))","v":"Trimestre 1\n"},{"$f":"_xlfn.CONCAT(\"Trimestre 1\",CHAR(10),IFERROR(#REF!,\"\"))","v":"Trimestre 1\n"},{"$f":"_xlfn.CONCAT(\"Trimestre 1\",CHAR(10),IFERROR(#REF!,\"\"))","v":"Trimestre 1\n"}]
[null,null,"5.Consolidar la infraestructura y los recursos necesarios para la implementación exitosa de la transformación digital, incluyendo la disposición de internet de calidad en el 100% de las sedes en la Rama Judicial y modernizar los servicios tecnológicos de soporte. ","Implementación del programa de gestión del cambio y las comunicaciones del PETD","# de actividades del objetivo \"aumentar el conocimient o digital y el uso de apropiación de los sistemas\" del programa de gestión del cambio y las comunicaci ones del PETD cumplidas /# de actividades del objetivo \"aumentar el conocimient o digital y el uso de apropiación de los sistemas\" del programa de gestión del cambio y las comunicaci ones del PETD programada s",null,null,null,null,null,null,null,null,null,null,null,null,null,null,null,null,null,null,null,null,{"$f":"IFERROR(#REF!,\" \")","v":" "},{"$f":"IFERROR(#REF!,\"\")","v":""},{"$f":"IFERROR(#REF!,\"\")","v":""},"","",{"$f":"IFERROR(#REF!,\"\")","v":""},"",{"$f":"IFERROR(#REF!,\"\")","v":""},{"$f":"IFERROR(#REF!,\"\")","v":""},{"$f":"_xlfn.CONCAT(\"Trimestre 1\",CHAR(10),IFERROR(#REF!,\"\"))","v":"Trimestre 1\n"},{"$f":"_xlfn.CONCAT(\"Trimestre 1\",CHAR(10),IFERROR(#REF!,\"\"))","v":"Trimestre 1\n"},{"$f":"_xlfn.CONCAT(\"Trimestre 1\",CHAR(10),IFERROR(#REF!,\"\"))","v":"Trimestre 1\n"},{"$f":"_xlfn.CONCAT(\"Trimestre 1\",CHAR(10),IFERROR(#REF!,\"\"))","v":"Trimestre 1\n"},{"$f":"_xlfn.CONCAT(\"Trimestre 1\",CHAR(10),IFERROR(#REF!,\"\"))","v":"Trimestre 1\n"}]
[null,null,null,null,null,null,null,null,null,null,null,null,null,null,null,null,null,null,null,null,null,null,null,null,null,{"$f":"IFERROR(#REF!,\" \")","v":" "},{"$f":"IFERROR(#REF!,\"\")","v":""},{"$f":"IFERROR(#REF!,\"\")","v":""},"","",{"$f":"IFERROR(#REF!,\"\")","v":""},"",{"$f":"IFERROR(#REF!,\"\")","v":""},{"$f":"IFERROR(#REF!,\"\")","v":""},{"$f":"_xlfn.CONCAT(\"Trimestre 1\",CHAR(10),IFERROR(#REF!,\"\"))","v":"Trimestre 1\n"},{"$f":"_xlfn.CONCAT(\"Trimestre 1\",CHAR(10),IFERROR(#REF!,\"\"))","v":"Trimestre 1\n"},{"$f":"_xlfn.CONCAT(\"Trimestre 1\",CHAR(10),IFERROR(#REF!,\"\"))","v":"Trimestre 1\n"},{"$f":"_xlfn.CONCAT(\"Trimestre 1\",CHAR(10),IFERROR(#REF!,\"\"))","v":"Trimestre 1\n"},{"$f":"_xlfn.CONCAT(\"Trimestre 1\",CHAR(10),IFERROR(#REF!,\"\"))","v":"Trimestre 1\n"}]
[null,null,null,null,null,null,null,null,null,null,null,null,null,null,null,null,null,null,null,null,null,null,null,null,null,{"$f":"IFERROR(#REF!,\" \")","v":" "},{"$f":"IFERROR(#REF!,\"\")","v":""},{"$f":"IFERROR(#REF!,\"\")","v":""},"","",{"$f":"IFERROR(#REF!,\"\")","v":""},"",{"$f":"IFERROR(#REF!,\"\")","v":""},{"$f":"IFERROR(#REF!,\"\")","v":""},{"$f":"_xlfn.CONCAT(\"Trimestre 1\",CHAR(10),IFERROR(#REF!,\"\"))","v":"Trimestre 1\n"},{"$f":"_xlfn.CONCAT(\"Trimestre 1\",CHAR(10),IFERROR(#REF!,\"\"))","v":"Trimestre 1\n"},{"$f":"_xlfn.CONCAT(\"Trimestre 1\",CHAR(10),IFERROR(#REF!,\"\"))","v":"Trimestre 1\n"},{"$f":"_xlfn.CONCAT(\"Trimestre 1\",CHAR(10),IFERROR(#REF!,\"\"))","v":"Trimestre 1\n"},{"$f":"_xlfn.CONCAT(\"Trimestre 1\",CHAR(10),IFERROR(#REF!,\"\"))","v":"Trimestre 1\n"}]
[null,null,null,null,null,null,null,null,null,null,null,null,null,null,null,null,null,null,null,null,null,null,null,null,null,{"$f":"IFERROR(#REF!,\" \")","v":" "},{"$f":"IFERROR(#REF!,\"\")","v":""},{"$f":"IFERROR(#REF!,\"\")","v":""},"","",{"$f":"IFERROR(#REF!,\"\")","v":""},"",{"$f":"IFERROR(#REF!,\"\")","v":""},{"$f":"IFERROR(#REF!,\"\")","v":""},{"$f":"_xlfn.CONCAT(\"Trimestre 1\",CHAR(10),IFERROR(#REF!,\"\"))","v":"Trimestre 1\n"},{"$f":"_xlfn.CONCAT(\"Trimestre 1\",CHAR(10),IFERROR(#REF!,\"\"))","v":"Trimestre 1\n"},{"$f":"_xlfn.CONCAT(\"Trimestre 1\",CHAR(10),IFERROR(#REF!,\"\"))","v":"Trimestre 1\n"},{"$f":"_xlfn.CONCAT(\"Trimestre 1\",CHAR(10),IFERROR(#REF!,\"\"))","v":"Trimestre 1\n"},{"$f":"_xlfn.CONCAT(\"Trimestre 1\",CHAR(10),IFERROR(#REF!,\"\"))","v":"Trimestre 1\n"}]
[null,null,null,null,null,null,null,null,null,null,null,null,null,null,null,null,null,null,null,null,null,null,null,null,null,{"$f":"IFERROR(#REF!,\" \")","v":" "},{"$f":"IFERROR(#REF!,\"\")","v":""},{"$f":"IFERROR(#REF!,\"\")","v":""},"","",{"$f":"IFERROR(#REF!,\"\")","v":""},"",{"$f":"IFERROR(#REF!,\"\")","v":""},{"$f":"IFERROR(#REF!,\"\")","v":""},{"$f":"_xlfn.CONCAT(\"Trimestre 1\",CHAR(10),IFERROR(#REF!,\"\"))","v":"Trimestre 1\n"},{"$f":"_xlfn.CONCAT(\"Trimestre 1\",CHAR(10),IFERROR(#REF!,\"\"))","v":"Trimestre 1\n"},{"$f":"_xlfn.CONCAT(\"Trimestre 1\",CHAR(10),IFERROR(#REF!,\"\"))","v":"Trimestre 1\n"},{"$f":"_xlfn.CONCAT(\"Trimestre 1\",CHAR(10),IFERROR(#REF!,\"\"))","v":"Trimestre 1\n"},{"$f":"_xlfn.CONCAT(\"Trimestre 1\",CHAR(10),IFERROR(#REF!,\"\"))","v":"Trimestre 1\n"}]
[null,null,"6.Integrar y optimizar los servicios administrativos de la Rama Judicial bajo un enfoque de transformación digital e innovación incluyendo los componentes financiero, administrativo, talento humano, entre otros.",null,null,null,null,null,null,null,null,null,null,null,null,null,null,null,null,null,null,null,null,null,null,{"$f":"IFERROR(#REF!,\" \")","v":" "},{"$f":"IFERROR(#REF!,\"\")","v":""},{"$f":"IFERROR(#REF!,\"\")","v":""},"","",{"$f":"IFERROR(#REF!,\"\")","v":""},"",{"$f":"IFERROR(#REF!,\"\")","v":""},{"$f":"IFERROR(#REF!,\"\")","v":""},{"$f":"_xlfn.CONCAT(\"Trimestre 1\",CHAR(10),IFERROR(#REF!,\"\"))","v":"Trimestre 1\n"},{"$f":"_xlfn.CONCAT(\"Trimestre 1\",CHAR(10),IFERROR(#REF!,\"\"))","v":"Trimestre 1\n"},{"$f":"_xlfn.CONCAT(\"Trimestre 1\",CHAR(10),IFERROR(#REF!,\"\"))","v":"Trimestre 1\n"},{"$f":"_xlfn.CONCAT(\"Trimestre 1\",CHAR(10),IFERROR(#REF!,\"\"))","v":"Trimestre 1\n"},{"$f":"_xlfn.CONCAT(\"Trimestre 1\",CHAR(10),IFERROR(#REF!,\"\"))","v":"Trimestre 1\n"}]
[null,null,null,null,null,null,null,null,null,null,null,null,null,null,null,null,null,null,null,null,null,null,null,null,null,{"$f":"IFERROR(#REF!,\" \")","v":" "},{"$f":"IFERROR(#REF!,\"\")","v":""},{"$f":"IFERROR(#REF!,\"\")","v":""},"","",{"$f":"IFERROR(#REF!,\"\")","v":""},"",{"$f":"IFERROR(#REF!,\"\")","v":""},{"$f":"IFERROR(#REF!,\"\")","v":""},{"$f":"_xlfn.CONCAT(\"Trimestre 1\",CHAR(10),IFERROR(#REF!,\"\"))","v":"Trimestre 1\n"},{"$f":"_xlfn.CONCAT(\"Trimestre 1\",CHAR(10),IFERROR(#REF!,\"\"))","v":"Trimestre 1\n"},{"$f":"_xlfn.CONCAT(\"Trimestre 1\",CHAR(10),IFERROR(#REF!,\"\"))","v":"Trimestre 1\n"},{"$f":"_xlfn.CONCAT(\"Trimestre 1\",CHAR(10),IFERROR(#REF!,\"\"))","v":"Trimestre 1\n"},{"$f":"_xlfn.CONCAT(\"Trimestre 1\",CHAR(10),IFERROR(#REF!,\"\"))","v":"Trimestre 1\n"}]
[null,null,null,null,null,null,null,null,null,null,null,null,null,null,null,null,null,null,null,null,null,null,null,null,null,{"$f":"IFERROR(#REF!,\" \")","v":" "},{"$f":"IFERROR(#REF!,\"\")","v":""},{"$f":"IFERROR(#REF!,\"\")","v":""},"","",{"$f":"IFERROR(#REF!,\"\")","v":""},"",{"$f":"IFERROR(#REF!,\"\")","v":""},{"$f":"IFERROR(#REF!,\"\")","v":""},{"$f":"_xlfn.CONCAT(\"Trimestre 1\",CHAR(10),IFERROR(#REF!,\"\"))","v":"Trimestre 1\n"},{"$f":"_xlfn.CONCAT(\"Trimestre 1\",CHAR(10),IFERROR(#REF!,\"\"))","v":"Trimestre 1\n"},{"$f":"_xlfn.CONCAT(\"Trimestre 1\",CHAR(10),IFERROR(#REF!,\"\"))","v":"Trimestre 1\n"},{"$f":"_xlfn.CONCAT(\"Trimestre 1\",CHAR(10),IFERROR(#REF!,\"\"))","v":"Trimestre 1\n"},{"$f":"_xlfn.CONCAT(\"Trimestre 1\",CHAR(10),IFERROR(#REF!,\"\"))","v":"Trimestre 1\n"}]
[null,null,null,null,null,null,null,null,null,null,null,null,null,null,null,null,null,null,null,null,null,null,null,null,null,{"$f":"IFERROR(#REF!,\" \")","v":" "},{"$f":"IFERROR(#REF!,\"\")","v":""},{"$f":"IFERROR(#REF!,\"\")","v":""},"","",{"$f":"IFERROR(#REF!,\"\")","v":""},"",{"$f":"IFERROR(#REF!,\"\")","v":""},{"$f":"IFERROR(#REF!,\"\")","v":""},{"$f":"_xlfn.CONCAT(\"Trimestre 1\",CHAR(10),IFERROR(#REF!,\"\"))","v":"Trimestre 1\n"},{"$f":"_xlfn.CONCAT(\"Trimestre 1\",CHAR(10),IFERROR(#REF!,\"\"))","v":"Trimestre 1\n"},{"$f":"_xlfn.CONCAT(\"Trimestre 1\",CHAR(10),IFERROR(#REF!,\"\"))","v":"Trimestre 1\n"},{"$f":"_xlfn.CONCAT(\"Trimestre 1\",CHAR(10),IFERROR(#REF!,\"\"))","v":"Trimestre 1\n"},{"$f":"_xlfn.CONCAT(\"Trimestre 1\",CHAR(10),IFERROR(#REF!,\"\"))","v":"Trimestre 1\n"}]
[null,null,null,null,null,null,null,null,null,null,null,null,null,null,null,null,null,null,null,null,null,null,null,null,null,{"$f":"IFERROR(#REF!,\" \")","v":" "},{"$f":"IFERROR(#REF!,\"\")","v":""},{"$f":"IFERROR(#REF!,\"\")","v":""},"","",{"$f":"IFERROR(#REF!,\"\")","v":""},"",{"$f":"IFERROR(#REF!,\"\")","v":""},{"$f":"IFERROR(#REF!,\"\")","v":""},{"$f":"_xlfn.CONCAT(\"Trimestre 1\",CHAR(10),IFERROR(#REF!,\"\"))","v":"Trimestre 1\n"},{"$f":"_xlfn.CONCAT(\"Trimestre 1\",CHAR(10),IFERROR(#REF!,\"\"))","v":"Trimestre 1\n"},{"$f":"_xlfn.CONCAT(\"Trimestre 1\",CHAR(10),IFERROR(#REF!,\"\"))","v":"Trimestre 1\n"},{"$f":"_xlfn.CONCAT(\"Trimestre 1\",CHAR(10),IFERROR(#REF!,\"\"))","v":"Trimestre 1\n"},{"$f":"_xlfn.CONCAT(\"Trimestre 1\",CHAR(10),IFERROR(#REF!,\"\"))","v":"Trimestre 1\n"}]
["3. Confianza pública, transparencia y rendición de cuentas","Confianza pública, transparencia y rendición de cuentas: Aumentar la confianza pública en la justicia a través de la transparencia, la rendición de cuentas y la participación, incluyendo la información de justicia y la producción, gestión y acceso a las fuentes de derecho, el fortalecimiento del sistema de gestión de calidad y medio ambiente (SIGCMA) y el mejoramiento de la calidad y publicidad de la información. ","1. Incrementar la cantidad, la calidad y pertinencia de los datos sobre el funcionamiento del servicio de justicia bajo un modelo de gobierno de datos y un liderazgo unificado. ","Modelo de\ngobierno y calidad de datos implementado","% de implementa ción del modelo de gobierno y calidad de datos","4. Hacer un uso racional de los recursos naturales aplicando los principios y fases de la Economía Circular, para prevenir, mitigar y controlar los impactos ambientales.",null,null,null,null,null,null,null,null,null,null,null,null,null,null,null,null,null,null,null,{"$f":"IFERROR(#REF!,\" \")","v":" "},{"$f":"IFERROR(#REF!,\"\")","v":""},{"$f":"IFERROR(#REF!,\"\")","v":""},"","",{"$f":"IFERROR(#REF!,\"\")","v":""},"",{"$f":"IFERROR(#REF!,\"\")","v":""},{"$f":"IFERROR(#REF!,\"\")","v":""},{"$f":"_xlfn.CONCAT(\"Trimestre 1\",CHAR(10),IFERROR(#REF!,\"\"))","v":"Trimestre 1\n"},{"$f":"_xlfn.CONCAT(\"Trimestre 1\",CHAR(10),IFERROR(#REF!,\"\"))","v":"Trimestre 1\n"},{"$f":"_xlfn.CONCAT(\"Trimestre 1\",CHAR(10),IFERROR(#REF!,\"\"))","v":"Trimestre 1\n"},{"$f":"_xlfn.CONCAT(\"Trimestre 1\",CHAR(10),IFERROR(#REF!,\"\"))","v":"Trimestre 1\n"},{"$f":"_xlfn.CONCAT(\"Trimestre 1\",CHAR(10),IFERROR(#REF!,\"\"))","v":"Trimestre 1\n"}]
[null,null,null,null,null,null,null,null,null,null,null,null,null,null,null,null,null,null,null,null,null,null,null,null,null,{"$f":"IFERROR(#REF!,\" \")","v":" "},{"$f":"IFERROR(#REF!,\"\")","v":""},{"$f":"IFERROR(#REF!,\"\")","v":""},"","",{"$f":"IFERROR(#REF!,\"\")","v":""},"",{"$f":"IFERROR(#REF!,\"\")","v":""},{"$f":"IFERROR(#REF!,\"\")","v":""},{"$f":"_xlfn.CONCAT(\"Trimestre 1\",CHAR(10),IFERROR(#REF!,\"\"))","v":"Trimestre 1\n"},{"$f":"_xlfn.CONCAT(\"Trimestre 1\",CHAR(10),IFERROR(#REF!,\"\"))","v":"Trimestre 1\n"},{"$f":"_xlfn.CONCAT(\"Trimestre 1\",CHAR(10),IFERROR(#REF!,\"\"))","v":"Trimestre 1\n"},{"$f":"_xlfn.CONCAT(\"Trimestre 1\",CHAR(10),IFERROR(#REF!,\"\"))","v":"Trimestre 1\n"},{"$f":"_xlfn.CONCAT(\"Trimestre 1\",CHAR(10),IFERROR(#REF!,\"\"))","v":"Trimestre 1\n"}]
[null,null,null,null,null,null,null,null,null,null,null,null,null,null,null,null,null,null,null,null,null,null,null,null,null,{"$f":"IFERROR(#REF!,\" \")","v":" "},{"$f":"IFERROR(#REF!,\"\")","v":""},{"$f":"IFERROR(#REF!,\"\")","v":""},"","",{"$f":"IFERROR(#REF!,\"\")","v":""},"",{"$f":"IFERROR(#REF!,\"\")","v":""},{"$f":"IFERROR(#REF!,\"\")","v":""},{"$f":"_xlfn.CONCAT(\"Trimestre 1\",CHAR(10),IFERROR(#REF!,\"\"))","v":"Trimestre 1\n"},{"$f":"_xlfn.CONCAT(\"Trimestre 1\",CHAR(10),IFERROR(#REF!,\"\"))","v":"Trimestre 1\n"},{"$f":"_xlfn.CONCAT(\"Trimestre 1\",CHAR(10),IFERROR(#REF!,\"\"))","v":"Trimestre 1\n"},{"$f":"_xlfn.CONCAT(\"Trimestre 1\",CHAR(10),IFERROR(#REF!,\"\"))","v":"Trimestre 1\n"},{"$f":"_xlfn.CONCAT(\"Trimestre 1\",CHAR(10),IFERROR(#REF!,\"\"))","v":"Trimestre 1\n"}]
[null,null,null,null,null,null,null,null,null,null,null,null,null,null,null,null,null,null,null,null,null,null,null,null,null,{"$f":"IFERROR(#REF!,\" \")","v":" "},{"$f":"IFERROR(#REF!,\"\")","v":""},{"$f":"IFERROR(#REF!,\"\")","v":""},"","",{"$f":"IFERROR(#REF!,\"\")","v":""},"",{"$f":"IFERROR(#REF!,\"\")","v":""},{"$f":"IFERROR(#REF!,\"\")","v":""},{"$f":"_xlfn.CONCAT(\"Trimestre 1\",CHAR(10),IFERROR(#REF!,\"\"))","v":"Trimestre 1\n"},{"$f":"_xlfn.CONCAT(\"Trimestre 1\",CHAR(10),IFERROR(#REF!,\"\"))","v":"Trimestre 1\n"},{"$f":"_xlfn.CONCAT(\"Trimestre 1\",CHAR(10),IFERROR(#REF!,\"\"))","v":"Trimestre 1\n"},{"$f":"_xlfn.CONCAT(\"Trimestre 1\",CHAR(10),IFERROR(#REF!,\"\"))","v":"Trimestre 1\n"},{"$f":"_xlfn.CONCAT(\"Trimestre 1\",CHAR(10),IFERROR(#REF!,\"\"))","v":"Trimestre 1\n"}]
[null,null,null,null,null,null,null,null,null,null,null,null,null,null,null,null,null,null,null,null,null,null,null,null,null,{"$f":"IFERROR(#REF!,\" \")","v":" "},{"$f":"IFERROR(#REF!,\"\")","v":""},{"$f":"IFERROR(#REF!,\"\")","v":""},"","",{"$f":"IFERROR(#REF!,\"\")","v":""},"",{"$f":"IFERROR(#REF!,\"\")","v":""},{"$f":"IFERROR(#REF!,\"\")","v":""},{"$f":"_xlfn.CONCAT(\"Trimestre 1\",CHAR(10),IFERROR(#REF!,\"\"))","v":"Trimestre 1\n"},{"$f":"_xlfn.CONCAT(\"Trimestre 1\",CHAR(10),IFERROR(#REF!,\"\"))","v":"Trimestre 1\n"},{"$f":"_xlfn.CONCAT(\"Trimestre 1\",CHAR(10),IFERROR(#REF!,\"\"))","v":"Trimestre 1\n"},{"$f":"_xlfn.CONCAT(\"Trimestre 1\",CHAR(10),IFERROR(#REF!,\"\"))","v":"Trimestre 1\n"},{"$f":"_xlfn.CONCAT(\"Trimestre 1\",CHAR(10),IFERROR(#REF!,\"\"))","v":"Trimestre 1\n"}]
[null,null,"2. Consolidar la administración de la información entendida como todas las acciones rientadas a garantizar el acceso, consulta, uso y conservación de la información de justicia de manera ágil, flexible e inteligente, bajo un enfoque de innovación.","Modelo de producción, acceso, consulta y conservación del conocimiento jurídico","% de implementa ción del modelo de producción, acceso, consulta y conservació n del conocimient o jurídico",null,null,null,null,null,null,null,null,null,null,null,null,null,null,null,null,null,null,null,null,{"$f":"IFERROR(#REF!,\" \")","v":" "},{"$f":"IFERROR(#REF!,\"\")","v":""},{"$f":"IFERROR(#REF!,\"\")","v":""},"","",{"$f":"IFERROR(#REF!,\"\")","v":""},"",{"$f":"IFERROR(#REF!,\"\")","v":""},{"$f":"IFERROR(#REF!,\"\")","v":""},{"$f":"_xlfn.CONCAT(\"Trimestre 1\",CHAR(10),IFERROR(#REF!,\"\"))","v":"Trimestre 1\n"},{"$f":"_xlfn.CONCAT(\"Trimestre 1\",CHAR(10),IFERROR(#REF!,\"\"))","v":"Trimestre 1\n"},{"$f":"_xlfn.CONCAT(\"Trimestre 1\",CHAR(10),IFERROR(#REF!,\"\"))","v":"Trimestre 1\n"},{"$f":"_xlfn.CONCAT(\"Trimestre 1\",CHAR(10),IFERROR(#REF!,\"\"))","v":"Trimestre 1\n"},{"$f":"_xlfn.CONCAT(\"Trimestre 1\",CHAR(10),IFERROR(#REF!,\"\"))","v":"Trimestre 1\n"}]
[null,null,null,null,null,null,null,null,null,null,null,null,null,null,null,null,null,null,null,null,null,null,null,null,null,{"$f":"IFERROR(#REF!,\" \")","v":" "},{"$f":"IFERROR(#REF!,\"\")","v":""},{"$f":"IFERROR(#REF!,\"\")","v":""},"","",{"$f":"IFERROR(#REF!,\"\")","v":""},"",{"$f":"IFERROR(#REF!,\"\")","v":""},{"$f":"IFERROR(#REF!,\"\")","v":""},{"$f":"_xlfn.CONCAT(\"Trimestre 1\",CHAR(10),IFERROR(#REF!,\"\"))","v":"Trimestre 1\n"},{"$f":"_xlfn.CONCAT(\"Trimestre 1\",CHAR(10),IFERROR(#REF!,\"\"))","v":"Trimestre 1\n"},{"$f":"_xlfn.CONCAT(\"Trimestre 1\",CHAR(10),IFERROR(#REF!,\"\"))","v":"Trimestre 1\n"},{"$f":"_xlfn.CONCAT(\"Trimestre 1\",CHAR(10),IFERROR(#REF!,\"\"))","v":"Trimestre 1\n"},{"$f":"_xlfn.CONCAT(\"Trimestre 1\",CHAR(10),IFERROR(#REF!,\"\"))","v":"Trimestre 1\n"}]
[null,null,null,null,null,null,null,null,null,null,null,null,null,null,null,null,null,null,null,null,null,null,null,null,null,{"$f":"IFERROR(#REF!,\" \")","v":" "},{"$f":"IFERROR(#REF!,\"\")","v":""},{"$f":"IFERROR(#REF!,\"\")","v":""},"","",{"$f":"IFERROR(#REF!,\"\")","v":""},"",{"$f":"IFERROR(#REF!,\"\")","v":""},{"$f":"IFERROR(#REF!,\"\")","v":""},{"$f":"_xlfn.CONCAT(\"Trimestre 1\",CHAR(10),IFERROR(#REF!,\"\"))","v":"Trimestre 1\n"},{"$f":"_xlfn.CONCAT(\"Trimestre 1\",CHAR(10),IFERROR(#REF!,\"\"))","v":"Trimestre 1\n"},{"$f":"_xlfn.CONCAT(\"Trimestre 1\",CHAR(10),IFERROR(#REF!,\"\"))","v":"Trimestre 1\n"},{"$f":"_xlfn.CONCAT(\"Trimestre 1\",CHAR(10),IFERROR(#REF!,\"\"))","v":"Trimestre 1\n"},{"$f":"_xlfn.CONCAT(\"Trimestre 1\",CHAR(10),IFERROR(#REF!,\"\"))","v":"Trimestre 1\n"}]
[null,null,null,null,null,null,null,null,null,null,null,null,null,null,null,null,null,null,null,null,null,null,null,null,null,{"$f":"IFERROR(#REF!,\" \")","v":" "},{"$f":"IFERROR(#REF!,\"\")","v":""},{"$f":"IFERROR(#REF!,\"\")","v":""},"","",{"$f":"IFERROR(#REF!,\"\")","v":""},"",{"$f":"IFERROR(#REF!,\"\")","v":""},{"$f":"IFERROR(#REF!,\"\")","v":""},{"$f":"_xlfn.CONCAT(\"Trimestre 1\",CHAR(10),IFERROR(#REF!,\"\"))","v":"Trimestre 1\n"},{"$f":"_xlfn.CONCAT(\"Trimestre 1\",CHAR(10),IFERROR(#REF!,\"\"))","v":"Trimestre 1\n"},{"$f":"_xlfn.CONCAT(\"Trimestre 1\",CHAR(10),IFERROR(#REF!,\"\"))","v":"Trimestre 1\n"},{"$f":"_xlfn.CONCAT(\"Trimestre 1\",CHAR(10),IFERROR(#REF!,\"\"))","v":"Trimestre 1\n"},{"$f":"_xlfn.CONCAT(\"Trimestre 1\",CHAR(10),IFERROR(#REF!,\"\"))","v":"Trimestre 1\n"}]
[null,null,null,null,null,null,null,null,null,null,null,null,null,null,null,null,null,null,null,null,null,null,null,null,null,{"$f":"IFERROR(#REF!,\" \")","v":" "},{"$f":"IFERROR(#REF!,\"\")","v":""},{"$f":"IFERROR(#REF!,\"\")","v":""},"","",{"$f":"IFERROR(#REF!,\"\")","v":""},"",{"$f":"IFERROR(#REF!,\"\")","v":""},{"$f":"IFERROR(#REF!,\"\")","v":""},{"$f":"_xlfn.CONCAT(\"Trimestre 1\",CHAR(10),IFERROR(#REF!,\"\"))","v":"Trimestre 1\n"},{"$f":"_xlfn.CONCAT(\"Trimestre 1\",CHAR(10),IFERROR(#REF!,\"\"))","v":"Trimestre 1\n"},{"$f":"_xlfn.CONCAT(\"Trimestre 1\",CHAR(10),IFERROR(#REF!,\"\"))","v":"Trimestre 1\n"},{"$f":"_xlfn.CONCAT(\"Trimestre 1\",CHAR(10),IFERROR(#REF!,\"\"))","v":"Trimestre 1\n"},{"$f":"_xlfn.CONCAT(\"Trimestre 1\",CHAR(10),IFERROR(#REF!,\"\"))","v":"Trimestre 1\n"}]
[null,null,"3. Fortalecer el Sistema integrado de Gestión de la Rama, orientado a la implementación y certificación de las normas antisoborno.","Certificación del Sistema Integrado de Gestión de la Rama en norma antisoborno","# de dependenci as judiciales y administrati vas certificadas en norma antisoborno /# total de despachos certificados en calidad","1. Gestionar el desarrollo de las competencias, la toma de conciencia , la cultura  organizacional  y el compromiso de los  servidores judiciales, contratistas, practicantes y  judicantes de contribuir a generar valor público en la administración de justicia, en el marco de  cumplimiento de los requisitos  aplicables y el comportamiento ético.\n3. Fomentar la transparencia y la participación generando lineamientos y promoviendo la rendición de cuentas ,la consulta, reporte y planteamiento de inquietudes en relación con las decisiones y aspectos del SIGCMA.",null,null,null,null,null,null,null,null,null,null,null,null,null,null,null,null,null,null,null,{"$f":"IFERROR(#REF!,\" \")","v":" "},{"$f":"IFERROR(#REF!,\"\")","v":""},{"$f":"IFERROR(#REF!,\"\")","v":""},"","",{"$f":"IFERROR(#REF!,\"\")","v":""},{"$f":"IFERROR(P71-AB71,\"\")","v":""},{"$f":"IFERROR(#REF!,\"\")","v":""},{"$f":"IFERROR(#REF!,\"\")","v":""},{"$f":"_xlfn.CONCAT(\"Trimestre 1\",CHAR(10),IFERROR(#REF!,\"\"))","v":"Trimestre 1\n"},{"$f":"_xlfn.CONCAT(\"Trimestre 1\",CHAR(10),IFERROR(#REF!,\"\"))","v":"Trimestre 1\n"},{"$f":"_xlfn.CONCAT(\"Trimestre 1\",CHAR(10),IFERROR(#REF!,\"\"))","v":"Trimestre 1\n"},{"$f":"_xlfn.CONCAT(\"Trimestre 1\",CHAR(10),IFERROR(#REF!,\"\"))","v":"Trimestre 1\n"},{"$f":"_xlfn.CONCAT(\"Trimestre 1\",CHAR(10),IFERROR(#REF!,\"\"))","v":"Trimestre 1\n"}]
[null,null,null,null,null,null,null,null,null,null,null,null,null,null,null,null,null,null,null,null,null,null,null,null,null,{"$f":"IFERROR(#REF!,\" \")","v":" "},{"$f":"IFERROR(#REF!,\"\")","v":""},{"$f":"IFERROR(#REF!,\"\")","v":""},{"$f":"IFERROR(AB72/P72,\"\")","v":""},{"$f":"IFERROR(AA72/Y72,\"\")","v":""},{"$f":"IFERROR(#REF!,\"\")","v":""},"",{"$f":"IFERROR(#REF!,\"\")","v":""},{"$f":"IFERROR(#REF!,\"\")","v":""},{"$f":"_xlfn.CONCAT(\"Trimestre 1\",CHAR(10),IFERROR(#REF!,\"\"))","v":"Trimestre 1\n"},{"$f":"_xlfn.CONCAT(\"Trimestre 1\",CHAR(10),IFERROR(#REF!,\"\"))","v":"Trimestre 1\n"},{"$f":"_xlfn.CONCAT(\"Trimestre 1\",CHAR(10),IFERROR(#REF!,\"\"))","v":"Trimestre 1\n"},{"$f":"_xlfn.CONCAT(\"Trimestre 1\",CHAR(10),IFERROR(#REF!,\"\"))","v":"Trimestre 1\n"},{"$f":"_xlfn.CONCAT(\"Trimestre 1\",CHAR(10),IFERROR(#REF!,\"\"))","v":"Trimestre 1\n"}]
[null,null,null,null,null,null,null,null,null,null,null,null,null,null,null,null,null,null,null,null,null,null,null,null,null,{"$f":"IFERROR(#REF!,\" \")","v":" "},{"$f":"IFERROR(#REF!,\"\")","v":""},{"$f":"IFERROR(#REF!,\"\")","v":""},"","",{"$f":"IFERROR(#REF!,\"\")","v":""},"",{"$f":"IFERROR(#REF!,\"\")","v":""},{"$f":"IFERROR(#REF!,\"\")","v":""},{"$f":"_xlfn.CONCAT(\"Trimestre 1\",CHAR(10),IFERROR(#REF!,\"\"))","v":"Trimestre 1\n"},{"$f":"_xlfn.CONCAT(\"Trimestre 1\",CHAR(10),IFERROR(#REF!,\"\"))","v":"Trimestre 1\n"},{"$f":"_xlfn.CONCAT(\"Trimestre 1\",CHAR(10),IFERROR(#REF!,\"\"))","v":"Trimestre 1\n"},{"$f":"_xlfn.CONCAT(\"Trimestre 1\",CHAR(10),IFERROR(#REF!,\"\"))","v":"Trimestre 1\n"},{"$f":"_xlfn.CONCAT(\"Trimestre 1\",CHAR(10),IFERROR(#REF!,\"\"))","v":"Trimestre 1\n"}]
[null,null,null,null,null,null,null,null,null,null,null,null,null,null,null,null,null,null,null,null,null,null,null,null,null,{"$f":"IFERROR(#REF!,\" \")","v":" "},{"$f":"IFERROR(#REF!,\"\")","v":""},{"$f":"IFERROR(#REF!,\"\")","v":""},"","",{"$f":"IFERROR(#REF!,\"\")","v":""},"",{"$f":"IFERROR(#REF!,\"\")","v":""},{"$f":"IFERROR(#REF!,\"\")","v":""},{"$f":"_xlfn.CONCAT(\"Trimestre 1\",CHAR(10),IFERROR(#REF!,\"\"))","v":"Trimestre 1\n"},{"$f":"_xlfn.CONCAT(\"Trimestre 1\",CHAR(10),IFERROR(#REF!,\"\"))","v":"Trimestre 1\n"},{"$f":"_xlfn.CONCAT(\"Trimestre 1\",CHAR(10),IFERROR(#REF!,\"\"))","v":"Trimestre 1\n"},{"$f":"_xlfn.CONCAT(\"Trimestre 1\",CHAR(10),IFERROR(#REF!,\"\"))","v":"Trimestre 1\n"},{"$f":"_xlfn.CONCAT(\"Trimestre 1\",CHAR(10),IFERROR(#REF!,\"\"))","v":"Trimestre 1\n"}]
[null,null,null,null,null,null,null,null,null,null,null,null,null,null,null,null,null,null,null,null,null,null,null,null,null,{"$f":"IFERROR(#REF!,\" \")","v":" "},{"$f":"IFERROR(#REF!,\"\")","v":""},{"$f":"IFERROR(#REF!,\"\")","v":""},"","",{"$f":"IFERROR(#REF!,\"\")","v":""},"",{"$f":"IFERROR(#REF!,\"\")","v":""},{"$f":"IFERROR(#REF!,\"\")","v":""},{"$f":"_xlfn.CONCAT(\"Trimestre 1\",CHAR(10),IFERROR(#REF!,\"\"))","v":"Trimestre 1\n"},{"$f":"_xlfn.CONCAT(\"Trimestre 1\",CHAR(10),IFERROR(#REF!,\"\"))","v":"Trimestre 1\n"},{"$f":"_xlfn.CONCAT(\"Trimestre 1\",CHAR(10),IFERROR(#REF!,\"\"))","v":"Trimestre 1\n"},{"$f":"_xlfn.CONCAT(\"Trimestre 1\",CHAR(10),IFERROR(#REF!,\"\"))","v":"Trimestre 1\n"},{"$f":"_xlfn.CONCAT(\"Trimestre 1\",CHAR(10),IFERROR(#REF!,\"\"))","v":"Trimestre 1\n"}]
[null,null,"4. Aumentar la confianza, la cercanía y acceso a los servicios de la Rama Judicial a través, entre otros, de una comunicación clara y asertiva con la ciudadanía.","Satisfacción de la ciudadanía con la administración de justicia","% de satisfacción de la ciudadanía alto o muy alto con la administraci ón de justicia","3. Fomentar la transparencia y la participación generando lineamientos y promoviendo la rendición de cuentas ,la consulta, reporte y planteamiento de inquietudes en relación con las decisiones y aspectos del SIGCMA.",null,null,null,null,null,null,null,null,null,null,null,null,null,null,null,null,null,null,null,{"$f":"IFERROR(#REF!,\" \")","v":" "},{"$f":"IFERROR(#REF!,\"\")","v":""},{"$f":"IFERROR(#REF!,\"\")","v":""},"","",{"$f":"IFERROR(#REF!,\"\")","v":""},"",{"$f":"IFERROR(#REF!,\"\")","v":""},{"$f":"IFERROR(#REF!,\"\")","v":""},{"$f":"_xlfn.CONCAT(\"Trimestre 1\",CHAR(10),IFERROR(#REF!,\"\"))","v":"Trimestre 1\n"},{"$f":"_xlfn.CONCAT(\"Trimestre 1\",CHAR(10),IFERROR(#REF!,\"\"))","v":"Trimestre 1\n"},{"$f":"_xlfn.CONCAT(\"Trimestre 1\",CHAR(10),IFERROR(#REF!,\"\"))","v":"Trimestre 1\n"},{"$f":"_xlfn.CONCAT(\"Trimestre 1\",CHAR(10),IFERROR(#REF!,\"\"))","v":"Trimestre 1\n"},{"$f":"_xlfn.CONCAT(\"Trimestre 1\",CHAR(10),IFERROR(#REF!,\"\"))","v":"Trimestre 1\n"}]
[null,null,null,null,null,null,null,null,null,null,null,null,null,null,null,null,null,null,null,null,null,null,null,null,null,{"$f":"IFERROR(#REF!,\" \")","v":" "},{"$f":"IFERROR(#REF!,\"\")","v":""},{"$f":"IFERROR(#REF!,\"\")","v":""},"","",{"$f":"IFERROR(#REF!,\"\")","v":""},"",{"$f":"IFERROR(#REF!,\"\")","v":""},{"$f":"IFERROR(#REF!,\"\")","v":""},{"$f":"_xlfn.CONCAT(\"Trimestre 1\",CHAR(10),IFERROR(#REF!,\"\"))","v":"Trimestre 1\n"},{"$f":"_xlfn.CONCAT(\"Trimestre 1\",CHAR(10),IFERROR(#REF!,\"\"))","v":"Trimestre 1\n"},{"$f":"_xlfn.CONCAT(\"Trimestre 1\",CHAR(10),IFERROR(#REF!,\"\"))","v":"Trimestre 1\n"},{"$f":"_xlfn.CONCAT(\"Trimestre 1\",CHAR(10),IFERROR(#REF!,\"\"))","v":"Trimestre 1\n"},{"$f":"_xlfn.CONCAT(\"Trimestre 1\",CHAR(10),IFERROR(#REF!,\"\"))","v":"Trimestre 1\n"}]
[null,null,null,null,null,null,null,null,null,null,null,null,null,null,null,null,null,null,null,null,null,null,null,null,null,{"$f":"IFERROR(#REF!,\" \")","v":" "},{"$f":"IFERROR(#REF!,\"\")","v":""},{"$f":"IFERROR(#REF!,\"\")","v":""},"","",{"$f":"IFERROR(#REF!,\"\")","v":""},"",{"$f":"IFERROR(#REF!,\"\")","v":""},{"$f":"IFERROR(#REF!,\"\")","v":""},{"$f":"_xlfn.CONCAT(\"Trimestre 1\",CHAR(10),IFERROR(#REF!,\"\"))","v":"Trimestre 1\n"},{"$f":"_xlfn.CONCAT(\"Trimestre 1\",CHAR(10),IFERROR(#REF!,\"\"))","v":"Trimestre 1\n"},{"$f":"_xlfn.CONCAT(\"Trimestre 1\",CHAR(10),IFERROR(#REF!,\"\"))","v":"Trimestre 1\n"},{"$f":"_xlfn.CONCAT(\"Trimestre 1\",CHAR(10),IFERROR(#REF!,\"\"))","v":"Trimestre 1\n"},{"$f":"_xlfn.CONCAT(\"Trimestre 1\",CHAR(10),IFERROR(#REF!,\"\"))","v":"Trimestre 1\n"}]
[null,null,null,null,null,null,null,null,null,null,null,null,null,null,null,null,null,null,null,null,null,null,null,null,null,{"$f":"IFERROR(#REF!,\" \")","v":" "},{"$f":"IFERROR(#REF!,\"\")","v":""},{"$f":"IFERROR(#REF!,\"\")","v":""},"","",{"$f":"IFERROR(#REF!,\"\")","v":""},"",{"$f":"IFERROR(#REF!,\"\")","v":""},{"$f":"IFERROR(#REF!,\"\")","v":""},{"$f":"_xlfn.CONCAT(\"Trimestre 1\",CHAR(10),IFERROR(#REF!,\"\"))","v":"Trimestre 1\n"},{"$f":"_xlfn.CONCAT(\"Trimestre 1\",CHAR(10),IFERROR(#REF!,\"\"))","v":"Trimestre 1\n"},{"$f":"_xlfn.CONCAT(\"Trimestre 1\",CHAR(10),IFERROR(#REF!,\"\"))","v":"Trimestre 1\n"},{"$f":"_xlfn.CONCAT(\"Trimestre 1\",CHAR(10),IFERROR(#REF!,\"\"))","v":"Trimestre 1\n"},{"$f":"_xlfn.CONCAT(\"Trimestre 1\",CHAR(10),IFERROR(#REF!,\"\"))","v":"Trimestre 1\n"}]
[null,null,null,null,null,null,null,null,null,null,null,null,null,null,null,null,null,null,null,null,null,null,null,null,null,{"$f":"IFERROR(#REF!,\" \")","v":" "},{"$f":"IFERROR(#REF!,\"\")","v":""},{"$f":"IFERROR(#REF!,\"\")","v":""},"","",{"$f":"IFERROR(#REF!,\"\")","v":""},"",{"$f":"IFERROR(#REF!,\"\")","v":""},{"$f":"IFERROR(#REF!,\"\")","v":""},{"$f":"_xlfn.CONCAT(\"Trimestre 1\",CHAR(10),IFERROR(#REF!,\"\"))","v":"Trimestre 1\n"},{"$f":"_xlfn.CONCAT(\"Trimestre 1\",CHAR(10),IFERROR(#REF!,\"\"))","v":"Trimestre 1\n"},{"$f":"_xlfn.CONCAT(\"Trimestre 1\",CHAR(10),IFERROR(#REF!,\"\"))","v":"Trimestre 1\n"},{"$f":"_xlfn.CONCAT(\"Trimestre 1\",CHAR(10),IFERROR(#REF!,\"\"))","v":"Trimestre 1\n"},{"$f":"_xlfn.CONCAT(\"Trimestre 1\",CHAR(10),IFERROR(#REF!,\"\"))","v":"Trimestre 1\n"}]
[null,null,"5. Prevenir fenómenos asociados con actos de corrupción en la Rama Judicial y reducir las experiencias de corrupción de usuarios y servidores judiciales.","Cumplimiento del Plan Anticorrupción y de Atención al Ciudadano de la Rama Judicial","# Actividades cumplidas del PAAC/# Actividades programada s del PAAC*100",null,null,null,null,null,null,null,null,null,null,null,null,null,null,null,null,null,null,null,null,{"$f":"IFERROR(#REF!,\" \")","v":" "},{"$f":"IFERROR(#REF!,\"\")","v":""},{"$f":"IFERROR(#REF!,\"\")","v":""},"","",{"$f":"IFERROR(#REF!,\"\")","v":""},"",{"$f":"IFERROR(#REF!,\"\")","v":""},{"$f":"IFERROR(#REF!,\"\")","v":""},{"$f":"_xlfn.CONCAT(\"Trimestre 1\",CHAR(10),IFERROR(#REF!,\"\"))","v":"Trimestre 1\n"},{"$f":"_xlfn.CONCAT(\"Trimestre 1\",CHAR(10),IFERROR(#REF!,\"\"))","v":"Trimestre 1\n"},{"$f":"_xlfn.CONCAT(\"Trimestre 1\",CHAR(10),IFERROR(#REF!,\"\"))","v":"Trimestre 1\n"},{"$f":"_xlfn.CONCAT(\"Trimestre 1\",CHAR(10),IFERROR(#REF!,\"\"))","v":"Trimestre 1\n"},{"$f":"_xlfn.CONCAT(\"Trimestre 1\",CHAR(10),IFERROR(#REF!,\"\"))","v":"Trimestre 1\n"}]
[null,null,null,null,null,null,null,null,null,null,null,null,null,null,null,null,null,null,null,null,null,null,null,null,null,{"$f":"IFERROR(#REF!,\" \")","v":" "},{"$f":"IFERROR(#REF!,\"\")","v":""},{"$f":"IFERROR(#REF!,\"\")","v":""},"","",{"$f":"IFERROR(#REF!,\"\")","v":""},"",{"$f":"IFERROR(#REF!,\"\")","v":""},{"$f":"IFERROR(#REF!,\"\")","v":""},{"$f":"_xlfn.CONCAT(\"Trimestre 1\",CHAR(10),IFERROR(#REF!,\"\"))","v":"Trimestre 1\n"},{"$f":"_xlfn.CONCAT(\"Trimestre 1\",CHAR(10),IFERROR(#REF!,\"\"))","v":"Trimestre 1\n"},{"$f":"_xlfn.CONCAT(\"Trimestre 1\",CHAR(10),IFERROR(#REF!,\"\"))","v":"Trimestre 1\n"},{"$f":"_xlfn.CONCAT(\"Trimestre 1\",CHAR(10),IFERROR(#REF!,\"\"))","v":"Trimestre 1\n"},{"$f":"_xlfn.CONCAT(\"Trimestre 1\",CHAR(10),IFERROR(#REF!,\"\"))","v":"Trimestre 1\n"}]
[null,null,null,null,null,null,null,null,null,null,null,null,null,null,null,null,null,null,null,null,null,null,null,null,null,{"$f":"IFERROR(#REF!,\" \")","v":" "},{"$f":"IFERROR(#REF!,\"\")","v":""},{"$f":"IFERROR(#REF!,\"\")","v":""},"","",{"$f":"IFERROR(#REF!,\"\")","v":""},"",{"$f":"IFERROR(#REF!,\"\")","v":""},{"$f":"IFERROR(#REF!,\"\")","v":""},{"$f":"_xlfn.CONCAT(\"Trimestre 1\",CHAR(10),IFERROR(#REF!,\"\"))","v":"Trimestre 1\n"},{"$f":"_xlfn.CONCAT(\"Trimestre 1\",CHAR(10),IFERROR(#REF!,\"\"))","v":"Trimestre 1\n"},{"$f":"_xlfn.CONCAT(\"Trimestre 1\",CHAR(10),IFERROR(#REF!,\"\"))","v":"Trimestre 1\n"},{"$f":"_xlfn.CONCAT(\"Trimestre 1\",CHAR(10),IFERROR(#REF!,\"\"))","v":"Trimestre 1\n"},{"$f":"_xlfn.CONCAT(\"Trimestre 1\",CHAR(10),IFERROR(#REF!,\"\"))","v":"Trimestre 1\n"}]
[null,null,null,null,null,null,null,null,null,null,null,null,null,null,null,null,null,null,null,null,null,null,null,null,null,{"$f":"IFERROR(#REF!,\" \")","v":" "},{"$f":"IFERROR(#REF!,\"\")","v":""},{"$f":"IFERROR(#REF!,\"\")","v":""},"","",{"$f":"IFERROR(#REF!,\"\")","v":""},"",{"$f":"IFERROR(#REF!,\"\")","v":""},{"$f":"IFERROR(#REF!,\"\")","v":""},{"$f":"_xlfn.CONCAT(\"Trimestre 1\",CHAR(10),IFERROR(#REF!,\"\"))","v":"Trimestre 1\n"},{"$f":"_xlfn.CONCAT(\"Trimestre 1\",CHAR(10),IFERROR(#REF!,\"\"))","v":"Trimestre 1\n"},{"$f":"_xlfn.CONCAT(\"Trimestre 1\",CHAR(10),IFERROR(#REF!,\"\"))","v":"Trimestre 1\n"},{"$f":"_xlfn.CONCAT(\"Trimestre 1\",CHAR(10),IFERROR(#REF!,\"\"))","v":"Trimestre 1\n"},{"$f":"_xlfn.CONCAT(\"Trimestre 1\",CHAR(10),IFERROR(#REF!,\"\"))","v":"Trimestre 1\n"}]
[null,null,null,null,null,null,null,null,null,null,null,null,null,null,null,null,null,null,null,null,null,null,null,null,null,{"$f":"IFERROR(#REF!,\" \")","v":" "},{"$f":"IFERROR(#REF!,\"\")","v":""},{"$f":"IFERROR(#REF!,\"\")","v":""},"","",{"$f":"IFERROR(#REF!,\"\")","v":""},"",{"$f":"IFERROR(#REF!,\"\")","v":""},{"$f":"IFERROR(#REF!,\"\")","v":""},{"$f":"_xlfn.CONCAT(\"Trimestre 1\",CHAR(10),IFERROR(#REF!,\"\"))","v":"Trimestre 1\n"},{"$f":"_xlfn.CONCAT(\"Trimestre 1\",CHAR(10),IFERROR(#REF!,\"\"))","v":"Trimestre 1\n"},{"$f":"_xlfn.CONCAT(\"Trimestre 1\",CHAR(10),IFERROR(#REF!,\"\"))","v":"Trimestre 1\n"},{"$f":"_xlfn.CONCAT(\"Trimestre 1\",CHAR(10),IFERROR(#REF!,\"\"))","v":"Trimestre 1\n"},{"$f":"_xlfn.CONCAT(\"Trimestre 1\",CHAR(10),IFERROR(#REF!,\"\"))","v":"Trimestre 1\n"}]
[null,null,"6. Promover la rendición de cuentas y la colaboración real con la ciudadanía como fundamento para diseñar acciones de mejoramiento del acceso a la justicia.","Estrategias para implementar la colaboración real con la ciudadanía en el marco de la \"justicia abierta\" implementadas","% de implementa ción de las estrategias de colaboració n real con la ciudadanía en el marco de la \"justicia abierta\" definidas para cada anualidad",null,null,null,null,null,null,null,null,null,null,null,null,null,null,null,null,null,null,null,null,{"$f":"IFERROR(#REF!,\" \")","v":" "},{"$f":"IFERROR(#REF!,\"\")","v":""},{"$f":"IFERROR(#REF!,\"\")","v":""},"","",{"$f":"IFERROR(#REF!,\"\")","v":""},"",{"$f":"IFERROR(#REF!,\"\")","v":""},{"$f":"IFERROR(#REF!,\"\")","v":""},{"$f":"_xlfn.CONCAT(\"Trimestre 1\",CHAR(10),IFERROR(#REF!,\"\"))","v":"Trimestre 1\n"},{"$f":"_xlfn.CONCAT(\"Trimestre 1\",CHAR(10),IFERROR(#REF!,\"\"))","v":"Trimestre 1\n"},{"$f":"_xlfn.CONCAT(\"Trimestre 1\",CHAR(10),IFERROR(#REF!,\"\"))","v":"Trimestre 1\n"},{"$f":"_xlfn.CONCAT(\"Trimestre 1\",CHAR(10),IFERROR(#REF!,\"\"))","v":"Trimestre 1\n"},{"$f":"_xlfn.CONCAT(\"Trimestre 1\",CHAR(10),IFERROR(#REF!,\"\"))","v":"Trimestre 1\n"}]
[null,null,null,null,null,null,null,null,null,null,null,null,null,null,null,null,null,null,null,null,null,null,null,null,null,{"$f":"IFERROR(#REF!,\" \")","v":" "},{"$f":"IFERROR(#REF!,\"\")","v":""},{"$f":"IFERROR(#REF!,\"\")","v":""},"","",{"$f":"IFERROR(#REF!,\"\")","v":""},"",{"$f":"IFERROR(#REF!,\"\")","v":""},{"$f":"IFERROR(#REF!,\"\")","v":""},{"$f":"_xlfn.CONCAT(\"Trimestre 1\",CHAR(10),IFERROR(#REF!,\"\"))","v":"Trimestre 1\n"},{"$f":"_xlfn.CONCAT(\"Trimestre 1\",CHAR(10),IFERROR(#REF!,\"\"))","v":"Trimestre 1\n"},{"$f":"_xlfn.CONCAT(\"Trimestre 1\",CHAR(10),IFERROR(#REF!,\"\"))","v":"Trimestre 1\n"},{"$f":"_xlfn.CONCAT(\"Trimestre 1\",CHAR(10),IFERROR(#REF!,\"\"))","v":"Trimestre 1\n"},{"$f":"_xlfn.CONCAT(\"Trimestre 1\",CHAR(10),IFERROR(#REF!,\"\"))","v":"Trimestre 1\n"}]
[null,null,null,null,null,null,null,null,null,null,null,null,null,null,null,null,null,null,null,null,null,null,null,null,null,{"$f":"IFERROR(#REF!,\" \")","v":" "},{"$f":"IFERROR(#REF!,\"\")","v":""},{"$f":"IFERROR(#REF!,\"\")","v":""},"","",{"$f":"IFERROR(#REF!,\"\")","v":""},"",{"$f":"IFERROR(#REF!,\"\")","v":""},{"$f":"IFERROR(#REF!,\"\")","v":""},{"$f":"_xlfn.CONCAT(\"Trimestre 1\",CHAR(10),IFERROR(#REF!,\"\"))","v":"Trimestre 1\n"},{"$f":"_xlfn.CONCAT(\"Trimestre 1\",CHAR(10),IFERROR(#REF!,\"\"))","v":"Trimestre 1\n"},{"$f":"_xlfn.CONCAT(\"Trimestre 1\",CHAR(10),IFERROR(#REF!,\"\"))","v":"Trimestre 1\n"},{"$f":"_xlfn.CONCAT(\"Trimestre 1\",CHAR(10),IFERROR(#REF!,\"\"))","v":"Trimestre 1\n"},{"$f":"_xlfn.CONCAT(\"Trimestre 1\",CHAR(10),IFERROR(#REF!,\"\"))","v":"Trimestre 1\n"}]
[null,null,null,null,null,null,null,null,null,null,null,null,null,null,null,null,null,null,null,null,null,null,null,null,null,{"$f":"IFERROR(#REF!,\" \")","v":" "},{"$f":"IFERROR(#REF!,\"\")","v":""},{"$f":"IFERROR(#REF!,\"\")","v":""},"","",{"$f":"IFERROR(#REF!,\"\")","v":""},"",{"$f":"IFERROR(#REF!,\"\")","v":""},{"$f":"IFERROR(#REF!,\"\")","v":""},{"$f":"_xlfn.CONCAT(\"Trimestre 1\",CHAR(10),IFERROR(#REF!,\"\"))","v":"Trimestre 1\n"},{"$f":"_xlfn.CONCAT(\"Trimestre 1\",CHAR(10),IFERROR(#REF!,\"\"))","v":"Trimestre 1\n"},{"$f":"_xlfn.CONCAT(\"Trimestre 1\",CHAR(10),IFERROR(#REF!,\"\"))","v":"Trimestre 1\n"},{"$f":"_xlfn.CONCAT(\"Trimestre 1\",CHAR(10),IFERROR(#REF!,\"\"))","v":"Trimestre 1\n"},{"$f":"_xlfn.CONCAT(\"Trimestre 1\",CHAR(10),IFERROR(#REF!,\"\"))","v":"Trimestre 1\n"}]
[null,null,null,null,null,null,null,null,null,null,null,null,null,null,null,null,null,null,null,null,null,null,null,null,null,{"$f":"IFERROR(#REF!,\" \")","v":" "},{"$f":"IFERROR(#REF!,\"\")","v":""},{"$f":"IFERROR(#REF!,\"\")","v":""},"","",{"$f":"IFERROR(#REF!,\"\")","v":""},"",{"$f":"IFERROR(#REF!,\"\")","v":""},{"$f":"IFERROR(#REF!,\"\")","v":""},{"$f":"_xlfn.CONCAT(\"Trimestre 1\",CHAR(10),IFERROR(#REF!,\"\"))","v":"Trimestre 1\n"},{"$f":"_xlfn.CONCAT(\"Trimestre 1\",CHAR(10),IFERROR(#REF!,\"\"))","v":"Trimestre 1\n"},{"$f":"_xlfn.CONCAT(\"Trimestre 1\",CHAR(10),IFERROR(#REF!,\"\"))","v":"Trimestre 1\n"},{"$f":"_xlfn.CONCAT(\"Trimestre 1\",CHAR(10),IFERROR(#REF!,\"\"))","v":"Trimestre 1\n"},{"$f":"_xlfn.CONCAT(\"Trimestre 1\",CHAR(10),IFERROR(#REF!,\"\"))","v":"Trimestre 1\n"}]
[null,null,"7. Continuar la consolidación del SIGCMA, a través de los procesos de formación en modelos de gestión, logrando la implementación y ampliación de este en los esquemas certificados de manera gradual, teniendo en cuenta las capacidades de los diferentes despachos judiciales y dependencias de la Rama Judicial y articulando el enfoque de Arquitectura Empresarial para el desarrollo del PETD a través de la gestión del conocimiento para la gestión del cambio propendiendo por una cultura de la calidad, la transparencia, la rendición de cuentas, la anticorrupción y el antisoborno","Procesos de formación en modelos de gestión aplicados","# de servidores judiciales formados en modelos de gestión de las dependenci as judiciales y administrati vas certificadas en SIGCMA que implementa n el PETD / # total de servidores judiciales de las dependenci as judiciales y administrati vas certificadas en SIGCMA que implementa n el PETD","1. Gestionar el desarrollo de las competencias, la toma de conciencia , la cultura  organizacional  y el compromiso de los  servidores judiciales, contratistas, practicantes y  judicantes de contribuir a generar valor público en la administración de justicia, en el marco de  cumplimiento de los requisitos  aplicables y el comportamiento ético.\n4. Hacer un uso racional de los recursos naturales aplicando los principios y fases de la Economía Circular, para prevenir, mitigar y controlar los impactos ambientales.",null,null,null,null,null,null,null,null,null,null,null,null,null,null,null,null,null,null,null,{"$f":"IFERROR(#REF!,\" \")","v":" "},{"$f":"IFERROR(#REF!,\"\")","v":""},{"$f":"IFERROR(#REF!,\"\")","v":""},"","",{"$f":"IFERROR(#REF!,\"\")","v":""},"",{"$f":"IFERROR(#REF!,\"\")","v":""},{"$f":"IFERROR(#REF!,\"\")","v":""},{"$f":"_xlfn.CONCAT(\"Trimestre 1\",CHAR(10),IFERROR(#REF!,\"\"))","v":"Trimestre 1\n"},{"$f":"_xlfn.CONCAT(\"Trimestre 1\",CHAR(10),IFERROR(#REF!,\"\"))","v":"Trimestre 1\n"},{"$f":"_xlfn.CONCAT(\"Trimestre 1\",CHAR(10),IFERROR(#REF!,\"\"))","v":"Trimestre 1\n"},{"$f":"_xlfn.CONCAT(\"Trimestre 1\",CHAR(10),IFERROR(#REF!,\"\"))","v":"Trimestre 1\n"},{"$f":"_xlfn.CONCAT(\"Trimestre 1\",CHAR(10),IFERROR(#REF!,\"\"))","v":"Trimestre 1\n"}]
[null,null,null,null,null,null,null,null,null,null,null,null,null,null,null,null,null,null,null,null,null,null,null,null,null,{"$f":"IFERROR(#REF!,\" \")","v":" "},{"$f":"IFERROR(#REF!,\"\")","v":""},{"$f":"IFERROR(#REF!,\"\")","v":""},"","",{"$f":"IFERROR(#REF!,\"\")","v":""},"",{"$f":"IFERROR(#REF!,\"\")","v":""},{"$f":"IFERROR(#REF!,\"\")","v":""},{"$f":"_xlfn.CONCAT(\"Trimestre 1\",CHAR(10),IFERROR(#REF!,\"\"))","v":"Trimestre 1\n"},{"$f":"_xlfn.CONCAT(\"Trimestre 1\",CHAR(10),IFERROR(#REF!,\"\"))","v":"Trimestre 1\n"},{"$f":"_xlfn.CONCAT(\"Trimestre 1\",CHAR(10),IFERROR(#REF!,\"\"))","v":"Trimestre 1\n"},{"$f":"_xlfn.CONCAT(\"Trimestre 1\",CHAR(10),IFERROR(#REF!,\"\"))","v":"Trimestre 1\n"},{"$f":"_xlfn.CONCAT(\"Trimestre 1\",CHAR(10),IFERROR(#REF!,\"\"))","v":"Trimestre 1\n"}]
[null,null,null,null,null,null,null,null,null,null,null,null,null,null,null,null,null,null,null,null,null,null,null,null,null,{"$f":"IFERROR(#REF!,\" \")","v":" "},{"$f":"IFERROR(#REF!,\"\")","v":""},{"$f":"IFERROR(#REF!,\"\")","v":""},"","",{"$f":"IFERROR(#REF!,\"\")","v":""},"",{"$f":"IFERROR(#REF!,\"\")","v":""},{"$f":"IFERROR(#REF!,\"\")","v":""},{"$f":"_xlfn.CONCAT(\"Trimestre 1\",CHAR(10),IFERROR(#REF!,\"\"))","v":"Trimestre 1\n"},{"$f":"_xlfn.CONCAT(\"Trimestre 1\",CHAR(10),IFERROR(#REF!,\"\"))","v":"Trimestre 1\n"},{"$f":"_xlfn.CONCAT(\"Trimestre 1\",CHAR(10),IFERROR(#REF!,\"\"))","v":"Trimestre 1\n"},{"$f":"_xlfn.CONCAT(\"Trimestre 1\",CHAR(10),IFERROR(#REF!,\"\"))","v":"Trimestre 1\n"},{"$f":"_xlfn.CONCAT(\"Trimestre 1\",CHAR(10),IFERROR(#REF!,\"\"))","v":"Trimestre 1\n"}]
[null,null,null,null,null,null,null,null,null,null,null,null,null,null,null,null,null,null,null,null,null,null,null,null,null,{"$f":"IFERROR(#REF!,\" \")","v":" "},{"$f":"IFERROR(#REF!,\"\")","v":""},{"$f":"IFERROR(#REF!,\"\")","v":""},"","",{"$f":"IFERROR(#REF!,\"\")","v":""},"",{"$f":"IFERROR(#REF!,\"\")","v":""},{"$f":"IFERROR(#REF!,\"\")","v":""},{"$f":"_xlfn.CONCAT(\"Trimestre 1\",CHAR(10),IFERROR(#REF!,\"\"))","v":"Trimestre 1\n"},{"$f":"_xlfn.CONCAT(\"Trimestre 1\",CHAR(10),IFERROR(#REF!,\"\"))","v":"Trimestre 1\n"},{"$f":"_xlfn.CONCAT(\"Trimestre 1\",CHAR(10),IFERROR(#REF!,\"\"))","v":"Trimestre 1\n"},{"$f":"_xlfn.CONCAT(\"Trimestre 1\",CHAR(10),IFERROR(#REF!,\"\"))","v":"Trimestre 1\n"},{"$f":"_xlfn.CONCAT(\"Trimestre 1\",CHAR(10),IFERROR(#REF!,\"\"))","v":"Trimestre 1\n"}]
[null,null,null,null,null,null,null,null,null,null,null,null,null,null,null,null,null,null,null,null,null,null,null,null,null,{"$f":"IFERROR(#REF!,\" \")","v":" "},{"$f":"IFERROR(#REF!,\"\")","v":""},{"$f":"IFERROR(#REF!,\"\")","v":""},"","",{"$f":"IFERROR(#REF!,\"\")","v":""},"",{"$f":"IFERROR(#REF!,\"\")","v":""},{"$f":"IFERROR(#REF!,\"\")","v":""},{"$f":"_xlfn.CONCAT(\"Trimestre 1\",CHAR(10),IFERROR(#REF!,\"\"))","v":"Trimestre 1\n"},{"$f":"_xlfn.CONCAT(\"Trimestre 1\",CHAR(10),IFERROR(#REF!,\"\"))","v":"Trimestre 1\n"},{"$f":"_xlfn.CONCAT(\"Trimestre 1\",CHAR(10),IFERROR(#REF!,\"\"))","v":"Trimestre 1\n"},{"$f":"_xlfn.CONCAT(\"Trimestre 1\",CHAR(10),IFERROR(#REF!,\"\"))","v":"Trimestre 1\n"},{"$f":"_xlfn.CONCAT(\"Trimestre 1\",CHAR(10),IFERROR(#REF!,\"\"))","v":"Trimestre 1\n"}]
["4. Talento Humano","Talento Humano: Fortalecer el talento humano en la Rama Judicial para que sea eficiente, capacitado y realice su labor en ambientes saludables y seguros. Ampliar la cobertura de la carrera judicial y mejorar la oferta de formación, que esté disponible para todos los servidores judiciales e impacte positivamente el servicio de justicia y responda a las necesidades reales del ejercicio de la función judicial.","1. Ampliar la cobertura de la carrera judicial optimizando los procesos de los concursos de méritos y propender por mitigar su litigiosidad.","Cobertura de la carrera judicial diferenciada entre magistrados, jueces y empleados","# de cargos provistos por carrera judicial/# de cargos de carrera judicial","1. Gestionar el desarrollo de las competencias, la toma de conciencia , la cultura  organizacional  y el compromiso de los  servidores judiciales, contratistas, practicantes y  judicantes de contribuir a generar valor público en la administración de justicia, en el marco de  cumplimiento de los requisitos  aplicables y el comportamiento ético.",null,null,null,null,null,null,null,null,null,null,null,null,null,null,null,null,null,null,null,{"$f":"IFERROR(#REF!,\" \")","v":" "},{"$f":"IFERROR(#REF!,\"\")","v":""},{"$f":"IFERROR(#REF!,\"\")","v":""},"","",{"$f":"IFERROR(#REF!,\"\")","v":""},"",{"$f":"IFERROR(#REF!,\"\")","v":""},{"$f":"IFERROR(#REF!,\"\")","v":""},{"$f":"_xlfn.CONCAT(\"Trimestre 1\",CHAR(10),IFERROR(#REF!,\"\"))","v":"Trimestre 1\n"},{"$f":"_xlfn.CONCAT(\"Trimestre 1\",CHAR(10),IFERROR(#REF!,\"\"))","v":"Trimestre 1\n"},{"$f":"_xlfn.CONCAT(\"Trimestre 1\",CHAR(10),IFERROR(#REF!,\"\"))","v":"Trimestre 1\n"},{"$f":"_xlfn.CONCAT(\"Trimestre 1\",CHAR(10),IFERROR(#REF!,\"\"))","v":"Trimestre 1\n"},{"$f":"_xlfn.CONCAT(\"Trimestre 1\",CHAR(10),IFERROR(#REF!,\"\"))","v":"Trimestre 1\n"}]
[null,null,null,null,null,null,null,null,null,null,null,null,null,null,null,null,null,null,null,null,null,null,null,null,null,{"$f":"IFERROR(#REF!,\" \")","v":" "},{"$f":"IFERROR(#REF!,\"\")","v":""},{"$f":"IFERROR(#REF!,\"\")","v":""},"","",{"$f":"IFERROR(#REF!,\"\")","v":""},"",{"$f":"IFERROR(#REF!,\"\")","v":""},{"$f":"IFERROR(#REF!,\"\")","v":""},{"$f":"_xlfn.CONCAT(\"Trimestre 1\",CHAR(10),IFERROR(#REF!,\"\"))","v":"Trimestre 1\n"},{"$f":"_xlfn.CONCAT(\"Trimestre 1\",CHAR(10),IFERROR(#REF!,\"\"))","v":"Trimestre 1\n"},{"$f":"_xlfn.CONCAT(\"Trimestre 1\",CHAR(10),IFERROR(#REF!,\"\"))","v":"Trimestre 1\n"},{"$f":"_xlfn.CONCAT(\"Trimestre 1\",CHAR(10),IFERROR(#REF!,\"\"))","v":"Trimestre 1\n"},{"$f":"_xlfn.CONCAT(\"Trimestre 1\",CHAR(10),IFERROR(#REF!,\"\"))","v":"Trimestre 1\n"}]
[null,null,null,null,null,null,null,null,null,null,null,null,null,null,null,null,null,null,null,null,null,null,null,null,null,{"$f":"IFERROR(#REF!,\" \")","v":" "},{"$f":"IFERROR(#REF!,\"\")","v":""},{"$f":"IFERROR(#REF!,\"\")","v":""},"","",{"$f":"IFERROR(#REF!,\"\")","v":""},"",{"$f":"IFERROR(#REF!,\"\")","v":""},{"$f":"IFERROR(#REF!,\"\")","v":""},{"$f":"_xlfn.CONCAT(\"Trimestre 1\",CHAR(10),IFERROR(#REF!,\"\"))","v":"Trimestre 1\n"},{"$f":"_xlfn.CONCAT(\"Trimestre 1\",CHAR(10),IFERROR(#REF!,\"\"))","v":"Trimestre 1\n"},{"$f":"_xlfn.CONCAT(\"Trimestre 1\",CHAR(10),IFERROR(#REF!,\"\"))","v":"Trimestre 1\n"},{"$f":"_xlfn.CONCAT(\"Trimestre 1\",CHAR(10),IFERROR(#REF!,\"\"))","v":"Trimestre 1\n"},{"$f":"_xlfn.CONCAT(\"Trimestre 1\",CHAR(10),IFERROR(#REF!,\"\"))","v":"Trimestre 1\n"}]
[null,null,null,null,null,null,null,null,null,null,null,null,null,null,null,null,null,null,null,null,null,null,null,null,null,{"$f":"IFERROR(#REF!,\" \")","v":" "},{"$f":"IFERROR(#REF!,\"\")","v":""},{"$f":"IFERROR(#REF!,\"\")","v":""},"","",{"$f":"IFERROR(#REF!,\"\")","v":""},"",{"$f":"IFERROR(#REF!,\"\")","v":""},{"$f":"IFERROR(#REF!,\"\")","v":""},{"$f":"_xlfn.CONCAT(\"Trimestre 1\",CHAR(10),IFERROR(#REF!,\"\"))","v":"Trimestre 1\n"},{"$f":"_xlfn.CONCAT(\"Trimestre 1\",CHAR(10),IFERROR(#REF!,\"\"))","v":"Trimestre 1\n"},{"$f":"_xlfn.CONCAT(\"Trimestre 1\",CHAR(10),IFERROR(#REF!,\"\"))","v":"Trimestre 1\n"},{"$f":"_xlfn.CONCAT(\"Trimestre 1\",CHAR(10),IFERROR(#REF!,\"\"))","v":"Trimestre 1\n"},{"$f":"_xlfn.CONCAT(\"Trimestre 1\",CHAR(10),IFERROR(#REF!,\"\"))","v":"Trimestre 1\n"}]
[null,null,null,null,null,null,null,null,null,null,null,null,null,null,null,null,null,null,null,null,null,null,null,null,null,{"$f":"IFERROR(#REF!,\" \")","v":" "},{"$f":"IFERROR(#REF!,\"\")","v":""},{"$f":"IFERROR(#REF!,\"\")","v":""},"","",{"$f":"IFERROR(#REF!,\"\")","v":""},"",{"$f":"IFERROR(#REF!,\"\")","v":""},{"$f":"IFERROR(#REF!,\"\")","v":""},{"$f":"_xlfn.CONCAT(\"Trimestre 1\",CHAR(10),IFERROR(#REF!,\"\"))","v":"Trimestre 1\n"},{"$f":"_xlfn.CONCAT(\"Trimestre 1\",CHAR(10),IFERROR(#REF!,\"\"))","v":"Trimestre 1\n"},{"$f":"_xlfn.CONCAT(\"Trimestre 1\",CHAR(10),IFERROR(#REF!,\"\"))","v":"Trimestre 1\n"},{"$f":"_xlfn.CONCAT(\"Trimestre 1\",CHAR(10),IFERROR(#REF!,\"\"))","v":"Trimestre 1\n"},{"$f":"_xlfn.CONCAT(\"Trimestre 1\",CHAR(10),IFERROR(#REF!,\"\"))","v":"Trimestre 1\n"}]
[null,null,"2. Impactar la función y servicios que presta la Rama Judicial, a través de una formación integral desde una visión de gestión del conocimiento, relacionada con los problemas de la justicia y los problemas de gestión de quienes administran los recursos de la justicia, y potenciando el uso de medios virtuales.","Cobertura de la formación impartida por la Escuela Judicial en el fortalecimiento de las competencias de los servidores judiciales","# servidores que no han recibido ningún curso de formación en los dos años anteriores al proceso de formación, discriminad o por funcionarios y empleados, municipio y especialida d /# servidores totales, discriminad o por funcionarios y empleados, municipio y especialida d",null,null,null,null,null,null,null,null,null,null,null,null,null,null,null,null,null,null,null,null,{"$f":"IFERROR(#REF!,\" \")","v":" "},{"$f":"IFERROR(#REF!,\"\")","v":""},{"$f":"IFERROR(#REF!,\"\")","v":""},"","",{"$f":"IFERROR(#REF!,\"\")","v":""},"",{"$f":"IFERROR(#REF!,\"\")","v":""},{"$f":"IFERROR(#REF!,\"\")","v":""},{"$f":"_xlfn.CONCAT(\"Trimestre 1\",CHAR(10),IFERROR(#REF!,\"\"))","v":"Trimestre 1\n"},{"$f":"_xlfn.CONCAT(\"Trimestre 1\",CHAR(10),IFERROR(#REF!,\"\"))","v":"Trimestre 1\n"},{"$f":"_xlfn.CONCAT(\"Trimestre 1\",CHAR(10),IFERROR(#REF!,\"\"))","v":"Trimestre 1\n"},{"$f":"_xlfn.CONCAT(\"Trimestre 1\",CHAR(10),IFERROR(#REF!,\"\"))","v":"Trimestre 1\n"},{"$f":"_xlfn.CONCAT(\"Trimestre 1\",CHAR(10),IFERROR(#REF!,\"\"))","v":"Trimestre 1\n"}]
[null,null,null,null,null,null,null,null,null,null,null,null,null,null,null,null,null,null,null,null,null,null,null,null,null,{"$f":"IFERROR(#REF!,\" \")","v":" "},{"$f":"IFERROR(#REF!,\"\")","v":""},{"$f":"IFERROR(#REF!,\"\")","v":""},"","",{"$f":"IFERROR(#REF!,\"\")","v":""},"",{"$f":"IFERROR(#REF!,\"\")","v":""},{"$f":"IFERROR(#REF!,\"\")","v":""},{"$f":"_xlfn.CONCAT(\"Trimestre 1\",CHAR(10),IFERROR(#REF!,\"\"))","v":"Trimestre 1\n"},{"$f":"_xlfn.CONCAT(\"Trimestre 1\",CHAR(10),IFERROR(#REF!,\"\"))","v":"Trimestre 1\n"},{"$f":"_xlfn.CONCAT(\"Trimestre 1\",CHAR(10),IFERROR(#REF!,\"\"))","v":"Trimestre 1\n"},{"$f":"_xlfn.CONCAT(\"Trimestre 1\",CHAR(10),IFERROR(#REF!,\"\"))","v":"Trimestre 1\n"},{"$f":"_xlfn.CONCAT(\"Trimestre 1\",CHAR(10),IFERROR(#REF!,\"\"))","v":"Trimestre 1\n"}]
[null,null,null,null,null,null,null,null,null,null,null,null,null,null,null,null,null,null,null,null,null,null,null,null,null,{"$f":"IFERROR(#REF!,\" \")","v":" "},{"$f":"IFERROR(#REF!,\"\")","v":""},{"$f":"IFERROR(#REF!,\"\")","v":""},"","",{"$f":"IFERROR(#REF!,\"\")","v":""},"",{"$f":"IFERROR(#REF!,\"\")","v":""},{"$f":"IFERROR(#REF!,\"\")","v":""},{"$f":"_xlfn.CONCAT(\"Trimestre 1\",CHAR(10),IFERROR(#REF!,\"\"))","v":"Trimestre 1\n"},{"$f":"_xlfn.CONCAT(\"Trimestre 1\",CHAR(10),IFERROR(#REF!,\"\"))","v":"Trimestre 1\n"},{"$f":"_xlfn.CONCAT(\"Trimestre 1\",CHAR(10),IFERROR(#REF!,\"\"))","v":"Trimestre 1\n"},{"$f":"_xlfn.CONCAT(\"Trimestre 1\",CHAR(10),IFERROR(#REF!,\"\"))","v":"Trimestre 1\n"},{"$f":"_xlfn.CONCAT(\"Trimestre 1\",CHAR(10),IFERROR(#REF!,\"\"))","v":"Trimestre 1\n"}]
[null,null,null,null,null,null,null,null,null,null,null,null,null,null,null,null,null,null,null,null,null,null,null,null,null,{"$f":"IFERROR(#REF!,\" \")","v":" "},{"$f":"IFERROR(#REF!,\"\")","v":""},{"$f":"IFERROR(#REF!,\"\")","v":""},"","",{"$f":"IFERROR(#REF!,\"\")","v":""},"",{"$f":"IFERROR(#REF!,\"\")","v":""},{"$f":"IFERROR(#REF!,\"\")","v":""},{"$f":"_xlfn.CONCAT(\"Trimestre 1\",CHAR(10),IFERROR(#REF!,\"\"))","v":"Trimestre 1\n"},{"$f":"_xlfn.CONCAT(\"Trimestre 1\",CHAR(10),IFERROR(#REF!,\"\"))","v":"Trimestre 1\n"},{"$f":"_xlfn.CONCAT(\"Trimestre 1\",CHAR(10),IFERROR(#REF!,\"\"))","v":"Trimestre 1\n"},{"$f":"_xlfn.CONCAT(\"Trimestre 1\",CHAR(10),IFERROR(#REF!,\"\"))","v":"Trimestre 1\n"},{"$f":"_xlfn.CONCAT(\"Trimestre 1\",CHAR(10),IFERROR(#REF!,\"\"))","v":"Trimestre 1\n"}]
[null,null,null,null,null,null,null,null,null,null,null,null,null,null,null,null,null,null,null,null,null,null,null,null,null,{"$f":"IFERROR(#REF!,\" \")","v":" "},{"$f":"IFERROR(#REF!,\"\")","v":""},{"$f":"IFERROR(#REF!,\"\")","v":""},"","",{"$f":"IFERROR(#REF!,\"\")","v":""},"",{"$f":"IFERROR(#REF!,\"\")","v":""},{"$f":"IFERROR(#REF!,\"\")","v":""},{"$f":"_xlfn.CONCAT(\"Trimestre 1\",CHAR(10),IFERROR(#REF!,\"\"))","v":"Trimestre 1\n"},{"$f":"_xlfn.CONCAT(\"Trimestre 1\",CHAR(10),IFERROR(#REF!,\"\"))","v":"Trimestre 1\n"},{"$f":"_xlfn.CONCAT(\"Trimestre 1\",CHAR(10),IFERROR(#REF!,\"\"))","v":"Trimestre 1\n"},{"$f":"_xlfn.CONCAT(\"Trimestre 1\",CHAR(10),IFERROR(#REF!,\"\"))","v":"Trimestre 1\n"},{"$f":"_xlfn.CONCAT(\"Trimestre 1\",CHAR(10),IFERROR(#REF!,\"\"))","v":"Trimestre 1\n"}]
[null,null,"3. Promover la incorporación de la perspectiva de género y el enfoque diferencial en los fallos judiciales y en la atención a los ciudadanos, la administración de la Rama Judicial, la administración de la carrera judicial y la elaboración de listas para altas Cortes. ","Enfoque diferencial y perspectiva de género en las decisiones judiciales de la Rama Judicial","# de decisiones judiciales postuladas al Concurso de “Reconocim iento a la incorporaci ón del derecho a la igualdad y la no discriminaci ón en las sentencias judiciales” en el año corriente/# de decisiones judiciales postuladas al Concurso de “Reconocim iento a la incorporaci ón del derecho a la igualdad y la no discriminaci ón en las sentencias judiciales” en el año inmediatam ente anterior",null,null,null,null,null,null,null,null,null,null,null,null,null,null,null,null,null,null,null,null,{"$f":"IFERROR(#REF!,\" \")","v":" "},{"$f":"IFERROR(#REF!,\"\")","v":""},{"$f":"IFERROR(#REF!,\"\")","v":""},"","",{"$f":"IFERROR(#REF!,\"\")","v":""},"",{"$f":"IFERROR(#REF!,\"\")","v":""},{"$f":"IFERROR(#REF!,\"\")","v":""},{"$f":"_xlfn.CONCAT(\"Trimestre 1\",CHAR(10),IFERROR(#REF!,\"\"))","v":"Trimestre 1\n"},{"$f":"_xlfn.CONCAT(\"Trimestre 1\",CHAR(10),IFERROR(#REF!,\"\"))","v":"Trimestre 1\n"},{"$f":"_xlfn.CONCAT(\"Trimestre 1\",CHAR(10),IFERROR(#REF!,\"\"))","v":"Trimestre 1\n"},{"$f":"_xlfn.CONCAT(\"Trimestre 1\",CHAR(10),IFERROR(#REF!,\"\"))","v":"Trimestre 1\n"},{"$f":"_xlfn.CONCAT(\"Trimestre 1\",CHAR(10),IFERROR(#REF!,\"\"))","v":"Trimestre 1\n"}]
[null,null,null,null,null,null,null,null,null,null,null,null,null,null,null,null,null,null,null,null,null,null,null,null,null,{"$f":"IFERROR(#REF!,\" \")","v":" "},{"$f":"IFERROR(#REF!,\"\")","v":""},{"$f":"IFERROR(#REF!,\"\")","v":""},"","",{"$f":"IFERROR(#REF!,\"\")","v":""},"",{"$f":"IFERROR(#REF!,\"\")","v":""},{"$f":"IFERROR(#REF!,\"\")","v":""},{"$f":"_xlfn.CONCAT(\"Trimestre 1\",CHAR(10),IFERROR(#REF!,\"\"))","v":"Trimestre 1\n"},{"$f":"_xlfn.CONCAT(\"Trimestre 1\",CHAR(10),IFERROR(#REF!,\"\"))","v":"Trimestre 1\n"},{"$f":"_xlfn.CONCAT(\"Trimestre 1\",CHAR(10),IFERROR(#REF!,\"\"))","v":"Trimestre 1\n"},{"$f":"_xlfn.CONCAT(\"Trimestre 1\",CHAR(10),IFERROR(#REF!,\"\"))","v":"Trimestre 1\n"},{"$f":"_xlfn.CONCAT(\"Trimestre 1\",CHAR(10),IFERROR(#REF!,\"\"))","v":"Trimestre 1\n"}]
[null,null,null,null,null,null,null,null,null,null,null,null,null,null,null,null,null,null,null,null,null,null,null,null,null,{"$f":"IFERROR(#REF!,\" \")","v":" "},{"$f":"IFERROR(#REF!,\"\")","v":""},{"$f":"IFERROR(#REF!,\"\")","v":""},"","",{"$f":"IFERROR(#REF!,\"\")","v":""},"",{"$f":"IFERROR(#REF!,\"\")","v":""},{"$f":"IFERROR(#REF!,\"\")","v":""},{"$f":"_xlfn.CONCAT(\"Trimestre 1\",CHAR(10),IFERROR(#REF!,\"\"))","v":"Trimestre 1\n"},{"$f":"_xlfn.CONCAT(\"Trimestre 1\",CHAR(10),IFERROR(#REF!,\"\"))","v":"Trimestre 1\n"},{"$f":"_xlfn.CONCAT(\"Trimestre 1\",CHAR(10),IFERROR(#REF!,\"\"))","v":"Trimestre 1\n"},{"$f":"_xlfn.CONCAT(\"Trimestre 1\",CHAR(10),IFERROR(#REF!,\"\"))","v":"Trimestre 1\n"},{"$f":"_xlfn.CONCAT(\"Trimestre 1\",CHAR(10),IFERROR(#REF!,\"\"))","v":"Trimestre 1\n"}]
[null,null,null,null,null,null,null,null,null,null,null,null,null,null,null,null,null,null,null,null,null,null,null,null,null,{"$f":"IFERROR(#REF!,\" \")","v":" "},{"$f":"IFERROR(#REF!,\"\")","v":""},{"$f":"IFERROR(#REF!,\"\")","v":""},"","",{"$f":"IFERROR(#REF!,\"\")","v":""},"",{"$f":"IFERROR(#REF!,\"\")","v":""},{"$f":"IFERROR(#REF!,\"\")","v":""},{"$f":"_xlfn.CONCAT(\"Trimestre 1\",CHAR(10),IFERROR(#REF!,\"\"))","v":"Trimestre 1\n"},{"$f":"_xlfn.CONCAT(\"Trimestre 1\",CHAR(10),IFERROR(#REF!,\"\"))","v":"Trimestre 1\n"},{"$f":"_xlfn.CONCAT(\"Trimestre 1\",CHAR(10),IFERROR(#REF!,\"\"))","v":"Trimestre 1\n"},{"$f":"_xlfn.CONCAT(\"Trimestre 1\",CHAR(10),IFERROR(#REF!,\"\"))","v":"Trimestre 1\n"},{"$f":"_xlfn.CONCAT(\"Trimestre 1\",CHAR(10),IFERROR(#REF!,\"\"))","v":"Trimestre 1\n"}]
[null,null,null,null,null,null,null,null,null,null,null,null,null,null,null,null,null,null,null,null,null,null,null,null,null,{"$f":"IFERROR(#REF!,\" \")","v":" "},{"$f":"IFERROR(#REF!,\"\")","v":""},{"$f":"IFERROR(#REF!,\"\")","v":""},"","",{"$f":"IFERROR(#REF!,\"\")","v":""},"",{"$f":"IFERROR(#REF!,\"\")","v":""},{"$f":"IFERROR(#REF!,\"\")","v":""},{"$f":"_xlfn.CONCAT(\"Trimestre 1\",CHAR(10),IFERROR(#REF!,\"\"))","v":"Trimestre 1\n"},{"$f":"_xlfn.CONCAT(\"Trimestre 1\",CHAR(10),IFERROR(#REF!,\"\"))","v":"Trimestre 1\n"},{"$f":"_xlfn.CONCAT(\"Trimestre 1\",CHAR(10),IFERROR(#REF!,\"\"))","v":"Trimestre 1\n"},{"$f":"_xlfn.CONCAT(\"Trimestre 1\",CHAR(10),IFERROR(#REF!,\"\"))","v":"Trimestre 1\n"},{"$f":"_xlfn.CONCAT(\"Trimestre 1\",CHAR(10),IFERROR(#REF!,\"\"))","v":"Trimestre 1\n"}]
[null,null,"4. Desarrollar en los servidores judiciales y demás grupos de valor relevantes las competencias necesarias para la efectividad de la transformación digital de modo que puedan, entre otros, utilizar con solvencia las herramientas digitales dispuestas para sus respectivas funciones. Además, fortalecer y actualizar los conocimientos del personal a cargo de la gestión de proyectos de tecnología.","Cobertura de la formación impartida por la Escuela Judicial en Tecnologías de la Información y las Comunicaciones TIC para la práctica judicial.","# servidores que no han recibido ningún curso de formación en Tecnología s de la Información y las Comunicaci ones TIC en la vigencia del plan sectorial, discriminad o por funcionarios y empleados, municipio y especialida d /# servidores totales, discriminad o por funcionarios y empleados, municipio y especialida d",null,null,null,null,null,null,null,null,null,null,null,null,null,null,null,null,null,null,null,null,{"$f":"IFERROR(#REF!,\" \")","v":" "},{"$f":"IFERROR(#REF!,\"\")","v":""},{"$f":"IFERROR(#REF!,\"\")","v":""},"","",{"$f":"IFERROR(#REF!,\"\")","v":""},"",{"$f":"IFERROR(#REF!,\"\")","v":""},{"$f":"IFERROR(#REF!,\"\")","v":""},{"$f":"_xlfn.CONCAT(\"Trimestre 1\",CHAR(10),IFERROR(#REF!,\"\"))","v":"Trimestre 1\n"},{"$f":"_xlfn.CONCAT(\"Trimestre 1\",CHAR(10),IFERROR(#REF!,\"\"))","v":"Trimestre 1\n"},{"$f":"_xlfn.CONCAT(\"Trimestre 1\",CHAR(10),IFERROR(#REF!,\"\"))","v":"Trimestre 1\n"},{"$f":"_xlfn.CONCAT(\"Trimestre 1\",CHAR(10),IFERROR(#REF!,\"\"))","v":"Trimestre 1\n"},{"$f":"_xlfn.CONCAT(\"Trimestre 1\",CHAR(10),IFERROR(#REF!,\"\"))","v":"Trimestre 1\n"}]
[null,null,null,null,null,null,null,null,null,null,null,null,null,null,null,null,null,null,null,null,null,null,null,null,null,{"$f":"IFERROR(#REF!,\" \")","v":" "},{"$f":"IFERROR(#REF!,\"\")","v":""},{"$f":"IFERROR(#REF!,\"\")","v":""},"","",{"$f":"IFERROR(#REF!,\"\")","v":""},"",{"$f":"IFERROR(#REF!,\"\")","v":""},{"$f":"IFERROR(#REF!,\"\")","v":""},{"$f":"_xlfn.CONCAT(\"Trimestre 1\",CHAR(10),IFERROR(#REF!,\"\"))","v":"Trimestre 1\n"},{"$f":"_xlfn.CONCAT(\"Trimestre 1\",CHAR(10),IFERROR(#REF!,\"\"))","v":"Trimestre 1\n"},{"$f":"_xlfn.CONCAT(\"Trimestre 1\",CHAR(10),IFERROR(#REF!,\"\"))","v":"Trimestre 1\n"},{"$f":"_xlfn.CONCAT(\"Trimestre 1\",CHAR(10),IFERROR(#REF!,\"\"))","v":"Trimestre 1\n"},{"$f":"_xlfn.CONCAT(\"Trimestre 1\",CHAR(10),IFERROR(#REF!,\"\"))","v":"Trimestre 1\n"}]
[null,null,null,null,null,null,null,null,null,null,null,null,null,null,null,null,null,null,null,null,null,null,null,null,null,{"$f":"IFERROR(#REF!,\" \")","v":" "},{"$f":"IFERROR(#REF!,\"\")","v":""},{"$f":"IFERROR(#REF!,\"\")","v":""},"","",{"$f":"IFERROR(#REF!,\"\")","v":""},"",{"$f":"IFERROR(#REF!,\"\")","v":""},{"$f":"IFERROR(#REF!,\"\")","v":""},{"$f":"_xlfn.CONCAT(\"Trimestre 1\",CHAR(10),IFERROR(#REF!,\"\"))","v":"Trimestre 1\n"},{"$f":"_xlfn.CONCAT(\"Trimestre 1\",CHAR(10),IFERROR(#REF!,\"\"))","v":"Trimestre 1\n"},{"$f":"_xlfn.CONCAT(\"Trimestre 1\",CHAR(10),IFERROR(#REF!,\"\"))","v":"Trimestre 1\n"},{"$f":"_xlfn.CONCAT(\"Trimestre 1\",CHAR(10),IFERROR(#REF!,\"\"))","v":"Trimestre 1\n"},{"$f":"_xlfn.CONCAT(\"Trimestre 1\",CHAR(10),IFERROR(#REF!,\"\"))","v":"Trimestre 1\n"}]
[null,null,null,null,null,null,null,null,null,null,null,null,null,null,null,null,null,null,null,null,null,null,null,null,null,{"$f":"IFERROR(#REF!,\" \")","v":" "},{"$f":"IFERROR(#REF!,\"\")","v":""},{"$f":"IFERROR(#REF!,\"\")","v":""},"","",{"$f":"IFERROR(#REF!,\"\")","v":""},"",{"$f":"IFERROR(#REF!,\"\")","v":""},{"$f":"IFERROR(#REF!,\"\")","v":""},{"$f":"_xlfn.CONCAT(\"Trimestre 1\",CHAR(10),IFERROR(#REF!,\"\"))","v":"Trimestre 1\n"},{"$f":"_xlfn.CONCAT(\"Trimestre 1\",CHAR(10),IFERROR(#REF!,\"\"))","v":"Trimestre 1\n"},{"$f":"_xlfn.CONCAT(\"Trimestre 1\",CHAR(10),IFERROR(#REF!,\"\"))","v":"Trimestre 1\n"},{"$f":"_xlfn.CONCAT(\"Trimestre 1\",CHAR(10),IFERROR(#REF!,\"\"))","v":"Trimestre 1\n"},{"$f":"_xlfn.CONCAT(\"Trimestre 1\",CHAR(10),IFERROR(#REF!,\"\"))","v":"Trimestre 1\n"}]
[null,null,null,null,null,null,null,null,null,null,null,null,null,null,null,null,null,null,null,null,null,null,null,null,null,{"$f":"IFERROR(#REF!,\" \")","v":" "},{"$f":"IFERROR(#REF!,\"\")","v":""},{"$f":"IFERROR(#REF!,\"\")","v":""},"","",{"$f":"IFERROR(#REF!,\"\")","v":""},"",{"$f":"IFERROR(#REF!,\"\")","v":""},{"$f":"IFERROR(#REF!,\"\")","v":""},{"$f":"_xlfn.CONCAT(\"Trimestre 1\",CHAR(10),IFERROR(#REF!,\"\"))","v":"Trimestre 1\n"},{"$f":"_xlfn.CONCAT(\"Trimestre 1\",CHAR(10),IFERROR(#REF!,\"\"))","v":"Trimestre 1\n"},{"$f":"_xlfn.CONCAT(\"Trimestre 1\",CHAR(10),IFERROR(#REF!,\"\"))","v":"Trimestre 1\n"},{"$f":"_xlfn.CONCAT(\"Trimestre 1\",CHAR(10),IFERROR(#REF!,\"\"))","v":"Trimestre 1\n"},{"$f":"_xlfn.CONCAT(\"Trimestre 1\",CHAR(10),IFERROR(#REF!,\"\"))","v":"Trimestre 1\n"}]
[null,null,"5. Promover el bienestar de todos los servidores judiciales a través de la implementación de un sistema que contemple los diferentes niveles de estrategias y acciones necesarios para mejorar el clima laboral, la salud física y mental y la calidad del tiempo de descanso.","Satisfacción de los servidores judiciales con el clima laboral","(# respuestas con concepto de bueno o excelente / # total de respuestas) *100","5. Generar espacios de trabajo seguros y saludables que contribuyan a minimizar los  incidentes, accidentes y enfermedades laborales derivados de las condiciones y actos  inseguros y fomentar  el autocuidado, los  estilos de vida y el trabajo saludable en los servidores judiciales, contratistas, judicantes y practicantes.",null,null,null,null,null,null,null,null,null,null,null,null,null,null,null,null,null,null,null,{"$f":"IFERROR(#REF!,\" \")","v":" "},{"$f":"IFERROR(#REF!,\"\")","v":""},{"$f":"IFERROR(#REF!,\"\")","v":""},"","",{"$f":"IFERROR(#REF!,\"\")","v":""},"",{"$f":"IFERROR(#REF!,\"\")","v":""},{"$f":"IFERROR(#REF!,\"\")","v":""},{"$f":"_xlfn.CONCAT(\"Trimestre 1\",CHAR(10),IFERROR(#REF!,\"\"))","v":"Trimestre 1\n"},{"$f":"_xlfn.CONCAT(\"Trimestre 1\",CHAR(10),IFERROR(#REF!,\"\"))","v":"Trimestre 1\n"},{"$f":"_xlfn.CONCAT(\"Trimestre 1\",CHAR(10),IFERROR(#REF!,\"\"))","v":"Trimestre 1\n"},{"$f":"_xlfn.CONCAT(\"Trimestre 1\",CHAR(10),IFERROR(#REF!,\"\"))","v":"Trimestre 1\n"},{"$f":"_xlfn.CONCAT(\"Trimestre 1\",CHAR(10),IFERROR(#REF!,\"\"))","v":"Trimestre 1\n"}]
[null,null,null,null,null,null,null,null,null,null,null,null,null,null,null,null,null,null,null,null,null,null,null,null,null,{"$f":"IFERROR(#REF!,\" \")","v":" "},{"$f":"IFERROR(#REF!,\"\")","v":""},{"$f":"IFERROR(#REF!,\"\")","v":""},"","",{"$f":"IFERROR(#REF!,\"\")","v":""},"",{"$f":"IFERROR(#REF!,\"\")","v":""},{"$f":"IFERROR(#REF!,\"\")","v":""},{"$f":"_xlfn.CONCAT(\"Trimestre 1\",CHAR(10),IFERROR(#REF!,\"\"))","v":"Trimestre 1\n"},{"$f":"_xlfn.CONCAT(\"Trimestre 1\",CHAR(10),IFERROR(#REF!,\"\"))","v":"Trimestre 1\n"},{"$f":"_xlfn.CONCAT(\"Trimestre 1\",CHAR(10),IFERROR(#REF!,\"\"))","v":"Trimestre 1\n"},{"$f":"_xlfn.CONCAT(\"Trimestre 1\",CHAR(10),IFERROR(#REF!,\"\"))","v":"Trimestre 1\n"},{"$f":"_xlfn.CONCAT(\"Trimestre 1\",CHAR(10),IFERROR(#REF!,\"\"))","v":"Trimestre 1\n"}]
[null,null,null,null,null,null,null,null,null,null,null,null,null,null,null,null,null,null,null,null,null,null,null,null,null,{"$f":"IFERROR(#REF!,\" \")","v":" "},{"$f":"IFERROR(#REF!,\"\")","v":""},{"$f":"IFERROR(#REF!,\"\")","v":""},"","",{"$f":"IFERROR(#REF!,\"\")","v":""},"",{"$f":"IFERROR(#REF!,\"\")","v":""},{"$f":"IFERROR(#REF!,\"\")","v":""},{"$f":"_xlfn.CONCAT(\"Trimestre 1\",CHAR(10),IFERROR(#REF!,\"\"))","v":"Trimestre 1\n"},{"$f":"_xlfn.CONCAT(\"Trimestre 1\",CHAR(10),IFERROR(#REF!,\"\"))","v":"Trimestre 1\n"},{"$f":"_xlfn.CONCAT(\"Trimestre 1\",CHAR(10),IFERROR(#REF!,\"\"))","v":"Trimestre 1\n"},{"$f":"_xlfn.CONCAT(\"Trimestre 1\",CHAR(10),IFERROR(#REF!,\"\"))","v":"Trimestre 1\n"},{"$f":"_xlfn.CONCAT(\"Trimestre 1\",CHAR(10),IFERROR(#REF!,\"\"))","v":"Trimestre 1\n"}]
[null,null,null,null,null,null,null,null,null,null,null,null,null,null,null,null,null,null,null,null,null,null,null,null,null,{"$f":"IFERROR(#REF!,\" \")","v":" "},{"$f":"IFERROR(#REF!,\"\")","v":""},{"$f":"IFERROR(#REF!,\"\")","v":""},"","",{"$f":"IFERROR(#REF!,\"\")","v":""},"",{"$f":"IFERROR(#REF!,\"\")","v":""},{"$f":"IFERROR(#REF!,\"\")","v":""},{"$f":"_xlfn.CONCAT(\"Trimestre 1\",CHAR(10),IFERROR(#REF!,\"\"))","v":"Trimestre 1\n"},{"$f":"_xlfn.CONCAT(\"Trimestre 1\",CHAR(10),IFERROR(#REF!,\"\"))","v":"Trimestre 1\n"},{"$f":"_xlfn.CONCAT(\"Trimestre 1\",CHAR(10),IFERROR(#REF!,\"\"))","v":"Trimestre 1\n"},{"$f":"_xlfn.CONCAT(\"Trimestre 1\",CHAR(10),IFERROR(#REF!,\"\"))","v":"Trimestre 1\n"},{"$f":"_xlfn.CONCAT(\"Trimestre 1\",CHAR(10),IFERROR(#REF!,\"\"))","v":"Trimestre 1\n"}]
[null,null,null,null,null,null,null,null,null,null,null,null,null,null,null,null,null,null,null,null,null,null,null,null,null,{"$f":"IFERROR(#REF!,\" \")","v":" "},{"$f":"IFERROR(#REF!,\"\")","v":""},{"$f":"IFERROR(#REF!,\"\")","v":""},"","",{"$f":"IFERROR(#REF!,\"\")","v":""},"",{"$f":"IFERROR(#REF!,\"\")","v":""},{"$f":"IFERROR(#REF!,\"\")","v":""},{"$f":"_xlfn.CONCAT(\"Trimestre 1\",CHAR(10),IFERROR(#REF!,\"\"))","v":"Trimestre 1\n"},{"$f":"_xlfn.CONCAT(\"Trimestre 1\",CHAR(10),IFERROR(#REF!,\"\"))","v":"Trimestre 1\n"},{"$f":"_xlfn.CONCAT(\"Trimestre 1\",CHAR(10),IFERROR(#REF!,\"\"))","v":"Trimestre 1\n"},{"$f":"_xlfn.CONCAT(\"Trimestre 1\",CHAR(10),IFERROR(#REF!,\"\"))","v":"Trimestre 1\n"},{"$f":"_xlfn.CONCAT(\"Trimestre 1\",CHAR(10),IFERROR(#REF!,\"\"))","v":"Trimestre 1\n"}]
["5. Gobernanza, planeación estratégica y capacidad de toma de decisiones","Gobernanza, planeación estratégica y capacidad de toma de decisiones: Fortalecer la gobernanza, la planeación estratégica y la capacidad de toma de decisiones de la Rama Judicial con base en la evidencia empírica y la articulación efectiva con las demás entidades, para que la perspectiva de género y el enfoque diferencial sean transversales en el presente plan. ","1. Implementar un nuevo modelo integrado para la planeación estratégica, el seguimiento y la medición del desempeño institucional.","Modelo integrado para la planeación estratégica, seguimiento y medición del desempeño institucional implementado","% de implementa ción del modelo integrado","2. Asegurar  el cumplimiento de los objetivos institucionales, la normatividad aplicable,  la mejora del SIGCMA y la satisfacción de los usuarios, revisando de  forma continua y sistemática la planificación de la gestión y fortaleciendo la administración de riesgos y sus controles.",null,null,null,null,null,null,null,null,null,null,null,null,null,null,null,null,null,null,null,{"$f":"IFERROR(#REF!,\" \")","v":" "},{"$f":"IFERROR(#REF!,\"\")","v":""},{"$f":"IFERROR(#REF!,\"\")","v":""},"","",{"$f":"IFERROR(#REF!,\"\")","v":""},"",{"$f":"IFERROR(#REF!,\"\")","v":""},{"$f":"IFERROR(#REF!,\"\")","v":""},{"$f":"_xlfn.CONCAT(\"Trimestre 1\",CHAR(10),IFERROR(#REF!,\"\"))","v":"Trimestre 1\n"},{"$f":"_xlfn.CONCAT(\"Trimestre 1\",CHAR(10),IFERROR(#REF!,\"\"))","v":"Trimestre 1\n"},{"$f":"_xlfn.CONCAT(\"Trimestre 1\",CHAR(10),IFERROR(#REF!,\"\"))","v":"Trimestre 1\n"},{"$f":"_xlfn.CONCAT(\"Trimestre 1\",CHAR(10),IFERROR(#REF!,\"\"))","v":"Trimestre 1\n"},{"$f":"_xlfn.CONCAT(\"Trimestre 1\",CHAR(10),IFERROR(#REF!,\"\"))","v":"Trimestre 1\n"}]
[null,null,null,null,null,null,null,null,null,null,null,null,null,null,null,null,null,null,null,null,null,null,null,null,null,{"$f":"IFERROR(#REF!,\" \")","v":" "},{"$f":"IFERROR(#REF!,\"\")","v":""},{"$f":"IFERROR(#REF!,\"\")","v":""},"","",{"$f":"IFERROR(#REF!,\"\")","v":""},"",{"$f":"IFERROR(#REF!,\"\")","v":""},{"$f":"IFERROR(#REF!,\"\")","v":""},{"$f":"_xlfn.CONCAT(\"Trimestre 1\",CHAR(10),IFERROR(#REF!,\"\"))","v":"Trimestre 1\n"},{"$f":"_xlfn.CONCAT(\"Trimestre 1\",CHAR(10),IFERROR(#REF!,\"\"))","v":"Trimestre 1\n"},{"$f":"_xlfn.CONCAT(\"Trimestre 1\",CHAR(10),IFERROR(#REF!,\"\"))","v":"Trimestre 1\n"},{"$f":"_xlfn.CONCAT(\"Trimestre 1\",CHAR(10),IFERROR(#REF!,\"\"))","v":"Trimestre 1\n"},{"$f":"_xlfn.CONCAT(\"Trimestre 1\",CHAR(10),IFERROR(#REF!,\"\"))","v":"Trimestre 1\n"}]
[null,null,null,null,null,null,null,null,null,null,null,null,null,null,null,null,null,null,null,null,null,null,null,null,null,{"$f":"IFERROR(#REF!,\" \")","v":" "},{"$f":"IFERROR(#REF!,\"\")","v":""},{"$f":"IFERROR(#REF!,\"\")","v":""},"","",{"$f":"IFERROR(#REF!,\"\")","v":""},"",{"$f":"IFERROR(#REF!,\"\")","v":""},{"$f":"IFERROR(#REF!,\"\")","v":""},{"$f":"_xlfn.CONCAT(\"Trimestre 1\",CHAR(10),IFERROR(#REF!,\"\"))","v":"Trimestre 1\n"},{"$f":"_xlfn.CONCAT(\"Trimestre 1\",CHAR(10),IFERROR(#REF!,\"\"))","v":"Trimestre 1\n"},{"$f":"_xlfn.CONCAT(\"Trimestre 1\",CHAR(10),IFERROR(#REF!,\"\"))","v":"Trimestre 1\n"},{"$f":"_xlfn.CONCAT(\"Trimestre 1\",CHAR(10),IFERROR(#REF!,\"\"))","v":"Trimestre 1\n"},{"$f":"_xlfn.CONCAT(\"Trimestre 1\",CHAR(10),IFERROR(#REF!,\"\"))","v":"Trimestre 1\n"}]
[null,null,null,null,null,null,null,null,null,null,null,null,null,null,null,null,null,null,null,null,null,null,null,null,null,{"$f":"IFERROR(#REF!,\" \")","v":" "},{"$f":"IFERROR(#REF!,\"\")","v":""},{"$f":"IFERROR(#REF!,\"\")","v":""},"","",{"$f":"IFERROR(#REF!,\"\")","v":""},"",{"$f":"IFERROR(#REF!,\"\")","v":""},{"$f":"IFERROR(#REF!,\"\")","v":""},{"$f":"_xlfn.CONCAT(\"Trimestre 1\",CHAR(10),IFERROR(#REF!,\"\"))","v":"Trimestre 1\n"},{"$f":"_xlfn.CONCAT(\"Trimestre 1\",CHAR(10),IFERROR(#REF!,\"\"))","v":"Trimestre 1\n"},{"$f":"_xlfn.CONCAT(\"Trimestre 1\",CHAR(10),IFERROR(#REF!,\"\"))","v":"Trimestre 1\n"},{"$f":"_xlfn.CONCAT(\"Trimestre 1\",CHAR(10),IFERROR(#REF!,\"\"))","v":"Trimestre 1\n"},{"$f":"_xlfn.CONCAT(\"Trimestre 1\",CHAR(10),IFERROR(#REF!,\"\"))","v":"Trimestre 1\n"}]
[null,null,null,null,null,null,null,null,null,null,null,null,null,null,null,null,null,null,null,null,null,null,null,null,null,{"$f":"IFERROR(#REF!,\" \")","v":" "},{"$f":"IFERROR(#REF!,\"\")","v":""},{"$f":"IFERROR(#REF!,\"\")","v":""},"","",{"$f":"IFERROR(#REF!,\"\")","v":""},"",{"$f":"IFERROR(#REF!,\"\")","v":""},{"$f":"IFERROR(#REF!,\"\")","v":""},{"$f":"_xlfn.CONCAT(\"Trimestre 1\",CHAR(10),IFERROR(#REF!,\"\"))","v":"Trimestre 1\n"},{"$f":"_xlfn.CONCAT(\"Trimestre 1\",CHAR(10),IFERROR(#REF!,\"\"))","v":"Trimestre 1\n"},{"$f":"_xlfn.CONCAT(\"Trimestre 1\",CHAR(10),IFERROR(#REF!,\"\"))","v":"Trimestre 1\n"},{"$f":"_xlfn.CONCAT(\"Trimestre 1\",CHAR(10),IFERROR(#REF!,\"\"))","v":"Trimestre 1\n"},{"$f":"_xlfn.CONCAT(\"Trimestre 1\",CHAR(10),IFERROR(#REF!,\"\"))","v":"Trimestre 1\n"}]
[null,null,"2. Definir e implementar el modelo optimizado de formulación, seguimiento y evaluación de la política pública judicial.",null,null,null,null,null,null,null,null,null,null,null,null,null,null,null,null,null,null,null,null,null,null,{"$f":"IFERROR(#REF!,\" \")","v":" "},{"$f":"IFERROR(#REF!,\"\")","v":""},{"$f":"IFERROR(#REF!,\"\")","v":""},"","",{"$f":"IFERROR(#REF!,\"\")","v":""},"",{"$f":"IFERROR(#REF!,\"\")","v":""},{"$f":"IFERROR(#REF!,\"\")","v":""},{"$f":"_xlfn.CONCAT(\"Trimestre 1\",CHAR(10),IFERROR(#REF!,\"\"))","v":"Trimestre 1\n"},{"$f":"_xlfn.CONCAT(\"Trimestre 1\",CHAR(10),IFERROR(#REF!,\"\"))","v":"Trimestre 1\n"},{"$f":"_xlfn.CONCAT(\"Trimestre 1\",CHAR(10),IFERROR(#REF!,\"\"))","v":"Trimestre 1\n"},{"$f":"_xlfn.CONCAT(\"Trimestre 1\",CHAR(10),IFERROR(#REF!,\"\"))","v":"Trimestre 1\n"},{"$f":"_xlfn.CONCAT(\"Trimestre 1\",CHAR(10),IFERROR(#REF!,\"\"))","v":"Trimestre 1\n"}]
[null,null,null,null,null,null,null,null,null,null,null,null,null,null,null,null,null,null,null,null,null,null,null,null,null,{"$f":"IFERROR(#REF!,\" \")","v":" "},{"$f":"IFERROR(#REF!,\"\")","v":""},{"$f":"IFERROR(#REF!,\"\")","v":""},"","",{"$f":"IFERROR(#REF!,\"\")","v":""},"",{"$f":"IFERROR(#REF!,\"\")","v":""},{"$f":"IFERROR(#REF!,\"\")","v":""},{"$f":"_xlfn.CONCAT(\"Trimestre 1\",CHAR(10),IFERROR(#REF!,\"\"))","v":"Trimestre 1\n"},{"$f":"_xlfn.CONCAT(\"Trimestre 1\",CHAR(10),IFERROR(#REF!,\"\"))","v":"Trimestre 1\n"},{"$f":"_xlfn.CONCAT(\"Trimestre 1\",CHAR(10),IFERROR(#REF!,\"\"))","v":"Trimestre 1\n"},{"$f":"_xlfn.CONCAT(\"Trimestre 1\",CHAR(10),IFERROR(#REF!,\"\"))","v":"Trimestre 1\n"},{"$f":"_xlfn.CONCAT(\"Trimestre 1\",CHAR(10),IFERROR(#REF!,\"\"))","v":"Trimestre 1\n"}]
[null,null,null,null,null,null,null,null,null,null,null,null,null,null,null,null,null,null,null,null,null,null,null,null,null,{"$f":"IFERROR(#REF!,\" \")","v":" "},{"$f":"IFERROR(#REF!,\"\")","v":""},{"$f":"IFERROR(#REF!,\"\")","v":""},"","",{"$f":"IFERROR(#REF!,\"\")","v":""},"",{"$f":"IFERROR(#REF!,\"\")","v":""},{"$f":"IFERROR(#REF!,\"\")","v":""},{"$f":"_xlfn.CONCAT(\"Trimestre 1\",CHAR(10),IFERROR(#REF!,\"\"))","v":"Trimestre 1\n"},{"$f":"_xlfn.CONCAT(\"Trimestre 1\",CHAR(10),IFERROR(#REF!,\"\"))","v":"Trimestre 1\n"},{"$f":"_xlfn.CONCAT(\"Trimestre 1\",CHAR(10),IFERROR(#REF!,\"\"))","v":"Trimestre 1\n"},{"$f":"_xlfn.CONCAT(\"Trimestre 1\",CHAR(10),IFERROR(#REF!,\"\"))","v":"Trimestre 1\n"},{"$f":"_xlfn.CONCAT(\"Trimestre 1\",CHAR(10),IFERROR(#REF!,\"\"))","v":"Trimestre 1\n"}]
[null,null,null,null,null,null,null,null,null,null,null,null,null,null,null,null,null,null,null,null,null,null,null,null,null,{"$f":"IFERROR(#REF!,\" \")","v":" "},{"$f":"IFERROR(#REF!,\"\")","v":""},{"$f":"IFERROR(#REF!,\"\")","v":""},"","",{"$f":"IFERROR(#REF!,\"\")","v":""},"",{"$f":"IFERROR(#REF!,\"\")","v":""},{"$f":"IFERROR(#REF!,\"\")","v":""},{"$f":"_xlfn.CONCAT(\"Trimestre 1\",CHAR(10),IFERROR(#REF!,\"\"))","v":"Trimestre 1\n"},{"$f":"_xlfn.CONCAT(\"Trimestre 1\",CHAR(10),IFERROR(#REF!,\"\"))","v":"Trimestre 1\n"},{"$f":"_xlfn.CONCAT(\"Trimestre 1\",CHAR(10),IFERROR(#REF!,\"\"))","v":"Trimestre 1\n"},{"$f":"_xlfn.CONCAT(\"Trimestre 1\",CHAR(10),IFERROR(#REF!,\"\"))","v":"Trimestre 1\n"},{"$f":"_xlfn.CONCAT(\"Trimestre 1\",CHAR(10),IFERROR(#REF!,\"\"))","v":"Trimestre 1\n"}]
[null,null,null,null,null,null,null,null,null,null,null,null,null,null,null,null,null,null,null,null,null,null,null,null,null,{"$f":"IFERROR(#REF!,\" \")","v":" "},{"$f":"IFERROR(#REF!,\"\")","v":""},{"$f":"IFERROR(#REF!,\"\")","v":""},"","",{"$f":"IFERROR(#REF!,\"\")","v":""},"",{"$f":"IFERROR(#REF!,\"\")","v":""},{"$f":"IFERROR(#REF!,\"\")","v":""},{"$f":"_xlfn.CONCAT(\"Trimestre 1\",CHAR(10),IFERROR(#REF!,\"\"))","v":"Trimestre 1\n"},{"$f":"_xlfn.CONCAT(\"Trimestre 1\",CHAR(10),IFERROR(#REF!,\"\"))","v":"Trimestre 1\n"},{"$f":"_xlfn.CONCAT(\"Trimestre 1\",CHAR(10),IFERROR(#REF!,\"\"))","v":"Trimestre 1\n"},{"$f":"_xlfn.CONCAT(\"Trimestre 1\",CHAR(10),IFERROR(#REF!,\"\"))","v":"Trimestre 1\n"},{"$f":"_xlfn.CONCAT(\"Trimestre 1\",CHAR(10),IFERROR(#REF!,\"\"))","v":"Trimestre 1\n"}]

{"sheet":"JURISDICCIONAL","index":10,"n_rows":29,"n_cols":16,"rows_kept":29,"cut":false,"hidden":true,"merged":[[27,0,28,0],[27,1,28,1],[27,3,28,3],[15,0,21,0],[15,1,21,1],[15,3,21,3],[22,0,26,0],[22,1,26,1],[22,3,26,3],[2,14,2,15],[4,0,8,0],[4,1,8,1],[4,3,8,3],[9,0,14,0],[9,1,14,1],[9,3,14,3],[1,2,1,13],[2,0,3,0],[2,1,3,1],[2,2,3,2],[2,3,3,3],[2,4,3,4],[2,5,2,7],[2,8,2,10],[2,11,3,11],[2,12,2,13]]}
[]
[null,null,"CONSEJO SUPERIOR DE LA JUDICATURA \nUNIDADES MISIONALES DEL CONSEJO SUPERIOR DE LA JUDICATURA - \nDIRECCIÓN EJECUTIVA DE ADMINISTRACIÓN JUDICIAL -UNIDADES MISIONALES DE LA DEAJ\nDIRECCIONES SECCIONALES DE ADMINISTRACIÓN JUDICIAL "]
["No. ","OBJETIVOS ESTRATEGICOS PLAN SECTORIAL DE DESARROLLO 2023-2026","OBJETIVOS ESPECIFICOS PLAN SECTORIAL DE DESARROLLO 2023-2026","OBJETIVOS DEL SIGCMA","DESCRIPCIÓN DE LA ACTIVIDAD (INVERSIÓN O DE GESTIÓN) ","MAPA DE PROCESO DEL SIGCMA (RELACIONE  EL PROCESO ESTRATÉGICO, MISIONAL, APOYO y EVALUACIÓN - MEJORA)",null,null,"MEDICIÓN DE LA GESTIÓN ",null,null,"RESPONSABLE POR PROYECTO O ACTIVIDAD","FECHA DEL PROYECTO/ACTIVIDAD",null,"ANÁLISIS DE RESULTADOS"]
[null,null,null,null,null,"NOMBRE DEL PROCESO","CENTRAL","SECCIONAL","ENTREGABLE","INDICADOR","DESCRIBIR EL INDICADOR",null,"INICIO \nDÍA/MES/AÑO","FIN\nDÍA/MES/AÑO","CUMPLIMIENTO DEL OBJETIVO (ACUMULADO DE LOS 4 TRIMESTRES)"," ANÁLISIS RESULTADO\nFINAL - ACUMULADO"]
[1,"Acceso a Infraestructura Física"," 1. Ampliar el acceso a justicia para atender las necesidades jurídicas de los \nciudadanos con un enfoque diferencial, de una manera pronta, reduciendo las \ninequidades y las brechas territoriales de acceso.","\n2. Asegurar  el cumplimiento de los objetivos institucionales, la normatividad aplicable,  la mejora del SIGCMA y la satisfacción de los usuarios, revisando de  forma continua y sistemática la planificación de la gestión y fortaleciendo la administración de riesgos y sus controles. (1,2,3 y 5)\n\n4. Hacer un uso racional de los recursos naturales aplicando los principios y fases de la Economía Circular, para prevenir, mitigar y controlar los impactos ambientales. (4)\n\n"]
[null,null,"2. Mejorar los tiempos de respuesta de la Rama Judicial y reducir el inventario de \nprocesos, identificando los retos internos y promoviendo tanto acciones articuladas\nespecíficas para abordarlos como estrategias coordinadas para enfrentar las \nbarreras que dependen de otras entidades."]
[null,null,"3. Coadyuvar en la garantía de la idoneidad en el ejercicio de la profesión jurídica de acuerdo con lo establecido en la Ley 1905 de 2018"]
[null,null,"4. Avanzar en la disposición de una infraestructura óptima para el acceso a la justicia en la Rama Judicial de modo que se fortalezca la presencia territorial, teniendo en cuenta las posibilidades que ofrece la transformación digital y las necesidades que se derivan de ella, y considerando tanto las necesidades de los usuarios como las de los servidores judiciales."]
[null,null,"5. Impulsar el uso de mecanismos alternativos para la solución de conflictos y la \nampliación de la justicia restaurativa y terapéutica y el robustecimiento de las alternativas al encarcelamiento"]
[2,"Servicios digitales y de tecnología, innovación y análisis de la información","1. Ampliar el acceso a la justicia a través de la consolidación del uso de los servicios \ndigitales que conforman el sistema único integrado de gestión judicial en todos los \ndespachos judiciales y dependencias de apoyo y, específicamente, incluyendo el \ndespliegue e implementación del Expediente Judicial Electrónico en todas las \njurisdicciones y especialidades.","6. Proteger, preservar y administrar los activos de información  implementando acciones  para gestionar de forma adecuada los incidentes  , proteger los datos personales y adoptar mecanismos  de ciberseguridad y aseguramiento de la  continuidad del negocio (1, 2, 3, 4, 5 y 6)"]
[null,null,"2. Integrar y hacer compatibles todos los aplicativos de transición con SIUGJ, para que la migración de los expedientes judiciales a dicha plataforma sea real y no suponga afectaciones en la prestación del servicio de justicia."]
[null,null,"\n3. Fortalecer las capacidades institucionales, adecuar el modelo operativo y de \nservicio, bajo un enfoque de Arquitectura Empresarial y de fortalecimiento del \nacceso a la justicia."]
[null,null,"\n4.Consolidar la cultura y apropiación de la transformación digital en los servidores y \nusuarios de los servicios de la Rama Judicial y reducir brechas de acceso y conocimiento, incluyendo la oferta efectiva de información sobre el uso de las nuevas herramientas virtuales implementadas en las diferentes jurisdicciones, con especial énfasis en las zonas del país donde es evidente la brecha digital."]
[null,null,"\n5.Consolidar la infraestructura y los recursos necesarios para la implementación exitosa de la transformación digital, incluyendo la disposición de internet de calidad en el 100% de las sedes en la Rama Judicial y modernizar los servicios tecnológicos de soporte. "]
[null,null,"\n6.Integrar y optimizar los servicios administrativos de la Rama Judicial bajo un enfoque de transformación digital e innovación incluyendo los componentes financiero, administrativo, talento humano, entre otros"]
[3,"Confianza pública, transparencia y rendición de cuentas","1. Incrementar la cantidad, la calidad y pertinencia de los datos sobre el funcionamiento del servicio de justicia bajo un modelo de gobierno de datos y un liderazgo unificado. \n","1. Gestionar el desarrollo de las competencias, la toma de conciencia , la cultura  organizacional  y el compromiso de los  servidores judiciales, contratistas, practicantes y  judicantes de contribuir a generar valor público en la administración de justicia, en el marco de  cumplimiento de los requisitos  aplicables y el comportamiento ético. (3 y 7)\n\n3. Fomentar la transparencia y la participación generando lineamientos y promoviendo la rendición de cuentas ,la consulta, reporte y planteamiento de inquietudes en relación con las decisiones y aspectos del SIGCMA. (3, 4, 5 y 6)\n\n4. Hacer un uso racional de los recursos naturales aplicando los principios y fases de la Economía Circular, para prevenir, mitigar y controlar los impactos ambientales. (1 y 7)\n"]
[null,null,"2. Consolidar la administración de la información entendida como todas las acciones \norientadas a garantizar el acceso, consulta, uso y conservación de la información \nde justicia de manera ágil, flexible e inteligente, bajo un enfoque de innovación."]
[null,null,"3. Fortalecer el Sistema integrado de Gestión de la Rama, orientado a la implementación y certificación de las normas antisoborno."]
[null,null,"4. Aumentar la confianza, la cercanía y acceso a los servicios de la Rama Judicial a \ntravés, entre otros, de una comunicación clara y asertiva con la ciudadanía."]
[null,null,"5. Prevenir fenómenos asociados con actos de corrupción en la Rama Judicial y \nreducir las experiencias de corrupción de usuarios y servidores judiciales."]
[null,null,"6. Promover la rendición de cuentas y la colaboración real con la ciudadanía como \nfundamento para diseñar acciones de mejoramiento del acceso a la justicia."]
[null,null,"7. Continuar la consolidación del SIGCMA, a través de los procesos de formación en \nmodelos de gestión, logrando la implementación y ampliación de este en los esquemas certificados de manera gradual, teniendo en cuenta las capacidades de los diferentes despachos judiciales y dependencias de la Rama Judicial y articulando el enfoque de Arquitectura Empresarial para el desarrollo del PETD a través de la gestión del conocimiento para la gestión del cambio propendiendo por una cultura de la calidad, la transparencia, la rendición de cuentas, la anticorrupción y el antisoborno"]
[4,"Talento Humano","1. Ampliar la cobertura de la carrera judicial optimizando los procesos de los concursos de méritos y propender por mitigar su litigiosidad.","1. Gestionar el desarrollo de las competencias, la toma de conciencia , la cultura  organizacional  y el compromiso de los  servidores judiciales, contratistas, practicantes y  judicantes de contribuir a generar valor público en la administración de justicia, en el marco de  cumplimiento de los requisitos  aplicables y el comportamiento ético. (1, 2, 3 y 4)\n\n5. Generar espacios de trabajo seguros y saludables que contribuyan a minimizar los  incidentes, accidentes y enfermedades laborales derivados de las condiciones y actos  inseguros y fomentar  el autocuidado, los  estilos de vida y el trabajo saludable en los servidores judiciales, contratistas, judicantes y practicantes. (5)\n"]
[null,null,"2. Impactar la función y servicios que presta la Rama Judicial, a través de una\nformación integral desde una visión de gestión del conocimiento, relacionada con \nlos problemas de la justicia y los problemas de gestión de quienes administran los \nrecursos de la justicia, y potenciando el uso de medios virtuales."]
[null,null,"3. Promover la incorporación de la perspectiva de género y el enfoque diferencial en \nlos fallos judiciales y en la atención a los ciudadanos, la administración de la Rama \nJudicial, la administración de la carrera judicial y la elaboración de listas para altas \nCortes. "]
[null,null,"4. Desarrollar en los servidores judiciales y demás grupos de valor relevantes las \ncompetencias necesarias para la efectividad de la transformación digital de modo \nque puedan, entre otros, utilizar con solvencia las herramientas digitales dispuestas \npara sus respectivas funciones. Además, fortalecer y actualizar los conocimientos \ndel personal a cargo de la gestión de proyectos de tecnología."]
[null,null,"5. Promover el bienestar de todos los servidores judiciales a través de la implementación de un sistema que contemple los diferentes niveles de estrategias y acciones necesarios para mejorar el clima laboral, la salud física y mental y la calidad del tiempo de descanso."]
[5,"Gobernanza, planeación estratégica y capacidad de toma de decisiones","1. Implementar un nuevo modelo integrado para la planeación estratégica, el \nseguimiento y la medición del desempeño institucional.","\n2. Asegurar  el cumplimiento de los objetivos institucionales, la normatividad aplicable,  la mejora del SIGCMA y la satisfacción de los usuarios, revisando de  forma continua y sistemática la planificación de la gestión y fortaleciendo la administración de riesgos y sus controles. (1 y 2)"]
[null,null,"2. Definir e implementar el modelo optimizado de formulación, seguimiento y \nevaluación de la política pública judicial."]

{"sheet":"JURISDICCIONAL_SEG_1_TRIM","index":11,"n_rows":29,"n_cols":9,"rows_kept":29,"cut":false,"hidden":true,"merged":[[22,3,26,3],[2,8,3,8],[1,2,1,13],[2,0,3,0],[2,1,3,1],[2,2,3,2],[2,3,3,3],[2,4,3,4],[2,7,3,7],[27,0,28,0],[27,1,28,1],[27,3,28,3],[2,5,3,5],[2,6,3,6],[4,0,8,0],[4,1,8,1],[4,3,8,3],[9,0,14,0],[9,1,14,1],[9,3,14,3],[15,0,21,0],[15,1,21,1],[15,3,21,3],[22,0,26,0],[22,1,26,1]]}
[]
[null,null,"CONSEJO SUPERIOR DE LA JUDICATURA \nUNIDADES MISIONALES DEL CONSEJO SUPERIOR DE LA JUDICATURA - \nDIRECCIÓN EJECUTIVA DE ADMINISTRACIÓN JUDICIAL -UNIDADES MISIONALES DE LA DEAJ\nDIRECCIONES SECCIONALES DE ADMINISTRACIÓN JUDICIAL "]
["No. ","OBJETIVOS ESTRATEGICOS PLAN SECTORIAL DE DESARROLLO 2023-2026","OBJETIVOS ESPECIFICOS PLAN SECTORIAL DE DESARROLLO 2023-2026","OBJETIVOS DEL SIGCMA","DESCRIPCIÓN DE LA ACTIVIDAD (INVERSIÓN O DE GESTIÓN) ","RESULTADOS","EVIDENCIA","FECHA DE CONTROL","ANçLISIS DEL RESULTADO"]
[]
[1,"Acceso a Infraestructura Física"," 1. Ampliar el acceso a justicia para atender las necesidades jurídicas de los \nciudadanos con un enfoque diferencial, de una manera pronta, reduciendo las \ninequidades y las brechas territoriales de acceso.","\n2. Asegurar  el cumplimiento de los objetivos institucionales, la normatividad aplicable,  la mejora del SIGCMA y la satisfacción de los usuarios, revisando de  forma continua y sistemática la planificación de la gestión y fortaleciendo la administración de riesgos y sus controles. (1,2,3 y 5)\n\n4. Hacer un uso racional de los recursos naturales aplicando los principios y fases de la Economía Circular, para prevenir, mitigar y controlar los impactos ambientales. (4)\n\n"]
[null,null,"2. Mejorar los tiempos de respuesta de la Rama Judicial y reducir el inventario de \nprocesos, identificando los retos internos y promoviendo tanto acciones articuladas\nespecíficas para abordarlos como estrategias coordinadas para enfrentar las \nbarreras que dependen de otras entidades."]
[null,null,"3. Coadyuvar en la garantía de la idoneidad en el ejercicio de la profesión jurídica de acuerdo con lo establecido en la Ley 1905 de 2018"]
[null,null,"4. Avanzar en la disposición de una infraestructura óptima para el acceso a la justicia en la Rama Judicial de modo que se fortalezca la presencia territorial, teniendo en cuenta las posibilidades que ofrece la transformación digital y las necesidades que se derivan de ella, y considerando tanto las necesidades de los usuarios como las de los servidores judiciales."]
[null,null,"5. Impulsar el uso de mecanismos alternativos para la solución de conflictos y la \nampliación de la justicia restaurativa y terapéutica y el robustecimiento de las alternativas al encarcelamiento"]
[2,"Servicios digitales y de tecnología, innovación y análisis de la información","1. Ampliar el acceso a la justicia a través de la consolidación del uso de los servicios \ndigitales que conforman el sistema único integrado de gestión judicial en todos los \ndespachos judiciales y dependencias de apoyo y, específicamente, incluyendo el \ndespliegue e implementación del Expediente Judicial Electrónico en todas las \njurisdicciones y especialidades.","6. Proteger, preservar y administrar los activos de información  implementando acciones  para gestionar de forma adecuada los incidentes  , proteger los datos personales y adoptar mecanismos  de ciberseguridad y aseguramiento de la  continuidad del negocio (1, 2, 3, 4, 5 y 6)"]
[null,null,"2. Integrar y hacer compatibles todos los aplicativos de transición con SIUGJ, para que la migración de los expedientes judiciales a dicha plataforma sea real y no suponga afectaciones en la prestación del servicio de justicia."]
[null,null,"\n3. Fortalecer las capacidades institucionales, adecuar el modelo operativo y de \nservicio, bajo un enfoque de Arquitectura Empresarial y de fortalecimiento del \nacceso a la justicia."]
[null,null,"\n4.Consolidar la cultura y apropiación de la transformación digital en los servidores y \nusuarios de los servicios de la Rama Judicial y reducir brechas de acceso y conocimiento, incluyendo la oferta efectiva de información sobre el uso de las nuevas herramientas virtuales implementadas en las diferentes jurisdicciones, con especial énfasis en las zonas del país donde es evidente la brecha digital."]
[null,null,"\n5.Consolidar la infraestructura y los recursos necesarios para la implementación exitosa de la transformación digital, incluyendo la disposición de internet de calidad en el 100% de las sedes en la Rama Judicial y modernizar los servicios tecnológicos de soporte. "]
[null,null,"\n6.Integrar y optimizar los servicios administrativos de la Rama Judicial bajo un enfoque de transformación digital e innovación incluyendo los componentes financiero, administrativo, talento humano, entre otros"]
[3,"Confianza pública, transparencia y rendición de cuentas","1. Incrementar la cantidad, la calidad y pertinencia de los datos sobre el funcionamiento del servicio de justicia bajo un modelo de gobierno de datos y un liderazgo unificado. \n","1. Gestionar el desarrollo de las competencias, la toma de conciencia , la cultura  organizacional  y el compromiso de los  servidores judiciales, contratistas, practicantes y  judicantes de contribuir a generar valor público en la administración de justicia, en el marco de  cumplimiento de los requisitos  aplicables y el comportamiento ético. (3 y 7)\n\n3. Fomentar la transparencia y la participación generando lineamientos y promoviendo la rendición de cuentas ,la consulta, reporte y planteamiento de inquietudes en relación con las decisiones y aspectos del SIGCMA. (3, 4, 5 y 6)\n\n4. Hacer un uso racional de los recursos naturales aplicando los principios y fases de la Economía Circular, para prevenir, mitigar y controlar los impactos ambientales. (1 y 7)\n"]
[null,null,"2. Consolidar la administración de la información entendida como todas las acciones \norientadas a garantizar el acceso, consulta, uso y conservación de la información \nde justicia de manera ágil, flexible e inteligente, bajo un enfoque de innovación."]
[null,null,"3. Fortalecer el Sistema integrado de Gestión de la Rama, orientado a la implementación y certificación de las normas antisoborno."]
[null,null,"4. Aumentar la confianza, la cercanía y acceso a los servicios de la Rama Judicial a \ntravés, entre otros, de una comunicación clara y asertiva con la ciudadanía."]
[null,null,"5. Prevenir fenómenos asociados con actos de corrupción en la Rama Judicial y \nreducir las experiencias de corrupción de usuarios y servidores judiciales."]
[null,null,"6. Promover la rendición de cuentas y la colaboración real con la ciudadanía como \nfundamento para diseñar acciones de mejoramiento del acceso a la justicia."]
[null,null,"7. Continuar la consolidación del SIGCMA, a través de los procesos de formación en \nmodelos de gestión, logrando la implementación y ampliación de este en los esquemas certificados de manera gradual, teniendo en cuenta las capacidades de los diferentes despachos judiciales y dependencias de la Rama Judicial y articulando el enfoque de Arquitectura Empresarial para el desarrollo del PETD a través de la gestión del conocimiento para la gestión del cambio propendiendo por una cultura de la calidad, la transparencia, la rendición de cuentas, la anticorrupción y el antisoborno"]
[4,"Talento Humano","1. Ampliar la cobertura de la carrera judicial optimizando los procesos de los concursos de méritos y propender por mitigar su litigiosidad.","1. Gestionar el desarrollo de las competencias, la toma de conciencia , la cultura  organizacional  y el compromiso de los  servidores judiciales, contratistas, practicantes y  judicantes de contribuir a generar valor público en la administración de justicia, en el marco de  cumplimiento de los requisitos  aplicables y el comportamiento ético. (1, 2, 3 y 4)\n\n5. Generar espacios de trabajo seguros y saludables que contribuyan a minimizar los  incidentes, accidentes y enfermedades laborales derivados de las condiciones y actos  inseguros y fomentar  el autocuidado, los  estilos de vida y el trabajo saludable en los servidores judiciales, contratistas, judicantes y practicantes. (5)\n"]
[null,null,"2. Impactar la función y servicios que presta la Rama Judicial, a través de una\nformación integral desde una visión de gestión del conocimiento, relacionada con \nlos problemas de la justicia y los problemas de gestión de quienes administran los \nrecursos de la justicia, y potenciando el uso de medios virtuales."]
[null,null,"3. Promover la incorporación de la perspectiva de género y el enfoque diferencial en \nlos fallos judiciales y en la atención a los ciudadanos, la administración de la Rama \nJudicial, la administración de la carrera judicial y la elaboración de listas para altas \nCortes. "]
[null,null,"4. Desarrollar en los servidores judiciales y demás grupos de valor relevantes las \ncompetencias necesarias para la efectividad de la transformación digital de modo \nque puedan, entre otros, utilizar con solvencia las herramientas digitales dispuestas \npara sus respectivas funciones. Además, fortalecer y actualizar los conocimientos \ndel personal a cargo de la gestión de proyectos de tecnología."]
[null,null,"5. Promover el bienestar de todos los servidores judiciales a través de la implementación de un sistema que contemple los diferentes niveles de estrategias y acciones necesarios para mejorar el clima laboral, la salud física y mental y la calidad del tiempo de descanso."]
[5,"Gobernanza, planeación estratégica y capacidad de toma de decisiones","1. Implementar un nuevo modelo integrado para la planeación estratégica, el \nseguimiento y la medición del desempeño institucional.","\n2. Asegurar  el cumplimiento de los objetivos institucionales, la normatividad aplicable,  la mejora del SIGCMA y la satisfacción de los usuarios, revisando de  forma continua y sistemática la planificación de la gestión y fortaleciendo la administración de riesgos y sus controles. (1 y 2)"]
[null,null,"2. Definir e implementar el modelo optimizado de formulación, seguimiento y \nevaluación de la política pública judicial."]